Workbook

Sheet Recordings

Sheet Data
A1: =Recordings!A1 | B1: =left(A1,17) | C1: =datevalue(B1) -> #VALUE! | D1: =right(A1,7) | E1: =timevalue(D1) -> #VALUE!
A2: =Recordings!A2 | B2: =left(A2,17) | C2: =datevalue(B2) -> #VALUE! | D2: =right(A2,7) | E2: =timevalue(D2) -> #VALUE!
A3: =Recordings!A3 | B3: =left(A3,17) | C3: =datevalue(B3) -> #VALUE! | D3: =right(A3,7) | E3: =timevalue(D3) -> #VALUE!
A4: =Recordings!A4 | B4: =left(A4,17) | C4: =datevalue(B4) -> #VALUE! | D4: =right(A4,7) | E4: =timevalue(D4) -> #VALUE!
A5: =Recordings!A5 | B5: =left(A5,17) | C5: =datevalue(B5) -> #VALUE! | D5: =right(A5,7) | E5: =timevalue(D5) -> #VALUE!
A6: =Recordings!A6 | B6: =left(A6,17) | C6: =datevalue(B6) -> #VALUE! | D6: =right(A6,7) | E6: =timevalue(D6) -> #VALUE!
A7: =Recordings!A7 | B7: =left(A7,17) | C7: =datevalue(B7) -> #VALUE! | D7: =right(A7,7) | E7: =timevalue(D7) -> #VALUE!
A8: =Recordings!A8 | B8: =left(A8,17) | C8: =datevalue(B8) -> #VALUE! | D8: =right(A8,7) | E8: =timevalue(D8) -> #VALUE!
A9: =Recordings!A9 | B9: =left(A9,17) | C9: =datevalue(B9) -> #VALUE! | D9: =right(A9,7) | E9: =timevalue(D9) -> #VALUE!
A10: =Recordings!A10 | B10: =left(A10,17) | C10: =datevalue(B10) -> #VALUE! | D10: =right(A10,7) | E10: =timevalue(D10) -> #VALUE!
A11: =Recordings!A11 | B11: =left(A11,17) | C11: =datevalue(B11) -> #VALUE! | D11: =right(A11,7) | E11: =timevalue(D11) -> #VALUE!
A12: =Recordings!A12 | B12: =left(A12,17) | C12: =datevalue(B12) -> #VALUE! | D12: =right(A12,7) | E12: =timevalue(D12) -> #VALUE!
... A500: =Recordings!A500 | B500: =left(A500,17) | C500: =datevalue(B500) -> #VALUE! | D500: =right(A500,7) | E500: =timevalue(D500) -> #VALUE!

Sheet Attendance
A1: DATE | B1: ATTENDING EMPLOYEES
A2: 42780 | B2: =COUNTIFS(Data!C:C,datevalue(A2),Data!E:E,"<0.4895833") -> 0
A3: 42781 | B3: =COUNTIFS(Data!C:C,datevalue(A3),Data!E:E,"<0.4895833") -> 0
A4: 42782 | B4: =COUNTIFS(Data!C:C,datevalue(A4),Data!E:E,"<0.4895833") -> 0 | F4: NUMBER OF EMPLOYEES AT THE OFFICE THIS MORNING
A5: 42783 | B5: =COUNTIFS(Data!C:C,datevalue(A5),Data!E:E,"<0.4895833") -> 0 | D5: Today is: | E5: =today() -> 42781 | F5: =vlookup(E5,A:B,2) -> 0
A6: 42784 | B6: =COUNTIFS(Data!C:C,datevalue(A6),Data!E:E,"<0.4895833") -> 0
A7: 42785 | B7: =COUNTIFS(Data!C:C,datevalue(A7),Data!E:E,"<0.4895833") -> 0
A8: 42786 | B8: =COUNTIFS(Data!C:C,datevalue(A8),Data!E:E,"<0.4895833") -> 0
A9: 42787 | B9: =COUNTIFS(Data!C:C,datevalue(A9),Data!E:E,"<0.4895833") -> 0
A10: 42788 | B10: =COUNTIFS(Data!C:C,datevalue(A10),Data!E:E,"<0.4895833") -> 0
A11: 42789 | B11: =COUNTIFS(Data!C:C,datevalue(A11),Data!E:E,"<0.4895833") -> 0
A12: 42790 | B12: =COUNTIFS(Data!C:C,datevalue(A12),Data!E:E,"<0.4895833") -> 0
A13: 42791 | B13: =COUNTIFS(Data!C:C,datevalue(A13),Data!E:E,"<0.4895833") -> 0
A14: 42792 | B14: =COUNTIFS(Data!C:C,datevalue(A14),Data!E:E,"<0.4895833") -> 0
A15: 42793 | B15: =COUNTIFS(Data!C:C,datevalue(A15),Data!E:E,"<0.4895833") -> 0
A16: 42794 | B16: =COUNTIFS(Data!C:C,datevalue(A16),Data!E:E,"<0.4895833") -> 0
A17: 42795 | B17: =COUNTIFS(Data!C:C,datevalue(A17),Data!E:E,"<0.4895833") -> 0
... A366: 43144 | B366: =COUNTIFS(Data!C:C,datevalue(A366),Data!E:E,"<0.4895833") -> 0
