{"text_format":"1","workbook":"xlsx","n_sheets":12,"sheets":["Statistics","GPSLOG","Altitude","Speed","Lat Accel","Long Accel","Local Altitude","Local Speed","Loc Lat Accel","Loc Long Accel","Local Pitch","Local Roll"],"not_rendered":{"charts":20,"images":0,"macros":0,"external_links":0,"defined_names":19,"comments":0,"pivot_tables":0},"unopened":[{"sheet":"Altitude","index":2,"reason":"not_a_worksheet"},{"sheet":"Speed","index":3,"reason":"not_a_worksheet"},{"sheet":"Lat Accel","index":4,"reason":"not_a_worksheet"},{"sheet":"Long Accel","index":5,"reason":"not_a_worksheet"},{"sheet":"Local Altitude","index":6,"reason":"not_a_worksheet"},{"sheet":"Local Speed","index":7,"reason":"not_a_worksheet"},{"sheet":"Loc Lat Accel","index":8,"reason":"not_a_worksheet"},{"sheet":"Loc Long Accel","index":9,"reason":"not_a_worksheet"},{"sheet":"Local Pitch","index":10,"reason":"not_a_worksheet"},{"sheet":"Local Roll","index":11,"reason":"not_a_worksheet"}],"bounds":{"document_bytes":16777216,"sheet_cells":100000,"rows_first":2000,"rows_last":500,"rows_between":2000,"halvings":0,"cell_chars":16384,"cell_head_chars":4096},"cells_cut":0,"cells_raw":0,"read":"whole","date_system":"1900"}

{"sheet":"Statistics","index":0,"n_rows":14,"n_cols":11,"rows_kept":14,"cut":false,"hidden":false,"merged":[]}
["Overall","First GPS Time",{"$f":"INDEX(GPSLOG!C2:INDIRECT(\"GPSLOG!C\"&A5),MATCH(FALSE,ISBLANK(GPSLOG!C2:INDIRECT(\"GPSLOG!C\"&A5)),0))","v":"13:38:01"},"Last GPS Time",{"$f":"INDIRECT(\"GPSLOG!C\"&A5)","v":"14:00:10"}]
["Iterations","Average Speed","Max Speed","Max Lat Accel","Min Lat Accel","Max Long Accel","Min Lon Accel","Max Pitch","Min Pitch","Max Roll","Min Roll"]
[{"$f":"MAX(GPSLOG!A:A)","v":26568},{"$f":"AVERAGE(Speed)","v":40.44549907606585},{"$f":"MAX(Speed)","v":83.985389999999995},{"$f":"MAX(Lat_Accel)","v":14.91},{"$f":"MIN(Lat_Accel)","v":-21.34},{"$f":"MAX(Long_Accel)","v":29.67},{"$f":"MIN(Long_Accel)","v":-23.09},{"$f":"MAX(Pitch)","v":18.75},{"$f":"MIN(Pitch)","v":-36.9375},{"$f":"MAX(Roll)","v":67.3125},{"$f":"MIN(Roll)","v":-46.4375}]
["Last Iteration Line","Max Altitude","Min Altitude"]
[{"$f":"MATCH(A3,GPSLOG!$A:$A)","v":26570},{"$f":"MAX(Altitude)","v":302.39999399999999},{"$f":"MIN(Altitude)","v":174.39999399999999}]
[]
["From (Iteration)","To (Iteration)","From's line","To's line","Range"]
[1999,4501,{"$f":"MATCH(A8,GPSLOG!$A:$A)","v":2001},{"$f":"MATCH(B8,GPSLOG!$A:$A)","v":4503},{"$f":"D8-C8","v":2502}]
["From (Time)","To (Time)"]
[{"$f":"INDIRECT(\"GPSLOG!C\"&Statistics!C8)","v":"13:39:41"},{"$f":"INDIRECT(\"GPSLOG!C\"&Statistics!D8)","v":"13:41:46"}]
["Average Speed","Max Speed","Max Lat Accel","Min Lat Accel","Max Long Accel","Min Lon Accel","Max Pitch","Min Pitch","Max Roll","Min Roll"]
[{"$f":"AVERAGE(INDIRECT(\"GPSLOG!J\"&$C$8):INDIRECT(\"GPSLOG!J\"&$D$8))","v":4.7759257690771086},{"$f":"MAX(INDIRECT(\"GPSLOG!J\"&$C$8):INDIRECT(\"GPSLOG!J\"&$D$8))","v":22.866398},{"$f":"MAX(INDIRECT(\"GPSLOG!Q\"&$C$8):INDIRECT(\"GPSLOG!Q\"&$D$8))","v":8.68},{"$f":"MIN(INDIRECT(\"GPSLOG!Q\"&$C$8):INDIRECT(\"GPSLOG!Q\"&$D$8))","v":-8.49},{"$f":"MAX(INDIRECT(\"GPSLOG!R\"&$C$8):INDIRECT(\"GPSLOG!R\"&$D$8))","v":5.66},{"$f":"MIN(INDIRECT(\"GPSLOG!R\"&$C$8):INDIRECT(\"GPSLOG!R\"&$D$8))","v":-7.66},{"$f":"MAX(INDIRECT(\"GPSLOG!O\"&$C$8):INDIRECT(\"GPSLOG!O\"&$D$8))","v":-7.5},{"$f":"MIN(INDIRECT(\"GPSLOG!O\"&$C$8):INDIRECT(\"GPSLOG!O\"&$D$8))","v":-14.5},{"$f":"MAX(INDIRECT(\"GPSLOG!P\"&$C$8):INDIRECT(\"GPSLOG!P\"&$D$8))","v":23.0625},{"$f":"MIN(INDIRECT(\"GPSLOG!P\"&$C$8):INDIRECT(\"GPSLOG!P\"&$D$8))","v":-17.0625}]
["Max Altitude","Min Altitude"]
[{"$f":"MAX(INDIRECT(\"GPSLOG!M\"&$C$8):INDIRECT(\"GPSLOG!M\"&$D$8))","v":225.10000600000001},{"$f":"MIN(INDIRECT(\"GPSLOG!M\"&$C$8):INDIRECT(\"GPSLOG!M\"&$D$8))","v":223.800003}]

{"sheet":"GPSLOG","index":1,"n_rows":36001,"n_cols":39,"rows_kept":2250,"cut":true,"hidden":false,"merged":[],"bounds":{"rows_first":1000,"rows_last":250,"rows_between":1000,"halvings":1}}
[null,null,null,null,null,null,null,null,null,null,null,null,null,null,null,null,null,null,null,null,null,null,null,null,null,null,null,null,"Delta Speed ms2","Filtered DS","Filtered Lat Accel","Filtered Long Accel","Filtered Vert Accel","Filtered X Accel","Filtered Y Accel","Filtered Z Accel","Filtered AV H","Filtered AV P","Filtered AV R"]
[null,null,null,null,null,null,null,null,null,null,null,null,null,null,null,null,null,null,null,null,null,null,null,null,null,null,null,null,{"$f":"(1609.34/3600)*Delta_Speed","v":0},{"$error":"#N/A"},{"$error":"#N/A"},{"$error":"#N/A"},{"$error":"#N/A"},{"$error":"#N/A"},{"$error":"#N/A"},{"$error":"#N/A"},{"$error":"#N/A"},{"$error":"#N/A"},{"$error":"#N/A"}]
[null,null,null,null,null,null,null,null,null,null,null,null,null,null,null,null,null,null,null,null,null,null,null,null,null,null,null,null,0,{"$error":"#N/A"},{"$error":"#N/A"},{"$error":"#N/A"},{"$error":"#N/A"},{"$error":"#N/A"},{"$error":"#N/A"},{"$error":"#N/A"},{"$error":"#N/A"},{"$error":"#N/A"},{"$error":"#N/A"}]
[null,null,null,null,null,null,null,null,null,null,null,null,null,null,null,null,null,null,null,null,null,null,null,null,null,null,null,null,0,{"$error":"#N/A"},{"$error":"#N/A"},{"$error":"#N/A"},{"$error":"#N/A"},{"$error":"#N/A"},{"$error":"#N/A"},{"$error":"#N/A"},{"$error":"#N/A"},{"$error":"#N/A"},{"$error":"#N/A"}]
[null,null,null,null,null,null,null,null,null,null,null,null,null,null,null,null,null,null,null,null,null,null,null,null,null,null,null,null,0,{"$error":"#N/A"},{"$error":"#N/A"},{"$error":"#N/A"},{"$error":"#N/A"},{"$error":"#N/A"},{"$error":"#N/A"},{"$error":"#N/A"},{"$error":"#N/A"},{"$error":"#N/A"},{"$error":"#N/A"}]
[null,null,null,null,null,null,null,null,null,null,null,null,null,null,null,null,null,null,null,null,null,null,null,null,null,null,null,null,0,{"$f":"AVERAGE(#REF!)","v":{"$error":"#REF!"}},{"$f":"AVERAGE(Q2:Q6)","v":-0.24199999999999999},{"$f":"AVERAGE(R2:R6)","v":-1.7999999999999995E-2},{"$f":"AVERAGE(S2:S6)","v":0.186},{"$f":"AVERAGE(T2:T6)","v":-2.0680000000000001},{"$f":"AVERAGE(U2:U6)","v":-2.27},{"$f":"AVERAGE(V2:V6)","v":9.5460000000000012},{"$f":"AVERAGE(W2:W6)","v":9.9998000000000014E-3},{"$f":"AVERAGE(X2:X6)","v":-1.6666599999999997E-2},{"$f":"AVERAGE(Y2:Y6)","v":1.06666E-2}]
[null,null,null,null,null,null,null,null,null,null,null,null,null,null,null,null,null,null,null,null,null,null,null,null,null,null,null,null,0,{"$f":"AVERAGE(#REF!)","v":{"$error":"#REF!"}},-0.22000000000000003,-0.38800000000000007,0.38400000000000001,-2.0439999999999996,-2.6339999999999999,9.7479999999999993,1.8444200000000001E-2,-4.4443999999999994E-3,3.8222199999999998E-2]
[null,null,null,null,null,null,null,null,null,null,null,null,null,null,null,null,null,null,null,null,null,null,null,null,null,null,null,null,0,{"$f":"AVERAGE(#REF!)","v":{"$error":"#REF!"}},-0.23799999999999999,-0.5,0.38800000000000001,-2.0639999999999996,-2.7399999999999998,9.7539999999999996,1.9777599999999999E-2,3.1109999999999996E-3,3.3999999999999996E-2]
[null,null,null,null,null,null,null,null,null,null,null,null,null,null,null,null,null,null,null,null,null,null,null,null,null,null,null,null,0,{"$f":"AVERAGE(#REF!)","v":{"$error":"#REF!"}},-0.28799999999999998,-0.45,0.35,-2.1179999999999994,-2.6779999999999999,9.7179999999999982,2.9777599999999998E-2,8.8880000000000014E-4,3.55556E-2]
[null,null,null,null,null,null,null,null,null,null,null,null,null,null,null,null,null,null,null,null,null,null,null,null,null,null,null,null,0,{"$f":"AVERAGE(#REF!)","v":{"$error":"#REF!"}},-0.26,-0.47600000000000009,7.3999999999999996E-2,-2.0940000000000003,-2.6879999999999997,9.4420000000000002,1.7111000000000001E-2,5.5554000000000003E-3,3.2666799999999996E-2]
[null,null,null,null,null,null,null,null,null,null,null,null,null,null,null,null,null,null,null,null,null,null,null,null,null,null,null,null,0,{"$f":"AVERAGE(#REF!)","v":{"$error":"#REF!"}},-0.22800000000000004,-0.55200000000000005,0.11600000000000002,-2.0659999999999998,-2.75,9.4880000000000013,1.4444199999999999E-2,-2.6667999999999996E-3,3.2888999999999995E-2]
[null,null,null,null,null,null,null,null,null,null,null,null,null,null,null,null,null,null,null,null,null,null,null,null,null,null,null,null,0,{"$f":"AVERAGE(#REF!)","v":{"$error":"#REF!"}},-0.23399999999999999,-0.11400000000000002,-2.7999999999999997E-2,-2.0720000000000001,-2.2999999999999998,9.3460000000000001,8.4442000000000007E-3,-1.0889000000000001E-2,2.8890000000000001E-3]
[null,null,null,null,null,null,null,null,null,null,null,null,null,null,null,null,null,null,null,null,null,null,null,null,null,null,null,null,0,{"$f":"AVERAGE(#REF!)","v":{"$error":"#REF!"}},-0.16999999999999998,5.800000000000001E-2,-3.5999999999999976E-2,-2.0059999999999998,-2.1159999999999997,9.3420000000000005,5.9998000000000013E-3,-1.4444400000000001E-2,3.3334000000000003E-3]
[null,null,null,null,null,null,null,null,null,null,null,null,null,null,null,null,null,null,null,null,null,null,null,null,null,null,null,null,0,{"$f":"AVERAGE(#REF!)","v":{"$error":"#REF!"}},-0.10400000000000001,1.9999999999999997E-2,-8.0000000000000036E-3,-1.9379999999999999,-2.1459999999999999,9.3719999999999999,-2.4445999999999999E-3,-1.3111000000000001E-2,8.8879999999999981E-4]
[null,null,null,null,null,null,null,null,null,null,null,null,null,null,null,null,null,null,null,null,null,null,null,null,null,null,null,null,0,{"$f":"AVERAGE(#REF!)","v":{"$error":"#REF!"}},-8.5999999999999993E-2,-7.5999999999999998E-2,6.6000000000000003E-2,-1.9179999999999999,-2.242,9.4459999999999997,-4.6668000000000005E-3,-8.2222000000000007E-3,8.8879999999999981E-4]
[null,null,null,null,null,null,null,null,null,null,null,null,null,null,null,null,null,null,null,null,null,null,null,null,null,null,null,null,0,{"$f":"AVERAGE(#REF!)","v":{"$error":"#REF!"}},-0.10999999999999999,-8.6000000000000007E-2,7.3999999999999996E-2,-1.9460000000000002,-2.2519999999999998,9.4559999999999995,-8.4443999999999995E-3,-4.6666000000000008E-3,-1.9999999999985308E-7]
[null,null,null,null,null,null,null,null,null,null,null,null,null,null,null,null,null,null,null,null,null,null,null,null,null,null,null,null,0,{"$f":"AVERAGE(#REF!)","v":{"$error":"#REF!"}},-1.6000000000000004E-2,-8.6000000000000007E-2,8.2000000000000003E-2,-1.8519999999999999,-2.254,9.4660000000000011,-5.7775999999999999E-3,-4.2222000000000006E-3,2.6666000000000003E-3]
[null,null,null,null,null,null,null,null,null,null,null,null,null,null,null,null,null,null,null,null,null,null,null,null,null,null,null,null,0,{"$f":"AVERAGE(#REF!)","v":{"$error":"#REF!"}},-4.8000000000000001E-2,-0.06,5.5999999999999994E-2,-1.8839999999999999,-2.23,9.4379999999999988,-8.4443999999999995E-3,1.5555999999999996E-3,3.1112000000000006E-3]
[null,null,null,null,null,null,null,null,null,null,null,null,null,null,null,null,null,null,null,null,null,null,null,null,null,null,null,null,0,{"$f":"AVERAGE(#REF!)","v":{"$error":"#REF!"}},-6.0000000000000012E-2,-4.000000000000001E-3,7.5999999999999998E-2,-1.9019999999999999,-2.1760000000000002,9.4559999999999995,-4.0000000000000001E-3,5.1111999999999989E-3,1.3334000000000002E-3]
[null,null,null,null,null,null,null,null,null,null,null,null,null,null,null,null,null,null,null,null,null,null,null,null,null,null,null,null,0,{"$f":"AVERAGE(#REF!)","v":{"$error":"#REF!"}},-7.8E-2,4.8000000000000001E-2,9.6000000000000002E-2,-1.9239999999999999,-2.1239999999999997,9.4759999999999991,1.7777999999999995E-3,-5.1110000000000001E-3,1.7778000000000002E-3]
[null,null,null,null,null,null,null,null,null,null,null,null,null,null,null,null,null,null,null,null,null,null,null,null,null,null,null,null,0,{"$f":"AVERAGE(#REF!)","v":{"$error":"#REF!"}},-4.5999999999999999E-2,0.08,0.11800000000000002,-1.8919999999999999,-2.0919999999999996,9.4959999999999987,-4.6667999999999996E-3,-8.222199999999999E-3,1.7778000000000002E-3]
[null,null,null,null,null,null,null,null,null,null,null,null,null,null,null,null,null,null,null,null,null,null,null,null,null,null,null,null,0,{"$f":"AVERAGE(#REF!)","v":{"$error":"#REF!"}},-7.5999999999999998E-2,9.4E-2,0.06,-1.9179999999999999,-2.0759999999999996,9.4339999999999993,8.8859999999999959E-4,-8.8887999999999988E-3,4.4439999999999985E-4]
[null,null,null,null,null,null,null,null,null,null,null,null,null,null,null,null,null,null,null,null,null,null,null,null,null,null,null,null,0,{"$f":"AVERAGE(#REF!)","v":{"$error":"#REF!"}},6.5999999999999989E-2,0.184,3.5999999999999997E-2,-1.778,-1.9760000000000002,9.41,2.0666400000000001E-2,-2.6666000000000007E-3,1.26666E-2]
[null,null,null,null,null,null,null,null,null,null,null,null,null,null,null,null,null,null,null,null,null,null,null,null,null,null,null,null,0,{"$f":"AVERAGE(#REF!)","v":{"$error":"#REF!"}},7.3999999999999996E-2,0.13399999999999998,3.1999999999999994E-2,-1.77,-2.0179999999999998,9.4079999999999995,1.86664E-2,-2.0000000000000009E-3,1.1777800000000001E-2]
[null,null,null,null,null,null,null,null,null,null,null,null,null,null,null,null,null,null,null,null,null,null,null,null,null,null,null,null,0,{"$f":"AVERAGE(#REF!)","v":{"$error":"#REF!"}},7.7999999999999986E-2,0.128,0.03,-1.768,-2.0140000000000002,9.4079999999999995,2.0666399999999998E-2,4.4439999999999963E-4,1.0888800000000001E-2]
[null,null,null,null,null,null,null,null,null,null,null,null,null,null,null,null,null,null,null,null,null,null,null,null,null,null,null,null,0,{"$f":"AVERAGE(#REF!)","v":{"$error":"#REF!"}},8.2000000000000003E-2,-2.2000000000000009E-2,7.3999999999999982E-2,-1.77,-2.1520000000000001,9.4559999999999995,3.2888600000000004E-2,1.1555599999999999E-2,9.5556000000000009E-3]
[null,null,null,null,null,null,null,null,null,null,null,null,null,null,null,null,null,null,null,null,null,null,null,null,null,null,null,null,0,{"$f":"AVERAGE(#REF!)","v":{"$error":"#REF!"}},6.6000000000000003E-2,4.7999999999999987E-2,0.15,-1.7959999999999998,-2.0659999999999998,9.5380000000000003,2.6222000000000002E-2,0,1.2222199999999999E-2]
[null,null,null,null,null,null,null,null,null,null,null,null,null,null,null,null,null,null,null,null,null,null,null,null,null,null,null,null,0,{"$f":"AVERAGE(#REF!)","v":{"$error":"#REF!"}},-0.16600000000000001,-2.0000000000000183E-3,0.20400000000000001,-2.0339999999999998,-2.1079999999999997,9.5939999999999994,5.7775999999999999E-3,-3.7778E-3,2.2219999999999982E-4]
[null,null,null,null,null,null,null,null,null,null,null,null,null,null,null,null,null,null,null,null,null,null,null,null,null,null,null,null,0,{"$f":"AVERAGE(#REF!)","v":{"$error":"#REF!"}},0.182,-0.2,0.15599999999999997,-1.6819999999999999,-2.2999999999999998,9.5479999999999983,-3.555599999999999E-3,-2.4222199999999999E-2,4.2222000000000006E-3]
[null,null,null,null,null,null,null,null,null,null,null,null,null,null,null,null,null,null,null,null,null,null,null,null,null,null,null,null,0,{"$f":"AVERAGE(#REF!)","v":{"$error":"#REF!"}},0.49800000000000005,-0.67799999999999994,0.36599999999999999,-1.3639999999999999,-2.7719999999999998,9.76,1.9555399999999997E-2,-1.0222199999999999E-2,4.1555600000000005E-2]
[null,null,null,null,null,null,null,null,null,null,null,null,null,null,null,null,null,null,null,null,null,null,null,null,null,null,null,null,0,{"$f":"AVERAGE(#REF!)","v":{"$error":"#REF!"}},0.44600000000000001,-0.59599999999999986,0.34,-1.4119999999999999,-2.6859999999999999,9.7339999999999982,1.2888799999999997E-2,-2.8666599999999997E-2,4.3999999999999997E-2]
[null,null,null,null,null,null,null,null,null,null,null,null,null,null,null,null,null,null,null,null,null,null,null,null,null,null,null,null,0,{"$f":"AVERAGE(#REF!)","v":{"$error":"#REF!"}},0.156,-0.40199999999999997,-7.9999999999999988E-2,-1.6960000000000002,-2.488,9.3120000000000012,3.3555399999999999E-2,-8.2221999999999972E-3,4.2666800000000005E-2]
[null,null,null,null,null,null,null,null,null,null,null,null,null,null,null,null,null,null,null,null,null,null,null,null,null,null,null,null,0,{"$f":"AVERAGE(#REF!)","v":{"$error":"#REF!"}},0.184,-0.35799999999999993,-8.8000000000000009E-2,-1.6620000000000001,-2.44,9.3079999999999998,3.4888799999999998E-2,-8.6666E-3,4.3111200000000002E-2]
[null,null,null,null,null,null,null,null,null,null,null,null,null,null,null,null,null,null,null,null,null,null,null,null,null,null,null,null,0,{"$f":"AVERAGE(#REF!)","v":{"$error":"#REF!"}},-0.57799999999999996,0.15000000000000008,-0.55800000000000005,-2.4259999999999997,-1.9239999999999999,8.84,4.999979999999999E-2,1.6222200000000003E-2,3.8444600000000002E-2]
[null,null,null,null,null,null,null,null,null,null,null,null,null,null,null,null,null,null,null,null,null,null,null,null,null,null,null,null,0,{"$f":"AVERAGE(#REF!)","v":{"$error":"#REF!"}},-0.89399999999999991,0.55000000000000004,-0.69000000000000006,-2.7399999999999998,-1.526,8.7080000000000002,9.5554000000000021E-3,8.6668000000000023E-3,-5.7775999999999991E-3]
[null,null,null,null,null,null,null,null,null,null,null,null,null,null,null,null,null,null,null,null,null,null,null,null,null,null,null,null,0,{"$f":"AVERAGE(#REF!)","v":{"$error":"#REF!"}},-0.86799999999999977,0.54599999999999993,-0.90400000000000014,-2.7120000000000002,-1.534,8.49,9.5553999999999969E-3,2.2666800000000001E-2,-7.7776E-3]
[null,null,null,null,null,null,null,null,null,null,null,null,null,null,null,null,null,null,null,null,null,null,null,null,null,null,null,null,0,{"$f":"AVERAGE(#REF!)","v":{"$error":"#REF!"}},-0.65199999999999991,0.20600000000000002,-0.82799999999999996,-2.4939999999999998,-1.8920000000000001,8.5640000000000001,-2.9555599999999998E-2,-1.1110999999999999E-2,-7.7776E-3]
[null,null,null,null,null,null,null,null,null,null,null,null,null,null,null,null,null,null,null,null,null,null,null,null,null,null,null,null,0,{"$f":"AVERAGE(#REF!)","v":{"$error":"#REF!"}},-0.54600000000000004,0.19800000000000001,-1.0580000000000001,-2.3819999999999997,-1.9140000000000001,8.3279999999999994,-2.3333400000000001E-2,-1.66666E-2,-8.4442000000000007E-3]
[null,null,null,null,null,null,null,null,null,null,null,null,null,null,null,null,null,null,null,null,null,null,null,null,null,null,null,null,0,{"$f":"AVERAGE(#REF!)","v":{"$error":"#REF!"}},0.1,-5.6000000000000008E-2,-0.43000000000000005,-1.734,-2.1779999999999999,8.9540000000000006,-1.1333400000000002E-2,1.7780000000000018E-3,-9.5554000000000004E-3]
[null,null,null,null,null,null,null,null,null,null,null,null,null,null,null,null,null,null,null,null,null,null,null,null,null,null,null,null,0,{"$f":"AVERAGE(#REF!)","v":{"$error":"#REF!"}},5.1999999999999991E-2,-8.199999999999999E-2,-0.4840000000000001,-1.782,-2.214,8.9,-1.7555599999999998E-2,-8.8888000000000005E-3,-8.6666E-3]
[null,null,null,null,null,null,null,null,null,null,null,null,null,null,null,null,null,null,null,null,null,null,null,null,null,null,null,null,0,{"$f":"AVERAGE(#REF!)","v":{"$error":"#REF!"}},-2.0000000000000018E-3,-7.3999999999999996E-2,-0.29600000000000004,-1.8359999999999999,-2.2199999999999998,9.09,-3.2666599999999997E-2,2.2221999999999993E-3,-7.5553999999999994E-3]
[null,null,null,null,null,null,null,null,null,null,null,null,null,null,null,null,null,null,null,null,null,null,null,null,null,null,null,null,0,{"$f":"AVERAGE(#REF!)","v":{"$error":"#REF!"}},3.5999999999999976E-2,-5.5999999999999994E-2,-1.3999999999999988E-2,-1.8059999999999998,-2.206,9.370000000000001,1.3334000000000026E-3,4.9777800000000004E-2,-9.7777999999999997E-3]
[null,null,null,null,null,null,null,null,null,null,null,null,null,null,null,null,null,null,null,null,null,null,null,null,null,null,null,null,0,{"$f":"AVERAGE(#REF!)","v":{"$error":"#REF!"}},-4.600000000000002E-2,-0.19,0.22000000000000003,-1.9039999999999999,-2.3440000000000003,9.6020000000000003,6.4444000000000012E-3,5.2888799999999993E-2,-3.7778E-3]
[null,null,null,null,null,null,null,null,null,null,null,null,null,null,null,null,null,null,null,null,null,null,null,null,null,null,null,null,0,{"$f":"AVERAGE(#REF!)","v":{"$error":"#REF!"}},-0.186,-0.158,0.24,-2.0539999999999998,-2.3040000000000003,9.6219999999999999,1.9111200000000002E-2,3.1999800000000002E-2,6.4444000000000003E-3]
[null,null,null,null,null,null,null,null,null,null,null,null,null,null,null,null,null,null,null,null,null,null,null,null,null,null,null,null,0,{"$f":"AVERAGE(#REF!)","v":{"$error":"#REF!"}},-0.20800000000000002,9.9999999999999863E-3,0.24200000000000005,-2.0920000000000001,-2.1160000000000005,9.6240000000000006,4.0222400000000005E-2,4.2666599999999999E-2,1.24444E-2]
[null,null,null,null,null,null,null,null,null,null,null,null,null,null,null,null,null,null,null,null,null,null,null,null,null,null,null,null,0,{"$f":"AVERAGE(#REF!)","v":{"$error":"#REF!"}},-6.4000000000000015E-2,5.1999999999999991E-2,0.19600000000000001,-1.9599999999999997,-2.0499999999999998,9.5760000000000005,5.0889000000000004E-2,2.64444E-2,1.33332E-2]
[null,null,null,null,null,null,null,null,null,null,null,null,null,null,null,null,null,null,null,null,null,null,null,null,null,null,null,null,0,{"$f":"AVERAGE(#REF!)","v":{"$error":"#REF!"}},3.2000000000000001E-2,0.04,0.22400000000000003,-1.8719999999999999,-2.04,9.6080000000000005,4.1111200000000001E-2,1.5556000000000003E-3,1.3333199999999998E-2]
[null,null,null,null,null,null,null,null,null,null,null,null,null,null,null,null,null,null,null,null,null,null,null,null,null,null,null,null,0,{"$f":"AVERAGE(#REF!)","v":{"$error":"#REF!"}},9.4E-2,7.0000000000000007E-2,0.16600000000000001,-1.8139999999999996,-1.9899999999999998,9.5519999999999978,3.0666800000000001E-2,8.2223999999999995E-3,9.7776000000000009E-3]
[null,null,null,null,null,null,null,null,null,null,null,null,null,null,null,null,null,null,null,null,null,null,null,null,null,null,null,null,0,{"$f":"AVERAGE(#REF!)","v":{"$error":"#REF!"}},0.02,6.0000000000000012E-2,-2.8000000000000004E-2,-1.8960000000000001,-1.9940000000000002,9.3559999999999999,4.0000000000000001E-3,-6.4442000000000015E-3,5.1110000000000001E-3]
[null,null,null,null,null,null,null,null,null,null,null,null,null,null,null,null,null,null,null,null,null,null,null,null,null,null,null,null,0,{"$f":"AVERAGE(#REF!)","v":{"$error":"#REF!"}},9.1999999999999998E-2,2.0000000000000011E-2,1.8000000000000006E-2,-1.8240000000000003,-2.0339999999999998,9.402000000000001,-8.222199999999999E-3,-1.7111000000000001E-2,5.5555999999999991E-3]
[null,null,null,null,null,null,null,null,null,null,null,null,null,null,null,null,null,null,null,null,null,null,null,null,null,null,null,null,0,{"$f":"AVERAGE(#REF!)","v":{"$error":"#REF!"}},1.9999999999999997E-2,4.0000000000000088E-3,4.2000000000000003E-2,-1.8979999999999997,-2.0539999999999998,9.4280000000000008,-1.1111199999999998E-2,-1.4222000000000002E-2,2.2219999999999949E-4]
[null,null,null,null,null,null,null,null,null,null,null,null,null,null,null,null,null,null,null,null,null,null,null,null,null,null,null,null,0,{"$f":"AVERAGE(#REF!)","v":{"$error":"#REF!"}},-3.2000000000000001E-2,4.0000000000000148E-3,3.2000000000000008E-2,-1.95,-2.0620000000000003,9.4179999999999993,-2.1555599999999998E-2,-1.73332E-2,2.2219999999999982E-4]
[null,null,null,null,null,null,null,null,null,null,null,null,null,null,null,null,null,null,null,null,null,null,null,null,null,null,null,null,0,{"$f":"AVERAGE(#REF!)","v":{"$error":"#REF!"}},-5.9999999999999941E-3,-1.9999999999999961E-3,8.4000000000000005E-2,-1.9219999999999999,-2.0760000000000001,9.4719999999999995,-2.4222200000000003E-2,-2.2222200000000001E-2,-3.5556000000000003E-3]
[null,null,null,null,null,null,null,null,null,null,null,null,null,null,null,null,null,null,null,null,null,null,null,null,null,null,null,null,0,{"$f":"AVERAGE(#REF!)","v":{"$error":"#REF!"}},0,-4.8000000000000001E-2,0.16200000000000001,-1.9159999999999999,-2.1340000000000003,9.5500000000000007,-2.0888799999999996E-2,-9.777799999999998E-3,-4.4446000000000008E-3]
[null,null,null,null,null,null,null,null,null,null,null,null,null,null,null,null,null,null,null,null,null,null,null,null,null,null,null,null,0,{"$f":"AVERAGE(#REF!)","v":{"$error":"#REF!"}},-9.4E-2,3.0000000000000006E-2,9.1999999999999998E-2,-2.0119999999999996,-2.0640000000000005,9.4759999999999991,-9.3334000000000021E-3,-0.01,-5.7780000000000001E-3]
[null,null,null,null,null,null,null,null,null,null,null,null,null,null,null,null,null,null,null,null,null,null,null,null,null,null,null,null,0,{"$f":"AVERAGE(#REF!)","v":{"$error":"#REF!"}},1.7999999999999995E-2,0.40600000000000003,0.31199999999999994,-1.8919999999999999,-1.6940000000000002,9.6939999999999991,-1.17778E-2,-2.0222400000000001E-2,6.6659999999999983E-4]
[null,null,null,null,null,null,null,null,null,null,null,null,null,null,null,null,null,null,null,null,null,null,null,null,null,null,null,null,0,{"$f":"AVERAGE(#REF!)","v":{"$error":"#REF!"}},0.01,0.57599999999999996,0.248,-1.8960000000000001,-1.5379999999999998,9.6239999999999988,-1.0666800000000001E-2,-1.7778000000000002E-2,-2.2219999999999982E-4]
[null,null,null,null,null,null,null,null,null,null,null,null,null,null,null,null,null,null,null,null,null,null,null,null,null,null,null,null,0,{"$f":"AVERAGE(#REF!)","v":{"$error":"#REF!"}},-0.2,0.56600000000000006,0.246,-2.1100000000000003,-1.5640000000000001,9.6159999999999997,-9.3334000000000004E-3,-3.778000000000001E-3,-2E-3]
[null,null,null,null,null,null,null,null,null,null,null,null,null,null,null,null,null,null,null,null,null,null,null,null,null,null,null,null,0,{"$f":"AVERAGE(#REF!)","v":{"$error":"#REF!"}},-0.22600000000000003,0.62,0.11000000000000001,-2.13,-1.522,9.4759999999999991,-1.6E-2,-2.04446E-2,-4.2222000000000006E-3]
[null,null,null,null,null,null,null,null,null,null,null,null,null,null,null,null,null,null,null,null,null,null,null,null,null,null,null,null,0,{"$f":"AVERAGE(#REF!)","v":{"$error":"#REF!"}},-0.20400000000000001,0.48,0.15399999999999997,-2.1020000000000003,-1.6800000000000002,9.5220000000000002,-1.8222200000000001E-2,-9.5556000000000009E-3,-2.6666000000000003E-3]
[null,null,null,null,null,null,null,null,null,null,null,null,null,null,null,null,null,null,null,null,null,null,null,null,null,null,null,null,0,{"$f":"AVERAGE(#REF!)","v":{"$error":"#REF!"}},-0.28800000000000003,0.05,-2.1999999999999999E-2,-2.1879999999999997,-2.1240000000000001,9.3439999999999994,-7.3332000000000007E-3,3.7778000000000004E-3,-3.5555999999999999E-3]
[null,null,null,null,null,null,null,null,null,null,null,null,null,null,null,null,null,null,null,null,null,null,null,null,null,null,null,null,0,{"$f":"AVERAGE(#REF!)","v":{"$error":"#REF!"}},-0.29599999999999999,-4.0000000000000148E-3,0.13400000000000001,-2.2000000000000002,-2.1739999999999999,9.5039999999999996,3.3335999999999999E-3,1.0666800000000001E-2,-1.3334E-3]
[null,null,null,null,null,null,null,null,null,null,null,null,null,null,null,null,null,null,null,null,null,null,null,null,null,null,null,null,0,{"$f":"AVERAGE(#REF!)","v":{"$error":"#REF!"}},-0.20999999999999996,5.5999999999999994E-2,0.14599999999999999,-2.1139999999999999,-2.1059999999999999,9.5180000000000007,4.8890000000000001E-3,-9.9997999999999997E-3,1.3332000000000001E-3]
[null,null,null,null,null,null,null,null,null,null,null,null,null,null,null,null,null,null,null,null,null,null,null,null,null,null,null,null,0,{"$f":"AVERAGE(#REF!)","v":{"$error":"#REF!"}},-0.12800000000000003,4.2000000000000003E-2,0.29599999999999999,-2.0339999999999998,-2.1139999999999999,9.67,1.0222199999999999E-2,8.0002000000000007E-3,2.2219999999999982E-4]
[null,null,null,null,null,null,null,null,null,null,null,null,null,null,null,null,null,null,null,null,null,null,null,null,null,null,null,null,0,{"$f":"AVERAGE(#REF!)","v":{"$error":"#REF!"}},-8.7999999999999995E-2,5.5999999999999994E-2,0.24399999999999999,-1.998,-2.0939999999999999,9.6140000000000008,8.0000000000000002E-3,-5.7775999999999991E-3,-2.2224000000000002E-3]
[null,null,null,null,null,null,null,null,null,null,null,null,null,null,null,null,null,null,null,null,null,null,null,null,null,null,null,null,{"$f":"(1609.34/3600)*Delta_Speed","v":0},{"$f":"AVERAGE(#REF!)","v":{"$error":"#REF!"}},-0.16400000000000001,0.10399999999999998,0.19800000000000001,-2.0819999999999999,-2.036,9.5680000000000014,1.0222199999999999E-2,-3.7775999999999999E-3,-6.6680000000000005E-4]
[null,null,null,null,null,null,null,null,null,null,null,null,null,null,null,null,null,null,null,null,null,null,null,null,null,null,null,null,0,{"$f":"AVERAGE(#REF!)","v":{"$error":"#REF!"}},-5.7999999999999996E-2,0.14799999999999999,0.154,-1.9739999999999998,-1.986,9.5240000000000009,2.6665999999999994E-3,-1.66666E-2,-8.8900000000000025E-4]
[null,null,null,null,null,null,null,null,null,null,null,null,null,null,null,null,null,null,null,null,null,null,null,null,null,null,null,null,0,{"$f":"AVERAGE(#REF!)","v":{"$error":"#REF!"}},-2.0000000000000011E-2,9.1999999999999998E-2,0.19400000000000001,-1.9420000000000002,-2.04,9.5639999999999983,-1.33334E-2,3.1112000000000002E-3,2.4443999999999994E-3]
[null,null,null,null,null,null,null,null,null,null,null,null,null,null,null,null,null,null,null,null,null,null,null,null,null,null,null,null,0,{"$f":"AVERAGE(#REF!)","v":{"$error":"#REF!"}},-0.15,0.11799999999999999,0.28999999999999998,-2.0859999999999999,-2.012,9.6579999999999995,-8.8889999999999993E-3,9.1112000000000016E-3,6.0000000000000001E-3]
[null,null,null,null,null,null,null,null,null,null,null,null,null,null,null,null,null,null,null,null,null,null,null,null,null,null,null,null,0,{"$f":"AVERAGE(#REF!)","v":{"$error":"#REF!"}},{"$f":"AVERAGE(Q66:Q70)","v":-0.25600000000000001},{"$f":"AVERAGE(R66:R70)","v":7.8E-2},{"$f":"AVERAGE(S66:S70)","v":0.22000000000000003},{"$f":"AVERAGE(T66:T70)","v":-2.2060000000000004},{"$f":"AVERAGE(U66:U70)","v":-2.0479999999999996},{"$f":"AVERAGE(V66:V70)","v":9.5859999999999985},{"$f":"AVERAGE(W66:W70)","v":-1.2444599999999997E-2},{"$f":"AVERAGE(X66:X70)","v":2.4444399999999998E-2},{"$f":"AVERAGE(Y66:Y70)","v":4.6667999999999996E-3}]
[null,null,null,null,null,null,null,null,null,null,null,null,null,null,null,null,null,null,null,null,null,null,null,null,null,null,null,null,0,{"$f":"AVERAGE(#REF!)","v":{"$error":"#REF!"}},-0.23200000000000004,5.2000000000000011E-2,0.22800000000000004,-2.1960000000000002,-2.0780000000000003,9.5919999999999987,-2.2222399999999996E-2,2.3111E-2,6.6680000000000016E-4]
[null,null,null,null,null,null,null,null,null,null,null,null,null,null,null,null,null,null,null,null,null,null,null,null,null,null,null,null,0,{"$f":"AVERAGE(#REF!)","v":{"$error":"#REF!"}},-0.38200000000000001,-7.1999999999999995E-2,0.248,-2.3640000000000003,-2.206,9.6080000000000005,-1.6444599999999997E-2,3.3777800000000004E-2,1.1112000000000001E-3]
[null,null,null,null,null,null,null,null,null,null,null,null,null,null,null,null,null,null,null,null,null,null,null,null,null,null,null,null,0,{"$f":"AVERAGE(#REF!)","v":{"$error":"#REF!"}},-0.48,1.2E-2,0.182,-2.4699999999999998,-2.1219999999999999,9.5399999999999991,2.2219999999999965E-4,2.2888800000000004E-2,-8.8880000000000003E-4]
[null,null,null,null,null,null,null,null,null,null,null,null,null,null,null,null,null,null,null,null,null,null,null,null,null,null,null,null,0,{"$f":"AVERAGE(#REF!)","v":{"$error":"#REF!"}},-0.43599999999999994,2.0000000000000018E-3,-3.5999999999999997E-2,-2.4300000000000002,-2.13,9.32,-1.0444400000000001E-2,8.4442000000000007E-3,-2.0000000000000005E-3]
[null,null,null,null,null,null,null,null,null,null,null,null,null,null,null,null,null,null,null,null,null,null,null,null,null,null,null,null,0,{"$f":"AVERAGE(#REF!)","v":{"$error":"#REF!"}},-0.35599999999999998,2.6000000000000002E-2,1.6000000000000014E-2,-2.35,-2.1080000000000001,9.3719999999999999,-6.2221999999999998E-3,4.6665999999999999E-3,2.2220000000000001E-4]
[null,null,null,null,null,null,null,null,null,null,null,null,null,null,null,null,null,null,null,null,null,null,null,null,null,null,null,null,0,{"$f":"AVERAGE(#REF!)","v":{"$error":"#REF!"}},-0.26600000000000001,5.2000000000000005E-2,2E-3,-2.2560000000000002,-2.0779999999999998,9.3580000000000005,-6.2221999999999989E-3,6.2221999999999989E-3,4.4440000000000001E-4]
[null,null,null,null,null,null,null,null,null,null,null,null,null,null,null,null,null,null,null,null,null,null,null,null,null,null,null,null,0,{"$f":"AVERAGE(#REF!)","v":{"$error":"#REF!"}},-0.184,2.7999999999999997E-2,0,-2.1740000000000004,-2.1019999999999994,9.3559999999999999,-7.5556E-3,5.1110000000000001E-3,-6.6660000000000005E-4]
[null,null,null,null,null,null,null,null,null,null,null,null,null,null,null,null,null,null,null,null,null,null,null,null,null,null,null,null,0,{"$f":"AVERAGE(#REF!)","v":{"$error":"#REF!"}},-0.27600000000000002,-4.0000000000000018E-3,-8.7999999999999995E-2,-2.2679999999999998,-2.1339999999999995,9.2639999999999993,-8.000199999999999E-3,-2E-3,-1.111E-3]
[null,null,null,null,null,null,null,null,null,null,null,null,null,null,null,null,null,null,null,null,null,null,null,null,null,null,null,null,0,{"$f":"AVERAGE(#REF!)","v":{"$error":"#REF!"}},-0.33,-5.800000000000001E-2,8.199999999999999E-2,-2.3239999999999998,-2.194,9.4359999999999999,-6.2224000000000003E-3,2.6668000000000004E-3,-1.111E-3]
[null,null,null,null,null,null,null,null,null,null,null,null,null,null,null,null,null,null,null,null,null,null,null,null,null,null,null,null,0,{"$f":"AVERAGE(#REF!)","v":{"$error":"#REF!"}},-0.25800000000000001,-8.0000000000000019E-3,0.14799999999999999,-2.2540000000000004,-2.1420000000000003,9.5019999999999989,-5.7777999999999987E-3,-6.0000000000000001E-3,2.2240000000000004E-4]
[null,null,null,null,null,null,null,null,null,null,null,null,null,null,null,null,null,null,null,null,null,null,null,null,null,null,null,null,0,{"$f":"AVERAGE(#REF!)","v":{"$error":"#REF!"}},-0.41600000000000004,6.3999999999999987E-2,0.20800000000000002,-2.4140000000000001,-2.0740000000000003,9.5620000000000012,-6.889000000000001E-3,-2.0222199999999999E-2,2.6668E-3]
[null,null,null,null,null,null,null,null,null,null,null,null,null,null,null,null,null,null,null,null,null,null,null,null,null,null,null,null,0,{"$f":"AVERAGE(#REF!)","v":{"$error":"#REF!"}},-0.49600000000000011,0.128,4.5999999999999999E-2,-2.4899999999999998,-2.0100000000000002,9.4,-3.5556000000000003E-3,-1.6666599999999997E-2,4.2222000000000006E-3]
[null,null,null,null,null,null,null,null,null,null,null,null,null,null,null,null,null,null,null,null,null,null,null,null,null,null,null,null,0,{"$f":"AVERAGE(#REF!)","v":{"$error":"#REF!"}},-1.2000000000000011E-2,0.24399999999999999,0.36399999999999999,-2,-1.8980000000000001,9.7219999999999995,-2.4444000000000002E-3,-1.3333999999999985E-3,6.6660000000000048E-4]
[null,null,null,null,null,null,null,null,null,null,null,null,null,null,null,null,null,null,null,null,null,null,null,null,null,null,null,null,0,{"$f":"AVERAGE(#REF!)","v":{"$error":"#REF!"}},-1.6000000000000014E-2,0.25999999999999995,0.18799999999999997,-1.9979999999999998,-1.8859999999999999,9.5440000000000005,-4.6665999999999999E-3,-4.0001999999999998E-3,1.5554000000000006E-3]
[null,null,null,null,null,null,null,null,null,null,null,null,null,null,null,null,null,null,null,null,null,null,null,null,null,null,null,null,0,{"$f":"AVERAGE(#REF!)","v":{"$error":"#REF!"}},-0.186,0.312,0.15599999999999997,-2.1659999999999999,-1.8399999999999999,9.5139999999999993,-2.4444000000000002E-3,1.8444200000000001E-2,1.5554000000000002E-3]
[null,null,null,null,null,null,null,null,null,null,null,null,null,null,null,null,null,null,null,null,null,null,null,null,null,null,null,null,0,{"$f":"AVERAGE(#REF!)","v":{"$error":"#REF!"}},-0.124,0.25999999999999995,8.199999999999999E-2,-2.1040000000000001,-1.8960000000000001,9.4379999999999988,2.2224000000000002E-3,2.7333199999999995E-2,2.2220000000000017E-4]
[null,null,null,null,null,null,null,null,null,null,null,null,null,null,null,null,null,null,null,null,null,null,null,null,null,null,null,null,0,{"$f":"AVERAGE(#REF!)","v":{"$error":"#REF!"}},4.4000000000000018E-2,0.20800000000000002,0.24000000000000005,-1.9359999999999999,-1.954,9.5940000000000012,-6.6659999999999983E-4,2.53332E-2,-1.1109999999999998E-3]
[null,null,null,null,null,null,null,null,null,null,null,null,null,null,null,null,null,null,null,null,null,null,null,null,null,null,null,null,0,{"$f":"AVERAGE(#REF!)","v":{"$error":"#REF!"}},-0.254,5.3999999999999979E-2,-1.5999999999999993E-2,-2.2380000000000004,-2.1119999999999997,9.3360000000000003,-1.7778E-3,1.1999999999999999E-2,1.7780000000000001E-3]
[null,null,null,null,null,null,null,null,null,null,null,null,null,null,null,null,null,null,null,null,null,null,null,null,null,null,null,null,0,{"$f":"AVERAGE(#REF!)","v":{"$error":"#REF!"}},-0.19800000000000001,9.7999999999999976E-2,3.9999999999999923E-3,-2.1840000000000002,-2.0659999999999998,9.354000000000001,-1.3334E-3,1.1555600000000001E-2,6.6700000000000006E-4]
[null,null,null,null,null,null,null,null,null,null,null,null,null,null,null,null,null,null,null,null,null,null,null,null,null,null,null,null,0,{"$f":"AVERAGE(#REF!)","v":{"$error":"#REF!"}},-8.5999999999999993E-2,-1.2000000000000005E-2,2.1999999999999999E-2,-2.0699999999999998,-2.1779999999999999,9.370000000000001,-3.1112000000000002E-3,-5.7775999999999999E-3,2.2240000000000004E-4]
[null,null,null,null,null,null,null,null,null,null,null,null,null,null,null,null,null,null,null,null,null,null,null,null,null,null,null,null,0,{"$f":"AVERAGE(#REF!)","v":{"$error":"#REF!"}},-3.7999999999999999E-2,-0.02,2.1999999999999999E-2,-2.0180000000000002,-2.1859999999999995,9.3680000000000003,-4.0001999999999998E-3,-2.6666000000000003E-3,-2.2220000000000001E-4]
[null,null,null,null,null,null,null,null,null,null,null,null,null,null,null,null,null,null,null,null,null,null,null,null,null,null,null,null,0,{"$f":"AVERAGE(#REF!)","v":{"$error":"#REF!"}},-0.16799999999999998,2.3999999999999997E-2,-2.8000000000000004E-2,-2.1520000000000001,-2.1399999999999997,9.3180000000000014,-4.2223999999999994E-3,-4.6665999999999999E-3,1.111E-3]
[null,null,null,null,null,null,null,null,null,null,null,null,null,null,null,null,null,null,null,null,null,null,null,null,null,null,null,null,0,{"$f":"AVERAGE(#REF!)","v":{"$error":"#REF!"}},-0.17,6.9999999999999993E-2,2.4E-2,-2.1539999999999999,-2.09,9.370000000000001,-5.1111999999999998E-3,-8.4443999999999995E-3,2.2220000000000005E-3]
[null,null,null,null,null,null,null,null,null,null,null,null,null,null,null,null,null,null,null,null,null,null,null,null,null,null,null,null,0,{"$f":"AVERAGE(#REF!)","v":{"$error":"#REF!"}},-0.17200000000000001,2.6000000000000002E-2,8.7999999999999995E-2,-2.1559999999999997,-2.1339999999999999,9.4360000000000017,-5.1112000000000006E-3,-1.0222200000000001E-2,3.333E-3]
[null,null,null,null,null,null,null,null,null,null,null,null,null,null,null,null,null,null,null,null,null,null,null,null,null,null,null,null,0,{"$f":"AVERAGE(#REF!)","v":{"$error":"#REF!"}},-0.158,4.5999999999999999E-2,6.8000000000000005E-2,-2.1439999999999997,-2.1119999999999997,9.4160000000000004,-5.3334000000000003E-3,-7.5556000000000009E-3,3.333E-3]
[null,null,null,null,null,null,null,null,null,null,null,null,null,null,null,null,null,null,null,null,null,null,null,null,null,null,null,null,0,{"$f":"AVERAGE(#REF!)","v":{"$error":"#REF!"}},-0.184,3.0000000000000006E-2,0.1,-2.1759999999999997,-2.1259999999999999,9.4499999999999993,-5.5556000000000008E-3,-8.0000000000000002E-3,3.333E-3]
[null,null,null,null,null,null,null,null,null,null,null,null,null,null,null,null,null,null,null,null,null,null,null,null,null,null,null,null,0,{"$f":"AVERAGE(#REF!)","v":{"$error":"#REF!"}},-0.16,0.01,0.10200000000000001,-2.1539999999999999,-2.1459999999999999,9.4540000000000006,-4.2221999999999997E-3,-7.5556000000000009E-3,2.2219999999999996E-3]
[null,null,null,null,null,null,null,null,null,null,null,null,null,null,null,null,null,null,null,null,null,null,null,null,null,null,null,null,0,{"$f":"AVERAGE(#REF!)","v":{"$error":"#REF!"}},-0.20200000000000001,3.5999999999999997E-2,5.6000000000000008E-2,-2.198,-2.12,9.4079999999999995,6.6660000000000016E-4,5.1110000000000001E-3,2.6664000000000002E-3]
[null,null,null,null,null,null,null,null,null,null,null,null,null,null,null,null,null,null,null,null,null,null,null,null,null,null,null,null,0,{"$f":"AVERAGE(#REF!)","v":{"$error":"#REF!"}},-0.19,3.9999999999999994E-2,5.6000000000000008E-2,-2.19,-2.1119999999999997,9.4079999999999995,4.4443999999999994E-3,9.5556000000000009E-3,6.6639999999999994E-4]
[null,null,null,null,null,null,null,null,null,null,null,null,null,null,null,null,null,null,null,null,null,null,null,null,null,null,null,null,0,{"$f":"AVERAGE(#REF!)","v":{"$error":"#REF!"}},-0.14399999999999999,0.05,6.4000000000000001E-2,-2.1480000000000001,-2.0980000000000003,9.4160000000000004,2.8888E-3,6.889000000000001E-3,-4.4460000000000002E-4]
[null,null,null,null,null,null,null,null,null,null,null,null,null,null,null,null,null,null,null,null,null,null,null,null,null,null,null,null,0,{"$f":"AVERAGE(#REF!)","v":{"$error":"#REF!"}},-8.7999999999999995E-2,1.3999999999999999E-2,0.11000000000000001,-2.0960000000000001,-2.1360000000000001,9.4619999999999997,-2.8890000000000001E-3,7.7778000000000014E-3,-1.3334E-3]
[null,null,null,null,null,null,null,null,null,null,null,null,null,null,null,null,null,null,null,null,null,null,null,null,null,null,null,null,0,{"$f":"AVERAGE(#REF!)","v":{"$error":"#REF!"}},-0.13199999999999998,3.3999999999999996E-2,7.2000000000000008E-2,-2.1459999999999999,-2.1160000000000001,9.4179999999999993,-5.7780000000000001E-3,5.7778000000000013E-3,-1.5556000000000001E-3]
[null,null,null,null,null,null,null,null,null,null,null,null,null,null,null,null,null,null,null,null,null,null,null,null,null,null,null,null,0,{"$f":"AVERAGE(#REF!)","v":{"$error":"#REF!"}},-0.11000000000000001,-0.02,8.0000000000000016E-2,-2.1280000000000001,-2.1759999999999997,9.4259999999999984,-8.4446E-3,-1.3332000000000001E-3,-4.0000000000000001E-3]
[null,null,null,null,null,null,null,null,null,null,null,null,null,null,null,null,null,null,null,null,null,null,null,null,null,null,null,null,0,{"$f":"AVERAGE(#REF!)","v":{"$error":"#REF!"}},-0.13199999999999998,-3.2000000000000001E-2,9.6000000000000002E-2,-2.1520000000000001,-2.194,9.4419999999999984,-1.24446E-2,-1.1777800000000001E-2,6.6680000000000005E-4]
[null,null,null,null,null,null,null,null,null,null,null,null,null,null,null,null,null,null,null,null,null,null,null,null,null,null,null,null,0,{"$f":"AVERAGE(#REF!)","v":{"$error":"#REF!"}},-0.12999999999999998,-0.12,5.4000000000000006E-2,-2.1459999999999999,-2.2879999999999998,9.3979999999999997,-1.2000199999999999E-2,-1.4888999999999999E-2,2.8889999999999996E-3]
[null,null,null,null,null,null,null,null,null,null,null,null,null,null,null,null,null,null,null,null,null,null,null,null,null,null,null,null,0,{"$f":"AVERAGE(#REF!)","v":{"$error":"#REF!"}},-0.16,-0.08,0.03,-2.1680000000000001,-2.2499999999999996,9.3739999999999988,-1.2000199999999999E-2,-2.4E-2,3.7778E-3]
[null,null,null,null,null,null,null,null,null,null,null,null,null,null,null,null,null,null,null,null,null,null,null,null,null,null,null,null,0,{"$f":"AVERAGE(#REF!)","v":{"$error":"#REF!"}},-0.15,-9.6000000000000016E-2,5.2000000000000005E-2,-2.1520000000000001,-2.2700000000000005,9.4,-1.04446E-2,-2.4E-2,5.1109999999999992E-3]
[null,null,null,null,null,null,null,null,null,null,null,null,null,null,null,null,null,null,null,null,null,null,null,null,null,null,null,null,0,{"$f":"AVERAGE(#REF!)","v":{"$error":"#REF!"}},-0.1,-9.8000000000000004E-2,6.9999999999999993E-2,-2.0960000000000001,-2.2719999999999998,9.418000000000001,-1.2000199999999999E-2,-2.8888999999999998E-2,7.1109999999999993E-3]
[null,null,null,null,null,null,null,null,null,null,null,null,null,null,null,null,null,null,null,null,null,null,null,null,null,null,null,null,0,{"$f":"AVERAGE(#REF!)","v":{"$error":"#REF!"}},-6.2E-2,-9.6000000000000002E-2,6.0000000000000012E-2,-2.0499999999999998,-2.2719999999999998,9.4080000000000013,-9.3336000000000009E-3,-1.8889E-2,4.8888000000000004E-3]
[null,null,null,null,null,null,null,null,null,null,null,null,null,null,null,null,null,null,null,null,null,null,null,null,null,null,null,null,0,{"$f":"AVERAGE(#REF!)","v":{"$error":"#REF!"}},-7.9999999999999988E-2,-1.2E-2,0.13600000000000001,-2.0680000000000001,-2.1859999999999999,9.4879999999999995,-1.0222400000000001E-2,-1.8222200000000001E-2,3.9997999999999995E-3]
[null,null,null,null,null,null,null,null,null,null,null,null,null,null,null,null,null,null,null,null,null,null,null,null,null,null,null,null,0,{"$f":"AVERAGE(#REF!)","v":{"$error":"#REF!"}},-9.6000000000000002E-2,-2.1999999999999999E-2,0.10600000000000001,-2.0859999999999999,-2.1960000000000002,9.4579999999999984,-5.1112000000000006E-3,-1.0444400000000001E-2,3.3332000000000001E-3]
[null,null,null,null,null,null,null,null,null,null,null,null,null,null,null,null,null,null,null,null,null,null,null,null,null,null,null,null,0,{"$f":"AVERAGE(#REF!)","v":{"$error":"#REF!"}},-8.5999999999999993E-2,-2.4E-2,0.11600000000000002,-2.0740000000000003,-2.198,9.4699999999999989,-3.7778000000000004E-3,-8.0000000000000002E-3,2.6666000000000003E-3]
[null,null,null,null,null,null,null,null,null,null,null,null,null,null,null,null,null,null,null,null,null,null,null,null,null,null,null,null,0,{"$f":"AVERAGE(#REF!)","v":{"$error":"#REF!"}},-4.5999999999999999E-2,-1.2E-2,0.12000000000000002,-2.0319999999999996,-2.1859999999999999,9.4740000000000002,-4.0000000000000001E-3,-4.2221999999999997E-3,2.6666000000000003E-3]
[null,null,null,null,null,null,null,null,null,null,null,null,null,null,null,null,null,null,null,null,null,null,null,null,null,null,null,null,0,{"$f":"AVERAGE(#REF!)","v":{"$error":"#REF!"}},-3.7999999999999999E-2,-8.0000000000000002E-3,0.13200000000000001,-2.0279999999999996,-2.1799999999999997,9.4860000000000007,-4.8888000000000004E-3,-4.8888000000000004E-3,1.7776000000000001E-3]
[null,null,null,null,null,null,null,null,null,null,null,null,null,null,null,null,null,null,null,null,null,null,null,null,null,null,null,null,0,{"$f":"AVERAGE(#REF!)","v":{"$error":"#REF!"}},-4.6000000000000006E-2,-2.0000000000000005E-3,0.10800000000000001,-2.0379999999999998,-2.1760000000000002,9.4600000000000009,-3.3332000000000001E-3,4.4440000000000001E-4,4.4440000000000001E-4]
[null,null,null,null,null,null,null,null,null,null,null,null,null,null,null,null,null,null,null,null,null,null,null,null,null,null,null,null,0,{"$f":"AVERAGE(#REF!)","v":{"$error":"#REF!"}},-7.5999999999999998E-2,-0.01,0.10600000000000001,-2.0700000000000003,-2.1840000000000002,9.4580000000000002,-4.6665999999999999E-3,1.5554E-3,-2.2220000000000001E-4]
[null,null,null,null,null,null,null,null,null,null,null,null,null,null,null,null,null,null,null,null,null,null,null,null,null,null,null,null,0,{"$f":"AVERAGE(#REF!)","v":{"$error":"#REF!"}},-6.6000000000000003E-2,-1.2E-2,9.4E-2,-2.0620000000000003,-2.1840000000000002,9.4439999999999991,-6.0000000000000001E-3,4.4440000000000001E-4,-2.2220000000000001E-4]
[null,null,null,null,null,null,null,null,null,null,null,null,null,null,null,null,null,null,null,null,null,null,null,null,null,null,null,null,0,{"$f":"AVERAGE(#REF!)","v":{"$error":"#REF!"}},-0.124,-2.4E-2,6.9999999999999993E-2,-2.1240000000000001,-2.1960000000000002,9.42,-6.0000000000000001E-3,-6.6660000000000005E-4,0]
[null,null,null,null,null,null,null,null,null,null,null,null,null,null,null,null,null,null,null,null,null,null,null,null,null,null,null,null,0,{"$f":"AVERAGE(#REF!)","v":{"$error":"#REF!"}},-0.13600000000000001,-2.1999999999999999E-2,6.6000000000000003E-2,-2.1360000000000001,-2.1960000000000002,9.4160000000000004,-5.7777999999999996E-3,-2.2220000000000001E-4,-4.4440000000000001E-4]
[null,null,null,null,null,null,null,null,null,null,null,null,null,null,null,null,null,null,null,null,null,null,null,null,null,null,null,null,0,{"$f":"AVERAGE(#REF!)","v":{"$error":"#REF!"}},-0.16600000000000001,-3.0000000000000006E-2,5.6000000000000008E-2,-2.1680000000000001,-2.206,9.4039999999999999,-6.4446E-3,6.6680000000000005E-4,2.2220000000000001E-4]
[null,null,null,null,null,null,null,null,null,null,null,null,null,null,null,null,null,null,null,null,null,null,null,null,null,null,null,null,0,{"$f":"AVERAGE(#REF!)","v":{"$error":"#REF!"}},-0.13799999999999998,-2.4000000000000004E-2,6.9999999999999993E-2,-2.1420000000000003,-2.2000000000000002,9.4179999999999993,-7.1112000000000007E-3,-1.111E-3,1.3332000000000001E-3]
[null,null,null,null,null,null,null,null,null,null,null,null,null,null,null,null,null,null,null,null,null,null,null,null,null,null,null,null,0,{"$f":"AVERAGE(#REF!)","v":{"$error":"#REF!"}},-0.14599999999999999,-1.9999999999999997E-2,7.1999999999999995E-2,-2.1520000000000001,-2.2000000000000002,9.42,-8.2222000000000007E-3,-2.4444000000000002E-3,1.3332000000000001E-3]
[null,null,null,null,null,null,null,null,null,null,null,null,null,null,null,null,null,null,null,null,null,null,null,null,null,null,null,null,0,{"$f":"AVERAGE(#REF!)","v":{"$error":"#REF!"}},-0.11799999999999999,2.1999999999999999E-2,0.10800000000000001,-2.1260000000000003,-2.1560000000000001,9.4539999999999988,-0.01,-1.7778E-3,8.8880000000000003E-4]
[null,null,null,null,null,null,null,null,null,null,null,null,null,null,null,null,null,null,null,null,null,null,null,null,null,null,null,null,0,{"$f":"AVERAGE(#REF!)","v":{"$error":"#REF!"}},-0.12,1.3999999999999995E-2,9.8000000000000004E-2,-2.13,-2.1660000000000004,9.4420000000000002,-1.1777800000000001E-2,-2.4444000000000002E-3,1.3332000000000001E-3]
[null,null,null,null,null,null,null,null,null,null,null,null,null,null,null,null,null,null,null,null,null,null,null,null,null,null,null,null,0,{"$f":"AVERAGE(#REF!)","v":{"$error":"#REF!"}},-9.4E-2,1.5999999999999997E-2,0.10800000000000001,-2.1040000000000001,-2.1659999999999999,9.4520000000000017,-1.13334E-2,-3.5556000000000003E-3,1.3332000000000001E-3]
[null,null,null,null,null,null,null,null,null,null,null,null,null,null,null,null,null,null,null,null,null,null,null,null,null,null,null,null,0,{"$f":"AVERAGE(#REF!)","v":{"$error":"#REF!"}},-0.10800000000000001,7.9999999999999984E-3,0.11200000000000002,-2.1179999999999999,-2.1779999999999999,9.4539999999999988,-1.1555599999999999E-2,-1.3333999999999998E-3,8.8880000000000003E-4]
[null,null,null,null,null,null,null,null,null,null,null,null,null,null,null,null,null,null,null,null,null,null,null,null,null,null,null,null,0,{"$f":"AVERAGE(#REF!)","v":{"$error":"#REF!"}},-9.8000000000000004E-2,1.9999999999999992E-3,0.11599999999999999,-2.1079999999999997,-2.1839999999999997,9.4580000000000002,-1.04446E-2,6.6660000000000005E-4,1.7778000000000002E-3]
[null,null,null,null,null,null,null,null,null,null,null,null,null,null,null,null,null,null,null,null,null,null,null,null,null,null,null,null,0,{"$f":"AVERAGE(#REF!)","v":{"$error":"#REF!"}},-0.12200000000000003,-0.04,0.10200000000000001,-2.1320000000000001,-2.23,9.4460000000000015,-7.7777999999999996E-3,8.8880000000000003E-4,1.5556000000000003E-3]
[null,null,null,null,null,null,null,null,null,null,null,null,null,null,null,null,null,null,null,null,null,null,null,null,null,null,null,null,0,{"$f":"AVERAGE(#REF!)","v":{"$error":"#REF!"}},-0.11400000000000002,-1.7999999999999995E-2,0.11799999999999999,-2.1240000000000001,-2.2079999999999997,9.4619999999999997,-7.5556E-3,2.2220000000000001E-4,1.5556000000000001E-3]
[null,null,null,null,null,null,null,null,null,null,null,null,null,null,null,null,null,null,null,null,null,null,null,null,null,null,null,null,{"$f":"(1609.34/3600)*Delta_Speed","v":0},{"$f":"AVERAGE(#REF!)","v":{"$error":"#REF!"}},-0.122,-2.1999999999999995E-2,0.11600000000000002,-2.1320000000000001,-2.2120000000000006,9.4619999999999997,-7.3332000000000007E-3,-8.8880000000000003E-4,1.5556000000000001E-3]
[null,null,null,null,null,null,null,null,null,null,null,null,null,null,null,null,null,null,null,null,null,null,null,null,null,null,null,null,0,{"$f":"AVERAGE(#REF!)","v":{"$error":"#REF!"}},-0.11800000000000002,-1.9999999999999997E-2,0.10400000000000001,-2.1280000000000001,-2.2119999999999997,9.452,-4.8888000000000004E-3,-1.5554E-3,2.6668E-3]
[null,null,null,null,null,null,null,null,null,null,null,null,null,null,null,null,null,null,null,null,null,null,null,null,null,null,null,null,0,{"$f":"AVERAGE(#REF!)","v":{"$error":"#REF!"}},-0.126,-1.5999999999999997E-2,0.10200000000000001,-2.1360000000000001,-2.2080000000000002,9.4499999999999993,-4.2220000000000001E-3,-2.4441999999999997E-3,1.7778000000000002E-3]
[null,null,null,null,null,null,null,null,null,null,null,null,null,null,null,null,null,null,null,null,null,null,null,null,null,null,null,null,0,{"$f":"AVERAGE(#REF!)","v":{"$error":"#REF!"}},-0.128,-3.9999999999999992E-3,0.1,-2.1380000000000003,-2.198,9.4459999999999997,-3.9998000000000004E-3,-2.4441999999999997E-3,2.2222000000000006E-3]
[null,null,null,null,null,null,null,null,null,null,null,null,null,null,null,null,null,null,null,null,null,null,null,null,null,null,null,null,0,{"$f":"AVERAGE(#REF!)","v":{"$error":"#REF!"}},{"$f":"AVERAGE(Q130:Q134)","v":-0.128},{"$f":"AVERAGE(R130:R134)","v":-2.6000000000000002E-2},{"$f":"AVERAGE(S130:S134)","v":8.7999999999999995E-2},{"$f":"AVERAGE(T130:T134)","v":-2.1380000000000003},{"$f":"AVERAGE(U130:U134)","v":-2.2200000000000002},{"$f":"AVERAGE(V130:V134)","v":9.4340000000000011},{"$f":"AVERAGE(W130:W134)","v":-3.5554000000000002E-3},{"$f":"AVERAGE(X130:X134)","v":-1.5554E-3},{"$f":"AVERAGE(Y130:Y134)","v":2.0000000000000005E-3}]
[null,null,null,null,null,null,null,null,null,null,null,null,null,null,null,null,null,null,null,null,null,null,null,null,null,null,null,null,0,{"$f":"AVERAGE(#REF!)","v":{"$error":"#REF!"}},-0.15,-2.0000000000000004E-2,8.6000000000000007E-2,-2.1599999999999997,-2.214,9.43,-3.3332000000000001E-3,4.4460000000000002E-4,2.6666000000000003E-3]
[null,null,null,null,null,null,null,null,null,null,null,null,null,null,null,null,null,null,null,null,null,null,null,null,null,null,null,null,0,{"$f":"AVERAGE(#REF!)","v":{"$error":"#REF!"}},-0.17399999999999999,-1.2000000000000004E-2,9.4E-2,-2.1819999999999995,-2.202,9.4379999999999988,-1.3332000000000001E-3,4.6668000000000005E-3,8.8880000000000003E-4]
[null,null,null,null,null,null,null,null,null,null,null,null,null,null,null,null,null,null,null,null,null,null,null,null,null,null,null,null,0,{"$f":"AVERAGE(#REF!)","v":{"$error":"#REF!"}},-0.25800000000000001,2.4E-2,7.5999999999999998E-2,-2.2679999999999998,-2.1640000000000001,9.4160000000000004,-3.1110000000000001E-3,6.4444000000000003E-3,1.3332000000000001E-3]
[null,null,null,null,null,null,null,null,null,null,null,null,null,null,null,null,null,null,null,null,null,null,null,null,null,null,null,null,0,{"$f":"AVERAGE(#REF!)","v":{"$error":"#REF!"}},-0.23000000000000004,1.0000000000000004E-2,7.1999999999999995E-2,-2.238,-2.1759999999999997,9.4120000000000008,-2.4444000000000002E-3,4.2222000000000006E-3,8.8880000000000003E-4]
[null,null,null,null,null,null,null,null,null,null,null,null,null,null,null,null,null,null,null,null,null,null,null,null,null,null,null,null,0,{"$f":"AVERAGE(#REF!)","v":{"$error":"#REF!"}},-0.22800000000000004,1.2E-2,8.199999999999999E-2,-2.2359999999999998,-2.1760000000000002,9.4240000000000013,6.6680000000000005E-4,5.3334000000000003E-3,1.111E-3]
[null,null,null,null,null,null,null,null,null,null,null,null,null,null,null,null,null,null,null,null,null,null,null,null,null,null,null,null,0,{"$f":"AVERAGE(#REF!)","v":{"$error":"#REF!"}},-0.2,4.0000000000000036E-3,8.7999999999999995E-2,-2.2079999999999997,-2.1859999999999999,9.43,6.6680000000000005E-4,1.3333999999999996E-3,2.2220000000000001E-4]
[null,null,null,null,null,null,null,null,null,null,null,null,null,null,null,null,null,null,null,null,null,null,null,null,null,null,null,null,0,{"$f":"AVERAGE(#REF!)","v":{"$error":"#REF!"}},-0.17399999999999999,-7.9999999999999984E-3,7.3999999999999996E-2,-2.1840000000000002,-2.2000000000000002,9.4140000000000015,-8.8880000000000003E-4,-3.7775999999999999E-3,1.3332000000000001E-3]
[null,null,null,null,null,null,null,null,null,null,null,null,null,null,null,null,null,null,null,null,null,null,null,null,null,null,null,null,0,{"$f":"AVERAGE(#REF!)","v":{"$error":"#REF!"}},-8.4000000000000005E-2,-4.5999999999999999E-2,9.8000000000000004E-2,-2.0919999999999996,-2.2400000000000002,9.4420000000000002,1.7778E-3,-5.7775999999999991E-3,1.7778000000000002E-3]
[null,null,null,null,null,null,null,null,null,null,null,null,null,null,null,null,null,null,null,null,null,null,null,null,null,null,null,null,0,{"$f":"AVERAGE(#REF!)","v":{"$error":"#REF!"}},-0.11000000000000001,-3.2000000000000001E-2,9.8000000000000004E-2,-2.12,-2.226,9.4440000000000008,6.6680000000000005E-4,-5.1110000000000001E-3,2.8888E-3]
[null,null,null,null,null,null,null,null,null,null,null,null,null,null,null,null,null,null,null,null,null,null,null,null,null,null,null,null,0,{"$f":"AVERAGE(#REF!)","v":{"$error":"#REF!"}},-0.10999999999999999,-2.8000000000000004E-2,9.4E-2,-2.1199999999999997,-2.2200000000000002,9.4400000000000013,-1.5554E-3,-6.0000000000000001E-3,3.3332000000000001E-3]
[null,null,null,null,null,null,null,null,null,null,null,null,null,null,null,null,null,null,null,null,null,null,null,null,null,null,null,null,0,{"$f":"AVERAGE(#REF!)","v":{"$error":"#REF!"}},-0.11399999999999999,-2.4E-2,8.3999999999999991E-2,-2.1240000000000001,-2.214,9.4300000000000015,-2.2221999999999997E-3,-5.5555999999999999E-3,3.9997999999999995E-3]
[null,null,null,null,null,null,null,null,null,null,null,null,null,null,null,null,null,null,null,null,null,null,null,null,null,null,null,null,0,{"$f":"AVERAGE(#REF!)","v":{"$error":"#REF!"}},-0.10800000000000001,-1.9999999999999997E-2,9.6000000000000002E-2,-2.1179999999999999,-2.2080000000000002,9.4420000000000019,-3.3332000000000001E-3,-4.8890000000000001E-3,4.2220000000000001E-3]
[null,null,null,null,null,null,null,null,null,null,null,null,null,null,null,null,null,null,null,null,null,null,null,null,null,null,null,null,0,{"$f":"AVERAGE(#REF!)","v":{"$error":"#REF!"}},-0.11599999999999999,-2.4E-2,9.1999999999999998E-2,-2.1260000000000003,-2.2120000000000002,9.4359999999999999,-4.8888000000000004E-3,-6.2221999999999998E-3,3.9995999999999999E-3]
[null,null,null,null,null,null,null,null,null,null,null,null,null,null,null,null,null,null,null,null,null,null,null,null,null,null,null,null,0,{"$f":"AVERAGE(#REF!)","v":{"$error":"#REF!"}},-0.11400000000000002,-2.6000000000000002E-2,9.6000000000000002E-2,-2.1219999999999999,-2.214,9.4379999999999988,-5.5555999999999999E-3,-6.6666E-3,3.333E-3]
[null,null,null,null,null,null,null,null,null,null,null,null,null,null,null,null,null,null,null,null,null,null,null,null,null,null,null,null,0,{"$f":"AVERAGE(#REF!)","v":{"$error":"#REF!"}},-0.124,-0.03,8.3999999999999991E-2,-2.13,-2.2180000000000004,9.4239999999999995,-5.7777999999999996E-3,-7.5554000000000012E-3,3.1107999999999995E-3]
[null,null,null,null,null,null,null,null,null,null,null,null,null,null,null,null,null,null,null,null,null,null,null,null,null,null,null,null,0,{"$f":"AVERAGE(#REF!)","v":{"$error":"#REF!"}},-0.11399999999999999,-2.8000000000000004E-2,8.8000000000000009E-2,-2.12,-2.2160000000000002,9.4280000000000008,-5.3331999999999997E-3,-6.4444000000000003E-3,3.333E-3]
[null,null,null,null,null,null,null,null,null,null,null,null,null,null,null,null,null,null,null,null,null,null,null,null,null,null,null,null,0,{"$f":"AVERAGE(#REF!)","v":{"$error":"#REF!"}},-0.11800000000000002,-3.6000000000000004E-2,9.1999999999999998E-2,-2.1240000000000001,-2.2280000000000002,9.4340000000000011,-4.8888000000000004E-3,-6.8888000000000005E-3,2.8886000000000003E-3]
[null,null,null,null,null,null,null,null,null,null,null,null,null,null,null,null,null,null,null,null,null,null,null,null,null,null,null,null,0,{"$f":"AVERAGE(#REF!)","v":{"$error":"#REF!"}},-0.11600000000000002,-2.6000000000000002E-2,9.4E-2,-2.1219999999999999,-2.218,9.4359999999999982,-3.9997999999999995E-3,-5.3331999999999997E-3,2.4442000000000001E-3]
[null,null,null,null,null,null,null,null,null,null,null,null,null,null,null,null,null,null,null,null,null,null,null,null,null,null,null,null,0,{"$f":"AVERAGE(#REF!)","v":{"$error":"#REF!"}},-0.11199999999999999,-1.8000000000000002E-2,9.1999999999999998E-2,-2.12,-2.2079999999999997,9.4359999999999999,-3.5554000000000002E-3,-4.4443999999999994E-3,2.6664000000000002E-3]
[null,null,null,null,null,null,null,null,null,null,null,null,null,null,null,null,null,null,null,null,null,null,null,null,null,null,null,null,0,{"$f":"AVERAGE(#REF!)","v":{"$error":"#REF!"}},-0.10600000000000001,-1.2E-2,0.11200000000000002,-2.1159999999999997,-2.202,9.4559999999999995,-6.6660000000000016E-4,-7.5556000000000009E-3,1.5554000000000002E-3]
[null,null,null,null,null,null,null,null,null,null,null,null,null,null,null,null,null,null,null,null,null,null,null,null,null,null,null,null,0,{"$f":"AVERAGE(#REF!)","v":{"$error":"#REF!"}},-0.09,-0.04,0.12,-2.0959999999999996,-2.2280000000000002,9.4659999999999993,3.7778E-3,-1.26666E-2,1.111E-3]
[null,null,null,null,null,null,null,null,null,null,null,null,null,null,null,null,null,null,null,null,null,null,null,null,null,null,null,null,0,{"$f":"AVERAGE(#REF!)","v":{"$error":"#REF!"}},-0.14399999999999999,-2.4E-2,0.11799999999999999,-2.1459999999999999,-2.2060000000000004,9.4659999999999993,5.3333999999999994E-3,-9.5556000000000009E-3,-2.2240000000000004E-4]
[null,null,null,null,null,null,null,null,null,null,null,null,null,null,null,null,null,null,null,null,null,null,null,null,null,null,null,null,0,{"$f":"AVERAGE(#REF!)","v":{"$error":"#REF!"}},-0.14599999999999999,-3.0000000000000006E-2,0.11399999999999999,-2.1459999999999999,-2.21,9.4640000000000004,7.5556E-3,-5.3334000000000003E-3,-1.7780000000000001E-3]
[null,null,null,null,null,null,null,null,null,null,null,null,null,null,null,null,null,null,null,null,null,null,null,null,null,null,null,null,0,{"$f":"AVERAGE(#REF!)","v":{"$error":"#REF!"}},-0.17599999999999999,-6.6000000000000003E-2,9.6000000000000002E-2,-2.1759999999999997,-2.2459999999999996,9.4439999999999991,1.1333399999999999E-2,-8.8880000000000068E-4,-2.2240000000000004E-4]
[null,null,null,null,null,null,null,null,null,null,null,null,null,null,null,null,null,null,null,null,null,null,null,null,null,null,null,null,0,{"$f":"AVERAGE(#REF!)","v":{"$error":"#REF!"}},-0.152,-5.2000000000000005E-2,5.6000000000000008E-2,-2.15,-2.226,9.402000000000001,8.6667999999999988E-3,4.4459999999999986E-4,2.2199999999999998E-4]
[null,null,null,null,null,null,null,null,null,null,null,null,null,null,null,null,null,null,null,null,null,null,null,null,null,null,null,null,0,{"$f":"AVERAGE(#REF!)","v":{"$error":"#REF!"}},-0.184,-6.0000000000000001E-3,5.6000000000000008E-2,-2.1859999999999999,-2.1759999999999997,9.402000000000001,4.4445999999999999E-3,8.8890000000000011E-3,-6.6680000000000005E-4]
[null,null,null,null,null,null,null,null,null,null,null,null,null,null,null,null,null,null,null,null,null,null,null,null,null,null,null,null,0,{"$f":"AVERAGE(#REF!)","v":{"$error":"#REF!"}},-0.13400000000000001,-9.999999999999995E-3,0.12,-2.14,-2.1800000000000002,9.4640000000000004,2.6667999999999996E-3,7.3336E-3,1.7778000000000002E-3]
[null,null,null,null,null,null,null,null,null,null,null,null,null,null,null,null,null,null,null,null,null,null,null,null,null,null,null,null,0,{"$f":"AVERAGE(#REF!)","v":{"$error":"#REF!"}},-0.10400000000000001,-3.2000000000000001E-2,8.7999999999999995E-2,-2.1120000000000001,-2.202,9.43,1.1112000000000001E-3,2.6668000000000004E-3,2.6667999999999996E-3]
[null,null,null,null,null,null,null,null,null,null,null,null,null,null,null,null,null,null,null,null,null,null,null,null,null,null,null,null,0,{"$f":"AVERAGE(#REF!)","v":{"$error":"#REF!"}},-7.0000000000000007E-2,-8.0000000000000019E-3,0.152,-2.0780000000000003,-2.1760000000000002,9.4959999999999987,-2.8888E-3,-1.111E-3,1.3334E-3]
[null,null,null,null,null,null,null,null,null,null,null,null,null,null,null,null,null,null,null,null,null,null,null,null,null,null,null,null,0,{"$f":"AVERAGE(#REF!)","v":{"$error":"#REF!"}},-9.8000000000000004E-2,-1.4000000000000002E-2,0.16800000000000001,-2.1100000000000003,-2.1839999999999997,9.5160000000000018,-1.7778000000000002E-3,1.3334000000000002E-3,8.8900000000000003E-4]
[null,null,null,null,null,null,null,null,null,null,null,null,null,null,null,null,null,null,null,null,null,null,null,null,null,null,null,null,0,{"$f":"AVERAGE(#REF!)","v":{"$error":"#REF!"}},-7.0000000000000007E-2,-0.10800000000000001,6.5999999999999989E-2,-2.0819999999999999,-2.2800000000000002,9.4120000000000008,-2E-3,-4.4440000000000001E-4,1.5556000000000003E-3]
[null,null,null,null,null,null,null,null,null,null,null,null,null,null,null,null,null,null,null,null,null,null,null,null,null,null,null,null,0,{"$f":"AVERAGE(#REF!)","v":{"$error":"#REF!"}},-9.1999999999999998E-2,-0.14799999999999999,8.0000000000000019E-3,-2.1040000000000001,-2.3199999999999998,9.3520000000000003,-1.5556000000000001E-3,-2.2220000000000017E-4,6.6660000000000005E-4]
[null,null,null,null,null,null,null,null,null,null,null,null,null,null,null,null,null,null,null,null,null,null,null,null,null,null,null,null,0,{"$f":"AVERAGE(#REF!)","v":{"$error":"#REF!"}},-6.7999999999999991E-2,-0.12200000000000003,3.599999999999999E-2,-2.0799999999999996,-2.2920000000000003,9.3819999999999997,-2.2221999999999997E-3,2.4446000000000003E-3,2.6665999999999999E-3]
[null,null,null,null,null,null,null,null,null,null,null,null,null,null,null,null,null,null,null,null,null,null,null,null,null,null,null,null,0,{"$f":"AVERAGE(#REF!)","v":{"$error":"#REF!"}},-3.7999999999999999E-2,-0.11000000000000001,-0.13800000000000001,-2.0499999999999998,-2.2800000000000002,9.2060000000000013,-3.3332000000000001E-3,-3.1110000000000001E-3,1.7777999999999995E-3]
[null,null,null,null,null,null,null,null,null,null,null,null,null,null,null,null,null,null,null,null,null,null,null,null,null,null,null,null,0,{"$f":"AVERAGE(#REF!)","v":{"$error":"#REF!"}},-5.6000000000000008E-2,-0.10600000000000001,-0.13000000000000003,-2.0699999999999998,-2.274,9.2140000000000022,-6.6664000000000003E-3,-6.4444000000000003E-3,2.4444000000000002E-3]
[null,null,null,null,null,null,null,null,null,null,null,null,null,null,null,null,null,null,null,null,null,null,null,null,null,null,null,null,0,{"$f":"AVERAGE(#REF!)","v":{"$error":"#REF!"}},-0.10200000000000001,-0.03,-1.0000000000000014E-2,-2.12,-2.1960000000000002,9.3339999999999996,-2.8888E-3,-2.0000000000000005E-3,2.8887999999999995E-3]
[null,null,null,null,null,null,null,null,null,null,null,null,null,null,null,null,null,null,null,null,null,null,null,null,null,null,null,null,0,{"$f":"AVERAGE(#REF!)","v":{"$error":"#REF!"}},-0.13999999999999999,0.10600000000000001,1.9999999999999905E-3,-2.1640000000000001,-2.056,9.3460000000000001,-4.2221999999999997E-3,-1.7778000000000002E-3,2.4444000000000002E-3]
[null,null,null,null,null,null,null,null,null,null,null,null,null,null,null,null,null,null,null,null,null,null,null,null,null,null,null,null,0,{"$f":"AVERAGE(#REF!)","v":{"$error":"#REF!"}},-0.37,0.14400000000000002,-9.0000000000000011E-2,-2.4,-2.0140000000000002,9.2500000000000018,-4.4444000000000003E-3,-4.8890000000000001E-3,2.2220000000000001E-4]
[null,null,null,null,null,null,null,null,null,null,null,null,null,null,null,null,null,null,null,null,null,null,null,null,null,null,null,null,0,{"$f":"AVERAGE(#REF!)","v":{"$error":"#REF!"}},-0.45800000000000002,0.19600000000000001,2.5999999999999995E-2,-2.4899999999999998,-1.9600000000000002,9.3680000000000003,-2.8888E-3,-3.5556000000000003E-3,1.111E-3]
[null,null,null,null,null,null,null,null,null,null,null,null,null,null,null,null,null,null,null,null,null,null,null,null,null,null,null,null,0,{"$f":"AVERAGE(#REF!)","v":{"$error":"#REF!"}},-0.30599999999999999,0.28600000000000003,-3.4000000000000009E-2,-2.3319999999999999,-1.8699999999999999,9.3060000000000009,-2.2221999999999997E-3,-5.1110000000000001E-3,6.6660000000000005E-4]
[null,null,null,null,null,null,null,null,null,null,null,null,null,null,null,null,null,null,null,null,null,null,null,null,null,null,null,null,0,{"$f":"AVERAGE(#REF!)","v":{"$error":"#REF!"}},-0.27999999999999997,0.38600000000000001,-0.51200000000000001,-2.3039999999999998,-1.77,8.8279999999999994,-5.7775999999999999E-3,-1.33332E-2,2.2220000000000001E-4]
[null,null,null,null,null,null,null,null,null,null,null,null,null,null,null,null,null,null,null,null,null,null,null,null,null,null,null,null,0,{"$f":"AVERAGE(#REF!)","v":{"$error":"#REF!"}},-0.18000000000000002,0.316,-0.59199999999999997,-2.2000000000000002,-1.8439999999999999,8.7480000000000011,-7.1108000000000005E-3,-8.4443999999999995E-3,2.2220000000000001E-4]
[null,null,null,null,null,null,null,null,null,null,null,null,null,null,null,null,null,null,null,null,null,null,null,null,null,null,null,null,0,{"$f":"AVERAGE(#REF!)","v":{"$error":"#REF!"}},0,0.32999999999999996,-0.53,-2.0179999999999998,-1.8320000000000001,8.8120000000000012,-7.7776E-3,-6.6666E-3,4.4440000000000001E-4]
[null,null,null,null,null,null,null,null,null,null,null,null,null,null,null,null,null,null,null,null,null,null,null,null,null,null,null,null,0,{"$f":"AVERAGE(#REF!)","v":{"$error":"#REF!"}},2.0000000000000131E-3,0.27599999999999997,-0.52600000000000002,-2.0179999999999998,-1.89,8.8140000000000001,-6.4444000000000003E-3,5.1112000000000006E-3,-8.8880000000000003E-4]
[null,null,null,null,null,null,null,null,null,null,null,null,null,null,null,null,null,null,null,null,null,null,null,null,null,null,null,null,0,{"$f":"AVERAGE(#REF!)","v":{"$error":"#REF!"}},-0.14399999999999999,0.192,-0.47599999999999998,-2.1740000000000004,-1.9739999999999998,8.8640000000000008,-3.7778E-3,1.8666599999999998E-2,-2.2221999999999997E-3]
[null,null,null,null,null,null,null,null,null,null,null,null,null,null,null,null,null,null,null,null,null,null,null,null,null,null,null,null,0,{"$f":"AVERAGE(#REF!)","v":{"$error":"#REF!"}},-0.19,9.1999999999999998E-2,-2.0000000000000011E-2,-2.2280000000000002,-2.0740000000000003,9.3199999999999985,2.4444000000000007E-3,2.6666600000000002E-2,-4.4443999999999994E-3]
[null,null,null,null,null,null,null,null,null,null,null,null,null,null,null,null,null,null,null,null,null,null,null,null,null,null,null,null,0,{"$f":"AVERAGE(#REF!)","v":{"$error":"#REF!"}},-0.26199999999999996,4.5999999999999999E-2,1.0000000000000002E-2,-2.3079999999999998,-2.1179999999999999,9.3480000000000008,1.0222E-2,1.8666599999999998E-2,-5.3331999999999997E-3]
[null,null,null,null,null,null,null,null,null,null,null,null,null,null,null,null,null,null,null,null,null,null,null,null,null,null,null,null,0,{"$f":"AVERAGE(#REF!)","v":{"$error":"#REF!"}},-0.23199999999999998,4.0000000000000001E-3,3.7999999999999999E-2,-2.282,-2.1579999999999999,9.3759999999999994,1.1110999999999999E-2,1.8222200000000001E-2,-5.9997999999999996E-3]
[null,null,null,null,null,null,null,null,null,null,null,null,null,null,null,null,null,null,null,null,null,null,null,null,null,null,null,null,0,{"$f":"AVERAGE(#REF!)","v":{"$error":"#REF!"}},-0.25,-4.1999999999999996E-2,6.0000000000000012E-2,-2.306,-2.1980000000000004,9.3979999999999997,8.0000000000000002E-3,9.7776000000000009E-3,-4.2220000000000009E-3]
[null,null,null,null,null,null,null,null,null,null,null,null,null,null,null,null,null,null,null,null,null,null,null,null,null,null,null,null,0,{"$f":"AVERAGE(#REF!)","v":{"$error":"#REF!"}},-0.11399999999999996,-0.11000000000000001,0.13400000000000001,-2.17,-2.266,9.4719999999999995,5.1112000000000006E-3,-6.6680000000000016E-4,-2.8886000000000003E-3]
[null,null,null,null,null,null,null,null,null,null,null,null,null,null,null,null,null,null,null,null,null,null,null,null,null,null,null,null,0,{"$f":"AVERAGE(#REF!)","v":{"$error":"#REF!"}},-8.199999999999999E-2,-0.16200000000000001,0.10800000000000001,-2.1379999999999999,-2.3180000000000001,9.4439999999999991,-3.1109999999999996E-3,-5.3334000000000003E-3,-1.1107999999999999E-3]
[null,null,null,null,null,null,null,null,null,null,null,null,null,null,null,null,null,null,null,null,null,null,null,null,null,null,null,null,0,{"$f":"AVERAGE(#REF!)","v":{"$error":"#REF!"}},-2.2000000000000009E-2,-0.11799999999999999,0.13000000000000003,-2.0759999999999996,-2.27,9.468,-5.1110000000000001E-3,-1.3334000000000006E-3,1.5558E-3]
[null,null,null,null,null,null,null,null,null,null,null,null,null,null,null,null,null,null,null,null,null,null,null,null,null,null,null,null,0,{"$f":"AVERAGE(#REF!)","v":{"$error":"#REF!"}},-4.2000000000000003E-2,-0.10600000000000001,0.12200000000000003,-2.0980000000000003,-2.258,9.4619999999999997,-7.3331999999999998E-3,-2.8890000000000001E-3,2.0001999999999997E-3]
[null,null,null,null,null,null,null,null,null,null,null,null,null,null,null,null,null,null,null,null,null,null,null,null,null,null,null,null,0,{"$f":"AVERAGE(#REF!)","v":{"$error":"#REF!"}},6.2E-2,-1.9999999999999905E-3,0.13200000000000001,-1.9940000000000002,-2.1539999999999999,9.4719999999999995,-3.3332000000000001E-3,3.1110000000000001E-3,1.1111999999999999E-3]
[null,null,null,null,null,null,null,null,null,null,null,null,null,null,null,null,null,null,null,null,null,null,null,null,null,null,null,null,0,{"$f":"AVERAGE(#REF!)","v":{"$error":"#REF!"}},-4.5999999999999999E-2,2.0000000000000074E-3,7.1999999999999995E-2,-2.1080000000000001,-2.15,9.411999999999999,-4.4443999999999994E-3,6.6659999999999983E-4,2.2219999999999982E-4]
[null,null,null,null,null,null,null,null,null,null,null,null,null,null,null,null,null,null,null,null,null,null,null,null,null,null,null,null,0,{"$f":"AVERAGE(#REF!)","v":{"$error":"#REF!"}},-3.3999999999999996E-2,6.2E-2,9.8000000000000004E-2,-2.1,-2.0859999999999999,9.4400000000000013,-1.5556000000000003E-3,1.111E-3,1.5555999999999999E-3]
[null,null,null,null,null,null,null,null,null,null,null,null,null,null,null,null,null,null,null,null,null,null,null,null,null,null,null,null,0,{"$f":"AVERAGE(#REF!)","v":{"$error":"#REF!"}},-6.5999999999999989E-2,6.0000000000000053E-3,8.3999999999999991E-2,-2.1379999999999999,-2.1439999999999997,9.4239999999999995,-5.1109999999999992E-3,-2.4446000000000003E-3,-2.2220000000000001E-4]
[null,null,null,null,null,null,null,null,null,null,null,null,null,null,null,null,null,null,null,null,null,null,null,null,null,null,null,null,0,{"$f":"AVERAGE(#REF!)","v":{"$error":"#REF!"}},3.9999999999999994E-2,-4.8000000000000001E-2,-0.04,-2.032,-2.1999999999999997,9.2959999999999994,-2.0000000000000005E-3,-6.6680000000000038E-4,1.111E-3]
[null,null,null,null,null,null,null,null,null,null,null,null,null,null,null,null,null,null,null,null,null,null,null,null,null,null,null,null,0,{"$f":"AVERAGE(#REF!)","v":{"$error":"#REF!"}},-3.2000000000000008E-2,-0.122,-7.7999999999999986E-2,-2.1079999999999997,-2.2760000000000002,9.2579999999999991,-4.6667999999999996E-3,-4.000000000000001E-3,2.2220000000000001E-4]
[null,null,null,null,null,null,null,null,null,null,null,null,null,null,null,null,null,null,null,null,null,null,null,null,null,null,null,null,{"$f":"(1609.34/3600)*Delta_Speed","v":0},{"$f":"AVERAGE(#REF!)","v":{"$error":"#REF!"}},-0.21400000000000002,-3.2000000000000001E-2,-9.6000000000000002E-2,-2.29,-2.1840000000000002,9.2379999999999995,-3.7778E-3,6.6660000000000005E-4,2E-3]
[null,null,null,null,null,null,null,null,null,null,null,null,null,null,null,null,null,null,null,null,null,null,null,null,null,null,null,null,0,{"$f":"AVERAGE(#REF!)","v":{"$error":"#REF!"}},-0.22600000000000003,-6.4000000000000015E-2,-0.10200000000000001,-2.3019999999999996,-2.2199999999999998,9.2320000000000011,-3.5556000000000003E-3,2E-3,1.111E-3]
[null,null,null,null,null,null,null,null,null,null,null,null,null,null,null,null,null,null,null,null,null,null,null,null,null,null,null,null,0,{"$f":"AVERAGE(#REF!)","v":{"$error":"#REF!"}},-0.21000000000000002,-1.6000000000000004E-2,-6.9999999999999993E-2,-2.286,-2.1719999999999997,9.266,-3.5556000000000003E-3,1.7778000000000002E-3,1.9998000000000004E-3]
[null,null,null,null,null,null,null,null,null,null,null,null,null,null,null,null,null,null,null,null,null,null,null,null,null,null,null,null,0,{"$f":"AVERAGE(#REF!)","v":{"$error":"#REF!"}},-0.32800000000000001,2.8000000000000004E-2,7.1999999999999995E-2,-2.41,-2.1259999999999999,9.41,-5.1111999999999998E-3,6.6660000000000037E-4,1.111E-3]
[null,null,null,null,null,null,null,null,null,null,null,null,null,null,null,null,null,null,null,null,null,null,null,null,null,null,null,null,0,{"$f":"AVERAGE(#REF!)","v":{"$error":"#REF!"}},{"$f":"AVERAGE(Q194:Q198)","v":-0.29399999999999998},{"$f":"AVERAGE(R194:R198)","v":4.8000000000000001E-2},{"$f":"AVERAGE(S194:S198)","v":9.1999999999999998E-2},{"$f":"AVERAGE(T194:T198)","v":-2.3760000000000003},{"$f":"AVERAGE(U194:U198)","v":-2.1040000000000001},{"$f":"AVERAGE(V194:V198)","v":9.43},{"$f":"AVERAGE(W194:W198)","v":-5.3334000000000003E-3},{"$f":"AVERAGE(X194:X198)","v":-6.6680000000000005E-4},{"$f":"AVERAGE(Y194:Y198)","v":2.222E-3}]
[null,null,null,null,null,null,null,null,null,null,null,null,null,null,null,null,null,null,null,null,null,null,null,null,null,null,null,null,0,{"$f":"AVERAGE(#REF!)","v":{"$error":"#REF!"}},-0.11799999999999999,-7.9999999999999967E-3,0.10400000000000001,-2.202,-2.16,9.4420000000000002,-4.0000000000000001E-3,-1.7778000000000002E-3,1.5554E-3]
[null,null,null,null,null,null,null,null,null,null,null,null,null,null,null,null,null,null,null,null,null,null,null,null,null,null,null,null,0,{"$f":"AVERAGE(#REF!)","v":{"$error":"#REF!"}},-0.1,1.2000000000000002E-2,0.10400000000000001,-2.1859999999999999,-2.1399999999999997,9.4420000000000002,-4.8888000000000004E-3,-4.2222000000000006E-3,1.7776000000000001E-3]
[null,null,null,null,null,null,null,null,null,null,null,null,null,null,null,null,null,null,null,null,null,null,null,null,null,null,null,null,0,{"$f":"AVERAGE(#REF!)","v":{"$error":"#REF!"}},-0.10599999999999998,-7.9999999999999984E-3,9.4E-2,-2.194,-2.16,9.4319999999999986,-3.9999999999999992E-3,-3.1110000000000001E-3,1.111E-3]
[null,null,null,null,null,null,null,null,null,null,null,null,null,null,null,null,null,null,null,null,null,null,null,null,null,null,null,null,0,{"$f":"AVERAGE(#REF!)","v":{"$error":"#REF!"}},-0.10200000000000001,-9.9999999999999985E-3,0.10400000000000001,-2.1900000000000004,-2.1619999999999999,9.4420000000000002,-2.8888000000000004E-3,-2.6664000000000002E-3,1.111E-3]
[null,null,null,null,null,null,null,null,null,null,null,null,null,null,null,null,null,null,null,null,null,null,null,null,null,null,null,null,0,{"$f":"AVERAGE(#REF!)","v":{"$error":"#REF!"}},-9.1999999999999998E-2,-1.2E-2,0.10200000000000001,-2.1819999999999999,-2.1640000000000006,9.4379999999999988,-2.6666000000000003E-3,-4.2220000000000001E-3,4.4440000000000001E-4]
[null,null,null,null,null,null,null,null,null,null,null,null,null,null,null,null,null,null,null,null,null,null,null,null,null,null,null,null,0,{"$f":"AVERAGE(#REF!)","v":{"$error":"#REF!"}},-9.4000000000000014E-2,-6.0000000000000001E-3,0.10200000000000001,-2.1840000000000002,-2.1579999999999999,9.44,-2.8890000000000001E-3,-4.6665999999999999E-3,8.8880000000000003E-4]
[null,null,null,null,null,null,null,null,null,null,null,null,null,null,null,null,null,null,null,null,null,null,null,null,null,null,null,null,0,{"$f":"AVERAGE(#REF!)","v":{"$error":"#REF!"}},-6.4000000000000001E-2,-7.9999999999999984E-3,0.10600000000000001,-2.1520000000000001,-2.1599999999999997,9.4439999999999991,-3.1112000000000002E-3,-4.6666000000000008E-3,1.111E-3]
[null,null,null,null,null,null,null,null,null,null,null,null,null,null,null,null,null,null,null,null,null,null,null,null,null,null,null,null,0,{"$f":"AVERAGE(#REF!)","v":{"$error":"#REF!"}},-5.800000000000001E-2,-1.2E-2,0.1,-2.1459999999999999,-2.1659999999999995,9.4379999999999988,-3.5556000000000003E-3,-5.1110000000000001E-3,1.3332000000000001E-3]
[null,null,null,null,null,null,null,null,null,null,null,null,null,null,null,null,null,null,null,null,null,null,null,null,null,null,null,null,0,{"$f":"AVERAGE(#REF!)","v":{"$error":"#REF!"}},-4.5999999999999999E-2,-1.6E-2,9.6000000000000002E-2,-2.1339999999999995,-2.1680000000000001,9.4320000000000004,-3.3334000000000003E-3,-5.3334000000000003E-3,1.7776000000000001E-3]
[null,null,null,null,null,null,null,null,null,null,null,null,null,null,null,null,null,null,null,null,null,null,null,null,null,null,null,null,0,{"$f":"AVERAGE(#REF!)","v":{"$error":"#REF!"}},-0.05,-1.7999999999999999E-2,9.6000000000000002E-2,-2.1399999999999997,-2.1700000000000004,9.4340000000000011,-2.8888000000000004E-3,-4.6666000000000008E-3,2.4442000000000001E-3]
[null,null,null,null,null,null,null,null,null,null,null,null,null,null,null,null,null,null,null,null,null,null,null,null,null,null,null,null,0,{"$f":"AVERAGE(#REF!)","v":{"$error":"#REF!"}},-4.2000000000000003E-2,-0.02,0.10800000000000001,-2.1320000000000001,-2.1740000000000004,9.4439999999999991,-1.7776000000000001E-3,-2.8888000000000004E-3,1.9998000000000004E-3]
[null,null,null,null,null,null,null,null,null,null,null,null,null,null,null,null,null,null,null,null,null,null,null,null,null,null,null,null,0,{"$f":"AVERAGE(#REF!)","v":{"$error":"#REF!"}},-8.6000000000000007E-2,-2.4E-2,0.10600000000000001,-2.1779999999999999,-2.1779999999999999,9.4420000000000002,-8.8880000000000003E-4,-1.7778000000000002E-3,1.111E-3]
[null,null,null,null,null,null,null,null,null,null,null,null,null,null,null,null,null,null,null,null,null,null,null,null,null,null,null,null,0,{"$f":"AVERAGE(#REF!)","v":{"$error":"#REF!"}},-8.5999999999999993E-2,-0.02,0.11599999999999999,-2.1779999999999999,-2.1720000000000002,9.452,2.2220000000000001E-4,-8.8900000000000003E-4,6.6660000000000005E-4]
[null,null,null,null,null,null,null,null,null,null,null,null,null,null,null,null,null,null,null,null,null,null,null,null,null,null,null,null,0,{"$f":"AVERAGE(#REF!)","v":{"$error":"#REF!"}},-9.8000000000000018E-2,-1.8000000000000002E-2,0.10999999999999999,-2.1920000000000002,-2.1700000000000004,9.4479999999999986,2.2220000000000001E-4,-2.2220000000000001E-4,0]
[null,null,null,null,null,null,null,null,null,null,null,null,null,null,null,null,null,null,null,null,null,null,null,null,null,null,null,null,0,{"$f":"AVERAGE(#REF!)","v":{"$error":"#REF!"}},-9.6000000000000002E-2,-1.6E-2,0.10599999999999998,-2.1900000000000004,-2.1660000000000004,9.4439999999999991,8.8880000000000003E-4,6.6660000000000005E-4,-1.111E-3]
[null,null,null,null,null,null,null,null,null,null,null,null,null,null,null,null,null,null,null,null,null,null,null,null,null,null,null,null,0,{"$f":"AVERAGE(#REF!)","v":{"$error":"#REF!"}},-9.6000000000000002E-2,-1.6E-2,9.4E-2,-2.1920000000000002,-2.1639999999999997,9.4339999999999993,6.6660000000000005E-4,-4.4440000000000001E-4,-1.3332000000000001E-3]
[null,null,null,null,null,null,null,null,null,null,null,null,null,null,null,null,null,null,null,null,null,null,null,null,null,null,null,null,0,{"$f":"AVERAGE(#REF!)","v":{"$error":"#REF!"}},-7.3999999999999996E-2,-8.0000000000000002E-3,9.4E-2,-2.17,-2.1539999999999999,9.4320000000000004,4.4440000000000001E-4,-2.2220000000000001E-4,-8.8880000000000003E-4]
[null,null,null,null,null,null,null,null,null,null,null,null,null,null,null,null,null,null,null,null,null,null,null,null,null,null,null,null,0,{"$f":"AVERAGE(#REF!)","v":{"$error":"#REF!"}},-0.08,-1.2E-2,8.3999999999999991E-2,-2.1759999999999997,-2.1579999999999999,9.4220000000000006,-6.6660000000000005E-4,-6.6660000000000005E-4,-8.8880000000000003E-4]
[null,null,null,null,null,null,null,null,null,null,null,null,null,null,null,null,null,null,null,null,null,null,null,null,null,null,null,null,0,{"$f":"AVERAGE(#REF!)","v":{"$error":"#REF!"}},-7.5999999999999998E-2,-1.4000000000000002E-2,8.2000000000000003E-2,-2.1719999999999997,-2.1619999999999999,9.42,-4.4440000000000001E-4,0,-4.4440000000000001E-4]
[null,null,null,null,null,null,null,null,null,null,null,null,null,null,null,null,null,null,null,null,null,null,null,null,null,null,null,null,0,{"$f":"AVERAGE(#REF!)","v":{"$error":"#REF!"}},-8.2000000000000003E-2,-0.02,8.7999999999999995E-2,-2.1760000000000002,-2.1719999999999997,9.4240000000000013,-6.6660000000000005E-4,2.2220000000000001E-4,0]
[null,null,null,null,null,null,null,null,null,null,null,null,null,null,null,null,null,null,null,null,null,null,null,null,null,null,null,null,0,{"$f":"AVERAGE(#REF!)","v":{"$error":"#REF!"}},-8.199999999999999E-2,-0.02,0.1,-2.1739999999999999,-2.1719999999999997,9.4340000000000011,-6.6660000000000005E-4,1.3332000000000001E-3,4.4440000000000001E-4]
[null,null,null,null,null,null,null,null,null,null,null,null,null,null,null,null,null,null,null,null,null,null,null,null,null,null,null,null,0,{"$f":"AVERAGE(#REF!)","v":{"$error":"#REF!"}},-8.6000000000000007E-2,-2.8000000000000004E-2,0.1,-2.1800000000000002,-2.1799999999999997,9.4359999999999999,-8.8880000000000003E-4,8.8880000000000003E-4,0]
[null,null,null,null,null,null,null,null,null,null,null,null,null,null,null,null,null,null,null,null,null,null,null,null,null,null,null,null,0,{"$f":"AVERAGE(#REF!)","v":{"$error":"#REF!"}},-8.5999999999999993E-2,-2.4E-2,9.5999999999999988E-2,-2.1799999999999997,-2.1740000000000004,9.4319999999999986,-6.6660000000000005E-4,8.8880000000000003E-4,2.2220000000000001E-4]
[null,null,null,null,null,null,null,null,null,null,null,null,null,null,null,null,null,null,null,null,null,null,null,null,null,null,null,null,0,{"$f":"AVERAGE(#REF!)","v":{"$error":"#REF!"}},-8.3999999999999991E-2,-3.0000000000000006E-2,9.9999999999999992E-2,-2.1779999999999999,-2.1819999999999999,9.4359999999999982,-1.3332000000000001E-3,8.8880000000000003E-4,4.4440000000000001E-4]
[null,null,null,null,null,null,null,null,null,null,null,null,null,null,null,null,null,null,null,null,null,null,null,null,null,null,null,null,0,{"$f":"AVERAGE(#REF!)","v":{"$error":"#REF!"}},-7.1999999999999995E-2,-2.4E-2,0.09,-2.1659999999999995,-2.1740000000000004,9.4260000000000002,-8.8880000000000003E-4,-2.2220000000000001E-4,4.4440000000000001E-4]
[null,null,null,null,null,null,null,null,null,null,null,null,null,null,null,null,null,null,null,null,null,null,null,null,null,null,null,null,0,{"$f":"AVERAGE(#REF!)","v":{"$error":"#REF!"}},-7.3999999999999996E-2,-2.1999999999999999E-2,8.4000000000000005E-2,-2.17,-2.1739999999999999,9.42,-4.4440000000000001E-4,-8.8880000000000003E-4,2.2220000000000001E-4]
[null,null,null,null,null,null,null,null,null,null,null,null,null,null,null,null,null,null,null,null,null,null,null,null,null,null,null,null,0,{"$f":"AVERAGE(#REF!)","v":{"$error":"#REF!"}},-7.8E-2,-1.7999999999999999E-2,0.09,-2.1740000000000004,-2.1719999999999997,9.4260000000000002,0,-8.8880000000000003E-4,2.2220000000000001E-4]
[null,null,null,null,null,null,null,null,null,null,null,null,null,null,null,null,null,null,null,null,null,null,null,null,null,null,null,null,0,{"$f":"AVERAGE(#REF!)","v":{"$error":"#REF!"}},-6.6000000000000003E-2,-1.9999999999999997E-2,9.8000000000000004E-2,-2.1619999999999999,-2.1759999999999997,9.4320000000000004,6.6660000000000005E-4,-2.2220000000000001E-4,2.2220000000000001E-4]
[null,null,null,null,null,null,null,null,null,null,null,null,null,null,null,null,null,null,null,null,null,null,null,null,null,null,null,null,0,{"$f":"AVERAGE(#REF!)","v":{"$error":"#REF!"}},-6.9999999999999993E-2,-1.5999999999999997E-2,9.6000000000000002E-2,-2.1659999999999999,-2.17,9.4280000000000008,1.5554E-3,2.2220000000000001E-4,0]
[null,null,null,null,null,null,null,null,null,null,null,null,null,null,null,null,null,null,null,null,null,null,null,null,null,null,null,null,0,{"$f":"AVERAGE(#REF!)","v":{"$error":"#REF!"}},-7.400000000000001E-2,-1.9999999999999997E-2,0.10400000000000001,-2.17,-2.1739999999999999,9.4359999999999999,1.7776000000000001E-3,6.6660000000000005E-4,2.2220000000000001E-4]
[null,null,null,null,null,null,null,null,null,null,null,null,null,null,null,null,null,null,null,null,null,null,null,null,null,null,null,null,0,{"$f":"AVERAGE(#REF!)","v":{"$error":"#REF!"}},-7.400000000000001E-2,-1.8000000000000002E-2,0.1,-2.1680000000000001,-2.1719999999999997,9.4319999999999986,1.5554E-3,8.8880000000000003E-4,2.2220000000000001E-4]
[null,null,null,null,null,null,null,null,null,null,null,null,null,null,null,null,null,null,null,null,null,null,null,null,null,null,null,null,0,{"$f":"AVERAGE(#REF!)","v":{"$error":"#REF!"}},-6.6000000000000003E-2,-2.1999999999999999E-2,9.4E-2,-2.1580000000000004,-2.1759999999999997,9.4239999999999995,1.111E-3,4.4440000000000001E-4,8.8880000000000003E-4]
[null,null,null,null,null,null,null,null,null,null,null,null,null,null,null,null,null,null,null,null,null,null,null,null,null,null,null,null,0,{"$f":"AVERAGE(#REF!)","v":{"$error":"#REF!"}},-7.3999999999999996E-2,-2.1999999999999999E-2,9.1999999999999998E-2,-2.1659999999999999,-2.1759999999999997,9.4220000000000006,-2.2220000000000001E-4,-2.2220000000000001E-4,8.8880000000000003E-4]
[null,null,null,null,null,null,null,null,null,null,null,null,null,null,null,null,null,null,null,null,null,null,null,null,null,null,null,null,0,{"$f":"AVERAGE(#REF!)","v":{"$error":"#REF!"}},-6.8000000000000005E-2,-2.7999999999999997E-2,9.1999999999999998E-2,-2.16,-2.1819999999999995,9.4239999999999995,-4.4440000000000001E-4,-4.4440000000000001E-4,8.8880000000000003E-4]
[null,null,null,null,null,null,null,null,null,null,null,null,null,null,null,null,null,null,null,null,null,null,null,null,null,null,null,null,0,{"$f":"AVERAGE(#REF!)","v":{"$error":"#REF!"}},-7.2000000000000008E-2,-2.7999999999999997E-2,0.09,-2.1659999999999999,-2.1819999999999999,9.4220000000000006,-4.4440000000000001E-4,-2.2220000000000001E-4,6.6660000000000005E-4]
[null,null,null,null,null,null,null,null,null,null,null,null,null,null,null,null,null,null,null,null,null,null,null,null,null,null,null,null,0,{"$f":"AVERAGE(#REF!)","v":{"$error":"#REF!"}},-7.9999999999999988E-2,-2.8000000000000004E-2,9.6000000000000002E-2,-2.1740000000000004,-2.1819999999999999,9.43,-4.4440000000000001E-4,-2.2220000000000001E-4,8.8880000000000003E-4]
[null,null,null,null,null,null,null,null,null,null,null,null,null,null,null,null,null,null,null,null,null,null,null,null,null,null,null,null,0,{"$f":"AVERAGE(#REF!)","v":{"$error":"#REF!"}},-8.3999999999999991E-2,-2.4E-2,9.6000000000000002E-2,-2.1779999999999999,-2.1759999999999997,9.4319999999999986,-2.2220000000000001E-4,6.6660000000000005E-4,4.4440000000000001E-4]
[null,null,null,null,null,null,null,null,null,null,null,null,null,null,null,null,null,null,null,null,null,null,null,null,null,null,null,null,0,{"$f":"AVERAGE(#REF!)","v":{"$error":"#REF!"}},-8.7999999999999995E-2,-2.1999999999999999E-2,9.1999999999999998E-2,-2.1840000000000002,-2.1739999999999999,9.4299999999999979,2.2220000000000001E-4,6.6660000000000005E-4,2.2220000000000001E-4]
[null,null,null,null,null,null,null,null,null,null,null,null,null,null,null,null,null,null,null,null,null,null,null,null,null,null,null,null,0,{"$f":"AVERAGE(#REF!)","v":{"$error":"#REF!"}},-9.1999999999999998E-2,-1.4000000000000002E-2,9.2000000000000012E-2,-2.1860000000000004,-2.1659999999999999,9.427999999999999,-2.2220000000000001E-4,6.6660000000000005E-4,2.2220000000000001E-4]
[null,null,null,null,null,null,null,null,null,null,null,null,null,null,null,null,null,null,null,null,null,null,null,null,null,null,null,null,0,{"$f":"AVERAGE(#REF!)","v":{"$error":"#REF!"}},-9.6000000000000002E-2,-1.4000000000000002E-2,0.09,-2.1879999999999997,-2.1659999999999999,9.427999999999999,-8.8880000000000003E-4,2.2220000000000001E-4,6.6660000000000005E-4]
[null,null,null,null,null,null,null,null,null,null,null,null,null,null,null,null,null,null,null,null,null,null,null,null,null,null,null,null,0,{"$f":"AVERAGE(#REF!)","v":{"$error":"#REF!"}},-0.09,-1.4000000000000002E-2,0.09,-2.1819999999999999,-2.1640000000000001,9.4260000000000002,-6.6660000000000005E-4,2.2220000000000001E-4,4.4440000000000001E-4]
[null,null,null,null,null,null,null,null,null,null,null,null,null,null,null,null,null,null,null,null,null,null,null,null,null,null,null,null,0,{"$f":"AVERAGE(#REF!)","v":{"$error":"#REF!"}},-9.2000000000000012E-2,-1.6E-2,8.7999999999999995E-2,-2.1840000000000002,-2.1680000000000001,9.4220000000000006,-1.111E-3,0,2.2220000000000001E-4]
[null,null,null,null,null,null,null,null,null,null,null,null,null,null,null,null,null,null,null,null,null,null,null,null,null,null,null,null,0,{"$f":"AVERAGE(#REF!)","v":{"$error":"#REF!"}},-8.3999999999999991E-2,-1.6E-2,9.2000000000000012E-2,-2.1759999999999997,-2.1660000000000004,9.4260000000000002,-1.111E-3,-2.2220000000000001E-4,-2.2220000000000001E-4]
[null,null,null,null,null,null,null,null,null,null,null,null,null,null,null,null,null,null,null,null,null,null,null,null,null,null,null,null,0,{"$f":"AVERAGE(#REF!)","v":{"$error":"#REF!"}},-8.4000000000000005E-2,-2.1999999999999999E-2,0.09,-2.1759999999999997,-2.1719999999999997,9.4240000000000013,-8.8880000000000003E-4,-1.3332000000000001E-3,-6.6660000000000005E-4]
[null,null,null,null,null,null,null,null,null,null,null,null,null,null,null,null,null,null,null,null,null,null,null,null,null,null,null,null,0,{"$f":"AVERAGE(#REF!)","v":{"$error":"#REF!"}},-7.8E-2,-2.1999999999999999E-2,8.5999999999999993E-2,-2.1719999999999997,-2.1719999999999997,9.4199999999999982,-4.4440000000000001E-4,-6.6660000000000005E-4,-8.8880000000000003E-4]
[null,null,null,null,null,null,null,null,null,null,null,null,null,null,null,null,null,null,null,null,null,null,null,null,null,null,null,null,0,{"$f":"AVERAGE(#REF!)","v":{"$error":"#REF!"}},-0.08,-2.6000000000000002E-2,8.2000000000000003E-2,-2.1739999999999999,-2.1759999999999997,9.4160000000000004,-4.4440000000000001E-4,-8.8880000000000003E-4,-6.6660000000000005E-4]
[null,null,null,null,null,null,null,null,null,null,null,null,null,null,null,null,null,null,null,null,null,null,null,null,null,null,null,null,0,{"$f":"AVERAGE(#REF!)","v":{"$error":"#REF!"}},-7.400000000000001E-2,-1.7999999999999999E-2,7.3999999999999996E-2,-2.17,-2.1659999999999999,9.41,-2.2220000000000001E-4,-8.8880000000000003E-4,-2.2220000000000001E-4]
[null,null,null,null,null,null,null,null,null,null,null,null,null,null,null,null,null,null,null,null,null,null,null,null,null,null,null,null,0,{"$f":"AVERAGE(#REF!)","v":{"$error":"#REF!"}},-7.8E-2,-2.4E-2,7.5999999999999998E-2,-2.1739999999999999,-2.1739999999999999,9.411999999999999,0,-2.2220000000000001E-4,0]
[null,null,null,null,null,null,null,null,null,null,null,null,null,null,null,null,null,null,null,null,null,null,null,null,null,null,null,null,0,{"$f":"AVERAGE(#REF!)","v":{"$error":"#REF!"}},-8.3999999999999991E-2,-2.1999999999999999E-2,7.5999999999999998E-2,-2.1799999999999997,-2.1719999999999997,9.4120000000000008,4.4440000000000001E-4,1.5556000000000001E-3,0]
[null,null,null,null,null,null,null,null,null,null,null,null,null,null,null,null,null,null,null,null,null,null,null,null,null,null,null,null,0,{"$f":"AVERAGE(#REF!)","v":{"$error":"#REF!"}},-8.7999999999999995E-2,-0.02,8.5999999999999993E-2,-2.1819999999999999,-2.17,9.4220000000000006,6.6660000000000005E-4,1.7778000000000002E-3,-2.2220000000000001E-4]
[null,null,null,null,null,null,null,null,null,null,null,null,null,null,null,null,null,null,null,null,null,null,null,null,null,null,null,null,0,{"$f":"AVERAGE(#REF!)","v":{"$error":"#REF!"}},-9.1999999999999998E-2,-1.4000000000000002E-2,8.3999999999999991E-2,-2.1859999999999999,-2.1640000000000001,9.42,6.6660000000000005E-4,1.3334000000000002E-3,-6.6660000000000005E-4]
[null,null,null,null,null,null,null,null,null,null,null,null,null,null,null,null,null,null,null,null,null,null,null,null,null,null,null,null,0,{"$f":"AVERAGE(#REF!)","v":{"$error":"#REF!"}},-9.4E-2,-1.6E-2,9.6000000000000002E-2,-2.1879999999999997,-2.1659999999999999,9.43,8.8880000000000003E-4,8.8900000000000003E-4,-8.8880000000000003E-4]
[null,null,null,null,null,null,null,null,null,null,null,null,null,null,null,null,null,null,null,null,null,null,null,null,null,null,null,null,0,{"$f":"AVERAGE(#REF!)","v":{"$error":"#REF!"}},-9.4E-2,-1.7999999999999999E-2,9.8000000000000004E-2,-2.1859999999999999,-2.1680000000000001,9.43,6.6660000000000005E-4,2.2240000000000004E-4,-4.4440000000000001E-4]
[null,null,null,null,null,null,null,null,null,null,null,null,null,null,null,null,null,null,null,null,null,null,null,null,null,null,null,null,0,{"$f":"AVERAGE(#REF!)","v":{"$error":"#REF!"}},-8.5999999999999993E-2,-1.4000000000000002E-2,9.8000000000000004E-2,-2.1800000000000002,-2.1640000000000001,9.4319999999999986,2.2220000000000001E-4,-1.111E-3,-4.4440000000000001E-4]
[null,null,null,null,null,null,null,null,null,null,null,null,null,null,null,null,null,null,null,null,null,null,null,null,null,null,null,null,0,{"$f":"AVERAGE(#REF!)","v":{"$error":"#REF!"}},-7.8E-2,-1.6E-2,9.4E-2,-2.1720000000000002,-2.1659999999999999,9.4259999999999984,-4.4440000000000001E-4,-2.222E-3,-4.4440000000000001E-4]
[null,null,null,null,null,null,null,null,null,null,null,null,null,null,null,null,null,null,null,null,null,null,null,null,null,null,null,null,0,{"$f":"AVERAGE(#REF!)","v":{"$error":"#REF!"}},-7.0000000000000007E-2,-2.4E-2,0.10600000000000001,-2.1659999999999999,-2.1759999999999997,9.4379999999999988,-6.6660000000000005E-4,-3.1110000000000001E-3,-2.2220000000000001E-4]
[null,null,null,null,null,null,null,null,null,null,null,null,null,null,null,null,null,null,null,null,null,null,null,null,null,null,null,null,0,{"$f":"AVERAGE(#REF!)","v":{"$error":"#REF!"}},-7.2000000000000008E-2,-0.03,0.10400000000000001,-2.1680000000000001,-2.1819999999999995,9.4359999999999999,-6.6660000000000005E-4,-3.3332000000000001E-3,-4.4440000000000001E-4]
[null,null,null,null,null,null,null,null,null,null,null,null,null,null,null,null,null,null,null,null,null,null,null,null,null,null,null,null,0,{"$f":"AVERAGE(#REF!)","v":{"$error":"#REF!"}},-7.0000000000000007E-2,-2.4E-2,9.8000000000000004E-2,-2.1659999999999999,-2.1760000000000002,9.4320000000000004,-2.2220000000000001E-4,-2.6666000000000003E-3,-6.6660000000000005E-4]
[null,null,null,null,null,null,null,null,null,null,null,null,null,null,null,null,null,null,null,null,null,null,null,null,null,null,null,null,0,{"$f":"AVERAGE(#REF!)","v":{"$error":"#REF!"}},-6.8000000000000005E-2,-2.8000000000000004E-2,0.1,-2.1640000000000001,-2.1800000000000002,9.4320000000000004,-6.6660000000000005E-4,-2.4444000000000002E-3,-4.4440000000000001E-4]
[null,null,null,null,null,null,null,null,null,null,null,null,null,null,null,null,null,null,null,null,null,null,null,null,null,null,null,null,{"$f":"(1609.34/3600)*Delta_Speed","v":0},{"$f":"AVERAGE(#REF!)","v":{"$error":"#REF!"}},-7.8E-2,-2.4E-2,0.10400000000000001,-2.1739999999999999,-2.1760000000000002,9.4360000000000017,-2.2220000000000001E-4,-8.8900000000000025E-4,-4.4440000000000001E-4]
[null,null,null,null,null,null,null,null,null,null,null,null,null,null,null,null,null,null,null,null,null,null,null,null,null,null,null,null,0,{"$f":"AVERAGE(#REF!)","v":{"$error":"#REF!"}},-7.8E-2,-2.2000000000000002E-2,9.4E-2,-2.1719999999999997,-2.1719999999999997,9.4259999999999984,-4.4440000000000001E-4,6.6660000000000005E-4,-2.2220000000000001E-4]
[null,null,null,null,null,null,null,null,null,null,null,null,null,null,null,null,null,null,null,null,null,null,null,null,null,null,null,null,0,{"$f":"AVERAGE(#REF!)","v":{"$error":"#REF!"}},-7.6000000000000012E-2,-2.6000000000000002E-2,9.4E-2,-2.1680000000000001,-2.1759999999999997,9.4260000000000002,-6.6660000000000005E-4,1.3332000000000001E-3,-2.2220000000000001E-4]
[null,null,null,null,null,null,null,null,null,null,null,null,null,null,null,null,null,null,null,null,null,null,null,null,null,null,null,null,0,{"$f":"AVERAGE(#REF!)","v":{"$error":"#REF!"}},-7.8E-2,-2.6000000000000002E-2,9.6000000000000002E-2,-2.17,-2.1759999999999997,9.4280000000000008,-4.4440000000000001E-4,1.5554E-3,0]
[null,null,null,null,null,null,null,null,null,null,null,null,null,null,null,null,null,null,null,null,null,null,null,null,null,null,null,null,0,{"$f":"AVERAGE(#REF!)","v":{"$error":"#REF!"}},{"$f":"AVERAGE(Q258:Q262)","v":-8.4000000000000005E-2},{"$f":"AVERAGE(R258:R262)","v":-0.03},{"$f":"AVERAGE(S258:S262)","v":9.6000000000000002E-2},{"$f":"AVERAGE(T258:T262)","v":-2.1759999999999997},{"$f":"AVERAGE(U258:U262)","v":-2.1819999999999999},{"$f":"AVERAGE(V258:V262)","v":9.43},{"$f":"AVERAGE(W258:W262)","v":-2.2220000000000001E-4},{"$f":"AVERAGE(X258:X262)","v":1.5554E-3},{"$f":"AVERAGE(Y258:Y262)","v":2.2220000000000001E-4}]
[null,null,null,null,null,null,null,null,null,null,null,null,null,null,null,null,null,null,null,null,null,null,null,null,null,null,null,null,0,{"$f":"AVERAGE(#REF!)","v":{"$error":"#REF!"}},-7.8E-2,-0.03,0.09,-2.17,-2.1820000000000004,9.4239999999999995,-4.4440000000000001E-4,2.2220000000000001E-4,4.4440000000000001E-4]
[null,null,null,null,null,null,null,null,null,null,null,null,null,null,null,null,null,null,null,null,null,null,null,null,null,null,null,null,0,{"$f":"AVERAGE(#REF!)","v":{"$error":"#REF!"}},-0.08,-2.5999999999999995E-2,9.1999999999999998E-2,-2.1719999999999997,-2.1779999999999999,9.4280000000000008,-2.2220000000000001E-4,0,2.2220000000000001E-4]
[null,null,null,null,null,null,null,null,null,null,null,null,null,null,null,null,null,null,null,null,null,null,null,null,null,null,null,null,0,{"$f":"AVERAGE(#REF!)","v":{"$error":"#REF!"}},-8.2000000000000003E-2,-0.02,0.09,-2.1759999999999997,-2.1719999999999997,9.4280000000000008,-4.4440000000000001E-4,-8.8880000000000003E-4,2.2220000000000001E-4]
[null,null,null,null,null,null,null,null,null,null,null,null,null,null,null,null,null,null,null,null,null,null,null,null,null,null,null,null,0,{"$f":"AVERAGE(#REF!)","v":{"$error":"#REF!"}},-7.8E-2,-1.9999999999999997E-2,9.2000000000000012E-2,-2.1719999999999997,-2.1719999999999997,9.4280000000000008,-8.8880000000000003E-4,-1.7776000000000001E-3,0]
[null,null,null,null,null,null,null,null,null,null,null,null,null,null,null,null,null,null,null,null,null,null,null,null,null,null,null,null,0,{"$f":"AVERAGE(#REF!)","v":{"$error":"#REF!"}},-7.8E-2,-1.6E-2,8.3999999999999991E-2,-2.17,-2.1659999999999999,9.42,-8.8880000000000003E-4,-1.7776000000000001E-3,-6.6660000000000005E-4]
[null,null,null,null,null,null,null,null,null,null,null,null,null,null,null,null,null,null,null,null,null,null,null,null,null,null,null,null,0,{"$f":"AVERAGE(#REF!)","v":{"$error":"#REF!"}},-7.8E-2,-1.7999999999999999E-2,9.1999999999999998E-2,-2.1719999999999997,-2.1680000000000001,9.4280000000000008,-4.4440000000000001E-4,-6.6660000000000005E-4,-6.6660000000000005E-4]
[null,null,null,null,null,null,null,null,null,null,null,null,null,null,null,null,null,null,null,null,null,null,null,null,null,null,null,null,0,{"$f":"AVERAGE(#REF!)","v":{"$error":"#REF!"}},-8.6000000000000007E-2,-1.7999999999999999E-2,0.09,-2.1799999999999997,-2.17,9.4260000000000002,-4.4440000000000001E-4,-8.8880000000000003E-4,-8.8880000000000003E-4]
[null,null,null,null,null,null,null,null,null,null,null,null,null,null,null,null,null,null,null,null,null,null,null,null,null,null,null,null,0,{"$f":"AVERAGE(#REF!)","v":{"$error":"#REF!"}},-8.199999999999999E-2,-1.2E-2,9.0000000000000011E-2,-2.1759999999999997,-2.1640000000000001,9.4240000000000013,0,-4.4440000000000001E-4,-6.6660000000000005E-4]
[null,null,null,null,null,null,null,null,null,null,null,null,null,null,null,null,null,null,null,null,null,null,null,null,null,null,null,null,0,{"$f":"AVERAGE(#REF!)","v":{"$error":"#REF!"}},-8.2000000000000003E-2,-1.4000000000000002E-2,9.0000000000000011E-2,-2.1779999999999999,-2.1659999999999999,9.4259999999999984,2.2220000000000001E-4,-2.2220000000000001E-4,-4.4440000000000001E-4]
[null,null,null,null,null,null,null,null,null,null,null,null,null,null,null,null,null,null,null,null,null,null,null,null,null,null,null,null,0,{"$f":"AVERAGE(#REF!)","v":{"$error":"#REF!"}},-7.5999999999999998E-2,-1.4000000000000002E-2,9.4E-2,-2.1740000000000004,-2.1659999999999999,9.4300000000000015,4.4440000000000001E-4,0,-2.2220000000000001E-4]
[null,null,null,null,null,null,null,null,null,null,null,null,null,null,null,null,null,null,null,null,null,null,null,null,null,null,null,null,0,{"$f":"AVERAGE(#REF!)","v":{"$error":"#REF!"}},-8.2000000000000003E-2,-1.6E-2,0.09,-2.1779999999999999,-2.17,9.4259999999999984,4.4440000000000001E-4,0,-4.4440000000000001E-4]
[null,null,null,null,null,null,null,null,null,null,null,null,null,null,null,null,null,null,null,null,null,null,null,null,null,null,null,null,0,{"$f":"AVERAGE(#REF!)","v":{"$error":"#REF!"}},-7.0000000000000007E-2,-1.6E-2,9.6000000000000002E-2,-2.1680000000000001,-2.17,9.4319999999999986,4.4440000000000001E-4,0,-2.2220000000000001E-4]
[null,null,null,null,null,null,null,null,null,null,null,null,null,null,null,null,null,null,null,null,null,null,null,null,null,null,null,null,0,{"$f":"AVERAGE(#REF!)","v":{"$error":"#REF!"}},-7.400000000000001E-2,-1.7999999999999999E-2,9.6000000000000002E-2,-2.1719999999999997,-2.1719999999999997,9.4319999999999986,6.6660000000000005E-4,-2.2220000000000001E-4,-4.4440000000000001E-4]
[null,null,null,null,null,null,null,null,null,null,null,null,null,null,null,null,null,null,null,null,null,null,null,null,null,null,null,null,0,{"$f":"AVERAGE(#REF!)","v":{"$error":"#REF!"}},-7.8E-2,-1.5999999999999997E-2,9.8000000000000004E-2,-2.1759999999999997,-2.17,9.4340000000000011,6.6660000000000005E-4,2.2220000000000001E-4,-4.4440000000000001E-4]
[null,null,null,null,null,null,null,null,null,null,null,null,null,null,null,null,null,null,null,null,null,null,null,null,null,null,null,null,0,{"$f":"AVERAGE(#REF!)","v":{"$error":"#REF!"}},-8.3999999999999991E-2,-1.4000000000000002E-2,0.10200000000000001,-2.1819999999999995,-2.1680000000000001,9.4359999999999999,6.6660000000000005E-4,2.2220000000000001E-4,2.2220000000000001E-4]
[null,null,null,null,null,null,null,null,null,null,null,null,null,null,null,null,null,null,null,null,null,null,null,null,null,null,null,null,0,{"$f":"AVERAGE(#REF!)","v":{"$error":"#REF!"}},-0.08,-1.6E-2,9.6000000000000002E-2,-2.1799999999999997,-2.1680000000000001,9.4299999999999979,6.6660000000000005E-4,-8.8880000000000003E-4,2.2220000000000001E-4]
[null,null,null,null,null,null,null,null,null,null,null,null,null,null,null,null,null,null,null,null,null,null,null,null,null,null,null,null,0,{"$f":"AVERAGE(#REF!)","v":{"$error":"#REF!"}},-8.2000000000000003E-2,-7.9999999999999984E-3,8.8000000000000009E-2,-2.1800000000000002,-2.1579999999999999,9.42,8.8880000000000003E-4,-1.111E-3,2.2220000000000001E-4]
[null,null,null,null,null,null,null,null,null,null,null,null,null,null,null,null,null,null,null,null,null,null,null,null,null,null,null,null,0,{"$f":"AVERAGE(#REF!)","v":{"$error":"#REF!"}},-8.6000000000000007E-2,-1.2E-2,9.4E-2,-2.1819999999999999,-2.1619999999999999,9.4259999999999984,6.6660000000000005E-4,-2.2220000000000001E-4,1.111E-3]
[null,null,null,null,null,null,null,null,null,null,null,null,null,null,null,null,null,null,null,null,null,null,null,null,null,null,null,null,0,{"$f":"AVERAGE(#REF!)","v":{"$error":"#REF!"}},-8.5999999999999993E-2,-1.2E-2,0.09,-2.1819999999999999,-2.1619999999999999,9.4220000000000006,6.6660000000000005E-4,-2.2220000000000001E-4,1.111E-3]
[null,null,null,null,null,null,null,null,null,null,null,null,null,null,null,null,null,null,null,null,null,null,null,null,null,null,null,null,0,{"$f":"AVERAGE(#REF!)","v":{"$error":"#REF!"}},-7.9999999999999988E-2,-1.3999999999999999E-2,8.5999999999999993E-2,-2.1739999999999999,-2.1640000000000001,9.42,4.4440000000000001E-4,-1.5556000000000001E-3,1.3332000000000001E-3]
[null,null,null,null,null,null,null,null,null,null,null,null,null,null,null,null,null,null,null,null,null,null,null,null,null,null,null,null,0,{"$f":"AVERAGE(#REF!)","v":{"$error":"#REF!"}},-8.7999999999999995E-2,-7.9999999999999984E-3,8.6000000000000007E-2,-2.1819999999999999,-2.1580000000000004,9.4220000000000006,-6.6660000000000005E-4,-3.7778E-3,2.4441999999999997E-3]
[null,null,null,null,null,null,null,null,null,null,null,null,null,null,null,null,null,null,null,null,null,null,null,null,null,null,null,null,0,{"$f":"AVERAGE(#REF!)","v":{"$error":"#REF!"}},-6.9999999999999993E-2,-6.0000000000000001E-3,9.0000000000000011E-2,-2.16,-2.1560000000000001,9.4280000000000008,-2.2221999999999997E-3,-8.4446E-3,3.5554000000000002E-3]
[null,null,null,null,null,null,null,null,null,null,null,null,null,null,null,null,null,null,null,null,null,null,null,null,null,null,null,null,0,{"$f":"AVERAGE(#REF!)","v":{"$error":"#REF!"}},-0.05,-8.0000000000000002E-3,0.10400000000000001,-2.1379999999999999,-2.1580000000000004,9.4420000000000002,-6.6659999999999983E-4,-6.6668000000000005E-3,3.7776000000000003E-3]
[null,null,null,null,null,null,null,null,null,null,null,null,null,null,null,null,null,null,null,null,null,null,null,null,null,null,null,null,0,{"$f":"AVERAGE(#REF!)","v":{"$error":"#REF!"}},-6.0000000000000001E-3,-0.02,8.3999999999999991E-2,-2.0859999999999999,-2.1700000000000004,9.42,-3.7776000000000003E-3,-1.2000199999999999E-2,3.9998000000000004E-3]
[null,null,null,null,null,null,null,null,null,null,null,null,null,null,null,null,null,null,null,null,null,null,null,null,null,null,null,null,0,{"$f":"AVERAGE(#REF!)","v":{"$error":"#REF!"}},0,-3.0000000000000006E-2,8.199999999999999E-2,-2.0779999999999998,-2.1800000000000002,9.4160000000000004,-3.5554000000000002E-3,-8.6667999999999988E-3,3.3332000000000001E-3]
[null,null,null,null,null,null,null,null,null,null,null,null,null,null,null,null,null,null,null,null,null,null,null,null,null,null,null,null,0,{"$f":"AVERAGE(#REF!)","v":{"$error":"#REF!"}},6.0000000000000001E-3,-3.6000000000000004E-2,8.6000000000000007E-2,-2.0680000000000001,-2.1860000000000004,9.4199999999999982,-3.3332000000000001E-3,-6.6667999999999988E-3,2.6666000000000003E-3]
[null,null,null,null,null,null,null,null,null,null,null,null,null,null,null,null,null,null,null,null,null,null,null,null,null,null,null,null,0,{"$f":"AVERAGE(#REF!)","v":{"$error":"#REF!"}},-1.3999999999999999E-2,-5.4000000000000006E-2,8.7999999999999995E-2,-2.09,-2.2060000000000004,9.4219999999999988,-2.6664000000000002E-3,-1.7778000000000002E-3,8.8880000000000003E-4]
[null,null,null,null,null,null,null,null,null,null,null,null,null,null,null,null,null,null,null,null,null,null,null,null,null,null,null,null,0,{"$f":"AVERAGE(#REF!)","v":{"$error":"#REF!"}},-2.6000000000000002E-2,-4.5999999999999999E-2,8.6000000000000007E-2,-2.1020000000000003,-2.1980000000000004,9.4219999999999988,-4.2220000000000001E-3,-3.7778E-3,-2.2220000000000001E-4]
[null,null,null,null,null,null,null,null,null,null,null,null,null,null,null,null,null,null,null,null,null,null,null,null,null,null,null,null,0,{"$f":"AVERAGE(#REF!)","v":{"$error":"#REF!"}},-6.6000000000000003E-2,-4.5999999999999999E-2,0.10600000000000001,-2.1440000000000001,-2.2000000000000002,9.4420000000000002,-2.4444000000000002E-3,2.2219999999999982E-4,-1.3332000000000001E-3]
[null,null,null,null,null,null,null,null,null,null,null,null,null,null,null,null,null,null,null,null,null,null,null,null,null,null,null,null,0,{"$f":"AVERAGE(#REF!)","v":{"$error":"#REF!"}},-7.3999999999999996E-2,-0.04,0.12,-2.1500000000000004,-2.1960000000000002,9.458000000000002,-2E-3,-2.2221999999999997E-3,-8.8880000000000003E-4]
[null,null,null,null,null,null,null,null,null,null,null,null,null,null,null,null,null,null,null,null,null,null,null,null,null,null,null,null,0,{"$f":"AVERAGE(#REF!)","v":{"$error":"#REF!"}},-6.8000000000000005E-2,-4.8000000000000001E-2,0.12,-2.1440000000000006,-2.2060000000000004,9.4579999999999984,-1.1112000000000001E-3,-3.1112000000000002E-3,-8.8880000000000003E-4]
[null,null,null,null,null,null,null,null,null,null,null,null,null,null,null,null,null,null,null,null,null,null,null,null,null,null,null,null,0,{"$f":"AVERAGE(#REF!)","v":{"$error":"#REF!"}},-6.8000000000000005E-2,-3.4000000000000002E-2,0.12,-2.1440000000000001,-2.1900000000000004,9.4580000000000002,-2.0000000000002654E-7,-1.7778E-3,2.2220000000000001E-4]
[null,null,null,null,null,null,null,null,null,null,null,null,null,null,null,null,null,null,null,null,null,null,null,null,null,null,null,null,0,{"$f":"AVERAGE(#REF!)","v":{"$error":"#REF!"}},-8.4000000000000005E-2,-3.6000000000000004E-2,0.10800000000000001,-2.16,-2.1920000000000002,9.445999999999998,-1.1114E-3,-2.4444000000000002E-3,4.4440000000000001E-4]
[null,null,null,null,null,null,null,null,null,null,null,null,null,null,null,null,null,null,null,null,null,null,null,null,null,null,null,null,0,{"$f":"AVERAGE(#REF!)","v":{"$error":"#REF!"}},-8.2000000000000003E-2,-2.4E-2,8.4000000000000005E-2,-2.16,-2.1800000000000002,9.4220000000000006,-8.8900000000000003E-4,-2.8887999999999995E-3,1.3332000000000001E-3]
[null,null,null,null,null,null,null,null,null,null,null,null,null,null,null,null,null,null,null,null,null,null,null,null,null,null,null,null,0,{"$f":"AVERAGE(#REF!)","v":{"$error":"#REF!"}},-8.4000000000000005E-2,-2.6000000000000002E-2,7.8E-2,-2.1640000000000006,-2.1799999999999997,9.4160000000000004,-2E-3,-2.6665999999999999E-3,8.8880000000000003E-4]
[null,null,null,null,null,null,null,null,null,null,null,null,null,null,null,null,null,null,null,null,null,null,null,null,null,null,null,null,0,{"$f":"AVERAGE(#REF!)","v":{"$error":"#REF!"}},-9.6000000000000002E-2,-1.6E-2,6.6000000000000003E-2,-2.1740000000000004,-2.1680000000000001,9.4039999999999999,-1.9999999999999996E-3,-2.6665999999999999E-3,1.3332000000000001E-3]
[null,null,null,null,null,null,null,null,null,null,null,null,null,null,null,null,null,null,null,null,null,null,null,null,null,null,null,null,0,{"$f":"AVERAGE(#REF!)","v":{"$error":"#REF!"}},-5.800000000000001E-2,-3.0000000000000006E-2,5.800000000000001E-2,-2.1320000000000001,-2.1840000000000002,9.3940000000000001,-3.7778E-3,-3.7778E-3,1.111E-3]
[null,null,null,null,null,null,null,null,null,null,null,null,null,null,null,null,null,null,null,null,null,null,null,null,null,null,null,null,0,{"$f":"AVERAGE(#REF!)","v":{"$error":"#REF!"}},-3.4000000000000002E-2,-4.4000000000000004E-2,3.2000000000000001E-2,-2.1079999999999997,-2.2000000000000002,9.3660000000000014,-5.1110000000000001E-3,-4.8890000000000001E-3,8.8880000000000003E-4]
[null,null,null,null,null,null,null,null,null,null,null,null,null,null,null,null,null,null,null,null,null,null,null,null,null,null,null,null,0,{"$f":"AVERAGE(#REF!)","v":{"$error":"#REF!"}},-2.0000000000000004E-2,-5.2000000000000005E-2,6.6000000000000003E-2,-2.09,-2.2079999999999997,9.402000000000001,-5.7778000000000005E-3,-5.5555999999999999E-3,8.8880000000000003E-4]
[null,null,null,null,null,null,null,null,null,null,null,null,null,null,null,null,null,null,null,null,null,null,null,null,null,null,null,null,0,{"$f":"AVERAGE(#REF!)","v":{"$error":"#REF!"}},-1.4000000000000002E-2,-3.8000000000000006E-2,6.4000000000000015E-2,-2.0839999999999996,-2.194,9.4,-5.3334000000000003E-3,-6.6668000000000005E-3,1.111E-3]
[null,null,null,null,null,null,null,null,null,null,null,null,null,null,null,null,null,null,null,null,null,null,null,null,null,null,null,null,0,{"$f":"AVERAGE(#REF!)","v":{"$error":"#REF!"}},-2.0000000000000018E-3,-5.4000000000000006E-2,6.4000000000000001E-2,-2.0720000000000001,-2.2120000000000002,9.4000000000000021,-5.7778000000000005E-3,-6.4446E-3,8.8880000000000003E-4]
[null,null,null,null,null,null,null,null,null,null,null,null,null,null,null,null,null,null,null,null,null,null,null,null,null,null,null,null,0,{"$f":"AVERAGE(#REF!)","v":{"$error":"#REF!"}},-5.2000000000000005E-2,-4.5999999999999999E-2,0.08,-2.0940000000000003,-2.198,9.41,-4.8888000000000004E-3,-8.0002000000000007E-3,6.6660000000000005E-4]
[null,null,null,null,null,null,null,null,null,null,null,null,null,null,null,null,null,null,null,null,null,null,null,null,null,null,null,null,0,{"$f":"AVERAGE(#REF!)","v":{"$error":"#REF!"}},-6.0000000000000012E-2,-3.7999999999999999E-2,0.1,-2.1019999999999999,-2.19,9.4320000000000004,-3.5556000000000003E-3,-8.2224000000000012E-3,1.3332000000000001E-3]
[null,null,null,null,null,null,null,null,null,null,null,null,null,null,null,null,null,null,null,null,null,null,null,null,null,null,null,null,0,{"$f":"AVERAGE(#REF!)","v":{"$error":"#REF!"}},-6.6000000000000003E-2,-4.4000000000000004E-2,0.10600000000000001,-2.1260000000000003,-2.1959999999999997,9.4220000000000006,-2.2221999999999997E-3,-7.1113999999999995E-3,1.111E-3]
[null,null,null,null,null,null,null,null,null,null,null,null,null,null,null,null,null,null,null,null,null,null,null,null,null,null,null,null,0,{"$f":"AVERAGE(#REF!)","v":{"$error":"#REF!"}},-7.5999999999999998E-2,-0.06,0.11000000000000001,-2.1339999999999999,-2.2080000000000002,9.4079999999999995,-1.5556000000000003E-3,-6.6668000000000005E-3,1.5554E-3]
[null,null,null,null,null,null,null,null,null,null,null,null,null,null,null,null,null,null,null,null,null,null,null,null,null,null,null,null,0,{"$f":"AVERAGE(#REF!)","v":{"$error":"#REF!"}},-9.4E-2,-4.2000000000000003E-2,0.13400000000000001,-2.13,-2.1919999999999997,9.4239999999999995,-1.3334000000000002E-3,-6.4446E-3,8.8880000000000003E-4]
[null,null,null,null,null,null,null,null,null,null,null,null,null,null,null,null,null,null,null,null,null,null,null,null,null,null,null,null,0,{"$f":"AVERAGE(#REF!)","v":{"$error":"#REF!"}},-0.12799999999999997,-4.5999999999999999E-2,7.5999999999999998E-2,-2.1739999999999999,-2.16,9.4220000000000006,-6.6680000000000005E-4,-4.0001999999999998E-3,1.3332000000000001E-3]
[null,null,null,null,null,null,null,null,null,null,null,null,null,null,null,null,null,null,null,null,null,null,null,null,null,null,null,null,0,{"$f":"AVERAGE(#REF!)","v":{"$error":"#REF!"}},-7.8000000000000014E-2,-6.4000000000000015E-2,0.11200000000000002,-2.2279999999999998,-2.1559999999999997,9.4079999999999995,6.6660000000000005E-4,4.4419999999999979E-4,4.4440000000000001E-4]
[null,null,null,null,null,null,null,null,null,null,null,null,null,null,null,null,null,null,null,null,null,null,null,null,null,null,null,null,0,{"$f":"AVERAGE(#REF!)","v":{"$error":"#REF!"}},-7.400000000000001E-2,-6.4000000000000001E-2,0.13200000000000001,-2.254,-2.1580000000000004,9.39,1.111E-3,2.6665999999999999E-3,0]
[null,null,null,null,null,null,null,null,null,null,null,null,null,null,null,null,null,null,null,null,null,null,null,null,null,null,null,null,0,{"$f":"AVERAGE(#REF!)","v":{"$error":"#REF!"}},-5.9999999999999984E-2,-6.9999999999999993E-2,0.14000000000000001,-2.2280000000000002,-2.1739999999999999,9.4179999999999993,1.3332000000000001E-3,3.3332000000000001E-3,-8.8880000000000003E-4]
[null,null,null,null,null,null,null,null,null,null,null,null,null,null,null,null,null,null,null,null,null,null,null,null,null,null,null,null,0,{"$f":"AVERAGE(#REF!)","v":{"$error":"#REF!"}},-4.8000000000000001E-2,-6.7999999999999991E-2,0.13800000000000001,-2.218,-2.1659999999999999,9.4300000000000015,1.111E-3,5.3331999999999997E-3,-6.6660000000000005E-4]
[null,null,null,null,null,null,null,null,null,null,null,null,null,null,null,null,null,null,null,null,null,null,null,null,null,null,null,null,0,{"$f":"AVERAGE(#REF!)","v":{"$error":"#REF!"}},-1.4000000000000002E-2,-5.800000000000001E-2,0.192,-2.1960000000000002,-2.1960000000000002,9.4239999999999995,1.111E-3,5.3331999999999997E-3,-1.3332000000000001E-3]
[null,null,null,null,null,null,null,null,null,null,null,null,null,null,null,null,null,null,null,null,null,null,null,null,null,null,null,null,0,{"$f":"AVERAGE(#REF!)","v":{"$error":"#REF!"}},-5.4000000000000006E-2,-3.599999999999999E-2,0.186,-2.1440000000000001,-2.2020000000000004,9.4460000000000015,8.8880000000000003E-4,4.0000000000000001E-3,-1.3332000000000001E-3]
[null,null,null,null,null,null,null,null,null,null,null,null,null,null,null,null,null,null,null,null,null,null,null,null,null,null,null,null,0,{"$f":"AVERAGE(#REF!)","v":{"$error":"#REF!"}},-5.6000000000000008E-2,-3.5999999999999997E-2,0.16400000000000001,-2.1139999999999999,-2.2020000000000004,9.4659999999999993,6.6660000000000005E-4,3.1110000000000001E-3,-6.6660000000000005E-4]
[null,null,null,null,null,null,null,null,null,null,null,null,null,null,null,null,null,null,null,null,null,null,null,null,null,null,null,null,0,{"$f":"AVERAGE(#REF!)","v":{"$error":"#REF!"}},-0.06,-2.6000000000000002E-2,0.16600000000000001,-2.1280000000000001,-2.1859999999999999,9.4580000000000002,2.2220000000000001E-4,4.2221999999999997E-3,-8.8880000000000003E-4]
[null,null,null,null,null,null,null,null,null,null,null,null,null,null,null,null,null,null,null,null,null,null,null,null,null,null,null,null,0,{"$f":"AVERAGE(#REF!)","v":{"$error":"#REF!"}},-5.2000000000000005E-2,-0.03,0.17799999999999999,-2.1420000000000003,-2.1859999999999999,9.4419999999999984,2.2220000000000001E-4,3.7778000000000004E-3,-8.8880000000000003E-4]
[null,null,null,null,null,null,null,null,null,null,null,null,null,null,null,null,null,null,null,null,null,null,null,null,null,null,null,null,0,{"$f":"AVERAGE(#REF!)","v":{"$error":"#REF!"}},-3.5999999999999997E-2,-0.04,0.19,-2.1339999999999995,-2.194,9.4579999999999984,-4.4440000000000001E-4,3.3334000000000003E-3,-8.8880000000000003E-4]
[null,null,null,null,null,null,null,null,null,null,null,null,null,null,null,null,null,null,null,null,null,null,null,null,null,null,null,null,0,{"$f":"AVERAGE(#REF!)","v":{"$error":"#REF!"}},-4.5999999999999999E-2,-4.5999999999999999E-2,0.186,-2.1339999999999999,-2.194,9.452,-4.4440000000000001E-4,2.4444000000000002E-3,-6.6660000000000005E-4]
[null,null,null,null,null,null,null,null,null,null,null,null,null,null,null,null,null,null,null,null,null,null,null,null,null,null,null,null,0,{"$f":"AVERAGE(#REF!)","v":{"$error":"#REF!"}},-6.6000000000000003E-2,-4.8000000000000001E-2,0.158,-2.1040000000000001,-2.2299999999999995,9.4580000000000002,-1.111E-3,1.5556000000000003E-3,-6.6660000000000005E-4]
[null,null,null,null,null,null,null,null,null,null,null,null,null,null,null,null,null,null,null,null,null,null,null,null,null,null,null,null,{"$f":"(1609.34/3600)*Delta_Speed","v":0},{"$f":"AVERAGE(#REF!)","v":{"$error":"#REF!"}},-7.9999999999999988E-2,-3.6000000000000004E-2,0.16200000000000001,-2.1,-2.2220000000000004,9.4499999999999993,-4.4440000000000001E-4,2.2220000000000001E-4,2.2220000000000001E-4]
[null,null,null,null,null,null,null,null,null,null,null,null,null,null,null,null,null,null,null,null,null,null,null,null,null,null,null,null,0,{"$f":"AVERAGE(#REF!)","v":{"$error":"#REF!"}},-8.7999999999999995E-2,-3.2000000000000001E-2,0.15400000000000003,-2.1,-2.2160000000000002,9.4420000000000002,6.6660000000000005E-4,0,4.4440000000000001E-4]
[null,null,null,null,null,null,null,null,null,null,null,null,null,null,null,null,null,null,null,null,null,null,null,null,null,null,null,null,0,{"$f":"AVERAGE(#REF!)","v":{"$error":"#REF!"}},-8.7999999999999995E-2,-0.01,0.16399999999999998,-2.1040000000000001,-2.1880000000000002,9.4479999999999986,4.4440000000000001E-4,-4.4440000000000001E-4,4.4440000000000001E-4]
[null,null,null,null,null,null,null,null,null,null,null,null,null,null,null,null,null,null,null,null,null,null,null,null,null,null,null,null,0,{"$f":"AVERAGE(#REF!)","v":{"$error":"#REF!"}},-9.1999999999999998E-2,-1.9999999999999997E-2,0.152,-2.1,-2.2039999999999997,9.4559999999999995,-8.8900000000000003E-4,-1.3332000000000001E-3,4.4440000000000001E-4]
[null,null,null,null,null,null,null,null,null,null,null,null,null,null,null,null,null,null,null,null,null,null,null,null,null,null,null,null,0,{"$f":"AVERAGE(#REF!)","v":{"$error":"#REF!"}},{"$f":"AVERAGE(Q322:Q326)","v":-8.2000000000000003E-2},{"$f":"AVERAGE(R322:R326)","v":-0.04},{"$f":"AVERAGE(S322:S326)","v":0.16799999999999998},{"$f":"AVERAGE(T322:T326)","v":-2.1120000000000001},{"$f":"AVERAGE(U322:U326)","v":-2.1759999999999997},{"$f":"AVERAGE(V322:V326)","v":9.4459999999999997},{"$f":"AVERAGE(W322:W326)","v":-2.2240000000000004E-4},{"$f":"AVERAGE(X322:X326)","v":-1.7778000000000002E-3},{"$f":"AVERAGE(Y322:Y326)","v":2.2220000000000001E-4}]
[null,null,null,null,null,null,null,null,null,null,null,null,null,null,null,null,null,null,null,null,null,null,null,null,null,null,null,null,0,{"$f":"AVERAGE(#REF!)","v":{"$error":"#REF!"}},-6.5999999999999989E-2,-6.2E-2,0.17199999999999999,-2.1179999999999999,-2.1840000000000002,9.4380000000000006,-2.2240000000000004E-4,-1.5556000000000001E-3,4.4440000000000001E-4]
[null,null,null,null,null,null,null,null,null,null,null,null,null,null,null,null,null,null,null,null,null,null,null,null,null,null,null,null,0,{"$f":"AVERAGE(#REF!)","v":{"$error":"#REF!"}},-4.2000000000000003E-2,-6.2E-2,0.19600000000000001,-2.1560000000000001,-2.1659999999999999,9.4060000000000006,-4.4460000000000002E-4,-1.7778000000000002E-3,4.4440000000000001E-4]
[null,null,null,null,null,null,null,null,null,null,null,null,null,null,null,null,null,null,null,null,null,null,null,null,null,null,null,null,0,{"$f":"AVERAGE(#REF!)","v":{"$error":"#REF!"}},0,-1.6000000000000004E-2,0.16200000000000001,-2.1279999999999997,-2.1919999999999997,9.3940000000000001,-2.0000000000002654E-7,2.2219999999999982E-4,6.6660000000000005E-4]
[null,null,null,null,null,null,null,null,null,null,null,null,null,null,null,null,null,null,null,null,null,null,null,null,null,null,null,null,0,{"$f":"AVERAGE(#REF!)","v":{"$error":"#REF!"}},-2.0000000000000018E-3,-2.8000000000000008E-2,0.18,-2.1259999999999999,-2.1779999999999999,9.3760000000000012,2.2199999999999998E-4,6.6660000000000005E-4,4.4440000000000001E-4]
[null,null,null,null,null,null,null,null,null,null,null,null,null,null,null,null,null,null,null,null,null,null,null,null,null,null,null,null,0,{"$f":"AVERAGE(#REF!)","v":{"$error":"#REF!"}},1.7999999999999999E-2,-1.8000000000000006E-2,0.21200000000000002,-2.1280000000000001,-2.1559999999999997,9.3840000000000003,2.2199999999999998E-4,2.4444000000000002E-3,2.2220000000000001E-4]
[null,null,null,null,null,null,null,null,null,null,null,null,null,null,null,null,null,null,null,null,null,null,null,null,null,null,null,null,0,{"$f":"AVERAGE(#REF!)","v":{"$error":"#REF!"}},1.4000000000000002E-2,-8.0000000000000054E-3,0.19400000000000001,-2.1280000000000001,-2.1840000000000002,9.3960000000000008,-4.4460000000000002E-4,1.7778000000000002E-3,-2.2220000000000001E-4]
[null,null,null,null,null,null,null,null,null,null,null,null,null,null,null,null,null,null,null,null,null,null,null,null,null,null,null,null,0,{"$f":"AVERAGE(#REF!)","v":{"$error":"#REF!"}},-1.7999999999999999E-2,-6.0000000000000053E-3,0.17,-2.0920000000000001,-2.2120000000000002,9.44,-4.4460000000000002E-4,2.0000000000000005E-3,-2.2220000000000001E-4]
[null,null,null,null,null,null,null,null,null,null,null,null,null,null,null,null,null,null,null,null,null,null,null,null,null,null,null,null,0,{"$f":"AVERAGE(#REF!)","v":{"$error":"#REF!"}},-5.7999999999999996E-2,-6.0000000000000012E-2,0.20200000000000001,-2.1119999999999997,-2.2039999999999997,9.4319999999999986,-6.6680000000000005E-4,-2.2220000000000001E-4,0]
[null,null,null,null,null,null,null,null,null,null,null,null,null,null,null,null,null,null,null,null,null,null,null,null,null,null,null,null,0,{"$f":"AVERAGE(#REF!)","v":{"$error":"#REF!"}},-5.2000000000000005E-2,-3.6000000000000004E-2,0.186,-2.1119999999999997,-2.21,9.4400000000000013,4.4440000000000001E-4,0,4.4440000000000001E-4]
[null,null,null,null,null,null,null,null,null,null,null,null,null,null,null,null,null,null,null,null,null,null,null,null,null,null,null,null,0,{"$f":"AVERAGE(#REF!)","v":{"$error":"#REF!"}},-6.7999999999999991E-2,-0.02,0.17799999999999999,-2.1239999999999997,-2.226,9.4340000000000011,6.6660000000000005E-4,-1.3332000000000001E-3,6.6660000000000005E-4]
[null,null,null,null,null,null,null,null,null,null,null,null,null,null,null,null,null,null,null,null,null,null,null,null,null,null,null,null,0,{"$f":"AVERAGE(#REF!)","v":{"$error":"#REF!"}},-0.06,-0.03,0.184,-2.1259999999999999,-2.2060000000000004,9.4319999999999986,8.8880000000000003E-4,-4.4440000000000001E-4,8.8880000000000003E-4]
[null,null,null,null,null,null,null,null,null,null,null,null,null,null,null,null,null,null,null,null,null,null,null,null,null,null,null,null,0,{"$f":"AVERAGE(#REF!)","v":{"$error":"#REF!"}},-3.9999999999999994E-2,-0.03,0.188,-2.1260000000000003,-2.1979999999999995,9.4299999999999979,2.2220000000000001E-4,-2.2220000000000001E-4,4.4440000000000001E-4]
[null,null,null,null,null,null,null,null,null,null,null,null,null,null,null,null,null,null,null,null,null,null,null,null,null,null,null,null,0,{"$f":"AVERAGE(#REF!)","v":{"$error":"#REF!"}},-4.4000000000000004E-2,-3.5999999999999997E-2,0.16999999999999998,-2.1280000000000001,-2.202,9.44,6.6660000000000005E-4,0,0]
[null,null,null,null,null,null,null,null,null,null,null,null,null,null,null,null,null,null,null,null,null,null,null,null,null,null,null,null,0,{"$f":"AVERAGE(#REF!)","v":{"$error":"#REF!"}},-4.2000000000000003E-2,-3.9999999999999994E-2,0.17400000000000002,-2.1280000000000001,-2.1960000000000002,9.4400000000000013,6.6660000000000005E-4,2.2220000000000001E-4,0]
[null,null,null,null,null,null,null,null,null,null,null,null,null,null,null,null,null,null,null,null,null,null,null,null,null,null,null,null,0,{"$f":"AVERAGE(#REF!)","v":{"$error":"#REF!"}},-4.5999999999999999E-2,-0.05,0.16599999999999998,-2.13,-2.1920000000000002,9.4420000000000002,6.6660000000000005E-4,4.4440000000000001E-4,2.2220000000000001E-4]
[null,null,null,null,null,null,null,null,null,null,null,null,null,null,null,null,null,null,null,null,null,null,null,null,null,null,null,null,0,{"$f":"AVERAGE(#REF!)","v":{"$error":"#REF!"}},-0.05,-0.04,0.16999999999999998,-2.1280000000000001,-2.1859999999999999,9.4419999999999984,2.2220000000000001E-4,2.2220000000000001E-4,-2.2220000000000001E-4]
[null,null,null,null,null,null,null,null,null,null,null,null,null,null,null,null,null,null,null,null,null,null,null,null,null,null,null,null,0,{"$f":"AVERAGE(#REF!)","v":{"$error":"#REF!"}},-0.05,-4.1999999999999996E-2,0.17200000000000001,-2.1259999999999999,-2.1920000000000002,9.4419999999999984,4.4440000000000001E-4,-4.4440000000000001E-4,0]
[null,null,null,null,null,null,null,null,null,null,null,null,null,null,null,null,null,null,null,null,null,null,null,null,null,null,null,null,0,{"$f":"AVERAGE(#REF!)","v":{"$error":"#REF!"}},-0.05,-4.8000000000000001E-2,0.17799999999999999,-2.1259999999999999,-2.194,9.4319999999999986,2.2220000000000001E-4,0,4.4440000000000001E-4]
[null,null,null,null,null,null,null,null,null,null,null,null,null,null,null,null,null,null,null,null,null,null,null,null,null,null,null,null,0,{"$f":"AVERAGE(#REF!)","v":{"$error":"#REF!"}},-4.5999999999999999E-2,-4.8000000000000001E-2,0.18200000000000002,-2.1239999999999997,-2.194,9.4339999999999993,-4.4440000000000001E-4,-4.4440000000000001E-4,6.6660000000000005E-4]
[null,null,null,null,null,null,null,null,null,null,null,null,null,null,null,null,null,null,null,null,null,null,null,null,null,null,null,null,0,{"$f":"AVERAGE(#REF!)","v":{"$error":"#REF!"}},-4.5999999999999999E-2,-0.04,0.17199999999999999,-2.1240000000000001,-2.194,9.4260000000000002,-8.8880000000000003E-4,2.2220000000000001E-4,4.4440000000000001E-4]
[null,null,null,null,null,null,null,null,null,null,null,null,null,null,null,null,null,null,null,null,null,null,null,null,null,null,null,null,0,{"$f":"AVERAGE(#REF!)","v":{"$error":"#REF!"}},-5.2000000000000005E-2,-3.2000000000000001E-2,0.17600000000000002,-2.1240000000000001,-2.2020000000000004,9.4220000000000006,-4.4440000000000001E-4,0,0]
[null,null,null,null,null,null,null,null,null,null,null,null,null,null,null,null,null,null,null,null,null,null,null,null,null,null,null,null,0,{"$f":"AVERAGE(#REF!)","v":{"$error":"#REF!"}},-6.0000000000000012E-2,-3.7999999999999999E-2,0.16999999999999998,-2.12,-2.2020000000000004,9.4220000000000006,0,1.3332000000000001E-3,0]
[null,null,null,null,null,null,null,null,null,null,null,null,null,null,null,null,null,null,null,null,null,null,null,null,null,null,null,null,0,{"$f":"AVERAGE(#REF!)","v":{"$error":"#REF!"}},-5.800000000000001E-2,-3.4000000000000002E-2,0.17200000000000001,-2.1219999999999999,-2.21,9.4240000000000013,4.4440000000000001E-4,1.111E-3,-2.2220000000000001E-4]
[null,null,null,null,null,null,null,null,null,null,null,null,null,null,null,null,null,null,null,null,null,null,null,null,null,null,null,null,0,{"$f":"AVERAGE(#REF!)","v":{"$error":"#REF!"}},-6.4000000000000001E-2,-3.3999999999999996E-2,0.17200000000000001,-2.1259999999999999,-2.2160000000000002,9.4239999999999995,2.2220000000000001E-4,1.3332000000000001E-3,-8.8880000000000003E-4]
[null,null,null,null,null,null,null,null,null,null,null,null,null,null,null,null,null,null,null,null,null,null,null,null,null,null,null,null,0,{"$f":"AVERAGE(#REF!)","v":{"$error":"#REF!"}},-6.2E-2,-2.8000000000000004E-2,0.17399999999999999,-2.1240000000000001,-2.2120000000000002,9.43,4.4440000000000001E-4,8.8880000000000003E-4,-6.6660000000000005E-4]
[null,null,null,null,null,null,null,null,null,null,null,null,null,null,null,null,null,null,null,null,null,null,null,null,null,null,null,null,0,{"$f":"AVERAGE(#REF!)","v":{"$error":"#REF!"}},-0.06,-3.6000000000000004E-2,0.17200000000000001,-2.1280000000000001,-2.1960000000000002,9.4359999999999982,-2.2220000000000001E-4,1.111E-3,-2.2220000000000001E-4]
[null,null,null,null,null,null,null,null,null,null,null,null,null,null,null,null,null,null,null,null,null,null,null,null,null,null,null,null,0,{"$f":"AVERAGE(#REF!)","v":{"$error":"#REF!"}},-0.06,-3.3999999999999996E-2,0.16999999999999998,-2.13,-2.194,9.4300000000000015,-1.111E-3,-2.2220000000000001E-4,0]
[null,null,null,null,null,null,null,null,null,null,null,null,null,null,null,null,null,null,null,null,null,null,null,null,null,null,null,null,0,{"$f":"AVERAGE(#REF!)","v":{"$error":"#REF!"}},-0.06,-3.5999999999999997E-2,0.17200000000000001,-2.13,-2.1960000000000002,9.4379999999999988,-1.7776000000000001E-3,-8.8880000000000003E-4,-2.2220000000000001E-4]
[null,null,null,null,null,null,null,null,null,null,null,null,null,null,null,null,null,null,null,null,null,null,null,null,null,null,null,null,0,{"$f":"AVERAGE(#REF!)","v":{"$error":"#REF!"}},-5.5999999999999994E-2,-3.7999999999999999E-2,0.15799999999999997,-2.13,-2.1920000000000002,9.44,-1.111E-3,-1.111E-3,2.2220000000000001E-4]
[null,null,null,null,null,null,null,null,null,null,null,null,null,null,null,null,null,null,null,null,null,null,null,null,null,null,null,null,0,{"$f":"AVERAGE(#REF!)","v":{"$error":"#REF!"}},-5.6000000000000008E-2,-4.8000000000000001E-2,0.16600000000000001,-2.1320000000000001,-2.1920000000000002,9.4359999999999982,-8.8880000000000003E-4,-1.5554E-3,4.4440000000000001E-4]
[null,null,null,null,null,null,null,null,null,null,null,null,null,null,null,null,null,null,null,null,null,null,null,null,null,null,null,null,0,{"$f":"AVERAGE(#REF!)","v":{"$error":"#REF!"}},-5.6000000000000008E-2,-4.3999999999999997E-2,0.17199999999999999,-2.1320000000000001,-2.1900000000000004,9.4320000000000004,-4.4440000000000001E-4,-1.3332000000000001E-3,4.4440000000000001E-4]
[null,null,null,null,null,null,null,null,null,null,null,null,null,null,null,null,null,null,null,null,null,null,null,null,null,null,null,null,0,{"$f":"AVERAGE(#REF!)","v":{"$error":"#REF!"}},-4.8000000000000001E-2,-3.9999999999999994E-2,0.18,-2.1340000000000003,-2.1920000000000002,9.4339999999999993,-4.4440000000000001E-4,-1.3332000000000001E-3,2.2220000000000001E-4]
[null,null,null,null,null,null,null,null,null,null,null,null,null,null,null,null,null,null,null,null,null,null,null,null,null,null,null,null,0,{"$f":"AVERAGE(#REF!)","v":{"$error":"#REF!"}},-4.5999999999999999E-2,-4.3999999999999997E-2,0.186,-2.1360000000000001,-2.1859999999999999,9.4319999999999986,2.2220000000000001E-4,-6.6660000000000005E-4,4.4440000000000001E-4]
[null,null,null,null,null,null,null,null,null,null,null,null,null,null,null,null,null,null,null,null,null,null,null,null,null,null,null,null,0,{"$f":"AVERAGE(#REF!)","v":{"$error":"#REF!"}},-0.05,-4.1999999999999996E-2,0.186,-2.1380000000000003,-2.1819999999999999,9.43,2.2220000000000001E-4,-6.6660000000000005E-4,6.6660000000000005E-4]
[null,null,null,null,null,null,null,null,null,null,null,null,null,null,null,null,null,null,null,null,null,null,null,null,null,null,null,null,0,{"$f":"AVERAGE(#REF!)","v":{"$error":"#REF!"}},-4.8000000000000001E-2,-3.7999999999999999E-2,0.192,-2.1360000000000001,-2.1779999999999999,9.4439999999999991,4.4440000000000001E-4,2.2220000000000001E-4,0]
[null,null,null,null,null,null,null,null,null,null,null,null,null,null,null,null,null,null,null,null,null,null,null,null,null,null,null,null,0,{"$f":"AVERAGE(#REF!)","v":{"$error":"#REF!"}},-4.2000000000000003E-2,-4.2000000000000003E-2,0.184,-2.1339999999999995,-2.1859999999999999,9.4459999999999997,4.4440000000000001E-4,2.2220000000000001E-4,2.2220000000000001E-4]
[null,null,null,null,null,null,null,null,null,null,null,null,null,null,null,null,null,null,null,null,null,null,null,null,null,null,null,null,0,{"$f":"AVERAGE(#REF!)","v":{"$error":"#REF!"}},-4.3999999999999997E-2,-4.2000000000000003E-2,0.182,-2.1360000000000001,-2.1920000000000002,9.4499999999999993,6.6660000000000005E-4,4.4440000000000001E-4,4.4440000000000001E-4]
[null,null,null,null,null,null,null,null,null,null,null,null,null,null,null,null,null,null,null,null,null,null,null,null,null,null,null,null,0,{"$f":"AVERAGE(#REF!)","v":{"$error":"#REF!"}},-4.4000000000000004E-2,-3.4000000000000002E-2,0.18,-2.1339999999999995,-2.1979999999999995,9.4459999999999997,2.2220000000000001E-4,0,6.6660000000000005E-4]
[null,null,null,null,null,null,null,null,null,null,null,null,null,null,null,null,null,null,null,null,null,null,null,null,null,null,null,null,0,{"$f":"AVERAGE(#REF!)","v":{"$error":"#REF!"}},-4.2000000000000003E-2,-3.0000000000000006E-2,0.186,-2.1280000000000001,-2.1960000000000002,9.4439999999999991,4.4440000000000001E-4,0,6.6660000000000005E-4]
[null,null,null,null,null,null,null,null,null,null,null,null,null,null,null,null,null,null,null,null,null,null,null,null,null,null,null,null,0,{"$f":"AVERAGE(#REF!)","v":{"$error":"#REF!"}},-4.5999999999999999E-2,-2.4E-2,0.18200000000000002,-2.13,-2.2000000000000002,9.4320000000000004,4.4440000000000001E-4,-2.2220000000000001E-4,6.6660000000000005E-4]
[null,null,null,null,null,null,null,null,null,null,null,null,null,null,null,null,null,null,null,null,null,null,null,null,null,null,null,null,0,{"$f":"AVERAGE(#REF!)","v":{"$error":"#REF!"}},-4.8000000000000001E-2,-2.6000000000000002E-2,0.184,-2.1320000000000001,-2.2000000000000002,9.4340000000000011,4.4440000000000001E-4,-1.111E-3,4.4440000000000001E-4]
[null,null,null,null,null,null,null,null,null,null,null,null,null,null,null,null,null,null,null,null,null,null,null,null,null,null,null,null,0,{"$f":"AVERAGE(#REF!)","v":{"$error":"#REF!"}},-5.2000000000000005E-2,-2.8000000000000004E-2,0.19,-2.1320000000000006,-2.1960000000000002,9.4280000000000008,2.2220000000000001E-4,-6.6660000000000005E-4,0]
[null,null,null,null,null,null,null,null,null,null,null,null,null,null,null,null,null,null,null,null,null,null,null,null,null,null,null,null,0,{"$f":"AVERAGE(#REF!)","v":{"$error":"#REF!"}},-5.4000000000000006E-2,-3.6000000000000004E-2,0.182,-2.1320000000000001,-2.1960000000000002,9.4379999999999988,0,-1.111E-3,0]
[null,null,null,null,null,null,null,null,null,null,null,null,null,null,null,null,null,null,null,null,null,null,null,null,null,null,null,null,0,{"$f":"AVERAGE(#REF!)","v":{"$error":"#REF!"}},-5.4000000000000006E-2,-3.9999999999999994E-2,0.188,-2.1340000000000003,-2.194,9.44,2.2220000000000001E-4,-1.111E-3,-2.2220000000000001E-4]
[null,null,null,null,null,null,null,null,null,null,null,null,null,null,null,null,null,null,null,null,null,null,null,null,null,null,null,null,0,{"$f":"AVERAGE(#REF!)","v":{"$error":"#REF!"}},-4.8000000000000001E-2,-4.2000000000000003E-2,0.19400000000000001,-2.1300000000000003,-2.1879999999999997,9.4400000000000013,-2.2220000000000001E-4,-1.3332000000000001E-3,2.2220000000000001E-4]
[null,null,null,null,null,null,null,null,null,null,null,null,null,null,null,null,null,null,null,null,null,null,null,null,null,null,null,null,0,{"$f":"AVERAGE(#REF!)","v":{"$error":"#REF!"}},-5.2000000000000005E-2,-4.2000000000000003E-2,0.19600000000000001,-2.13,-2.1859999999999999,9.4379999999999988,-4.4440000000000001E-4,-4.4440000000000001E-4,0]
[null,null,null,null,null,null,null,null,null,null,null,null,null,null,null,null,null,null,null,null,null,null,null,null,null,null,null,null,0,{"$f":"AVERAGE(#REF!)","v":{"$error":"#REF!"}},-0.05,-4.8000000000000001E-2,0.19600000000000001,-2.1259999999999999,-2.1960000000000002,9.4439999999999991,-4.4440000000000001E-4,-6.6660000000000005E-4,-2.2220000000000001E-4]
[null,null,null,null,null,null,null,null,null,null,null,null,null,null,null,null,null,null,null,null,null,null,null,null,null,null,null,null,0,{"$f":"AVERAGE(#REF!)","v":{"$error":"#REF!"}},-4.8000000000000001E-2,-4.8000000000000001E-2,0.192,-2.1240000000000001,-2.194,9.4339999999999993,-4.4440000000000001E-4,0,-2.2220000000000001E-4]
[null,null,null,null,null,null,null,null,null,null,null,null,null,null,null,null,null,null,null,null,null,null,null,null,null,null,null,null,0,{"$f":"AVERAGE(#REF!)","v":{"$error":"#REF!"}},-4.5999999999999999E-2,-0.05,0.188,-2.1280000000000001,-2.1960000000000002,9.4339999999999993,-8.8880000000000003E-4,2.2220000000000001E-4,0]
[null,null,null,null,null,null,null,null,null,null,null,null,null,null,null,null,null,null,null,null,null,null,null,null,null,null,null,null,0,{"$f":"AVERAGE(#REF!)","v":{"$error":"#REF!"}},-5.4000000000000006E-2,-0.05,0.17400000000000002,-2.1320000000000001,-2.1960000000000002,9.4420000000000002,-6.6660000000000005E-4,8.8880000000000003E-4,-6.6660000000000005E-4]
[null,null,null,null,null,null,null,null,null,null,null,null,null,null,null,null,null,null,null,null,null,null,null,null,null,null,null,null,0,{"$f":"AVERAGE(#REF!)","v":{"$error":"#REF!"}},-5.2000000000000005E-2,-4.8000000000000001E-2,0.17400000000000002,-2.1320000000000006,-2.1920000000000002,9.4459999999999997,-4.4440000000000001E-4,0,-4.4440000000000001E-4]
[null,null,null,null,null,null,null,null,null,null,null,null,null,null,null,null,null,null,null,null,null,null,null,null,null,null,null,null,0,{"$f":"AVERAGE(#REF!)","v":{"$error":"#REF!"}},-5.2000000000000005E-2,-5.000000000000001E-2,0.15800000000000003,-2.14,-2.1879999999999997,9.4420000000000002,0,-1.1112000000000001E-3,-2.2220000000000001E-4]
[null,null,null,null,null,null,null,null,null,null,null,null,null,null,null,null,null,null,null,null,null,null,null,null,null,null,null,null,0,{"$f":"AVERAGE(#REF!)","v":{"$error":"#REF!"}},-5.6000000000000008E-2,-4.8000000000000001E-2,0.16600000000000001,-2.1399999999999997,-2.1840000000000002,9.4460000000000015,2.2220000000000001E-4,-2.2240000000000004E-4,0]
[null,null,null,null,null,null,null,null,null,null,null,null,null,null,null,null,null,null,null,null,null,null,null,null,null,null,null,null,0,{"$f":"AVERAGE(#REF!)","v":{"$error":"#REF!"}},-5.4000000000000006E-2,-4.4000000000000004E-2,0.17399999999999999,-2.14,-2.1859999999999999,9.4439999999999991,0,-2.2240000000000004E-4,-2.2220000000000001E-4]
[null,null,null,null,null,null,null,null,null,null,null,null,null,null,null,null,null,null,null,null,null,null,null,null,null,null,null,null,0,{"$f":"AVERAGE(#REF!)","v":{"$error":"#REF!"}},-5.2000000000000005E-2,-4.3999999999999997E-2,0.17199999999999999,-2.1380000000000003,-2.1839999999999997,9.4379999999999988,-2.2220000000000001E-4,-2.0000000000020002E-7,2.2220000000000001E-4]
[null,null,null,null,null,null,null,null,null,null,null,null,null,null,null,null,null,null,null,null,null,null,null,null,null,null,null,null,0,{"$f":"AVERAGE(#REF!)","v":{"$error":"#REF!"}},-5.6000000000000008E-2,-4.1999999999999996E-2,0.17400000000000002,-2.1380000000000003,-2.19,9.4339999999999993,-6.6660000000000005E-4,6.6639999999999994E-4,2.2220000000000001E-4]
[null,null,null,null,null,null,null,null,null,null,null,null,null,null,null,null,null,null,null,null,null,null,null,null,null,null,null,null,0,{"$f":"AVERAGE(#REF!)","v":{"$error":"#REF!"}},-5.4000000000000006E-2,-3.5999999999999997E-2,0.17799999999999999,-2.13,-2.1960000000000002,9.4319999999999986,-1.111E-3,1.7776000000000001E-3,6.6660000000000005E-4]
[null,null,null,null,null,null,null,null,null,null,null,null,null,null,null,null,null,null,null,null,null,null,null,null,null,null,null,null,0,{"$f":"AVERAGE(#REF!)","v":{"$error":"#REF!"}},-4.3999999999999997E-2,-4.3999999999999997E-2,0.18000000000000002,-2.1300000000000003,-2.2000000000000002,9.4340000000000011,-1.111E-3,8.8880000000000003E-4,4.4440000000000001E-4]
[null,null,null,null,null,null,null,null,null,null,null,null,null,null,null,null,null,null,null,null,null,null,null,null,null,null,null,null,0,{"$f":"AVERAGE(#REF!)","v":{"$error":"#REF!"}},-5.2000000000000005E-2,-0.04,0.16799999999999998,-2.1280000000000001,-2.2039999999999997,9.4379999999999988,-4.4440000000000001E-4,4.4440000000000001E-4,4.4440000000000001E-4]
[null,null,null,null,null,null,null,null,null,null,null,null,null,null,null,null,null,null,null,null,null,null,null,null,null,null,null,null,{"$f":"(1609.34/3600)*Delta_Speed","v":0},{"$f":"AVERAGE(#REF!)","v":{"$error":"#REF!"}},-5.2000000000000005E-2,-3.2000000000000008E-2,0.17200000000000001,-2.1259999999999999,-2.202,9.4379999999999988,-2.2220000000000001E-4,-2.2220000000000001E-4,8.8880000000000003E-4]
[null,null,null,null,null,null,null,null,null,null,null,null,null,null,null,null,null,null,null,null,null,null,null,null,null,null,null,null,0,{"$f":"AVERAGE(#REF!)","v":{"$error":"#REF!"}},-4.8000000000000001E-2,-3.2000000000000001E-2,0.17200000000000001,-2.1240000000000001,-2.202,9.4400000000000013,-2.2220000000000001E-4,-1.111E-3,8.8880000000000003E-4]
[null,null,null,null,null,null,null,null,null,null,null,null,null,null,null,null,null,null,null,null,null,null,null,null,null,null,null,null,0,{"$f":"AVERAGE(#REF!)","v":{"$error":"#REF!"}},-4.5999999999999999E-2,-3.7999999999999999E-2,0.17399999999999999,-2.1280000000000001,-2.1959999999999997,9.4439999999999991,0,-1.5554E-3,4.4440000000000001E-4]
[null,null,null,null,null,null,null,null,null,null,null,null,null,null,null,null,null,null,null,null,null,null,null,null,null,null,null,null,0,{"$f":"AVERAGE(#REF!)","v":{"$error":"#REF!"}},-0.05,-3.2000000000000001E-2,0.17600000000000002,-2.1280000000000001,-2.194,9.44,0,-2.4441999999999997E-3,4.4440000000000001E-4]
[null,null,null,null,null,null,null,null,null,null,null,null,null,null,null,null,null,null,null,null,null,null,null,null,null,null,null,null,0,{"$f":"AVERAGE(#REF!)","v":{"$error":"#REF!"}},{"$f":"AVERAGE(Q386:Q390)","v":-4.8000000000000001E-2},{"$f":"AVERAGE(R386:R390)","v":-3.5999999999999997E-2},{"$f":"AVERAGE(S386:S390)","v":0.18},{"$f":"AVERAGE(T386:T390)","v":-2.1280000000000001},{"$f":"AVERAGE(U386:U390)","v":-2.1919999999999997},{"$f":"AVERAGE(V386:V390)","v":9.4359999999999999},{"$f":"AVERAGE(W386:W390)","v":0},{"$f":"AVERAGE(X386:X390)","v":-2.6664000000000002E-3},{"$f":"AVERAGE(Y386:Y390)","v":4.4440000000000001E-4}]
[null,null,null,null,null,null,null,null,null,null,null,null,null,null,null,null,null,null,null,null,null,null,null,null,null,null,null,null,0,{"$f":"AVERAGE(#REF!)","v":{"$error":"#REF!"}},-4.8000000000000001E-2,-4.1999999999999996E-2,0.19,-2.1280000000000001,-2.1960000000000002,9.4439999999999991,2.2220000000000001E-4,-2.6664000000000002E-3,0]
[null,null,null,null,null,null,null,null,null,null,null,null,null,null,null,null,null,null,null,null,null,null,null,null,null,null,null,null,0,{"$f":"AVERAGE(#REF!)","v":{"$error":"#REF!"}},-4.8000000000000001E-2,-4.2000000000000003E-2,0.182,-2.13,-2.1979999999999995,9.44,0,-3.1110000000000001E-3,-2.2220000000000001E-4]
[null,null,null,null,null,null,null,null,null,null,null,null,null,null,null,null,null,null,null,null,null,null,null,null,null,null,null,null,0,{"$f":"AVERAGE(#REF!)","v":{"$error":"#REF!"}},-5.2000000000000005E-2,-0.04,0.19,-2.13,-2.198,9.4379999999999988,0,-2.2222000000000001E-3,0]
[null,null,null,null,null,null,null,null,null,null,null,null,null,null,null,null,null,null,null,null,null,null,null,null,null,null,null,null,0,{"$f":"AVERAGE(#REF!)","v":{"$error":"#REF!"}},-5.1999999999999991E-2,-0.04,0.19,-2.1300000000000003,-2.2000000000000002,9.4319999999999986,2.2220000000000001E-4,-1.5556000000000003E-3,0]
[null,null,null,null,null,null,null,null,null,null,null,null,null,null,null,null,null,null,null,null,null,null,null,null,null,null,null,null,0,{"$f":"AVERAGE(#REF!)","v":{"$error":"#REF!"}},-5.2000000000000005E-2,-3.4000000000000002E-2,0.192,-2.1280000000000001,-2.1960000000000002,9.44,0,-1.1112000000000001E-3,0]
[null,null,null,null,null,null,null,null,null,null,null,null,null,null,null,null,null,null,null,null,null,null,null,null,null,null,null,null,0,{"$f":"AVERAGE(#REF!)","v":{"$error":"#REF!"}},-0.05,-3.2000000000000001E-2,0.19,-2.13,-2.1960000000000002,9.4300000000000015,-2.2220000000000001E-4,-6.6680000000000005E-4,-4.4440000000000001E-4]
[null,null,null,null,null,null,null,null,null,null,null,null,null,null,null,null,null,null,null,null,null,null,null,null,null,null,null,null,0,{"$f":"AVERAGE(#REF!)","v":{"$error":"#REF!"}},-4.8000000000000001E-2,-3.2000000000000001E-2,0.19,-2.13,-2.2020000000000004,9.4319999999999986,0,6.6660000000000005E-4,-4.4440000000000001E-4]
[null,null,null,null,null,null,null,null,null,null,null,null,null,null,null,null,null,null,null,null,null,null,null,null,null,null,null,null,0,{"$f":"AVERAGE(#REF!)","v":{"$error":"#REF!"}},-4.4000000000000004E-2,-0.03,0.18600000000000003,-2.13,-2.2039999999999997,9.43,-2.2220000000000001E-4,0,-2.2220000000000001E-4]
[null,null,null,null,null,null,null,null,null,null,null,null,null,null,null,null,null,null,null,null,null,null,null,null,null,null,null,null,0,{"$f":"AVERAGE(#REF!)","v":{"$error":"#REF!"}},-4.5999999999999999E-2,-0.03,0.17399999999999999,-2.1300000000000003,-2.202,9.4340000000000011,-2.2220000000000001E-4,-2.2220000000000001E-4,-4.4440000000000001E-4]
[null,null,null,null,null,null,null,null,null,null,null,null,null,null,null,null,null,null,null,null,null,null,null,null,null,null,null,null,0,{"$f":"AVERAGE(#REF!)","v":{"$error":"#REF!"}},-3.7999999999999992E-2,-3.4000000000000002E-2,0.18,-2.1320000000000001,-2.2020000000000004,9.43,-4.4440000000000001E-4,0,0]
[null,null,null,null,null,null,null,null,null,null,null,null,null,null,null,null,null,null,null,null,null,null,null,null,null,null,null,null,0,{"$f":"AVERAGE(#REF!)","v":{"$error":"#REF!"}},-0.04,-3.6000000000000004E-2,0.17399999999999999,-2.1300000000000003,-2.2000000000000002,9.4339999999999993,-8.8880000000000003E-4,-4.4440000000000001E-4,2.2220000000000001E-4]
[null,null,null,null,null,null,null,null,null,null,null,null,null,null,null,null,null,null,null,null,null,null,null,null,null,null,null,null,0,{"$f":"AVERAGE(#REF!)","v":{"$error":"#REF!"}},-4.3999999999999997E-2,-3.6000000000000004E-2,0.17200000000000001,-2.1280000000000001,-2.1920000000000002,9.4319999999999986,-1.111E-3,-8.8880000000000003E-4,6.6660000000000005E-4]
[null,null,null,null,null,null,null,null,null,null,null,null,null,null,null,null,null,null,null,null,null,null,null,null,null,null,null,null,0,{"$f":"AVERAGE(#REF!)","v":{"$error":"#REF!"}},-0.05,-3.5999999999999997E-2,0.17599999999999999,-2.1280000000000001,-2.1840000000000002,9.4339999999999993,-8.8880000000000003E-4,-6.6660000000000005E-4,4.4440000000000001E-4]
[null,null,null,null,null,null,null,null,null,null,null,null,null,null,null,null,null,null,null,null,null,null,null,null,null,null,null,null,0,{"$f":"AVERAGE(#REF!)","v":{"$error":"#REF!"}},-5.2000000000000005E-2,-3.6000000000000004E-2,0.18,-2.13,-2.1859999999999999,9.427999999999999,-1.111E-3,0,2.2220000000000001E-4]
[null,null,null,null,null,null,null,null,null,null,null,null,null,null,null,null,null,null,null,null,null,null,null,null,null,null,null,null,0,{"$f":"AVERAGE(#REF!)","v":{"$error":"#REF!"}},-5.7999999999999996E-2,-3.6000000000000004E-2,0.17800000000000002,-2.1280000000000001,-2.1840000000000002,9.4299999999999979,-1.111E-3,-4.4440000000000001E-4,-4.4440000000000001E-4]
[null,null,null,null,null,null,null,null,null,null,null,null,null,null,null,null,null,null,null,null,null,null,null,null,null,null,null,null,0,{"$f":"AVERAGE(#REF!)","v":{"$error":"#REF!"}},-5.5999999999999994E-2,-3.4000000000000002E-2,0.17399999999999999,-2.1259999999999999,-2.1859999999999999,9.4239999999999977,-1.5554E-3,2.2220000000000001E-4,-4.4440000000000001E-4]
[null,null,null,null,null,null,null,null,null,null,null,null,null,null,null,null,null,null,null,null,null,null,null,null,null,null,null,null,0,{"$f":"AVERAGE(#REF!)","v":{"$error":"#REF!"}},-5.1999999999999991E-2,-3.2000000000000001E-2,0.18400000000000002,-2.1259999999999999,-2.1859999999999999,9.4259999999999984,-4.4440000000000001E-4,1.111E-3,-8.8880000000000003E-4]
[null,null,null,null,null,null,null,null,null,null,null,null,null,null,null,null,null,null,null,null,null,null,null,null,null,null,null,null,0,{"$f":"AVERAGE(#REF!)","v":{"$error":"#REF!"}},-0.05,-3.4000000000000002E-2,0.17399999999999999,-2.1199999999999997,-2.2000000000000002,9.4260000000000002,-4.4440000000000001E-4,1.111E-3,-4.4440000000000001E-4]
[null,null,null,null,null,null,null,null,null,null,null,null,null,null,null,null,null,null,null,null,null,null,null,null,null,null,null,null,0,{"$f":"AVERAGE(#REF!)","v":{"$error":"#REF!"}},-4.3999999999999997E-2,-3.5999999999999997E-2,0.17800000000000002,-2.1179999999999999,-2.2000000000000002,9.4319999999999986,4.4440000000000001E-4,1.7776000000000001E-3,0]
[null,null,null,null,null,null,null,null,null,null,null,null,null,null,null,null,null,null,null,null,null,null,null,null,null,null,null,null,0,{"$f":"AVERAGE(#REF!)","v":{"$error":"#REF!"}},-4.2000000000000003E-2,-3.7999999999999999E-2,0.182,-2.1199999999999997,-2.2039999999999997,9.4240000000000013,4.4440000000000001E-4,1.5554000000000002E-3,0]
[null,null,null,null,null,null,null,null,null,null,null,null,null,null,null,null,null,null,null,null,null,null,null,null,null,null,null,null,0,{"$f":"AVERAGE(#REF!)","v":{"$error":"#REF!"}},-4.5999999999999999E-2,-3.5999999999999997E-2,0.186,-2.1240000000000001,-2.2079999999999997,9.4299999999999979,1.7776000000000001E-3,1.3332000000000001E-3,0]
[null,null,null,null,null,null,null,null,null,null,null,null,null,null,null,null,null,null,null,null,null,null,null,null,null,null,null,null,0,{"$f":"AVERAGE(#REF!)","v":{"$error":"#REF!"}},-4.8000000000000001E-2,-3.5999999999999997E-2,0.186,-2.1240000000000001,-2.206,9.4319999999999986,6.6660000000000005E-4,1.111E-3,2.2220000000000001E-4]
[null,null,null,null,null,null,null,null,null,null,null,null,null,null,null,null,null,null,null,null,null,null,null,null,null,null,null,null,0,{"$f":"AVERAGE(#REF!)","v":{"$error":"#REF!"}},-0.05,-3.7999999999999999E-2,0.18,-2.13,-2.194,9.4380000000000006,6.6660000000000005E-4,1.3332000000000001E-3,-2.2220000000000001E-4]
[null,null,null,null,null,null,null,null,null,null,null,null,null,null,null,null,null,null,null,null,null,null,null,null,null,null,null,null,0,{"$f":"AVERAGE(#REF!)","v":{"$error":"#REF!"}},-5.4000000000000006E-2,-3.7999999999999999E-2,0.18400000000000002,-2.1320000000000001,-2.1919999999999997,9.4440000000000008,-2.2220000000000001E-4,4.4440000000000001E-4,-6.6660000000000005E-4]
[null,null,null,null,null,null,null,null,null,null,null,null,null,null,null,null,null,null,null,null,null,null,null,null,null,null,null,null,0,{"$f":"AVERAGE(#REF!)","v":{"$error":"#REF!"}},-5.7999999999999996E-2,-3.6000000000000004E-2,0.17199999999999999,-2.1340000000000003,-2.19,9.4520000000000017,-2.2220000000000001E-4,4.4440000000000001E-4,-6.6660000000000005E-4]
[null,null,null,null,null,null,null,null,null,null,null,null,null,null,null,null,null,null,null,null,null,null,null,null,null,null,null,null,0,{"$f":"AVERAGE(#REF!)","v":{"$error":"#REF!"}},-5.800000000000001E-2,-4.3999999999999997E-2,0.17600000000000002,-2.1320000000000001,-2.1819999999999995,9.4580000000000002,-1.111E-3,-4.4440000000000001E-4,-4.4440000000000001E-4]
[null,null,null,null,null,null,null,null,null,null,null,null,null,null,null,null,null,null,null,null,null,null,null,null,null,null,null,null,0,{"$f":"AVERAGE(#REF!)","v":{"$error":"#REF!"}},-0.06,-0.05,0.17799999999999999,-2.1300000000000003,-2.1840000000000002,9.4559999999999995,-4.4440000000000001E-4,-4.4440000000000001E-4,-2.2220000000000001E-4]
[null,null,null,null,null,null,null,null,null,null,null,null,null,null,null,null,null,null,null,null,null,null,null,null,null,null,null,null,0,{"$f":"AVERAGE(#REF!)","v":{"$error":"#REF!"}},-0.06,-4.8000000000000001E-2,0.18,-2.1280000000000001,-2.1879999999999997,9.4460000000000015,-4.4440000000000001E-4,2.2220000000000001E-4,-2.2220000000000001E-4]
[null,null,null,null,null,null,null,null,null,null,null,null,null,null,null,null,null,null,null,null,null,null,null,null,null,null,null,null,0,{"$f":"AVERAGE(#REF!)","v":{"$error":"#REF!"}},-5.7999999999999996E-2,-4.8000000000000008E-2,0.18,-2.13,-2.1879999999999997,9.44,2.2220000000000001E-4,2.2220000000000001E-4,4.4440000000000001E-4]
[null,null,null,null,null,null,null,null,null,null,null,null,null,null,null,null,null,null,null,null,null,null,null,null,null,null,null,null,0,{"$f":"AVERAGE(#REF!)","v":{"$error":"#REF!"}},-5.6000000000000008E-2,-4.8000000000000001E-2,0.17799999999999999,-2.1259999999999999,-2.19,9.4439999999999991,2.2220000000000001E-4,2.2220000000000001E-4,8.8880000000000003E-4]
[null,null,null,null,null,null,null,null,null,null,null,null,null,null,null,null,null,null,null,null,null,null,null,null,null,null,null,null,0,{"$f":"AVERAGE(#REF!)","v":{"$error":"#REF!"}},-5.6000000000000008E-2,-4.2000000000000003E-2,0.17600000000000002,-2.1280000000000001,-2.1880000000000002,9.4400000000000013,6.6660000000000005E-4,4.4440000000000001E-4,8.8880000000000003E-4]
[null,null,null,null,null,null,null,null,null,null,null,null,null,null,null,null,null,null,null,null,null,null,null,null,null,null,null,null,0,{"$f":"AVERAGE(#REF!)","v":{"$error":"#REF!"}},-0.05,-4.5999999999999999E-2,0.16399999999999998,-2.1239999999999997,-2.19,9.4380000000000006,4.4440000000000001E-4,4.4440000000000001E-4,6.6660000000000005E-4]
[null,null,null,null,null,null,null,null,null,null,null,null,null,null,null,null,null,null,null,null,null,null,null,null,null,null,null,null,0,{"$f":"AVERAGE(#REF!)","v":{"$error":"#REF!"}},-4.8000000000000001E-2,-4.3999999999999997E-2,0.17799999999999999,-2.1280000000000001,-2.1920000000000002,9.4400000000000013,2.2220000000000001E-4,-4.4440000000000001E-4,4.4440000000000001E-4]
[null,null,null,null,null,null,null,null,null,null,null,null,null,null,null,null,null,null,null,null,null,null,null,null,null,null,null,null,0,{"$f":"AVERAGE(#REF!)","v":{"$error":"#REF!"}},-4.5999999999999999E-2,-4.4000000000000004E-2,0.17599999999999999,-2.1259999999999999,-2.198,9.4400000000000013,-4.4440000000000001E-4,0,0]
[null,null,null,null,null,null,null,null,null,null,null,null,null,null,null,null,null,null,null,null,null,null,null,null,null,null,null,null,0,{"$f":"AVERAGE(#REF!)","v":{"$error":"#REF!"}},-4.8000000000000001E-2,-4.5999999999999999E-2,0.182,-2.1260000000000003,-2.194,9.4359999999999982,-2.2220000000000001E-4,6.6660000000000005E-4,2.2220000000000001E-4]
[null,null,null,null,null,null,null,null,null,null,null,null,null,null,null,null,null,null,null,null,null,null,null,null,null,null,null,null,0,{"$f":"AVERAGE(#REF!)","v":{"$error":"#REF!"}},-5.2000000000000005E-2,-4.3999999999999997E-2,0.182,-2.1259999999999999,-2.2020000000000004,9.4380000000000006,-6.6660000000000005E-4,4.4440000000000001E-4,6.6660000000000005E-4]
[null,null,null,null,null,null,null,null,null,null,null,null,null,null,null,null,null,null,null,null,null,null,null,null,null,null,null,null,0,{"$f":"AVERAGE(#REF!)","v":{"$error":"#REF!"}},-5.4000000000000006E-2,-3.7999999999999999E-2,0.186,-2.13,-2.206,9.4440000000000008,-6.6660000000000005E-4,-2.2220000000000001E-4,8.8880000000000003E-4]
[null,null,null,null,null,null,null,null,null,null,null,null,null,null,null,null,null,null,null,null,null,null,null,null,null,null,null,null,0,{"$f":"AVERAGE(#REF!)","v":{"$error":"#REF!"}},-5.4000000000000006E-2,-4.3999999999999997E-2,0.186,-2.1259999999999999,-2.2000000000000002,9.4499999999999993,2.2220000000000001E-4,2.2220000000000001E-4,6.6660000000000005E-4]
[null,null,null,null,null,null,null,null,null,null,null,null,null,null,null,null,null,null,null,null,null,null,null,null,null,null,null,null,0,{"$f":"AVERAGE(#REF!)","v":{"$error":"#REF!"}},-5.7999999999999996E-2,-3.7999999999999999E-2,0.18,-2.1280000000000001,-2.1980000000000004,9.4480000000000004,4.4440000000000001E-4,-2.2220000000000001E-4,4.4440000000000001E-4]
[null,null,null,null,null,null,null,null,null,null,null,null,null,null,null,null,null,null,null,null,null,null,null,null,null,null,null,null,0,{"$f":"AVERAGE(#REF!)","v":{"$error":"#REF!"}},-5.3999999999999992E-2,-3.5999999999999997E-2,0.182,-2.1320000000000001,-2.2000000000000002,9.4479999999999986,4.4440000000000001E-4,-8.8880000000000003E-4,2.2220000000000001E-4]
[null,null,null,null,null,null,null,null,null,null,null,null,null,null,null,null,null,null,null,null,null,null,null,null,null,null,null,null,0,{"$f":"AVERAGE(#REF!)","v":{"$error":"#REF!"}},-4.4000000000000004E-2,-3.5999999999999997E-2,0.17199999999999999,-2.1340000000000003,-2.1960000000000002,9.4379999999999988,2.2220000000000001E-4,-8.8880000000000003E-4,0]
[null,null,null,null,null,null,null,null,null,null,null,null,null,null,null,null,null,null,null,null,null,null,null,null,null,null,null,null,0,{"$f":"AVERAGE(#REF!)","v":{"$error":"#REF!"}},-4.6000000000000006E-2,-3.7999999999999999E-2,0.17600000000000002,-2.1340000000000003,-2.1920000000000002,9.43,6.6660000000000005E-4,-4.4440000000000001E-4,-4.4440000000000001E-4]
[null,null,null,null,null,null,null,null,null,null,null,null,null,null,null,null,null,null,null,null,null,null,null,null,null,null,null,null,0,{"$f":"AVERAGE(#REF!)","v":{"$error":"#REF!"}},-0.05,-3.2000000000000001E-2,0.17599999999999999,-2.1339999999999995,-2.194,9.4339999999999993,-4.4440000000000001E-4,-8.8880000000000003E-4,2.2220000000000001E-4]
[null,null,null,null,null,null,null,null,null,null,null,null,null,null,null,null,null,null,null,null,null,null,null,null,null,null,null,null,0,{"$f":"AVERAGE(#REF!)","v":{"$error":"#REF!"}},-4.8000000000000001E-2,-3.6000000000000004E-2,0.18,-2.1340000000000003,-2.1920000000000002,9.4379999999999988,-4.4440000000000001E-4,-1.5554E-3,6.6660000000000005E-4]
[null,null,null,null,null,null,null,null,null,null,null,null,null,null,null,null,null,null,null,null,null,null,null,null,null,null,null,null,0,{"$f":"AVERAGE(#REF!)","v":{"$error":"#REF!"}},-4.8000000000000001E-2,-3.7999999999999999E-2,0.182,-2.1379999999999999,-2.1860000000000004,9.4419999999999984,-6.6660000000000005E-4,-1.3332000000000001E-3,4.4440000000000001E-4]
[null,null,null,null,null,null,null,null,null,null,null,null,null,null,null,null,null,null,null,null,null,null,null,null,null,null,null,null,0,{"$f":"AVERAGE(#REF!)","v":{"$error":"#REF!"}},-4.8000000000000001E-2,-3.9999999999999994E-2,0.184,-2.1380000000000003,-2.1879999999999997,9.4499999999999993,-4.4440000000000001E-4,-6.6660000000000005E-4,-2.2220000000000001E-4]
[null,null,null,null,null,null,null,null,null,null,null,null,null,null,null,null,null,null,null,null,null,null,null,null,null,null,null,null,0,{"$f":"AVERAGE(#REF!)","v":{"$error":"#REF!"}},-0.05,-0.04,0.18400000000000002,-2.1420000000000003,-2.1880000000000002,9.4539999999999988,-8.8880000000000003E-4,-2.2220000000000001E-4,2.2220000000000001E-4]
[null,null,null,null,null,null,null,null,null,null,null,null,null,null,null,null,null,null,null,null,null,null,null,null,null,null,null,null,0,{"$f":"AVERAGE(#REF!)","v":{"$error":"#REF!"}},-4.8000000000000001E-2,-3.7999999999999992E-2,0.16599999999999998,-2.1400000000000006,-2.1880000000000002,9.452,-2.2220000000000001E-4,-2.2220000000000001E-4,4.4440000000000001E-4]
[null,null,null,null,null,null,null,null,null,null,null,null,null,null,null,null,null,null,null,null,null,null,null,null,null,null,null,null,0,{"$f":"AVERAGE(#REF!)","v":{"$error":"#REF!"}},-4.5999999999999999E-2,-3.5999999999999997E-2,0.16200000000000001,-2.1400000000000006,-2.1840000000000002,9.4480000000000004,0,6.6660000000000005E-4,4.4440000000000001E-4]
[null,null,null,null,null,null,null,null,null,null,null,null,null,null,null,null,null,null,null,null,null,null,null,null,null,null,null,null,0,{"$f":"AVERAGE(#REF!)","v":{"$error":"#REF!"}},-4.8000000000000001E-2,-3.4000000000000002E-2,0.16200000000000001,-2.13,-2.1920000000000002,9.4400000000000013,0,1.7776000000000001E-3,2.2220000000000001E-4]
[null,null,null,null,null,null,null,null,null,null,null,null,null,null,null,null,null,null,null,null,null,null,null,null,null,null,null,null,0,{"$f":"AVERAGE(#REF!)","v":{"$error":"#REF!"}},-5.2000000000000005E-2,-3.4000000000000002E-2,0.16999999999999998,-2.1280000000000001,-2.19,9.4359999999999999,0,1.3332000000000001E-3,8.8880000000000003E-4]
[null,null,null,null,null,null,null,null,null,null,null,null,null,null,null,null,null,null,null,null,null,null,null,null,null,null,null,null,0,{"$f":"AVERAGE(#REF!)","v":{"$error":"#REF!"}},-5.6000000000000008E-2,-0.03,0.17599999999999999,-2.1259999999999999,-2.1859999999999999,9.4379999999999988,0,8.8880000000000003E-4,6.6660000000000005E-4]
[null,null,null,null,null,null,null,null,null,null,null,null,null,null,null,null,null,null,null,null,null,null,null,null,null,null,null,null,0,{"$f":"AVERAGE(#REF!)","v":{"$error":"#REF!"}},-0.05,-3.4000000000000002E-2,0.182,-2.13,-2.19,9.4280000000000008,-4.4440000000000001E-4,6.6660000000000005E-4,-2.2220000000000001E-4]
[null,null,null,null,null,null,null,null,null,null,null,null,null,null,null,null,null,null,null,null,null,null,null,null,null,null,null,null,0,{"$f":"AVERAGE(#REF!)","v":{"$error":"#REF!"}},-5.6000000000000008E-2,-3.4000000000000002E-2,0.192,-2.1239999999999997,-2.1919999999999997,9.4280000000000008,-6.6660000000000005E-4,6.6660000000000005E-4,2.2220000000000001E-4]
[null,null,null,null,null,null,null,null,null,null,null,null,null,null,null,null,null,null,null,null,null,null,null,null,null,null,null,null,0,{"$f":"AVERAGE(#REF!)","v":{"$error":"#REF!"}},-5.6000000000000008E-2,-3.4000000000000002E-2,0.17799999999999999,-2.13,-2.1920000000000002,9.4280000000000008,-6.6660000000000005E-4,4.4440000000000001E-4,4.4440000000000001E-4]
[null,null,null,null,null,null,null,null,null,null,null,null,null,null,null,null,null,null,null,null,null,null,null,null,null,null,null,null,0,{"$f":"AVERAGE(#REF!)","v":{"$error":"#REF!"}},-5.7999999999999996E-2,-3.4000000000000002E-2,0.17399999999999999,-2.1280000000000001,-2.194,9.4319999999999986,-6.6660000000000005E-4,6.6660000000000005E-4,2.2220000000000001E-4]
[null,null,null,null,null,null,null,null,null,null,null,null,null,null,null,null,null,null,null,null,null,null,null,null,null,null,null,null,0,{"$f":"AVERAGE(#REF!)","v":{"$error":"#REF!"}},-4.8000000000000001E-2,-3.6000000000000004E-2,0.16400000000000001,-2.1280000000000001,-2.1980000000000004,9.4259999999999984,-1.111E-3,4.4440000000000001E-4,2.2220000000000001E-4]
[null,null,null,null,null,null,null,null,null,null,null,null,null,null,null,null,null,null,null,null,null,null,null,null,null,null,null,null,0,{"$f":"AVERAGE(#REF!)","v":{"$error":"#REF!"}},-5.2000000000000005E-2,-3.2000000000000001E-2,0.16400000000000001,-2.1259999999999999,-2.194,9.4359999999999999,-8.8880000000000003E-4,2.2220000000000001E-4,8.8880000000000003E-4]
[null,null,null,null,null,null,null,null,null,null,null,null,null,null,null,null,null,null,null,null,null,null,null,null,null,null,null,null,0,{"$f":"AVERAGE(#REF!)","v":{"$error":"#REF!"}},-5.2000000000000005E-2,-3.4000000000000002E-2,0.16400000000000001,-2.1280000000000001,-2.194,9.4419999999999984,-8.8880000000000003E-4,2.2220000000000001E-4,2.2220000000000001E-4]
[null,null,null,null,null,null,null,null,null,null,null,null,null,null,null,null,null,null,null,null,null,null,null,null,null,null,null,null,{"$f":"(1609.34/3600)*Delta_Speed","v":0},{"$f":"AVERAGE(#REF!)","v":{"$error":"#REF!"}},-0.05,-3.7999999999999999E-2,0.16799999999999998,-2.1259999999999999,-2.19,9.4460000000000015,-2.2220000000000001E-4,4.4440000000000001E-4,6.6660000000000005E-4]
[null,null,null,null,null,null,null,null,null,null,null,null,null,null,null,null,null,null,null,null,null,null,null,null,null,null,null,null,0,{"$f":"AVERAGE(#REF!)","v":{"$error":"#REF!"}},-4.6000000000000006E-2,-4.2000000000000003E-2,0.18,-2.13,-2.194,9.4460000000000015,-2.2220000000000001E-4,4.4440000000000001E-4,6.6660000000000005E-4]
[null,null,null,null,null,null,null,null,null,null,null,null,null,null,null,null,null,null,null,null,null,null,null,null,null,null,null,null,0,{"$f":"AVERAGE(#REF!)","v":{"$error":"#REF!"}},-4.8000000000000001E-2,-4.5999999999999999E-2,0.17399999999999999,-2.1320000000000001,-2.1919999999999997,9.4540000000000006,0,4.4440000000000001E-4,6.6660000000000005E-4]
[null,null,null,null,null,null,null,null,null,null,null,null,null,null,null,null,null,null,null,null,null,null,null,null,null,null,null,null,0,{"$f":"AVERAGE(#REF!)","v":{"$error":"#REF!"}},-4.8000000000000008E-2,-0.05,0.19,-2.1320000000000001,-2.2000000000000002,9.4520000000000017,2.2220000000000001E-4,1.111E-3,2.2220000000000001E-4]
[null,null,null,null,null,null,null,null,null,null,null,null,null,null,null,null,null,null,null,null,null,null,null,null,null,null,null,null,0,{"$f":"AVERAGE(#REF!)","v":{"$error":"#REF!"}},{"$f":"AVERAGE(Q450:Q454)","v":-4.3999999999999997E-2},{"$f":"AVERAGE(R450:R454)","v":-4.5999999999999999E-2},{"$f":"AVERAGE(S450:S454)","v":0.188},{"$f":"AVERAGE(T450:T454)","v":-2.1320000000000001},{"$f":"AVERAGE(U450:U454)","v":-2.2000000000000002},{"$f":"AVERAGE(V450:V454)","v":9.4460000000000015},{"$f":"AVERAGE(W450:W454)","v":2.2220000000000001E-4},{"$f":"AVERAGE(X450:X454)","v":1.111E-3},{"$f":"AVERAGE(Y450:Y454)","v":2.2220000000000001E-4}]
[null,null,null,null,null,null,null,null,null,null,null,null,null,null,null,null,null,null,null,null,null,null,null,null,null,null,null,null,0,{"$f":"AVERAGE(#REF!)","v":{"$error":"#REF!"}},-4.6000000000000006E-2,-4.1999999999999996E-2,0.19400000000000001,-2.1320000000000001,-2.2020000000000004,9.4580000000000002,0,-2.2220000000000001E-4,-2.2220000000000001E-4]
[null,null,null,null,null,null,null,null,null,null,null,null,null,null,null,null,null,null,null,null,null,null,null,null,null,null,null,null,0,{"$f":"AVERAGE(#REF!)","v":{"$error":"#REF!"}},-4.8000000000000001E-2,-4.2000000000000003E-2,0.188,-2.1339999999999999,-2.2040000000000002,9.4559999999999995,4.4440000000000001E-4,2.2220000000000001E-4,0]
[null,null,null,null,null,null,null,null,null,null,null,null,null,null,null,null,null,null,null,null,null,null,null,null,null,null,null,null,0,{"$f":"AVERAGE(#REF!)","v":{"$error":"#REF!"}},-5.2000000000000005E-2,-3.8000000000000006E-2,0.19600000000000001,-2.1320000000000001,-2.2060000000000004,9.4479999999999986,6.6660000000000005E-4,8.8880000000000003E-4,0]
[null,null,null,null,null,null,null,null,null,null,null,null,null,null,null,null,null,null,null,null,null,null,null,null,null,null,null,null,0,{"$f":"AVERAGE(#REF!)","v":{"$error":"#REF!"}},-5.4000000000000006E-2,-3.7999999999999999E-2,0.188,-2.1280000000000001,-2.2000000000000002,9.4479999999999986,4.4440000000000001E-4,0,6.6660000000000005E-4]
[null,null,null,null,null,null,null,null,null,null,null,null,null,null,null,null,null,null,null,null,null,null,null,null,null,null,null,null,0,{"$f":"AVERAGE(#REF!)","v":{"$error":"#REF!"}},-5.7999999999999996E-2,-0.04,0.17799999999999999,-2.13,-2.2000000000000002,9.4499999999999993,8.8880000000000003E-4,2.2220000000000001E-4,4.4440000000000001E-4]
[null,null,null,null,null,null,null,null,null,null,null,null,null,null,null,null,null,null,null,null,null,null,null,null,null,null,null,null,0,{"$f":"AVERAGE(#REF!)","v":{"$error":"#REF!"}},-5.4000000000000006E-2,-4.2000000000000003E-2,0.18200000000000002,-2.1259999999999999,-2.2019999999999995,9.4539999999999988,1.3332000000000001E-3,6.6660000000000005E-4,2.2220000000000001E-4]
[null,null,null,null,null,null,null,null,null,null,null,null,null,null,null,null,null,null,null,null,null,null,null,null,null,null,null,null,0,{"$f":"AVERAGE(#REF!)","v":{"$error":"#REF!"}},-4.8000000000000001E-2,-3.7999999999999999E-2,0.16999999999999998,-2.1179999999999999,-2.2000000000000002,9.4539999999999988,1.3332000000000001E-3,4.4440000000000001E-4,0]
[null,null,null,null,null,null,null,null,null,null,null,null,null,null,null,null,null,null,null,null,null,null,null,null,null,null,null,null,0,{"$f":"AVERAGE(#REF!)","v":{"$error":"#REF!"}},-4.5999999999999999E-2,-4.6000000000000006E-2,0.16800000000000001,-2.1159999999999997,-2.1920000000000002,9.4579999999999984,1.5554E-3,6.6660000000000005E-4,2.2220000000000001E-4]
[null,null,null,null,null,null,null,null,null,null,null,null,null,null,null,null,null,null,null,null,null,null,null,null,null,null,null,null,0,{"$f":"AVERAGE(#REF!)","v":{"$error":"#REF!"}},-4.3999999999999997E-2,-4.5999999999999999E-2,0.17599999999999999,-2.1199999999999997,-2.194,9.4819999999999993,1.7776000000000001E-3,1.5554E-3,-2.2220000000000001E-4]
[null,null,null,null,null,null,null,null,null,null,null,null,null,null,null,null,null,null,null,null,null,null,null,null,null,null,null,null,0,{"$f":"AVERAGE(#REF!)","v":{"$error":"#REF!"}},-3.7999999999999999E-2,-4.5999999999999999E-2,0.17799999999999999,-2.1219999999999999,-2.194,9.4819999999999993,1.3332000000000001E-3,1.111E-3,2.2220000000000001E-4]
[null,null,null,null,null,null,null,null,null,null,null,null,null,null,null,null,null,null,null,null,null,null,null,null,null,null,null,null,0,{"$f":"AVERAGE(#REF!)","v":{"$error":"#REF!"}},-4.5999999999999999E-2,-4.3999999999999997E-2,0.18,-2.13,-2.1920000000000002,9.4839999999999982,2.2220000000000001E-4,8.8880000000000003E-4,4.4440000000000001E-4]
[null,null,null,null,null,null,null,null,null,null,null,null,null,null,null,null,null,null,null,null,null,null,null,null,null,null,null,null,0,{"$f":"AVERAGE(#REF!)","v":{"$error":"#REF!"}},-0.05,-4.5999999999999999E-2,0.186,-2.1340000000000003,-2.19,9.4959999999999987,0,6.6660000000000005E-4,6.6660000000000005E-4]
[null,null,null,null,null,null,null,null,null,null,null,null,null,null,null,null,null,null,null,null,null,null,null,null,null,null,null,null,0,{"$f":"AVERAGE(#REF!)","v":{"$error":"#REF!"}},-5.2000000000000005E-2,-3.4000000000000002E-2,0.19,-2.1380000000000003,-2.194,9.5139999999999993,-4.4440000000000001E-4,-6.6660000000000005E-4,2.2220000000000001E-4]
[null,null,null,null,null,null,null,null,null,null,null,null,null,null,null,null,null,null,null,null,null,null,null,null,null,null,null,null,0,{"$f":"AVERAGE(#REF!)","v":{"$error":"#REF!"}},-5.2000000000000005E-2,-0.03,0.17399999999999999,-2.1380000000000003,-2.1900000000000004,9.4980000000000011,-1.111E-3,-2E-3,6.6660000000000005E-4]
[null,null,null,null,null,null,null,null,null,null,null,null,null,null,null,null,null,null,null,null,null,null,null,null,null,null,null,null,0,{"$f":"AVERAGE(#REF!)","v":{"$error":"#REF!"}},-5.7999999999999996E-2,-3.4000000000000002E-2,0.17600000000000002,-2.1380000000000003,-2.194,9.5139999999999993,-1.3332000000000001E-3,-2.2221999999999997E-3,8.8880000000000003E-4]
[null,null,null,null,null,null,null,null,null,null,null,null,null,null,null,null,null,null,null,null,null,null,null,null,null,null,null,null,0,{"$f":"AVERAGE(#REF!)","v":{"$error":"#REF!"}},-5.2000000000000005E-2,-3.4000000000000002E-2,0.17599999999999999,-2.1320000000000001,-2.194,9.516,-1.111E-3,-1.3334000000000004E-3,8.8880000000000003E-4]
[null,null,null,null,null,null,null,null,null,null,null,null,null,null,null,null,null,null,null,null,null,null,null,null,null,null,null,null,0,{"$f":"AVERAGE(#REF!)","v":{"$error":"#REF!"}},-5.4000000000000006E-2,-3.5999999999999997E-2,0.184,-2.1340000000000003,-2.1960000000000002,9.5220000000000002,-1.111E-3,-1.7778000000000002E-3,8.8880000000000003E-4]
[null,null,null,null,null,null,null,null,null,null,null,null,null,null,null,null,null,null,null,null,null,null,null,null,null,null,null,null,0,{"$f":"AVERAGE(#REF!)","v":{"$error":"#REF!"}},-0.06,-4.6000000000000006E-2,0.184,-2.1379999999999999,-2.2060000000000004,9.5220000000000002,-1.7776000000000001E-3,-1.3334E-3,1.5554E-3]
[null,null,null,null,null,null,null,null,null,null,null,null,null,null,null,null,null,null,null,null,null,null,null,null,null,null,null,null,0,{"$f":"AVERAGE(#REF!)","v":{"$error":"#REF!"}},-6.2E-2,-5.6000000000000008E-2,0.184,-2.14,-2.2160000000000002,9.522000000000002,-1.3332000000000001E-3,4.4440000000000001E-4,1.3332000000000001E-3]
[null,null,null,null,null,null,null,null,null,null,null,null,null,null,null,null,null,null,null,null,null,null,null,null,null,null,null,null,0,{"$f":"AVERAGE(#REF!)","v":{"$error":"#REF!"}},-5.6000000000000008E-2,-6.6000000000000003E-2,0.19400000000000001,-2.1339999999999999,-2.226,9.532,-1.111E-3,6.6660000000000005E-4,8.8880000000000003E-4]
[null,null,null,null,null,null,null,null,null,null,null,null,null,null,null,null,null,null,null,null,null,null,null,null,null,null,null,null,0,{"$f":"AVERAGE(#REF!)","v":{"$error":"#REF!"}},-0.06,-6.6000000000000003E-2,0.184,-2.1380000000000003,-2.226,9.52,-8.8880000000000003E-4,-4.4440000000000001E-4,1.111E-3]
[null,null,null,null,null,null,null,null,null,null,null,null,null,null,null,null,null,null,null,null,null,null,null,null,null,null,null,null,0,{"$f":"AVERAGE(#REF!)","v":{"$error":"#REF!"}},-5.7999999999999996E-2,-5.800000000000001E-2,0.186,-2.1360000000000001,-2.218,9.5240000000000009,-4.4440000000000001E-4,-6.6660000000000005E-4,8.8880000000000003E-4]
[null,null,null,null,null,null,null,null,null,null,null,null,null,null,null,null,null,null,null,null,null,null,null,null,null,null,null,null,0,{"$f":"AVERAGE(#REF!)","v":{"$error":"#REF!"}},-0.05,-5.6000000000000008E-2,0.192,-2.13,-2.2160000000000002,9.5300000000000011,0,-4.4440000000000001E-4,6.6660000000000005E-4]
[null,null,null,null,null,null,null,null,null,null,null,null,null,null,null,null,null,null,null,null,null,null,null,null,null,null,null,null,0,{"$f":"AVERAGE(#REF!)","v":{"$error":"#REF!"}},-5.2000000000000005E-2,-4.8000000000000001E-2,0.19800000000000001,-2.13,-2.206,9.5340000000000007,0,-1.111E-3,4.4440000000000001E-4]
[null,null,null,null,null,null,null,null,null,null,null,null,null,null,null,null,null,null,null,null,null,null,null,null,null,null,null,null,0,{"$f":"AVERAGE(#REF!)","v":{"$error":"#REF!"}},-5.6000000000000008E-2,-3.6000000000000004E-2,0.19800000000000001,-2.1339999999999995,-2.1919999999999997,9.5340000000000007,0,-1.5554E-3,4.4440000000000001E-4]
[null,null,null,null,null,null,null,null,null,null,null,null,null,null,null,null,null,null,null,null,null,null,null,null,null,null,null,null,0,{"$f":"AVERAGE(#REF!)","v":{"$error":"#REF!"}},-4.8000000000000001E-2,-3.9999999999999994E-2,0.20200000000000001,-2.1260000000000003,-2.1960000000000002,9.5400000000000009,-2.2220000000000001E-4,-1.9998000000000004E-3,6.6660000000000005E-4]
[null,null,null,null,null,null,null,null,null,null,null,null,null,null,null,null,null,null,null,null,null,null,null,null,null,null,null,null,0,{"$f":"AVERAGE(#REF!)","v":{"$error":"#REF!"}},-5.2000000000000005E-2,-4.5999999999999999E-2,0.20200000000000001,-2.13,-2.2000000000000002,9.5400000000000009,-1.111E-3,-1.3332000000000001E-3,2.2220000000000001E-4]
[null,null,null,null,null,null,null,null,null,null,null,null,null,null,null,null,null,null,null,null,null,null,null,null,null,null,null,null,0,{"$f":"AVERAGE(#REF!)","v":{"$error":"#REF!"}},-5.4000000000000006E-2,-4.2000000000000003E-2,0.19,-2.1320000000000001,-2.1960000000000002,9.5259999999999998,-8.8880000000000003E-4,-1.3332000000000001E-3,0]
[null,null,null,null,null,null,null,null,null,null,null,null,null,null,null,null,null,null,null,null,null,null,null,null,null,null,null,null,0,{"$f":"AVERAGE(#REF!)","v":{"$error":"#REF!"}},-5.2000000000000005E-2,-4.6000000000000006E-2,0.19600000000000001,-2.1320000000000006,-2.2020000000000004,9.5340000000000007,-1.111E-3,-8.8880000000000003E-4,-2.2220000000000001E-4]
[null,null,null,null,null,null,null,null,null,null,null,null,null,null,null,null,null,null,null,null,null,null,null,null,null,null,null,null,0,{"$f":"AVERAGE(#REF!)","v":{"$error":"#REF!"}},-5.6000000000000008E-2,-4.5999999999999999E-2,0.19400000000000001,-2.1340000000000003,-2.2039999999999997,9.5299999999999994,-1.3332000000000001E-3,0,-2.2220000000000001E-4]
[null,null,null,null,null,null,null,null,null,null,null,null,null,null,null,null,null,null,null,null,null,null,null,null,null,null,null,null,0,{"$f":"AVERAGE(#REF!)","v":{"$error":"#REF!"}},-6.2E-2,-3.7999999999999999E-2,0.19600000000000001,-2.1399999999999997,-2.194,9.532,-8.8880000000000003E-4,6.6660000000000005E-4,-4.4440000000000001E-4]
[null,null,null,null,null,null,null,null,null,null,null,null,null,null,null,null,null,null,null,null,null,null,null,null,null,null,null,null,0,{"$f":"AVERAGE(#REF!)","v":{"$error":"#REF!"}},-6.4000000000000001E-2,-4.1999999999999996E-2,0.192,-2.14,-2.2000000000000002,9.5259999999999998,-6.6660000000000005E-4,8.8880000000000003E-4,4.4440000000000001E-4]
[null,null,null,null,null,null,null,null,null,null,null,null,null,null,null,null,null,null,null,null,null,null,null,null,null,null,null,null,0,{"$f":"AVERAGE(#REF!)","v":{"$error":"#REF!"}},-6.2E-2,-4.8000000000000001E-2,0.192,-2.1380000000000003,-2.2060000000000004,9.5280000000000005,-2.2220000000000001E-4,6.6660000000000005E-4,6.6660000000000005E-4]
[null,null,null,null,null,null,null,null,null,null,null,null,null,null,null,null,null,null,null,null,null,null,null,null,null,null,null,null,0,{"$f":"AVERAGE(#REF!)","v":{"$error":"#REF!"}},-5.7999999999999996E-2,-0.04,0.19000000000000003,-2.1340000000000003,-2.1960000000000002,9.5259999999999998,4.4440000000000001E-4,8.8880000000000003E-4,1.111E-3]
[null,null,null,null,null,null,null,null,null,null,null,null,null,null,null,null,null,null,null,null,null,null,null,null,null,null,null,null,0,{"$f":"AVERAGE(#REF!)","v":{"$error":"#REF!"}},-5.4000000000000006E-2,-4.2000000000000003E-2,0.17399999999999999,-2.1320000000000001,-2.1980000000000004,9.5119999999999987,4.4440000000000001E-4,4.4440000000000001E-4,1.5554E-3]
[null,null,null,null,null,null,null,null,null,null,null,null,null,null,null,null,null,null,null,null,null,null,null,null,null,null,null,null,0,{"$f":"AVERAGE(#REF!)","v":{"$error":"#REF!"}},-5.2000000000000005E-2,-5.2000000000000005E-2,0.17799999999999999,-2.13,-2.21,9.516,4.4440000000000001E-4,6.6660000000000005E-4,1.3332000000000001E-3]
[null,null,null,null,null,null,null,null,null,null,null,null,null,null,null,null,null,null,null,null,null,null,null,null,null,null,null,null,0,{"$f":"AVERAGE(#REF!)","v":{"$error":"#REF!"}},-0.05,-0.05,0.16599999999999998,-2.1280000000000001,-2.2079999999999997,9.5060000000000002,1.111E-3,6.6660000000000005E-4,1.111E-3]
[null,null,null,null,null,null,null,null,null,null,null,null,null,null,null,null,null,null,null,null,null,null,null,null,null,null,null,null,0,{"$f":"AVERAGE(#REF!)","v":{"$error":"#REF!"}},-0.05,-3.7999999999999999E-2,0.16600000000000001,-2.1280000000000001,-2.194,9.5060000000000002,6.6660000000000005E-4,1.7776000000000001E-3,8.8880000000000003E-4]
[null,null,null,null,null,null,null,null,null,null,null,null,null,null,null,null,null,null,null,null,null,null,null,null,null,null,null,null,0,{"$f":"AVERAGE(#REF!)","v":{"$error":"#REF!"}},-5.2000000000000005E-2,-0.05,0.16799999999999998,-2.13,-2.2079999999999997,9.5080000000000009,0,1.111E-3,8.8880000000000003E-4]
[null,null,null,null,null,null,null,null,null,null,null,null,null,null,null,null,null,null,null,null,null,null,null,null,null,null,null,null,0,{"$f":"AVERAGE(#REF!)","v":{"$error":"#REF!"}},-0.05,-0.05,0.17799999999999999,-2.1280000000000001,-2.2079999999999997,9.5180000000000007,2.2220000000000001E-4,6.6660000000000005E-4,2.2220000000000001E-4]
[null,null,null,null,null,null,null,null,null,null,null,null,null,null,null,null,null,null,null,null,null,null,null,null,null,null,null,null,0,{"$f":"AVERAGE(#REF!)","v":{"$error":"#REF!"}},-5.4000000000000006E-2,-3.9999999999999994E-2,0.17599999999999999,-2.1320000000000001,-2.1979999999999995,9.5139999999999993,0,1.3332000000000001E-3,0]
[null,null,null,null,null,null,null,null,null,null,null,null,null,null,null,null,null,null,null,null,null,null,null,null,null,null,null,null,0,{"$f":"AVERAGE(#REF!)","v":{"$error":"#REF!"}},-4.8000000000000001E-2,-3.5999999999999997E-2,0.17799999999999999,-2.1280000000000001,-2.194,9.516,-4.4440000000000001E-4,8.8880000000000003E-4,-4.4440000000000001E-4]
[null,null,null,null,null,null,null,null,null,null,null,null,null,null,null,null,null,null,null,null,null,null,null,null,null,null,null,null,0,{"$f":"AVERAGE(#REF!)","v":{"$error":"#REF!"}},-4.8000000000000001E-2,-0.05,0.18600000000000003,-2.1280000000000001,-2.21,9.5239999999999991,2.2220000000000001E-4,4.4440000000000001E-4,-4.4440000000000001E-4]
[null,null,null,null,null,null,null,null,null,null,null,null,null,null,null,null,null,null,null,null,null,null,null,null,null,null,null,null,0,{"$f":"AVERAGE(#REF!)","v":{"$error":"#REF!"}},-4.8000000000000001E-2,-3.3999999999999996E-2,0.17399999999999999,-2.1280000000000001,-2.1920000000000002,9.5119999999999987,6.6660000000000005E-4,2.2220000000000001E-4,-4.4440000000000001E-4]
[null,null,null,null,null,null,null,null,null,null,null,null,null,null,null,null,null,null,null,null,null,null,null,null,null,null,null,null,0,{"$f":"AVERAGE(#REF!)","v":{"$error":"#REF!"}},-5.2000000000000005E-2,-2.8000000000000004E-2,0.18,-2.1320000000000001,-2.1859999999999999,9.516,6.6660000000000005E-4,4.4440000000000001E-4,-2.2220000000000001E-4]
[null,null,null,null,null,null,null,null,null,null,null,null,null,null,null,null,null,null,null,null,null,null,null,null,null,null,null,null,0,{"$f":"AVERAGE(#REF!)","v":{"$error":"#REF!"}},-4.8000000000000001E-2,-3.5999999999999997E-2,0.17799999999999999,-2.1280000000000001,-2.194,9.516,2.2220000000000001E-4,-2.2220000000000001E-4,0]
[null,null,null,null,null,null,null,null,null,null,null,null,null,null,null,null,null,null,null,null,null,null,null,null,null,null,null,null,0,{"$f":"AVERAGE(#REF!)","v":{"$error":"#REF!"}},-5.6000000000000008E-2,-3.6000000000000004E-2,0.188,-2.1339999999999999,-2.194,9.5240000000000009,-2.2220000000000001E-4,-8.8880000000000003E-4,2.2220000000000001E-4]
[null,null,null,null,null,null,null,null,null,null,null,null,null,null,null,null,null,null,null,null,null,null,null,null,null,null,null,null,0,{"$f":"AVERAGE(#REF!)","v":{"$error":"#REF!"}},-5.7999999999999996E-2,-1.7999999999999999E-2,0.19,-2.1360000000000001,-2.1740000000000004,9.5239999999999991,-1.3332000000000001E-3,-1.5554E-3,0]
[null,null,null,null,null,null,null,null,null,null,null,null,null,null,null,null,null,null,null,null,null,null,null,null,null,null,null,null,0,{"$f":"AVERAGE(#REF!)","v":{"$error":"#REF!"}},-0.06,-4.2000000000000003E-2,0.184,-2.1380000000000003,-2.198,9.5179999999999989,-1.9998000000000004E-3,-1.5554E-3,-4.4440000000000001E-4]
[null,null,null,null,null,null,null,null,null,null,null,null,null,null,null,null,null,null,null,null,null,null,null,null,null,null,null,null,0,{"$f":"AVERAGE(#REF!)","v":{"$error":"#REF!"}},-5.2000000000000005E-2,-5.4000000000000006E-2,0.184,-2.13,-2.21,9.52,-8.8860000000000013E-4,-1.5554E-3,-2.2220000000000001E-4]
[null,null,null,null,null,null,null,null,null,null,null,null,null,null,null,null,null,null,null,null,null,null,null,null,null,null,null,null,0,{"$f":"AVERAGE(#REF!)","v":{"$error":"#REF!"}},-5.800000000000001E-2,-4.5999999999999999E-2,0.16999999999999998,-2.1360000000000001,-2.2000000000000002,9.5060000000000002,2.2240000000000004E-4,-1.111E-3,2.2220000000000001E-4]
[null,null,null,null,null,null,null,null,null,null,null,null,null,null,null,null,null,null,null,null,null,null,null,null,null,null,null,null,0,{"$f":"AVERAGE(#REF!)","v":{"$error":"#REF!"}},-5.6000000000000008E-2,-3.1999999999999994E-2,0.17199999999999999,-2.1360000000000001,-2.1840000000000002,9.5080000000000009,4.4460000000000002E-4,2.2220000000000001E-4,4.4440000000000001E-4]
[null,null,null,null,null,null,null,null,null,null,null,null,null,null,null,null,null,null,null,null,null,null,null,null,null,null,null,null,0,{"$f":"AVERAGE(#REF!)","v":{"$error":"#REF!"}},-0.05,-0.05,0.17599999999999999,-2.13,-2.2039999999999997,9.5139999999999993,8.8900000000000003E-4,8.8880000000000003E-4,0]
[null,null,null,null,null,null,null,null,null,null,null,null,null,null,null,null,null,null,null,null,null,null,null,null,null,null,null,null,0,{"$f":"AVERAGE(#REF!)","v":{"$error":"#REF!"}},-4.8000000000000008E-2,-2.8000000000000004E-2,0.19,-2.1280000000000001,-2.1819999999999999,9.5280000000000005,1.7778000000000002E-3,1.5554E-3,4.4440000000000001E-4]
[null,null,null,null,null,null,null,null,null,null,null,null,null,null,null,null,null,null,null,null,null,null,null,null,null,null,null,null,0,{"$f":"AVERAGE(#REF!)","v":{"$error":"#REF!"}},-6.2000000000000013E-2,-3.3999999999999996E-2,0.186,-2.1419999999999999,-2.1859999999999999,9.5240000000000009,6.6660000000000005E-4,1.5554E-3,2.2220000000000001E-4]
[null,null,null,null,null,null,null,null,null,null,null,null,null,null,null,null,null,null,null,null,null,null,null,null,null,null,null,null,0,{"$f":"AVERAGE(#REF!)","v":{"$error":"#REF!"}},-5.800000000000001E-2,-2.4E-2,0.19800000000000001,-2.1379999999999995,-2.1759999999999997,9.5340000000000007,0,8.8880000000000003E-4,-2.2220000000000001E-4]
[null,null,null,null,null,null,null,null,null,null,null,null,null,null,null,null,null,null,null,null,null,null,null,null,null,null,null,null,0,{"$f":"AVERAGE(#REF!)","v":{"$error":"#REF!"}},-5.5999999999999994E-2,-6.2E-2,0.19,-2.1360000000000001,-2.2160000000000002,9.5259999999999998,1.111E-3,6.6660000000000005E-4,-2.2220000000000001E-4]
[null,null,null,null,null,null,null,null,null,null,null,null,null,null,null,null,null,null,null,null,null,null,null,null,null,null,null,null,0,{"$f":"AVERAGE(#REF!)","v":{"$error":"#REF!"}},-5.7999999999999996E-2,-3.5999999999999997E-2,0.18000000000000002,-2.1380000000000003,-2.1879999999999997,9.5139999999999993,1.3332000000000001E-3,0,4.4440000000000001E-4]
[null,null,null,null,null,null,null,null,null,null,null,null,null,null,null,null,null,null,null,null,null,null,null,null,null,null,null,null,0,{"$f":"AVERAGE(#REF!)","v":{"$error":"#REF!"}},-6.6000000000000003E-2,-4.1999999999999996E-2,0.16399999999999998,-2.1459999999999999,-2.1959999999999997,9.4979999999999993,4.4440000000000001E-4,-4.4440000000000001E-4,2.2220000000000001E-4]
[null,null,null,null,null,null,null,null,null,null,null,null,null,null,null,null,null,null,null,null,null,null,null,null,null,null,null,null,{"$f":"(1609.34/3600)*Delta_Speed","v":0},{"$f":"AVERAGE(#REF!)","v":{"$error":"#REF!"}},-5.7999999999999996E-2,-0.03,0.17399999999999999,-2.1379999999999995,-2.1859999999999999,9.5079999999999991,-4.4440000000000001E-4,0,2.2220000000000001E-4]
[null,null,null,null,null,null,null,null,null,null,null,null,null,null,null,null,null,null,null,null,null,null,null,null,null,null,null,null,0,{"$f":"AVERAGE(#REF!)","v":{"$error":"#REF!"}},-6.4000000000000001E-2,-9.1999999999999998E-2,0.16399999999999998,-2.1439999999999997,-2.2499999999999996,9.5,6.6680000000000005E-4,0,1.111E-3]
[null,null,null,null,null,null,null,null,null,null,null,null,null,null,null,null,null,null,null,null,null,null,null,null,null,null,null,null,0,{"$f":"AVERAGE(#REF!)","v":{"$error":"#REF!"}},-6.2E-2,-6.2000000000000013E-2,0.192,-2.1420000000000003,-2.2199999999999998,9.5280000000000005,6.6680000000000005E-4,0,1.3332000000000001E-3]
[null,null,null,null,null,null,null,null,null,null,null,null,null,null,null,null,null,null,null,null,null,null,null,null,null,null,null,null,0,{"$f":"AVERAGE(#REF!)","v":{"$error":"#REF!"}},-6.8000000000000005E-2,-4.0000000000000008E-2,0.188,-2.1480000000000001,-2.198,9.5259999999999998,1.3334E-3,0,1.3332000000000001E-3]
[null,null,null,null,null,null,null,null,null,null,null,null,null,null,null,null,null,null,null,null,null,null,null,null,null,null,null,null,0,{"$f":"AVERAGE(#REF!)","v":{"$error":"#REF!"}},{"$f":"AVERAGE(Q514:Q518)","v":-0.06},{"$f":"AVERAGE(R514:R518)","v":-3.4000000000000002E-2},{"$f":"AVERAGE(S514:S518)","v":0.20200000000000001},{"$f":"AVERAGE(T514:T518)","v":-2.1399999999999997},{"$f":"AVERAGE(U514:U518)","v":-2.1900000000000004},{"$f":"AVERAGE(V514:V518)","v":9.5400000000000009},{"$f":"AVERAGE(W514:W518)","v":1.3334000000000002E-3},{"$f":"AVERAGE(X514:X518)","v":-4.4440000000000001E-4},{"$f":"AVERAGE(Y514:Y518)","v":4.4440000000000001E-4}]
[null,null,null,null,null,null,null,null,null,null,null,null,null,null,null,null,null,null,null,null,null,null,null,null,null,null,null,null,0,{"$f":"AVERAGE(#REF!)","v":{"$error":"#REF!"}},-5.2000000000000005E-2,-2.0000000000000004E-2,0.19800000000000001,-2.1320000000000001,-2.1740000000000004,9.5360000000000014,2.4444000000000002E-3,-4.4440000000000001E-4,-2.2220000000000001E-4]
[null,null,null,null,null,null,null,null,null,null,null,null,null,null,null,null,null,null,null,null,null,null,null,null,null,null,null,null,0,{"$f":"AVERAGE(#REF!)","v":{"$error":"#REF!"}},-4.8000000000000001E-2,6.9999999999999993E-2,0.20399999999999996,-2.1280000000000001,-2.0819999999999999,9.5400000000000009,1.3332000000000001E-3,0,-1.9998000000000004E-3]
[null,null,null,null,null,null,null,null,null,null,null,null,null,null,null,null,null,null,null,null,null,null,null,null,null,null,null,null,0,{"$f":"AVERAGE(#REF!)","v":{"$error":"#REF!"}},-4.5999999999999999E-2,8.7999999999999995E-2,0.17199999999999999,-2.1259999999999999,-2.06,9.51,6.6660000000000005E-4,-2.2220000000000001E-4,-1.9997999999999999E-3]
[null,null,null,null,null,null,null,null,null,null,null,null,null,null,null,null,null,null,null,null,null,null,null,null,null,null,null,null,0,{"$f":"AVERAGE(#REF!)","v":{"$error":"#REF!"}},-4.5999999999999999E-2,4.8000000000000001E-2,0.17400000000000002,-2.1240000000000001,-2.1019999999999994,9.5119999999999987,2.2220000000000001E-4,0,-2.2219999999999996E-3]
[null,null,null,null,null,null,null,null,null,null,null,null,null,null,null,null,null,null,null,null,null,null,null,null,null,null,null,null,0,{"$f":"AVERAGE(#REF!)","v":{"$error":"#REF!"}},-3.5999999999999997E-2,3.0000000000000006E-2,0.192,-2.1139999999999999,-2.1219999999999999,9.5299999999999994,4.4440000000000001E-4,2.2220000000000001E-4,-1.3332000000000001E-3]
[null,null,null,null,null,null,null,null,null,null,null,null,null,null,null,null,null,null,null,null,null,null,null,null,null,null,null,null,0,{"$f":"AVERAGE(#REF!)","v":{"$error":"#REF!"}},-5.4000000000000006E-2,2.8000000000000004E-2,0.17800000000000002,-2.1320000000000001,-2.1240000000000001,9.516,0,2.2220000000000001E-4,-2.2220000000000001E-4]
[null,null,null,null,null,null,null,null,null,null,null,null,null,null,null,null,null,null,null,null,null,null,null,null,null,null,null,null,0,{"$f":"AVERAGE(#REF!)","v":{"$error":"#REF!"}},-6.0000000000000012E-2,-8.0000000000000002E-3,0.18600000000000003,-2.1360000000000001,-2.1619999999999999,9.5240000000000009,0,4.4440000000000001E-4,8.8880000000000003E-4]
[null,null,null,null,null,null,null,null,null,null,null,null,null,null,null,null,null,null,null,null,null,null,null,null,null,null,null,null,0,{"$f":"AVERAGE(#REF!)","v":{"$error":"#REF!"}},-6.9999999999999993E-2,-0.04,0.192,-2.1440000000000001,-2.198,9.5280000000000005,0,2.2220000000000001E-4,1.111E-3]
[null,null,null,null,null,null,null,null,null,null,null,null,null,null,null,null,null,null,null,null,null,null,null,null,null,null,null,null,0,{"$f":"AVERAGE(#REF!)","v":{"$error":"#REF!"}},-0.05,-0.08,0.22600000000000003,-2.1240000000000001,-2.2380000000000004,9.5620000000000012,4.4440000000000001E-4,-6.6660000000000005E-4,1.9998000000000004E-3]
[null,null,null,null,null,null,null,null,null,null,null,null,null,null,null,null,null,null,null,null,null,null,null,null,null,null,null,null,0,{"$f":"AVERAGE(#REF!)","v":{"$error":"#REF!"}},-5.6000000000000008E-2,-3.5999999999999997E-2,0.19,-2.13,-2.1920000000000002,9.5259999999999998,2E-3,2.2220000000000001E-4,-6.6679999999999973E-4]
[null,null,null,null,null,null,null,null,null,null,null,null,null,null,null,null,null,null,null,null,null,null,null,null,null,null,null,null,0,{"$f":"AVERAGE(#REF!)","v":{"$error":"#REF!"}},-5.2000000000000005E-2,-8.0000000000000019E-3,0.19600000000000001,-2.1260000000000003,-2.1619999999999999,9.532,3.9999999999999992E-3,-1.3334E-3,-1.9999999999999996E-3]
[null,null,null,null,null,null,null,null,null,null,null,null,null,null,null,null,null,null,null,null,null,null,null,null,null,null,null,null,0,{"$f":"AVERAGE(#REF!)","v":{"$error":"#REF!"}},-4.3999999999999997E-2,8.0000000000000019E-3,0.19400000000000001,-2.1220000000000003,-2.1420000000000003,9.532,2.8887999999999995E-3,-2.0000000000000005E-3,-3.3334000000000003E-3]
[null,null,null,null,null,null,null,null,null,null,null,null,null,null,null,null,null,null,null,null,null,null,null,null,null,null,null,null,0,{"$f":"AVERAGE(#REF!)","v":{"$error":"#REF!"}},-1.2E-2,9.1999999999999998E-2,0.20800000000000002,-2.0900000000000003,-2.052,9.5479999999999983,-1.5556000000000003E-3,-2.2222000000000001E-3,-1.04444E-2]
[null,null,null,null,null,null,null,null,null,null,null,null,null,null,null,null,null,null,null,null,null,null,null,null,null,null,null,null,0,{"$f":"AVERAGE(#REF!)","v":{"$error":"#REF!"}},-1.3999999999999999E-2,0.16999999999999998,0.15999999999999998,-2.0920000000000001,-1.97,9.4999999999999982,-6.4444000000000003E-3,-2.2220000000000001E-4,-1.8888800000000001E-2]
[null,null,null,null,null,null,null,null,null,null,null,null,null,null,null,null,null,null,null,null,null,null,null,null,null,null,null,null,0,{"$f":"AVERAGE(#REF!)","v":{"$error":"#REF!"}},-1.7999999999999999E-2,0.13399999999999998,0.13999999999999999,-2.0940000000000003,-2.008,9.477999999999998,-1.0889000000000001E-2,-1.3332000000000001E-3,-2.2666600000000002E-2]
[null,null,null,null,null,null,null,null,null,null,null,null,null,null,null,null,null,null,null,null,null,null,null,null,null,null,null,null,0,{"$f":"AVERAGE(#REF!)","v":{"$error":"#REF!"}},-3.0000000000000006E-2,0.16799999999999998,0.13400000000000001,-2.1040000000000001,-1.9780000000000002,9.4719999999999995,-1.9555599999999999E-2,-6.6639999999999994E-4,-2.8666599999999997E-2]
[null,null,null,null,null,null,null,null,null,null,null,null,null,null,null,null,null,null,null,null,null,null,null,null,null,null,null,null,0,{"$f":"AVERAGE(#REF!)","v":{"$error":"#REF!"}},-5.6000000000000008E-2,0.25800000000000001,0.16799999999999998,-2.1259999999999999,-1.8960000000000001,9.5039999999999996,-2.9333199999999997E-2,-2.6664000000000002E-3,-3.8666600000000002E-2]
[null,null,null,null,null,null,null,null,null,null,null,null,null,null,null,null,null,null,null,null,null,null,null,null,null,null,null,null,0,{"$f":"AVERAGE(#REF!)","v":{"$error":"#REF!"}},-9.4E-2,0.18,0.21000000000000002,-2.1639999999999997,-1.9920000000000002,9.5440000000000005,-4.0666599999999997E-2,-2.4441999999999997E-3,-4.6888799999999994E-2]
[null,null,null,null,null,null,null,null,null,null,null,null,null,null,null,null,null,null,null,null,null,null,null,null,null,null,null,null,0,{"$f":"AVERAGE(#REF!)","v":{"$error":"#REF!"}},-0.16999999999999998,6.0000000000000053E-3,0.152,-2.238,-2.1879999999999997,9.48,-4.9333200000000001E-2,-5.1110000000000001E-3,-5.4666599999999996E-2]
[null,null,null,null,null,null,null,null,null,null,null,null,null,null,null,null,null,null,null,null,null,null,null,null,null,null,null,null,0,{"$f":"AVERAGE(#REF!)","v":{"$error":"#REF!"}},-3.6000000000000011E-2,0.16800000000000001,0.30199999999999999,-2.0960000000000001,-2.0499999999999998,9.6280000000000001,-6.0221999999999998E-2,-7.5553999999999994E-3,-5.9111000000000004E-2]
[null,null,null,null,null,null,null,null,null,null,null,null,null,null,null,null,null,null,null,null,null,null,null,null,null,null,null,null,0,{"$f":"AVERAGE(#REF!)","v":{"$error":"#REF!"}},5.2000000000000011E-2,0.04,0.21200000000000002,-2,-2.21,9.5280000000000005,-6.1777600000000002E-2,-3.7776000000000003E-3,-6.9777800000000001E-2]
[null,null,null,null,null,null,null,null,null,null,null,null,null,null,null,null,null,null,null,null,null,null,null,null,null,null,null,null,0,{"$f":"AVERAGE(#REF!)","v":{"$error":"#REF!"}},5.6000000000000008E-2,6.2E-2,0.26600000000000001,-1.986,-2.2220000000000004,9.5760000000000005,-6.5333200000000008E-2,-1.5553999999999998E-3,-7.0888800000000002E-2]
[null,null,null,null,null,null,null,null,null,null,null,null,null,null,null,null,null,null,null,null,null,null,null,null,null,null,null,null,0,{"$f":"AVERAGE(#REF!)","v":{"$error":"#REF!"}},5.6000000000000008E-2,0.21000000000000002,0.21000000000000002,-1.9760000000000002,-2.1080000000000001,9.5120000000000005,-6.4666399999999999E-2,3.7780000000000001E-3,-7.8666600000000003E-2]
[null,null,null,null,null,null,null,null,null,null,null,null,null,null,null,null,null,null,null,null,null,null,null,null,null,null,null,null,0,{"$f":"AVERAGE(#REF!)","v":{"$error":"#REF!"}},9.5999999999999974E-2,0.32599999999999996,7.1999999999999995E-2,-1.9280000000000002,-2.028,9.3659999999999997,-6.3777600000000004E-2,6.4447999999999988E-3,-8.6444400000000005E-2]
[null,null,null,null,null,null,null,null,null,null,null,null,null,null,null,null,null,null,null,null,null,null,null,null,null,null,null,null,0,{"$f":"AVERAGE(#REF!)","v":{"$error":"#REF!"}},-2.4E-2,4.8000000000000001E-2,5.800000000000001E-2,-2.0420000000000003,-2.3420000000000001,9.3439999999999994,-5.7999800000000004E-2,9.1113999999999987E-3,-9.3111199999999991E-2]
[null,null,null,null,null,null,null,null,null,null,null,null,null,null,null,null,null,null,null,null,null,null,null,null,null,null,null,null,0,{"$f":"AVERAGE(#REF!)","v":{"$error":"#REF!"}},-7.0000000000000007E-2,3.599999999999999E-2,9.8000000000000018E-2,-2.08,-2.3880000000000003,9.3780000000000001,-5.2222000000000005E-2,8.4446E-3,-9.4889000000000015E-2]
[null,null,null,null,null,null,null,null,null,null,null,null,null,null,null,null,null,null,null,null,null,null,null,null,null,null,null,null,0,{"$f":"AVERAGE(#REF!)","v":{"$error":"#REF!"}},-7.3999999999999996E-2,-0.61599999999999999,-4.7999999999999987E-2,-2.0780000000000003,-3.0659999999999998,9.2240000000000002,-2.3111000000000007E-2,9.5557999999999997E-3,-8.6666800000000016E-2]
[null,null,null,null,null,null,null,null,null,null,null,null,null,null,null,null,null,null,null,null,null,null,null,null,null,null,null,null,0,{"$f":"AVERAGE(#REF!)","v":{"$error":"#REF!"}},6.7999999999999991E-2,-0.77799999999999991,-3.7999999999999985E-2,-1.9280000000000002,-3.2399999999999998,9.2339999999999982,1.3777799999999998E-2,1.1111999999999997E-3,-4.8000200000000007E-2]
[null,null,null,null,null,null,null,null,null,null,null,null,null,null,null,null,null,null,null,null,null,null,null,null,null,null,null,null,0,{"$f":"AVERAGE(#REF!)","v":{"$error":"#REF!"}},-1.5999999999999993E-2,-0.59999999999999987,0.13200000000000001,-2.008,-3.0520000000000005,9.4079999999999995,0.04,-1.1112000000000001E-3,-1.0666799999999995E-2]
[null,null,null,null,null,null,null,null,null,null,null,null,null,null,null,null,null,null,null,null,null,null,null,null,null,null,null,null,0,{"$f":"AVERAGE(#REF!)","v":{"$error":"#REF!"}},-7.9999999999999988E-2,-0.14799999999999996,7.8E-2,-2.0739999999999998,-2.5780000000000003,9.36,4.9110999999999995E-2,-3.3334000000000003E-3,1.33332E-2]
[null,null,null,null,null,null,null,null,null,null,null,null,null,null,null,null,null,null,null,null,null,null,null,null,null,null,null,null,0,{"$f":"AVERAGE(#REF!)","v":{"$error":"#REF!"}},-2.4E-2,-1.9999999999999973E-2,0.16200000000000001,-2.0179999999999998,-2.4240000000000004,9.452,4.3333200000000002E-2,-8.4444000000000012E-3,3.04444E-2]
[null,null,null,null,null,null,null,null,null,null,null,null,null,null,null,null,null,null,null,null,null,null,null,null,null,null,null,null,0,{"$f":"AVERAGE(#REF!)","v":{"$error":"#REF!"}},0.02,0.35600000000000004,0.19200000000000003,-1.9739999999999998,-2.0300000000000002,9.49,2.3111E-2,-9.7777999999999997E-3,3.2444399999999998E-2]
[null,null,null,null,null,null,null,null,null,null,null,null,null,null,null,null,null,null,null,null,null,null,null,null,null,null,null,null,0,{"$f":"AVERAGE(#REF!)","v":{"$error":"#REF!"}},-7.7999999999999986E-2,0.17399999999999993,0.14199999999999999,-2.0760000000000001,-2.2000000000000002,9.44,6.2221999999999989E-3,-5.7778000000000005E-3,1.7777800000000003E-2]
[null,null,null,null,null,null,null,null,null,null,null,null,null,null,null,null,null,null,null,null,null,null,null,null,null,null,null,null,0,{"$f":"AVERAGE(#REF!)","v":{"$error":"#REF!"}},6.4000000000000001E-2,-1.4000000000000023E-2,0.21400000000000002,-1.9340000000000004,-2.3860000000000001,9.5139999999999993,3.7777999999999978E-3,-3.3332000000000006E-3,8.6666E-3]
[null,null,null,null,null,null,null,null,null,null,null,null,null,null,null,null,null,null,null,null,null,null,null,null,null,null,null,null,0,{"$f":"AVERAGE(#REF!)","v":{"$error":"#REF!"}},6.4000000000000001E-2,-0.25600000000000001,0.16399999999999998,-1.9339999999999999,-2.6260000000000003,9.4640000000000004,1.1555599999999997E-2,-1.1109999999999998E-3,7.3334000000000012E-3]
[null,null,null,null,null,null,null,null,null,null,null,null,null,null,null,null,null,null,null,null,null,null,null,null,null,null,null,null,0,{"$f":"AVERAGE(#REF!)","v":{"$error":"#REF!"}},-3.599999999999999E-2,-0.17599999999999999,0.13999999999999999,-2.0379999999999998,-2.5380000000000003,9.4420000000000002,2.06666E-2,1.7778000000000002E-3,1.1555600000000001E-2]
[null,null,null,null,null,null,null,null,null,null,null,null,null,null,null,null,null,null,null,null,null,null,null,null,null,null,null,null,0,{"$f":"AVERAGE(#REF!)","v":{"$error":"#REF!"}},-3.9999999999999994E-2,2.1999999999999999E-2,0.17800000000000002,-2.044,-2.3240000000000003,9.4819999999999993,2.06666E-2,2.0000000000000005E-3,1.2222199999999999E-2]
[null,null,null,null,null,null,null,null,null,null,null,null,null,null,null,null,null,null,null,null,null,null,null,null,null,null,null,null,0,{"$f":"AVERAGE(#REF!)","v":{"$error":"#REF!"}},-5.9999999999999984E-2,0.10599999999999998,0.186,-2.0680000000000001,-2.2280000000000002,9.4940000000000015,1.1999800000000001E-2,2.2221999999999997E-3,1.0222200000000001E-2]
[null,null,null,null,null,null,null,null,null,null,null,null,null,null,null,null,null,null,null,null,null,null,null,null,null,null,null,null,0,{"$f":"AVERAGE(#REF!)","v":{"$error":"#REF!"}},-6.5999999999999989E-2,4.8000000000000022E-2,0.16,-2.0760000000000001,-2.278,9.4700000000000006,1.9998000000000012E-3,8.8880000000000003E-4,6.8889999999999993E-3]
[null,null,null,null,null,null,null,null,null,null,null,null,null,null,null,null,null,null,null,null,null,null,null,null,null,null,null,null,0,{"$f":"AVERAGE(#REF!)","v":{"$error":"#REF!"}},-1.9999999999999996E-3,-5.7999999999999982E-2,0.16400000000000001,-2.0100000000000002,-2.3820000000000001,9.4760000000000009,-2.8889999999999992E-3,2.2221999999999997E-3,3.1112000000000002E-3]
[null,null,null,null,null,null,null,null,null,null,null,null,null,null,null,null,null,null,null,null,null,null,null,null,null,null,null,null,0,{"$f":"AVERAGE(#REF!)","v":{"$error":"#REF!"}},1.0000000000000004E-2,-0.17599999999999999,0.16400000000000001,-1.998,-2.4980000000000002,9.4760000000000009,0,2.2221999999999997E-3,2.4445999999999999E-3]
[null,null,null,null,null,null,null,null,null,null,null,null,null,null,null,null,null,null,null,null,null,null,null,null,null,null,null,null,0,{"$f":"AVERAGE(#REF!)","v":{"$error":"#REF!"}},-5.9999999999999967E-3,-0.19800000000000001,0.17200000000000001,-2.016,-2.52,9.484,4.2221999999999997E-3,2.8887999999999995E-3,4.2223999999999994E-3]
[null,null,null,null,null,null,null,null,null,null,null,null,null,null,null,null,null,null,null,null,null,null,null,null,null,null,null,null,0,{"$f":"AVERAGE(#REF!)","v":{"$error":"#REF!"}},-1.7999999999999995E-2,-9.8000000000000004E-2,0.20800000000000002,-2.0260000000000002,-2.4180000000000001,9.5219999999999985,5.3334000000000003E-3,2E-3,4.4445999999999999E-3]
[null,null,null,null,null,null,null,null,null,null,null,null,null,null,null,null,null,null,null,null,null,null,null,null,null,null,null,null,0,{"$f":"AVERAGE(#REF!)","v":{"$error":"#REF!"}},-3.7999999999999999E-2,-0.05,0.20200000000000001,-2.0460000000000003,-2.3679999999999999,9.5180000000000007,2.4443999999999998E-3,1.5556000000000001E-3,2.8890000000000001E-3]
[null,null,null,null,null,null,null,null,null,null,null,null,null,null,null,null,null,null,null,null,null,null,null,null,null,null,null,null,0,{"$f":"AVERAGE(#REF!)","v":{"$error":"#REF!"}},-4.3999999999999997E-2,-7.1999999999999995E-2,0.20200000000000001,-2.0539999999999998,-2.3899999999999997,9.516,-4.4460000000000018E-4,4.4440000000000001E-4,2.6668000000000004E-3]
[null,null,null,null,null,null,null,null,null,null,null,null,null,null,null,null,null,null,null,null,null,null,null,null,null,null,null,null,0,{"$f":"AVERAGE(#REF!)","v":{"$error":"#REF!"}},-3.5999999999999997E-2,-0.11000000000000001,0.2,-2.0439999999999996,-2.4319999999999999,9.5140000000000011,-2.0002000000000002E-3,6.6660000000000005E-4,2.8890000000000001E-3]
[null,null,null,null,null,null,null,null,null,null,null,null,null,null,null,null,null,null,null,null,null,null,null,null,null,null,null,null,0,{"$f":"AVERAGE(#REF!)","v":{"$error":"#REF!"}},-3.7999999999999999E-2,-0.13799999999999998,0.16599999999999998,-2.0439999999999996,-2.464,9.48,2.2199999999999962E-4,0,3.3334000000000003E-3]
[null,null,null,null,null,null,null,null,null,null,null,null,null,null,null,null,null,null,null,null,null,null,null,null,null,null,null,null,0,{"$f":"AVERAGE(#REF!)","v":{"$error":"#REF!"}},-2.6000000000000002E-2,-0.128,0.16800000000000001,-2.0299999999999998,-2.4559999999999995,9.48,1.7776000000000001E-3,-4.4440000000000001E-4,4.000000000000001E-3]
[null,null,null,null,null,null,null,null,null,null,null,null,null,null,null,null,null,null,null,null,null,null,null,null,null,null,null,null,0,{"$f":"AVERAGE(#REF!)","v":{"$error":"#REF!"}},-2.6000000000000002E-2,-0.10999999999999999,0.188,-2.028,-2.44,9.4979999999999993,1.7776000000000003E-3,4.4440000000000001E-4,4.000000000000001E-3]
[null,null,null,null,null,null,null,null,null,null,null,null,null,null,null,null,null,null,null,null,null,null,null,null,null,null,null,null,0,{"$f":"AVERAGE(#REF!)","v":{"$error":"#REF!"}},-3.2000000000000001E-2,-0.11799999999999999,0.192,-2.032,-2.448,9.5019999999999989,1.5554E-3,2.2220000000000001E-4,3.7776000000000003E-3]
[null,null,null,null,null,null,null,null,null,null,null,null,null,null,null,null,null,null,null,null,null,null,null,null,null,null,null,null,0,{"$f":"AVERAGE(#REF!)","v":{"$error":"#REF!"}},-4.8000000000000001E-2,-0.16,0.186,-2.0499999999999998,-2.4899999999999998,9.4959999999999987,1.111E-3,-6.6660000000000005E-4,3.1107999999999999E-3]
[null,null,null,null,null,null,null,null,null,null,null,null,null,null,null,null,null,null,null,null,null,null,null,null,null,null,null,null,0,{"$f":"AVERAGE(#REF!)","v":{"$error":"#REF!"}},-4.5999999999999999E-2,-0.17399999999999999,0.19,-2.048,-2.504,9.5,1.111E-3,-8.8880000000000003E-4,2.6664000000000002E-3]
[null,null,null,null,null,null,null,null,null,null,null,null,null,null,null,null,null,null,null,null,null,null,null,null,null,null,null,null,0,{"$f":"AVERAGE(#REF!)","v":{"$error":"#REF!"}},-0.05,-0.13799999999999998,0.192,-2.0539999999999998,-2.468,9.5019999999999989,1.3332000000000001E-3,-4.4440000000000001E-4,2.222E-3]
[null,null,null,null,null,null,null,null,null,null,null,null,null,null,null,null,null,null,null,null,null,null,null,null,null,null,null,null,0,{"$f":"AVERAGE(#REF!)","v":{"$error":"#REF!"}},-0.05,-0.126,0.17199999999999999,-2.056,-2.456,9.4839999999999982,1.3332000000000001E-3,-1.111E-3,2.8886000000000003E-3]
[null,null,null,null,null,null,null,null,null,null,null,null,null,null,null,null,null,null,null,null,null,null,null,null,null,null,null,null,0,{"$f":"AVERAGE(#REF!)","v":{"$error":"#REF!"}},-4.1999999999999996E-2,-0.10600000000000001,0.17400000000000002,-2.0499999999999998,-2.4360000000000004,9.4860000000000007,-6.6679999999999984E-4,-6.6660000000000005E-4,1.9998000000000004E-3]
[null,null,null,null,null,null,null,null,null,null,null,null,null,null,null,null,null,null,null,null,null,null,null,null,null,null,null,null,0,{"$f":"AVERAGE(#REF!)","v":{"$error":"#REF!"}},-1.6E-2,-7.3999999999999996E-2,0.17599999999999999,-2.02,-2.4059999999999997,9.4879999999999995,-1.5558E-3,0,1.3332000000000001E-3]
[null,null,null,null,null,null,null,null,null,null,null,null,null,null,null,null,null,null,null,null,null,null,null,null,null,null,null,null,0,{"$f":"AVERAGE(#REF!)","v":{"$error":"#REF!"}},-0.01,-9.2000000000000012E-2,0.17400000000000002,-2.0139999999999998,-2.4260000000000002,9.4860000000000007,-1.1112000000000001E-3,6.6660000000000005E-4,1.7776000000000001E-3]
[null,null,null,null,null,null,null,null,null,null,null,null,null,null,null,null,null,null,null,null,null,null,null,null,null,null,null,null,0,{"$f":"AVERAGE(#REF!)","v":{"$error":"#REF!"}},-1.2E-2,-0.13600000000000001,0.17599999999999999,-2.0139999999999998,-2.4739999999999998,9.4879999999999995,1.1109999999999996E-3,1.111E-3,3.1110000000000001E-3]
[null,null,null,null,null,null,null,null,null,null,null,null,null,null,null,null,null,null,null,null,null,null,null,null,null,null,null,null,0,{"$f":"AVERAGE(#REF!)","v":{"$error":"#REF!"}},-2.6000000000000002E-2,-0.11799999999999999,0.17599999999999999,-2.0279999999999996,-2.456,9.4860000000000007,2.6665999999999999E-3,1.3332000000000001E-3,3.1110000000000001E-3]
[null,null,null,null,null,null,null,null,null,null,null,null,null,null,null,null,null,null,null,null,null,null,null,null,null,null,null,null,{"$f":"(1609.34/3600)*Delta_Speed","v":0},{"$f":"AVERAGE(#REF!)","v":{"$error":"#REF!"}},-0.03,-8.4000000000000005E-2,0.182,-2.0319999999999996,-2.4219999999999997,9.4920000000000009,3.1112000000000006E-3,1.111E-3,2.4444000000000002E-3]
[null,null,null,null,null,null,null,null,null,null,null,null,null,null,null,null,null,null,null,null,null,null,null,null,null,null,null,null,0,{"$f":"AVERAGE(#REF!)","v":{"$error":"#REF!"}},-2.6000000000000002E-2,-8.7999999999999995E-2,0.18,-2.028,-2.4259999999999997,9.49,2.4446000000000003E-3,6.6660000000000005E-4,1.3333999999999998E-3]
[null,null,null,null,null,null,null,null,null,null,null,null,null,null,null,null,null,null,null,null,null,null,null,null,null,null,null,null,0,{"$f":"AVERAGE(#REF!)","v":{"$error":"#REF!"}},-2.8000000000000004E-2,-8.6000000000000007E-2,0.19800000000000001,-2.032,-2.4239999999999999,9.5079999999999991,1.7778000000000002E-3,-2.2220000000000001E-4,4.4460000000000002E-4]
[null,null,null,null,null,null,null,null,null,null,null,null,null,null,null,null,null,null,null,null,null,null,null,null,null,null,null,null,0,{"$f":"AVERAGE(#REF!)","v":{"$error":"#REF!"}},-3.4000000000000002E-2,-8.3999999999999991E-2,0.20200000000000001,-2.0379999999999998,-2.4219999999999997,9.5120000000000005,1.3334E-3,-6.6660000000000005E-4,-6.6660000000000005E-4]
[null,null,null,null,null,null,null,null,null,null,null,null,null,null,null,null,null,null,null,null,null,null,null,null,null,null,null,null,0,{"$f":"AVERAGE(#REF!)","v":{"$error":"#REF!"}},{"$f":"AVERAGE(Q578:Q582)","v":-2.6000000000000002E-2},{"$f":"AVERAGE(R578:R582)","v":-9.6000000000000002E-2},{"$f":"AVERAGE(S578:S582)","v":0.20800000000000002},{"$f":"AVERAGE(T578:T582)","v":-2.0279999999999996},{"$f":"AVERAGE(U578:U582)","v":-2.4359999999999999},{"$f":"AVERAGE(V578:V582)","v":9.516},{"$f":"AVERAGE(W578:W582)","v":1.3334E-3},{"$f":"AVERAGE(X578:X582)","v":-6.6660000000000005E-4},{"$f":"AVERAGE(Y578:Y582)","v":-1.5554E-3}]
[null,null,null,null,null,null,null,null,null,null,null,null,null,null,null,null,null,null,null,null,null,null,null,null,null,null,null,null,0,{"$f":"AVERAGE(#REF!)","v":{"$error":"#REF!"}},-1.7999999999999999E-2,-0.11000000000000001,0.20200000000000001,-2.0179999999999998,-2.4539999999999997,9.5100000000000016,2.6666000000000003E-3,-1.3332000000000001E-3,-1.3332000000000001E-3]
[null,null,null,null,null,null,null,null,null,null,null,null,null,null,null,null,null,null,null,null,null,null,null,null,null,null,null,null,0,{"$f":"AVERAGE(#REF!)","v":{"$error":"#REF!"}},-0.03,-7.3999999999999996E-2,0.20199999999999996,-2.032,-2.42,9.51,3.7778000000000004E-3,-1.3332000000000001E-3,-6.6660000000000005E-4]
[null,null,null,null,null,null,null,null,null,null,null,null,null,null,null,null,null,null,null,null,null,null,null,null,null,null,null,null,0,{"$f":"AVERAGE(#REF!)","v":{"$error":"#REF!"}},-3.5999999999999997E-2,-4.5999999999999999E-2,0.2,-2.0379999999999998,-2.3939999999999997,9.5079999999999991,2.8890000000000001E-3,-1.3332000000000001E-3,-1.3332000000000001E-3]
[null,null,null,null,null,null,null,null,null,null,null,null,null,null,null,null,null,null,null,null,null,null,null,null,null,null,null,null,0,{"$f":"AVERAGE(#REF!)","v":{"$error":"#REF!"}},-2.6000000000000002E-2,-5.2000000000000005E-2,0.17399999999999999,-2.0299999999999998,-2.4,9.4799999999999986,1.1112000000000001E-3,-1.5554E-3,-2.4441999999999997E-3]
[null,null,null,null,null,null,null,null,null,null,null,null,null,null,null,null,null,null,null,null,null,null,null,null,null,null,null,null,0,{"$f":"AVERAGE(#REF!)","v":{"$error":"#REF!"}},-2.4E-2,-7.3999999999999996E-2,0.16600000000000001,-2.0299999999999998,-2.4239999999999999,9.4740000000000002,2.2240000000000004E-4,-1.9998000000000004E-3,-2.222E-3]
[null,null,null,null,null,null,null,null,null,null,null,null,null,null,null,null,null,null,null,null,null,null,null,null,null,null,null,null,0,{"$f":"AVERAGE(#REF!)","v":{"$error":"#REF!"}},-3.6000000000000004E-2,-8.8000000000000009E-2,0.14799999999999999,-2.0420000000000003,-2.4380000000000002,9.4559999999999995,6.6680000000000005E-4,-1.5554E-3,-1.111E-3]
[null,null,null,null,null,null,null,null,null,null,null,null,null,null,null,null,null,null,null,null,null,null,null,null,null,null,null,null,0,{"$f":"AVERAGE(#REF!)","v":{"$error":"#REF!"}},-2.8000000000000004E-2,-8.6000000000000007E-2,0.152,-2.0339999999999998,-2.4379999999999997,9.4600000000000009,2.2220000000000001E-4,-6.6660000000000005E-4,-6.6660000000000005E-4]
[null,null,null,null,null,null,null,null,null,null,null,null,null,null,null,null,null,null,null,null,null,null,null,null,null,null,null,null,0,{"$f":"AVERAGE(#REF!)","v":{"$error":"#REF!"}},-2.4E-2,-9.8000000000000004E-2,0.156,-2.028,-2.452,9.4640000000000022,0,0,2.2220000000000001E-4]
[null,null,null,null,null,null,null,null,null,null,null,null,null,null,null,null,null,null,null,null,null,null,null,null,null,null,null,null,0,{"$f":"AVERAGE(#REF!)","v":{"$error":"#REF!"}},-0.03,-0.10800000000000001,0.17400000000000002,-2.032,-2.4619999999999997,9.4820000000000011,6.6660000000000005E-4,6.6660000000000005E-4,1.3332000000000001E-3]
[null,null,null,null,null,null,null,null,null,null,null,null,null,null,null,null,null,null,null,null,null,null,null,null,null,null,null,null,0,{"$f":"AVERAGE(#REF!)","v":{"$error":"#REF!"}},-2.6000000000000002E-2,-8.5999999999999993E-2,0.182,-2.0279999999999996,-2.44,9.4899999999999984,1.7776000000000001E-3,4.4440000000000001E-4,2.222E-3]
[null,null,null,null,null,null,null,null,null,null,null,null,null,null,null,null,null,null,null,null,null,null,null,null,null,null,null,null,0,{"$f":"AVERAGE(#REF!)","v":{"$error":"#REF!"}},-2.8000000000000004E-2,-8.199999999999999E-2,0.19,-2.0299999999999998,-2.4359999999999999,9.4980000000000011,2.2221999999999997E-3,8.8880000000000003E-4,1.5554E-3]
[null,null,null,null,null,null,null,null,null,null,null,null,null,null,null,null,null,null,null,null,null,null,null,null,null,null,null,null,0,{"$f":"AVERAGE(#REF!)","v":{"$error":"#REF!"}},-3.7999999999999999E-2,-7.5999999999999998E-2,0.20200000000000004,-2.04,-2.4279999999999999,9.51,2.2221999999999997E-3,2.2220000000000001E-4,1.5554E-3]
[null,null,null,null,null,null,null,null,null,null,null,null,null,null,null,null,null,null,null,null,null,null,null,null,null,null,null,null,0,{"$f":"AVERAGE(#REF!)","v":{"$error":"#REF!"}},-3.6000000000000004E-2,-3.8000000000000013E-2,0.19400000000000001,-2.0379999999999994,-2.3860000000000001,9.5019999999999989,2.0000000000000005E-3,0,1.111E-3]
[null,null,null,null,null,null,null,null,null,null,null,null,null,null,null,null,null,null,null,null,null,null,null,null,null,null,null,null,0,{"$f":"AVERAGE(#REF!)","v":{"$error":"#REF!"}},-3.4000000000000002E-2,-1.7999999999999995E-2,0.17599999999999999,-2.0359999999999996,-2.3660000000000001,9.4860000000000007,2.2220000000000052E-4,-4.4440000000000001E-4,6.6660000000000005E-4]
[null,null,null,null,null,null,null,null,null,null,null,null,null,null,null,null,null,null,null,null,null,null,null,null,null,null,null,null,0,{"$f":"AVERAGE(#REF!)","v":{"$error":"#REF!"}},-3.4000000000000002E-2,-4.3999999999999997E-2,0.17200000000000001,-2.036,-2.3920000000000003,9.4820000000000011,-8.8879999999999981E-4,4.4440000000000001E-4,-4.4440000000000001E-4]
[null,null,null,null,null,null,null,null,null,null,null,null,null,null,null,null,null,null,null,null,null,null,null,null,null,null,null,null,0,{"$f":"AVERAGE(#REF!)","v":{"$error":"#REF!"}},-3.3999999999999996E-2,-5.4000000000000006E-2,0.17399999999999999,-2.036,-2.4020000000000001,9.484,-1.7778E-3,4.4440000000000001E-4,-2.2220000000000001E-4]
[null,null,null,null,null,null,null,null,null,null,null,null,null,null,null,null,null,null,null,null,null,null,null,null,null,null,null,null,0,{"$f":"AVERAGE(#REF!)","v":{"$error":"#REF!"}},-3.2000000000000001E-2,-0.08,0.17399999999999999,-2.0339999999999998,-2.4300000000000006,9.484,-2.4444000000000002E-3,6.6660000000000005E-4,-2.2220000000000001E-4]
[null,null,null,null,null,null,null,null,null,null,null,null,null,null,null,null,null,null,null,null,null,null,null,null,null,null,null,null,0,{"$f":"AVERAGE(#REF!)","v":{"$error":"#REF!"}},-3.2000000000000001E-2,-9.8000000000000004E-2,0.17799999999999999,-2.0339999999999998,-2.448,9.4860000000000007,-1.7778E-3,4.4440000000000001E-4,4.4440000000000001E-4]
[null,null,null,null,null,null,null,null,null,null,null,null,null,null,null,null,null,null,null,null,null,null,null,null,null,null,null,null,0,{"$f":"AVERAGE(#REF!)","v":{"$error":"#REF!"}},-3.7999999999999999E-2,-9.5999999999999988E-2,0.19,-2.04,-2.4460000000000002,9.4980000000000011,-4.4440000000000001E-4,6.6660000000000005E-4,4.4440000000000001E-4]
[null,null,null,null,null,null,null,null,null,null,null,null,null,null,null,null,null,null,null,null,null,null,null,null,null,null,null,null,0,{"$f":"AVERAGE(#REF!)","v":{"$error":"#REF!"}},-4.5999999999999999E-2,-9.0000000000000011E-2,0.17400000000000002,-2.0460000000000003,-2.44,9.48,-8.8880000000000003E-4,-4.4440000000000001E-4,4.4440000000000001E-4]
[null,null,null,null,null,null,null,null,null,null,null,null,null,null,null,null,null,null,null,null,null,null,null,null,null,null,null,null,0,{"$f":"AVERAGE(#REF!)","v":{"$error":"#REF!"}},-3.6000000000000004E-2,-8.8000000000000009E-2,0.18,-2.036,-2.4379999999999997,9.4860000000000007,-8.8880000000000003E-4,-6.6660000000000005E-4,8.8880000000000003E-4]
[null,null,null,null,null,null,null,null,null,null,null,null,null,null,null,null,null,null,null,null,null,null,null,null,null,null,null,null,0,{"$f":"AVERAGE(#REF!)","v":{"$error":"#REF!"}},-3.4000000000000002E-2,-8.3999999999999991E-2,0.18,-2.0339999999999998,-2.4319999999999999,9.4860000000000007,-4.4440000000000001E-4,-1.111E-3,6.6660000000000005E-4]
[null,null,null,null,null,null,null,null,null,null,null,null,null,null,null,null,null,null,null,null,null,null,null,null,null,null,null,null,0,{"$f":"AVERAGE(#REF!)","v":{"$error":"#REF!"}},-3.2000000000000001E-2,-0.10200000000000001,0.186,-2.0319999999999996,-2.452,9.4920000000000009,2.2220000000000001E-4,-8.8880000000000003E-4,0]
[null,null,null,null,null,null,null,null,null,null,null,null,null,null,null,null,null,null,null,null,null,null,null,null,null,null,null,null,0,{"$f":"AVERAGE(#REF!)","v":{"$error":"#REF!"}},-3.0000000000000006E-2,-0.10800000000000001,0.184,-2.032,-2.4579999999999997,9.4899999999999984,2.2220000000000001E-4,-1.5554E-3,-2.2220000000000001E-4]
[null,null,null,null,null,null,null,null,null,null,null,null,null,null,null,null,null,null,null,null,null,null,null,null,null,null,null,null,0,{"$f":"AVERAGE(#REF!)","v":{"$error":"#REF!"}},-2.8000000000000004E-2,-0.10800000000000001,0.19800000000000001,-2.0299999999999998,-2.4579999999999997,9.5060000000000002,1.7776000000000001E-3,-4.4440000000000001E-4,-2.2220000000000001E-4]
[null,null,null,null,null,null,null,null,null,null,null,null,null,null,null,null,null,null,null,null,null,null,null,null,null,null,null,null,0,{"$f":"AVERAGE(#REF!)","v":{"$error":"#REF!"}},-2.8000000000000004E-2,-0.10400000000000001,0.2,-2.0299999999999998,-2.4539999999999997,9.5079999999999991,2.6666000000000003E-3,2.2220000000000001E-4,-6.6660000000000005E-4]
[null,null,null,null,null,null,null,null,null,null,null,null,null,null,null,null,null,null,null,null,null,null,null,null,null,null,null,null,0,{"$f":"AVERAGE(#REF!)","v":{"$error":"#REF!"}},-3.2000000000000001E-2,-7.2000000000000008E-2,0.182,-2.0339999999999998,-2.42,9.49,2.6665999999999999E-3,2.2220000000000001E-4,-4.4440000000000001E-4]
[null,null,null,null,null,null,null,null,null,null,null,null,null,null,null,null,null,null,null,null,null,null,null,null,null,null,null,null,0,{"$f":"AVERAGE(#REF!)","v":{"$error":"#REF!"}},-0.03,-6.2E-2,0.186,-2.032,-2.41,9.4939999999999998,1.5556000000000001E-3,2.2220000000000001E-4,-4.4440000000000001E-4]
[null,null,null,null,null,null,null,null,null,null,null,null,null,null,null,null,null,null,null,null,null,null,null,null,null,null,null,null,0,{"$f":"AVERAGE(#REF!)","v":{"$error":"#REF!"}},-3.0000000000000006E-2,-3.4000000000000002E-2,0.186,-2.032,-2.38,9.4939999999999998,1.1112000000000001E-3,2.2220000000000001E-4,2.2220000000000001E-4]
[null,null,null,null,null,null,null,null,null,null,null,null,null,null,null,null,null,null,null,null,null,null,null,null,null,null,null,null,0,{"$f":"AVERAGE(#REF!)","v":{"$error":"#REF!"}},-4.2000000000000003E-2,-3.2000000000000001E-2,0.184,-2.044,-2.3780000000000001,9.4920000000000009,-2.2199999999999981E-4,2.2220000000000001E-4,0]
[null,null,null,null,null,null,null,null,null,null,null,null,null,null,null,null,null,null,null,null,null,null,null,null,null,null,null,null,0,{"$f":"AVERAGE(#REF!)","v":{"$error":"#REF!"}},-4.2000000000000003E-2,-3.2000000000000001E-2,0.192,-2.0460000000000003,-2.3780000000000001,9.4980000000000011,-1.111E-3,-6.6660000000000005E-4,2.2220000000000001E-4]
[null,null,null,null,null,null,null,null,null,null,null,null,null,null,null,null,null,null,null,null,null,null,null,null,null,null,null,null,0,{"$f":"AVERAGE(#REF!)","v":{"$error":"#REF!"}},-4.5999999999999999E-2,-5.4000000000000006E-2,0.20400000000000001,-2.052,-2.4020000000000001,9.5079999999999991,-1.5554000000000002E-3,-6.6660000000000005E-4,-2.2220000000000001E-4]
[null,null,null,null,null,null,null,null,null,null,null,null,null,null,null,null,null,null,null,null,null,null,null,null,null,null,null,null,0,{"$f":"AVERAGE(#REF!)","v":{"$error":"#REF!"}},-4.5999999999999999E-2,-1.5999999999999997E-2,0.20200000000000001,-2.0539999999999998,-2.3620000000000001,9.5080000000000009,-1.7776000000000001E-3,-8.8880000000000003E-4,4.4440000000000001E-4]
[null,null,null,null,null,null,null,null,null,null,null,null,null,null,null,null,null,null,null,null,null,null,null,null,null,null,null,null,0,{"$f":"AVERAGE(#REF!)","v":{"$error":"#REF!"}},-5.2000000000000005E-2,-4.6000000000000006E-2,0.19,-2.0599999999999996,-2.3959999999999999,9.493999999999998,-2E-3,0,4.4440000000000001E-4]
[null,null,null,null,null,null,null,null,null,null,null,null,null,null,null,null,null,null,null,null,null,null,null,null,null,null,null,null,0,{"$f":"AVERAGE(#REF!)","v":{"$error":"#REF!"}},-0.05,-3.1999999999999994E-2,0.19999999999999998,-2.0579999999999998,-2.3820000000000001,9.5039999999999996,-1.7778000000000002E-3,4.4440000000000001E-4,8.8880000000000003E-4]
[null,null,null,null,null,null,null,null,null,null,null,null,null,null,null,null,null,null,null,null,null,null,null,null,null,null,null,null,0,{"$f":"AVERAGE(#REF!)","v":{"$error":"#REF!"}},-4.3999999999999997E-2,-3.5999999999999997E-2,0.17599999999999999,-2.0499999999999998,-2.3860000000000001,9.4820000000000011,-2.2222000000000001E-3,4.4440000000000001E-4,0]
[null,null,null,null,null,null,null,null,null,null,null,null,null,null,null,null,null,null,null,null,null,null,null,null,null,null,null,null,0,{"$f":"AVERAGE(#REF!)","v":{"$error":"#REF!"}},-4.3999999999999997E-2,-4.9999999999999996E-2,0.17399999999999999,-2.048,-2.4,9.4820000000000011,-2.2222000000000001E-3,2.2220000000000001E-4,2.2220000000000001E-4]
[null,null,null,null,null,null,null,null,null,null,null,null,null,null,null,null,null,null,null,null,null,null,null,null,null,null,null,null,0,{"$f":"AVERAGE(#REF!)","v":{"$error":"#REF!"}},-4.3999999999999997E-2,-0.10399999999999998,0.16600000000000001,-2.0479999999999996,-2.4560000000000004,9.4740000000000002,-2E-3,2.2220000000000001E-4,0]
[null,null,null,null,null,null,null,null,null,null,null,null,null,null,null,null,null,null,null,null,null,null,null,null,null,null,null,null,0,{"$f":"AVERAGE(#REF!)","v":{"$error":"#REF!"}},-3.6000000000000004E-2,-0.11399999999999999,0.186,-2.0379999999999994,-2.464,9.4959999999999987,-8.8880000000000003E-4,0,-8.8880000000000003E-4]
[null,null,null,null,null,null,null,null,null,null,null,null,null,null,null,null,null,null,null,null,null,null,null,null,null,null,null,null,0,{"$f":"AVERAGE(#REF!)","v":{"$error":"#REF!"}},-0.02,-0.124,0.19,-2.0219999999999998,-2.4740000000000002,9.4979999999999993,-4.4440000000000001E-4,-1.111E-3,-1.111E-3]
[null,null,null,null,null,null,null,null,null,null,null,null,null,null,null,null,null,null,null,null,null,null,null,null,null,null,null,null,0,{"$f":"AVERAGE(#REF!)","v":{"$error":"#REF!"}},-2.8000000000000004E-2,-0.11400000000000002,0.19800000000000001,-2.0300000000000002,-2.464,9.5060000000000002,-4.4440000000000001E-4,-2.2220000000000001E-4,-6.6660000000000005E-4]
[null,null,null,null,null,null,null,null,null,null,null,null,null,null,null,null,null,null,null,null,null,null,null,null,null,null,null,null,0,{"$f":"AVERAGE(#REF!)","v":{"$error":"#REF!"}},-2.4E-2,-0.122,0.19800000000000001,-2.0259999999999998,-2.4720000000000004,9.5039999999999996,-6.6660000000000005E-4,4.4440000000000001E-4,-1.111E-3]
[null,null,null,null,null,null,null,null,null,null,null,null,null,null,null,null,null,null,null,null,null,null,null,null,null,null,null,null,0,{"$f":"AVERAGE(#REF!)","v":{"$error":"#REF!"}},-1.6E-2,-0.09,0.19400000000000001,-2.0140000000000002,-2.4379999999999997,9.5,0,6.6660000000000005E-4,-1.9998000000000004E-3]
[null,null,null,null,null,null,null,null,null,null,null,null,null,null,null,null,null,null,null,null,null,null,null,null,null,null,null,null,0,{"$f":"AVERAGE(#REF!)","v":{"$error":"#REF!"}},-8.0000000000000019E-3,-9.6000000000000002E-2,0.188,-2.008,-2.444,9.4939999999999998,-6.6660000000000005E-4,4.4440000000000001E-4,-1.3332000000000001E-3]
[null,null,null,null,null,null,null,null,null,null,null,null,null,null,null,null,null,null,null,null,null,null,null,null,null,null,null,null,0,{"$f":"AVERAGE(#REF!)","v":{"$error":"#REF!"}},-1.2000000000000002E-2,-9.6000000000000002E-2,0.184,-2.0139999999999998,-2.444,9.4919999999999991,-6.6660000000000005E-4,8.8880000000000003E-4,-1.3332000000000001E-3]
[null,null,null,null,null,null,null,null,null,null,null,null,null,null,null,null,null,null,null,null,null,null,null,null,null,null,null,null,0,{"$f":"AVERAGE(#REF!)","v":{"$error":"#REF!"}},-1.2E-2,-9.1999999999999998E-2,0.188,-2.0159999999999996,-2.44,9.4960000000000004,-4.4440000000000001E-4,-4.4440000000000001E-4,-8.8880000000000003E-4]
[null,null,null,null,null,null,null,null,null,null,null,null,null,null,null,null,null,null,null,null,null,null,null,null,null,null,null,null,0,{"$f":"AVERAGE(#REF!)","v":{"$error":"#REF!"}},-4.0000000000000001E-3,-8.7999999999999995E-2,0.19800000000000001,-2.0099999999999998,-2.4379999999999997,9.5060000000000002,6.6660000000000005E-4,-1.111E-3,-4.4440000000000001E-4]
[null,null,null,null,null,null,null,null,null,null,null,null,null,null,null,null,null,null,null,null,null,null,null,null,null,null,null,null,0,{"$f":"AVERAGE(#REF!)","v":{"$error":"#REF!"}},-0.02,-0.10600000000000001,0.188,-2.0299999999999998,-2.4579999999999997,9.4960000000000004,1.3332000000000001E-3,-1.7776000000000001E-3,6.6660000000000005E-4]
[null,null,null,null,null,null,null,null,null,null,null,null,null,null,null,null,null,null,null,null,null,null,null,null,null,null,null,null,0,{"$f":"AVERAGE(#REF!)","v":{"$error":"#REF!"}},-3.0000000000000006E-2,-7.9999999999999988E-2,0.19800000000000001,-2.0380000000000003,-2.4319999999999999,9.5060000000000002,2.6664000000000002E-3,-1.111E-3,8.8880000000000003E-4]
[null,null,null,null,null,null,null,null,null,null,null,null,null,null,null,null,null,null,null,null,null,null,null,null,null,null,null,null,0,{"$f":"AVERAGE(#REF!)","v":{"$error":"#REF!"}},-3.4000000000000002E-2,-6.2E-2,0.184,-2.04,-2.4140000000000001,9.4919999999999991,2.222E-3,-6.6660000000000005E-4,1.3332000000000001E-3]
[null,null,null,null,null,null,null,null,null,null,null,null,null,null,null,null,null,null,null,null,null,null,null,null,null,null,null,null,0,{"$f":"AVERAGE(#REF!)","v":{"$error":"#REF!"}},-0.04,-6.8000000000000005E-2,0.188,-2.0439999999999996,-2.4220000000000002,9.4939999999999998,1.3331999999999999E-3,-2.2220000000000001E-4,1.111E-3]
[null,null,null,null,null,null,null,null,null,null,null,null,null,null,null,null,null,null,null,null,null,null,null,null,null,null,null,null,0,{"$f":"AVERAGE(#REF!)","v":{"$error":"#REF!"}},-4.8000000000000001E-2,-7.3999999999999996E-2,0.16999999999999998,-2.0499999999999998,-2.4260000000000002,9.4779999999999998,6.6660000000000005E-4,4.4440000000000001E-4,1.3332000000000001E-3]
[null,null,null,null,null,null,null,null,null,null,null,null,null,null,null,null,null,null,null,null,null,null,null,null,null,null,null,null,0,{"$f":"AVERAGE(#REF!)","v":{"$error":"#REF!"}},-4.3999999999999997E-2,-8.199999999999999E-2,0.186,-2.0439999999999996,-2.4340000000000002,9.4939999999999998,-4.4440000000000001E-4,6.6660000000000005E-4,1.111E-3]
[null,null,null,null,null,null,null,null,null,null,null,null,null,null,null,null,null,null,null,null,null,null,null,null,null,null,null,null,0,{"$f":"AVERAGE(#REF!)","v":{"$error":"#REF!"}},-2.2000000000000002E-2,-6.2E-2,0.188,-2.02,-2.4119999999999999,9.4959999999999987,-1.3332000000000001E-3,0,1.111E-3]
[null,null,null,null,null,null,null,null,null,null,null,null,null,null,null,null,null,null,null,null,null,null,null,null,null,null,null,null,0,{"$f":"AVERAGE(#REF!)","v":{"$error":"#REF!"}},-0.04,-5.2000000000000005E-2,0.10399999999999998,-2.04,-2.4020000000000001,9.41,-2E-3,4.4440000000000001E-4,1.111E-3]
[null,null,null,null,null,null,null,null,null,null,null,null,null,null,null,null,null,null,null,null,null,null,null,null,null,null,null,null,0,{"$f":"AVERAGE(#REF!)","v":{"$error":"#REF!"}},7.3999999999999996E-2,-0.10200000000000001,0.248,-1.9240000000000002,-2.4500000000000002,9.5539999999999985,-2.4446000000000003E-3,-2.8890000000000001E-3,6.6660000000000005E-4]
[null,null,null,null,null,null,null,null,null,null,null,null,null,null,null,null,null,null,null,null,null,null,null,null,null,null,null,null,0,{"$f":"AVERAGE(#REF!)","v":{"$error":"#REF!"}},0.14199999999999999,-0.156,0.35799999999999998,-1.8539999999999999,-2.504,9.661999999999999,-2.0001999999999997E-3,-4.8889999999999992E-3,4.4440000000000001E-4]
[null,null,null,null,null,null,null,null,null,null,null,null,null,null,null,null,null,null,null,null,null,null,null,null,null,null,null,null,0,{"$f":"AVERAGE(#REF!)","v":{"$error":"#REF!"}},0.14799999999999999,-8.7999999999999995E-2,0.37,-1.85,-2.4340000000000002,9.6720000000000006,-1.7780000000000005E-3,-5.1111999999999998E-3,2.2220000000000001E-4]
[null,null,null,null,null,null,null,null,null,null,null,null,null,null,null,null,null,null,null,null,null,null,null,null,null,null,null,null,0,{"$f":"AVERAGE(#REF!)","v":{"$error":"#REF!"}},0.10599999999999998,-0.11599999999999999,0.34800000000000003,-1.8940000000000001,-2.4660000000000002,9.65,-1.3336000000000001E-3,-5.5555999999999991E-3,8.8880000000000003E-4]
[null,null,null,null,null,null,null,null,null,null,null,null,null,null,null,null,null,null,null,null,null,null,null,null,null,null,null,null,{"$f":"(1609.34/3600)*Delta_Speed","v":0},{"$f":"AVERAGE(#REF!)","v":{"$error":"#REF!"}},7.400000000000001E-2,-0.20200000000000001,0.38200000000000001,-1.9259999999999997,-2.552,9.6820000000000004,4.4419999999999996E-4,-7.1109999999999993E-3,0]
[null,null,null,null,null,null,null,null,null,null,null,null,null,null,null,null,null,null,null,null,null,null,null,null,null,null,null,null,0,{"$f":"AVERAGE(#REF!)","v":{"$error":"#REF!"}},5.4000000000000006E-2,-0.13199999999999998,0.56400000000000006,-1.9479999999999997,-2.4839999999999995,9.8659999999999997,-2.2239999999999985E-4,-6.6666E-3,-2.2220000000000001E-4]
[null,null,null,null,null,null,null,null,null,null,null,null,null,null,null,null,null,null,null,null,null,null,null,null,null,null,null,null,0,{"$f":"AVERAGE(#REF!)","v":{"$error":"#REF!"}},-0.22999999999999998,-9.6000000000000002E-2,0.36400000000000005,-2.2359999999999998,-2.4499999999999997,9.6639999999999997,2.2220000000000017E-4,-5.7775999999999999E-3,4.4440000000000001E-4]
[null,null,null,null,null,null,null,null,null,null,null,null,null,null,null,null,null,null,null,null,null,null,null,null,null,null,null,null,0,{"$f":"AVERAGE(#REF!)","v":{"$error":"#REF!"}},-0.40800000000000003,-0.49800000000000005,0.28200000000000003,-2.4119999999999999,-2.8559999999999999,9.581999999999999,8.8880000000000014E-4,1.9999999999950612E-7,8.8880000000000003E-4]
[null,null,null,null,null,null,null,null,null,null,null,null,null,null,null,null,null,null,null,null,null,null,null,null,null,null,null,null,0,{"$f":"AVERAGE(#REF!)","v":{"$error":"#REF!"}},{"$f":"AVERAGE(Q642:Q646)","v":-0.54200000000000004},{"$f":"AVERAGE(R642:R646)","v":-0.59199999999999997},{"$f":"AVERAGE(S642:S646)","v":1.026},{"$f":"AVERAGE(T642:T646)","v":-2.548},{"$f":"AVERAGE(U642:U646)","v":-2.948},{"$f":"AVERAGE(V642:V646)","v":10.326000000000001},{"$f":"AVERAGE(W642:W646)","v":-2.2219999999999982E-4},{"$f":"AVERAGE(X642:X646)","v":1.0222400000000001E-2},{"$f":"AVERAGE(Y642:Y646)","v":2.2221999999999997E-3}]
[null,null,null,null,null,null,null,null,null,null,null,null,null,null,null,null,null,null,null,null,null,null,null,null,null,null,null,null,0,{"$f":"AVERAGE(#REF!)","v":{"$error":"#REF!"}},-0.43,-0.45199999999999996,0.59000000000000008,-2.4319999999999999,-2.8080000000000003,9.8919999999999995,-1.5553999999999998E-3,7.5556E-3,2.2221999999999997E-3]
[null,null,null,null,null,null,null,null,null,null,null,null,null,null,null,null,null,null,null,null,null,null,null,null,null,null,null,null,0,{"$f":"AVERAGE(#REF!)","v":{"$error":"#REF!"}},-0.65799999999999992,-0.17799999999999999,-0.17400000000000007,-2.66,-2.5300000000000002,9.1260000000000012,-8.8879999999999981E-4,1.1333400000000002E-2,4.0000000000000001E-3]
[null,null,null,null,null,null,null,null,null,null,null,null,null,null,null,null,null,null,null,null,null,null,null,null,null,null,null,null,0,{"$f":"AVERAGE(#REF!)","v":{"$error":"#REF!"}},-0.31000000000000005,-1.7999999999999926E-2,0.31199999999999994,-2.3079999999999998,-2.3679999999999999,9.6140000000000008,0,7.5556E-3,3.3333999999999994E-3]
[null,null,null,null,null,null,null,null,null,null,null,null,null,null,null,null,null,null,null,null,null,null,null,null,null,null,null,null,0,{"$f":"AVERAGE(#REF!)","v":{"$error":"#REF!"}},-0.21599999999999997,0.46400000000000008,0.15799999999999997,-2.2160000000000002,-1.8839999999999999,9.4580000000000002,-1.1110000000000002E-3,5.5556000000000008E-3,3.1112000000000002E-3]
[null,null,null,null,null,null,null,null,null,null,null,null,null,null,null,null,null,null,null,null,null,null,null,null,null,null,null,null,0,{"$f":"AVERAGE(#REF!)","v":{"$error":"#REF!"}},-9.1999999999999998E-2,0.374,-0.43600000000000005,-2.09,-1.9739999999999998,8.8620000000000001,4.4439999999999985E-4,-6.6660000000000124E-4,2.0001999999999997E-3]
[null,null,null,null,null,null,null,null,null,null,null,null,null,null,null,null,null,null,null,null,null,null,null,null,null,null,null,null,0,{"$f":"AVERAGE(#REF!)","v":{"$error":"#REF!"}},-0.19600000000000001,0.41800000000000004,-3.5999999999999976E-2,-2.198,-1.9280000000000002,9.2620000000000005,4.2222000000000006E-3,4.6668000000000005E-3,3.5556000000000003E-3]
[null,null,null,null,null,null,null,null,null,null,null,null,null,null,null,null,null,null,null,null,null,null,null,null,null,null,null,null,0,{"$f":"AVERAGE(#REF!)","v":{"$error":"#REF!"}},-0.156,0.19400000000000001,0.4,-2.1579999999999999,-2.1520000000000001,9.6999999999999993,3.7778E-3,2.8889999999999996E-3,2.6665999999999999E-3]
[null,null,null,null,null,null,null,null,null,null,null,null,null,null,null,null,null,null,null,null,null,null,null,null,null,null,null,null,0,{"$f":"AVERAGE(#REF!)","v":{"$error":"#REF!"}},-0.17800000000000002,-3.3999999999999989E-2,0.32999999999999996,-2.1800000000000002,-2.3820000000000001,9.6300000000000008,1.3334000000000002E-3,6.2222000000000015E-3,2.2221999999999997E-3]
[null,null,null,null,null,null,null,null,null,null,null,null,null,null,null,null,null,null,null,null,null,null,null,null,null,null,null,null,0,{"$f":"AVERAGE(#REF!)","v":{"$error":"#REF!"}},-0.17399999999999999,-0.13599999999999998,0.11800000000000002,-2.1739999999999999,-2.4820000000000002,9.4199999999999982,1.9999999999999996E-3,5.9997999999999996E-3,2.2221999999999997E-3]
[null,null,null,null,null,null,null,null,null,null,null,null,null,null,null,null,null,null,null,null,null,null,null,null,null,null,null,null,0,{"$f":"AVERAGE(#REF!)","v":{"$error":"#REF!"}},0.13600000000000004,0.19400000000000001,0.44399999999999995,-1.8620000000000001,-2.15,9.7480000000000011,1.7778000000000002E-3,1.1107999999999999E-3,1.3332000000000001E-3]
[null,null,null,null,null,null,null,null,null,null,null,null,null,null,null,null,null,null,null,null,null,null,null,null,null,null,null,null,0,{"$f":"AVERAGE(#REF!)","v":{"$error":"#REF!"}},0.308,0.51400000000000001,4.7999999999999952E-2,-1.6859999999999999,-1.83,9.3520000000000003,-6.6680000000000016E-4,1.1107999999999999E-3,1.3332000000000001E-3]
[null,null,null,null,null,null,null,null,null,null,null,null,null,null,null,null,null,null,null,null,null,null,null,null,null,null,null,null,0,{"$f":"AVERAGE(#REF!)","v":{"$error":"#REF!"}},0.31800000000000006,1.052,-0.79999999999999993,-1.6759999999999997,-1.294,8.5020000000000007,1.3332000000000001E-3,-3.7779999999999992E-3,-2.2240000000000004E-4]
[null,null,null,null,null,null,null,null,null,null,null,null,null,null,null,null,null,null,null,null,null,null,null,null,null,null,null,null,0,{"$f":"AVERAGE(#REF!)","v":{"$error":"#REF!"}},0.13000000000000006,1.0219999999999998,-0.91200000000000014,-1.8660000000000001,-1.3220000000000001,8.39,2.6664000000000002E-3,-2.0001999999999997E-3,-1.7780000000000001E-3]
[null,null,null,null,null,null,null,null,null,null,null,null,null,null,null,null,null,null,null,null,null,null,null,null,null,null,null,null,0,{"$f":"AVERAGE(#REF!)","v":{"$error":"#REF!"}},0.41400000000000003,1.1819999999999999,0.37200000000000005,-1.58,-1.1619999999999999,9.6759999999999984,6.6639999999999994E-4,-1.1555600000000001E-2,-6.6679999999999984E-4]
[null,null,null,null,null,null,null,null,null,null,null,null,null,null,null,null,null,null,null,null,null,null,null,null,null,null,null,null,0,{"$f":"AVERAGE(#REF!)","v":{"$error":"#REF!"}},0.10999999999999999,2.1020000000000003,-0.21799999999999992,-1.8859999999999999,-0.24400000000000005,9.081999999999999,4.8885999999999999E-3,-1.2222199999999999E-2,-2.2240000000000004E-4]
[null,null,null,null,null,null,null,null,null,null,null,null,null,null,null,null,null,null,null,null,null,null,null,null,null,null,null,null,0,{"$f":"AVERAGE(#REF!)","v":{"$error":"#REF!"}},-0.08,1.466,0.38800000000000007,-2.0780000000000003,-0.88200000000000001,9.6879999999999988,9.3331999999999998E-3,-4.8887999999999987E-3,-8.8900000000000025E-4]
[null,null,null,null,null,null,null,null,null,null,null,null,null,null,null,null,null,null,null,null,null,null,null,null,null,null,null,null,0,{"$f":"AVERAGE(#REF!)","v":{"$error":"#REF!"}},-8.7999999999999995E-2,0.56000000000000005,1.38,-2.0859999999999999,-1.7880000000000003,10.681999999999999,5.7775999999999991E-3,5.7777999999999996E-3,0]
[null,null,null,null,null,null,null,null,null,null,null,null,null,null,null,null,null,null,null,null,null,null,null,null,null,null,null,null,0,{"$f":"AVERAGE(#REF!)","v":{"$error":"#REF!"}},2.5999999999999988E-2,0.79399999999999993,1.0859999999999999,-1.97,-1.554,10.388000000000002,5.7775999999999999E-3,5.1111999999999989E-3,1.7777999999999995E-3]
[null,null,null,null,null,null,null,null,null,null,null,null,null,null,null,null,null,null,null,null,null,null,null,null,null,null,null,null,0,{"$f":"AVERAGE(#REF!)","v":{"$error":"#REF!"}},-0.23399999999999999,0.39199999999999996,0.32,-2.2320000000000002,-1.9580000000000002,9.6219999999999999,8.4442000000000024E-3,1.31112E-2,4.4440000000000001E-4]
[null,null,null,null,null,null,null,null,null,null,null,null,null,null,null,null,null,null,null,null,null,null,null,null,null,null,null,null,0,{"$f":"AVERAGE(#REF!)","v":{"$error":"#REF!"}},-0.26400000000000001,-0.45600000000000007,0.48399999999999999,-2.262,-2.806,9.7900000000000009,2.6663999999999998E-3,1.6889000000000001E-2,6.6660000000000005E-4]
[null,null,null,null,null,null,null,null,null,null,null,null,null,null,null,null,null,null,null,null,null,null,null,null,null,null,null,null,0,{"$f":"AVERAGE(#REF!)","v":{"$error":"#REF!"}},-0.20800000000000002,-0.27999999999999997,0.36599999999999999,-2.2060000000000004,-2.63,9.6740000000000013,-1.3336000000000001E-3,6.4444000000000003E-3,8.8880000000000003E-4]
[null,null,null,null,null,null,null,null,null,null,null,null,null,null,null,null,null,null,null,null,null,null,null,null,null,null,null,null,0,{"$f":"AVERAGE(#REF!)","v":{"$error":"#REF!"}},-0.17600000000000002,-0.188,0.184,-2.1740000000000004,-2.54,9.49,1.7776000000000001E-3,4.4443999999999994E-3,8.8880000000000003E-4]
[null,null,null,null,null,null,null,null,null,null,null,null,null,null,null,null,null,null,null,null,null,null,null,null,null,null,null,null,0,{"$f":"AVERAGE(#REF!)","v":{"$error":"#REF!"}},-8.6000000000000007E-2,-0.33599999999999997,0.31599999999999995,-2.0819999999999999,-2.69,9.6219999999999999,-6.6680000000000005E-4,4.4439999999999963E-4,1.5554E-3]
[null,null,null,null,null,null,null,null,null,null,null,null,null,null,null,null,null,null,null,null,null,null,null,null,null,null,null,null,0,{"$f":"AVERAGE(#REF!)","v":{"$error":"#REF!"}},-0.10800000000000001,-0.26200000000000001,5.599999999999998E-2,-2.1019999999999999,-2.6179999999999999,9.3580000000000005,4.4440000000000001E-4,3.1110000000000001E-3,1.9998000000000004E-3]
[null,null,null,null,null,null,null,null,null,null,null,null,null,null,null,null,null,null,null,null,null,null,null,null,null,null,null,null,0,{"$f":"AVERAGE(#REF!)","v":{"$error":"#REF!"}},-0.188,-0.16399999999999998,0.35799999999999998,-2.1800000000000006,-2.52,9.66,3.3334000000000003E-3,3.9997999999999995E-3,1.7776000000000001E-3]
[null,null,null,null,null,null,null,null,null,null,null,null,null,null,null,null,null,null,null,null,null,null,null,null,null,null,null,null,0,{"$f":"AVERAGE(#REF!)","v":{"$error":"#REF!"}},-0.314,1.026,0.622,-2.3039999999999998,-1.3319999999999996,9.9240000000000013,5.3334000000000003E-3,2.2219999999999949E-4,1.7776000000000001E-3]
[null,null,null,null,null,null,null,null,null,null,null,null,null,null,null,null,null,null,null,null,null,null,null,null,null,null,null,null,0,{"$f":"AVERAGE(#REF!)","v":{"$error":"#REF!"}},-0.752,0.78399999999999992,-0.18999999999999995,-2.742,-1.5739999999999998,9.1119999999999983,6.4446E-3,1.11112E-2,1.1110000000000002E-3]
[null,null,null,null,null,null,null,null,null,null,null,null,null,null,null,null,null,null,null,null,null,null,null,null,null,null,null,null,0,{"$f":"AVERAGE(#REF!)","v":{"$error":"#REF!"}},-0.78199999999999992,1.9120000000000001,-0.51400000000000001,-2.774,-0.44600000000000001,8.7880000000000003,5.5558000000000005E-3,8.4446000000000018E-3,2E-3]
[null,null,null,null,null,null,null,null,null,null,null,null,null,null,null,null,null,null,null,null,null,null,null,null,null,null,null,null,0,{"$f":"AVERAGE(#REF!)","v":{"$error":"#REF!"}},-0.68999999999999984,1.0740000000000001,0.10200000000000009,-2.6800000000000006,-1.284,9.4060000000000006,4.0001999999999998E-3,7.3333999999999995E-3,2.8890000000000001E-3]
[null,null,null,null,null,null,null,null,null,null,null,null,null,null,null,null,null,null,null,null,null,null,null,null,null,null,null,null,0,{"$f":"AVERAGE(#REF!)","v":{"$error":"#REF!"}},-0.57799999999999996,9.0000000000000038E-2,0.71600000000000008,-2.5680000000000005,-2.2700000000000005,10.02,-2.4442000000000001E-3,1.11112E-2,3.7780000000000001E-3]
[null,null,null,null,null,null,null,null,null,null,null,null,null,null,null,null,null,null,null,null,null,null,null,null,null,null,null,null,0,{"$f":"AVERAGE(#REF!)","v":{"$error":"#REF!"}},-7.1999999999999925E-2,-0.21600000000000019,1.052,-2.0620000000000003,-2.5760000000000005,10.353999999999999,-4.2220000000000001E-3,1.2888800000000001E-2,4.6670000000000001E-3]
[null,null,null,null,null,null,null,null,null,null,null,null,null,null,null,null,null,null,null,null,null,null,null,null,null,null,null,null,0,{"$f":"AVERAGE(#REF!)","v":{"$error":"#REF!"}},0.64600000000000002,0.26999999999999991,2.004,-1.3420000000000001,-2.0880000000000001,11.307999999999998,-3.9998000000000004E-3,-1.7780000000000007E-3,5.1113999999999995E-3]
[null,null,null,null,null,null,null,null,null,null,null,null,null,null,null,null,null,null,null,null,null,null,null,null,null,null,null,null,0,{"$f":"AVERAGE(#REF!)","v":{"$error":"#REF!"}},0.68599999999999994,-0.6379999999999999,2.742,-1.302,-2.9940000000000007,12.045999999999999,-3.7775999999999999E-3,1.17774E-2,4.8891999999999989E-3]
[null,null,null,null,null,null,null,null,null,null,null,null,null,null,null,null,null,null,null,null,null,null,null,null,null,null,null,null,0,{"$f":"AVERAGE(#REF!)","v":{"$error":"#REF!"}},0.33600000000000002,6.599999999999992E-2,2.2679999999999998,-1.6539999999999999,-2.29,11.571999999999999,-2.6664000000000002E-3,-1.9999999999881224E-7,2.2224000000000002E-3]
[null,null,null,null,null,null,null,null,null,null,null,null,null,null,null,null,null,null,null,null,null,null,null,null,null,null,null,null,0,{"$f":"AVERAGE(#REF!)","v":{"$error":"#REF!"}},0.13000000000000006,8.5999999999999938E-2,1.198,-1.86,-2.27,10.499999999999998,1.1114000000000002E-3,-5.3333999999999994E-3,1.3333999999999998E-3]
[null,null,null,null,null,null,null,null,null,null,null,null,null,null,null,null,null,null,null,null,null,null,null,null,null,null,null,null,0,{"$f":"AVERAGE(#REF!)","v":{"$error":"#REF!"}},-0.30999999999999994,-0.60399999999999998,0.83399999999999996,-2.302,-2.96,10.135999999999999,-2.6664000000000002E-3,-3.1109999999999987E-3,8.8880000000000003E-4]
[null,null,null,null,null,null,null,null,null,null,null,null,null,null,null,null,null,null,null,null,null,null,null,null,null,null,null,null,0,{"$f":"AVERAGE(#REF!)","v":{"$error":"#REF!"}},-0.71199999999999997,-0.68200000000000005,0.158,-2.7039999999999997,-3.0419999999999998,9.4579999999999984,-4.6663999999999994E-3,-3.1109999999999992E-3,1.9998000000000004E-3]
[null,null,null,null,null,null,null,null,null,null,null,null,null,null,null,null,null,null,null,null,null,null,null,null,null,null,null,null,0,{"$f":"AVERAGE(#REF!)","v":{"$error":"#REF!"}},-0.61,-0.82599999999999996,-0.36400000000000005,-2.6019999999999999,-3.1879999999999997,8.9359999999999999,-4.4441999999999997E-3,-3.1109999999999983E-3,1.7773999999999997E-3]
[null,null,null,null,null,null,null,null,null,null,null,null,null,null,null,null,null,null,null,null,null,null,null,null,null,null,null,null,0,{"$f":"AVERAGE(#REF!)","v":{"$error":"#REF!"}},-3.400000000000003E-2,-7.5999999999999984E-2,0.14399999999999996,-2.024,-2.4379999999999997,9.4460000000000015,-7.5553999999999994E-3,8.6666E-3,3.7774000000000002E-3]
[null,null,null,null,null,null,null,null,null,null,null,null,null,null,null,null,null,null,null,null,null,null,null,null,null,null,null,null,0,{"$f":"AVERAGE(#REF!)","v":{"$error":"#REF!"}},-2.200000000000002E-2,0.22199999999999998,-0.77800000000000002,-2.0140000000000002,-2.1420000000000003,8.5239999999999991,-1.0888800000000001E-2,1.2888800000000001E-2,1.9995999999999998E-3]
[null,null,null,null,null,null,null,null,null,null,null,null,null,null,null,null,null,null,null,null,null,null,null,null,null,null,null,null,0,{"$f":"AVERAGE(#REF!)","v":{"$error":"#REF!"}},4.1999999999999996E-2,1.228,-0.96799999999999997,-1.948,-1.1380000000000003,8.3339999999999996,-1.13332E-2,1.3777600000000001E-2,1.333E-3]
[null,null,null,null,null,null,null,null,null,null,null,null,null,null,null,null,null,null,null,null,null,null,null,null,null,null,null,null,0,{"$f":"AVERAGE(#REF!)","v":{"$error":"#REF!"}},4.0000000000000036E-2,1.5159999999999998,-0.55800000000000005,-1.95,-0.84799999999999986,8.7419999999999991,-1.3111000000000001E-2,9.3331999999999998E-3,6.6639999999999994E-4]
[null,null,null,null,null,null,null,null,null,null,null,null,null,null,null,null,null,null,null,null,null,null,null,null,null,null,null,null,0,{"$f":"AVERAGE(#REF!)","v":{"$error":"#REF!"}},-9.5999999999999988E-2,2.1539999999999999,-0.56399999999999995,-2.0839999999999996,-0.21200000000000002,8.7360000000000007,-1.0666600000000002E-2,-2.8890000000000001E-3,8.8880000000000003E-4]
[null,null,null,null,null,null,null,null,null,null,null,null,null,null,null,null,null,null,null,null,null,null,null,null,null,null,null,null,0,{"$f":"AVERAGE(#REF!)","v":{"$error":"#REF!"}},-0.43,1.3599999999999999,-0.97199999999999986,-2.4219999999999997,-1.006,8.3279999999999994,-5.5554000000000003E-3,-8.8900000000000025E-4,-1.1112000000000001E-3]
[null,null,null,null,null,null,null,null,null,null,null,null,null,null,null,null,null,null,null,null,null,null,null,null,null,null,null,null,0,{"$f":"AVERAGE(#REF!)","v":{"$error":"#REF!"}},-0.158,2.0279999999999996,0.08,-2.1480000000000001,-0.33399999999999996,9.3819999999999997,-5.1110000000000001E-3,-7.7780000000000002E-3,1.3334E-3]
[null,null,null,null,null,null,null,null,null,null,null,null,null,null,null,null,null,null,null,null,null,null,null,null,null,null,null,null,0,{"$f":"AVERAGE(#REF!)","v":{"$error":"#REF!"}},-0.40400000000000003,0.61399999999999999,-0.46600000000000003,-2.3959999999999999,-1.748,8.8360000000000003,-3.1110000000000001E-3,-1.5333599999999999E-2,-2.2220000000000001E-4]
[null,null,null,null,null,null,null,null,null,null,null,null,null,null,null,null,null,null,null,null,null,null,null,null,null,null,null,null,0,{"$f":"AVERAGE(#REF!)","v":{"$error":"#REF!"}},2.9999999999999982E-2,0.13599999999999998,-5.600000000000005E-2,-1.9599999999999997,-2.2280000000000002,9.25,-4.8888000000000004E-3,-1.4444600000000002E-2,2.2220000000000001E-4]
[null,null,null,null,null,null,null,null,null,null,null,null,null,null,null,null,null,null,null,null,null,null,null,null,null,null,null,null,0,{"$f":"AVERAGE(#REF!)","v":{"$error":"#REF!"}},-0.22599999999999998,-0.77200000000000002,-0.48399999999999999,-2.2199999999999998,-3.1339999999999995,8.8219999999999992,-1.9998000000000004E-3,-1.5333400000000001E-2,-1.3334E-3]
[null,null,null,null,null,null,null,null,null,null,null,null,null,null,null,null,null,null,null,null,null,null,null,null,null,null,null,null,0,{"$f":"AVERAGE(#REF!)","v":{"$error":"#REF!"}},-0.246,0.192,-1.5820000000000001,-2.2400000000000002,-2.1699999999999995,7.7219999999999995,2.000000000008939E-7,-2.3777800000000002E-2,-1.3334E-3]
[null,null,null,null,null,null,null,null,null,null,null,null,null,null,null,null,null,null,null,null,null,null,null,null,null,null,null,null,0,{"$f":"AVERAGE(#REF!)","v":{"$error":"#REF!"}},-0.33199999999999996,-0.96599999999999997,-1.3140000000000001,-2.3259999999999996,-3.3319999999999994,7.9879999999999995,3.7780000000000001E-3,-1.5333400000000001E-2,-2.2224000000000002E-3]
[null,null,null,null,null,null,null,null,null,null,null,null,null,null,null,null,null,null,null,null,null,null,null,null,null,null,null,null,0,{"$f":"AVERAGE(#REF!)","v":{"$error":"#REF!"}},0.20400000000000001,-1.1260000000000001,-0.41000000000000003,-1.786,-3.492,8.8940000000000001,2.0002000000000002E-3,-1.1555599999999999E-2,-6.6680000000000005E-4]
[null,null,null,null,null,null,null,null,null,null,null,null,null,null,null,null,null,null,null,null,null,null,null,null,null,null,null,null,0,{"$f":"AVERAGE(#REF!)","v":{"$error":"#REF!"}},0.16200000000000001,-0.66200000000000003,-1.052,-1.8280000000000001,-3.0260000000000007,8.25,6.6668000000000005E-3,-7.1112000000000007E-3,-1.1112000000000001E-3]
[null,null,null,null,null,null,null,null,null,null,null,null,null,null,null,null,null,null,null,null,null,null,null,null,null,null,null,null,0,{"$f":"AVERAGE(#REF!)","v":{"$error":"#REF!"}},0.14799999999999996,-0.27999999999999997,-1.032,-1.8399999999999999,-2.6420000000000003,8.27,4.0000000000000001E-3,3.7776000000000003E-3,-6.6680000000000005E-4]
[null,null,null,null,null,null,null,null,null,null,null,null,null,null,null,null,null,null,null,null,null,null,null,null,null,null,null,null,0,{"$f":"AVERAGE(#REF!)","v":{"$error":"#REF!"}},0.53999999999999992,-0.60999999999999988,0.45200000000000007,-1.4439999999999997,-2.97,9.7539999999999996,-8.8899999999999982E-4,5.3332000000000006E-3,1.3332000000000001E-3]
[null,null,null,null,null,null,null,null,null,null,null,null,null,null,null,null,null,null,null,null,null,null,null,null,null,null,null,null,0,{"$f":"AVERAGE(#REF!)","v":{"$error":"#REF!"}},0.26999999999999996,0.1700000000000001,-0.22200000000000003,-1.714,-2.19,9.0779999999999994,1.3332000000000001E-3,-6.6680000000000038E-4,6.6660000000000005E-4]
[null,null,null,null,null,null,null,null,null,null,null,null,null,null,null,null,null,null,null,null,null,null,null,null,null,null,null,null,0,{"$f":"AVERAGE(#REF!)","v":{"$error":"#REF!"}},-0.27400000000000008,0.4920000000000001,-0.85199999999999998,-2.2600000000000002,-1.8660000000000001,8.4460000000000015,3.1110000000000001E-3,1.7775999999999994E-3,6.6660000000000005E-4]
[null,null,null,null,null,null,null,null,null,null,null,null,null,null,null,null,null,null,null,null,null,null,null,null,null,null,null,null,0,{"$f":"AVERAGE(#REF!)","v":{"$error":"#REF!"}},-0.41400000000000003,0.29400000000000009,-0.19199999999999995,-2.4020000000000001,-2.0619999999999998,9.1080000000000005,4.4443999999999994E-3,2.6664000000000002E-3,4.4440000000000001E-4]
[null,null,null,null,null,null,null,null,null,null,null,null,null,null,null,null,null,null,null,null,null,null,null,null,null,null,null,null,0,{"$f":"AVERAGE(#REF!)","v":{"$error":"#REF!"}},-0.41200000000000003,0.11800000000000006,1.2000000000000011E-2,-2.4019999999999997,-2.2399999999999998,9.3120000000000012,3.555599999999999E-3,-2.2240000000000036E-4,2E-3]
[null,null,null,null,null,null,null,null,null,null,null,null,null,null,null,null,null,null,null,null,null,null,null,null,null,null,null,null,0,{"$f":"AVERAGE(#REF!)","v":{"$error":"#REF!"}},-0.44200000000000006,-0.26600000000000001,0.30799999999999994,-2.4319999999999999,-2.6259999999999999,9.6080000000000005,3.5555999999999999E-3,2.6664000000000002E-3,1.5556000000000001E-3]
[null,null,null,null,null,null,null,null,null,null,null,null,null,null,null,null,null,null,null,null,null,null,null,null,null,null,null,null,{"$f":"(1609.34/3600)*Delta_Speed","v":0},{"$f":"AVERAGE(#REF!)","v":{"$error":"#REF!"}},-3.0000000000000027E-2,-0.86,1.6060000000000003,-2.0180000000000002,-3.218,10.91,6.6679999999999984E-4,3.3332000000000001E-3,1.3334000000000002E-3]
[null,null,null,null,null,null,null,null,null,null,null,null,null,null,null,null,null,null,null,null,null,null,null,null,null,null,null,null,0,{"$f":"AVERAGE(#REF!)","v":{"$error":"#REF!"}},0.32599999999999996,-7.9999999999999988E-2,2.3740000000000001,-1.6600000000000001,-2.4379999999999997,11.680000000000001,2.4444000000000002E-3,4.6665999999999999E-3,2.4446000000000003E-3]
[null,null,null,null,null,null,null,null,null,null,null,null,null,null,null,null,null,null,null,null,null,null,null,null,null,null,null,null,0,{"$f":"AVERAGE(#REF!)","v":{"$error":"#REF!"}},0.378,0.45199999999999996,1.4159999999999999,-1.6059999999999999,-1.9080000000000001,10.719999999999999,2E-3,-2.6666000000000003E-3,2.2224000000000002E-3]
[null,null,null,null,null,null,null,null,null,null,null,null,null,null,null,null,null,null,null,null,null,null,null,null,null,null,null,null,0,{"$f":"AVERAGE(#REF!)","v":{"$error":"#REF!"}},0.42599999999999999,0.86999999999999988,1.0060000000000002,-1.5559999999999998,-1.488,10.309999999999999,1.7778E-3,-1.0222200000000001E-2,2.2240000000000004E-4]
[null,null,null,null,null,null,null,null,null,null,null,null,null,null,null,null,null,null,null,null,null,null,null,null,null,null,null,null,0,{"$f":"AVERAGE(#REF!)","v":{"$error":"#REF!"}},{"$f":"AVERAGE(Q706:Q710)","v":1.7999999999999995E-2},{"$f":"AVERAGE(R706:R710)","v":1.4140000000000001},{"$f":"AVERAGE(S706:S710)","v":7.6000000000000068E-2},{"$f":"AVERAGE(T706:T710)","v":-1.968},{"$f":"AVERAGE(U706:U710)","v":-0.94399999999999995},{"$f":"AVERAGE(V706:V710)","v":9.3800000000000008},{"$f":"AVERAGE(W706:W710)","v":4.4445999999999999E-3},{"$f":"AVERAGE(X706:X710)","v":-1.6888800000000002E-2},{"$f":"AVERAGE(Y706:Y710)","v":-1.3332000000000001E-3}]
[null,null,null,null,null,null,null,null,null,null,null,null,null,null,null,null,null,null,null,null,null,null,null,null,null,null,null,null,0,{"$f":"AVERAGE(#REF!)","v":{"$error":"#REF!"}},-0.10600000000000001,1.73,-1.6120000000000001,-2.0959999999999996,-0.62799999999999989,7.6899999999999995,7.3334000000000012E-3,-2.1555600000000001E-2,-3.1110000000000001E-3]
[null,null,null,null,null,null,null,null,null,null,null,null,null,null,null,null,null,null,null,null,null,null,null,null,null,null,null,null,0,{"$f":"AVERAGE(#REF!)","v":{"$error":"#REF!"}},-0.19600000000000001,1.1300000000000003,-2.8299999999999996,-2.1859999999999999,-1.228,6.4699999999999989,6.0001999999999998E-3,-2.0888999999999998E-2,-4.8888000000000004E-3]
[null,null,null,null,null,null,null,null,null,null,null,null,null,null,null,null,null,null,null,null,null,null,null,null,null,null,null,null,0,{"$f":"AVERAGE(#REF!)","v":{"$error":"#REF!"}},-0.34800000000000003,0.52799999999999991,-2.12,-2.3399999999999994,-1.83,7.1820000000000004,6.0001999999999998E-3,-1.7333599999999998E-2,-5.5555999999999991E-3]
[null,null,null,null,null,null,null,null,null,null,null,null,null,null,null,null,null,null,null,null,null,null,null,null,null,null,null,null,0,{"$f":"AVERAGE(#REF!)","v":{"$error":"#REF!"}},-0.21600000000000003,0.27399999999999991,-2.0779999999999998,-2.2039999999999997,-2.0840000000000001,7.2239999999999993,4.6668000000000005E-3,-9.1114000000000004E-3,-7.1111999999999998E-3]
[null,null,null,null,null,null,null,null,null,null,null,null,null,null,null,null,null,null,null,null,null,null,null,null,null,null,null,null,0,{"$f":"AVERAGE(#REF!)","v":{"$error":"#REF!"}},7.1999999999999995E-2,-0.434,-0.98799999999999988,-1.9119999999999997,-2.7939999999999996,8.3159999999999989,-3.3332000000000001E-3,3.1107999999999995E-3,-7.9999999999999984E-3]
[null,null,null,null,null,null,null,null,null,null,null,null,null,null,null,null,null,null,null,null,null,null,null,null,null,null,null,null,0,{"$f":"AVERAGE(#REF!)","v":{"$error":"#REF!"}},0.21600000000000003,0.316,-0.45599999999999985,-1.764,-2.0460000000000003,8.8480000000000025,-6.4441999999999998E-3,2.2199999999999998E-4,-6.2221999999999998E-3]
[null,null,null,null,null,null,null,null,null,null,null,null,null,null,null,null,null,null,null,null,null,null,null,null,null,null,null,null,0,{"$f":"AVERAGE(#REF!)","v":{"$error":"#REF!"}},0.11200000000000002,-0.21399999999999997,0.89200000000000002,-1.8700000000000003,-2.58,10.196000000000002,-8.8886E-3,-4.4445999999999999E-3,-5.1111999999999998E-3]
[null,null,null,null,null,null,null,null,null,null,null,null,null,null,null,null,null,null,null,null,null,null,null,null,null,null,null,null,0,{"$f":"AVERAGE(#REF!)","v":{"$error":"#REF!"}},8.2000000000000003E-2,-0.53200000000000003,1.496,-1.9,-2.9019999999999997,10.797999999999998,-9.7776000000000009E-3,-8.8889999999999993E-3,-2.4444000000000002E-3]
[null,null,null,null,null,null,null,null,null,null,null,null,null,null,null,null,null,null,null,null,null,null,null,null,null,null,null,null,0,{"$f":"AVERAGE(#REF!)","v":{"$error":"#REF!"}},4.5999999999999999E-2,-0.84199999999999997,2.1959999999999997,-1.9400000000000002,-3.218,11.498000000000001,-5.1110000000000001E-3,-1.7555599999999998E-2,-4.4439999999999963E-4]
[null,null,null,null,null,null,null,null,null,null,null,null,null,null,null,null,null,null,null,null,null,null,null,null,null,null,null,null,0,{"$f":"AVERAGE(#REF!)","v":{"$error":"#REF!"}},-0.14599999999999999,-0.54600000000000004,1.6839999999999999,-2.1360000000000001,-2.9219999999999997,10.986000000000001,0,-2.5333399999999999E-2,8.8900000000000025E-4]
[null,null,null,null,null,null,null,null,null,null,null,null,null,null,null,null,null,null,null,null,null,null,null,null,null,null,null,null,0,{"$f":"AVERAGE(#REF!)","v":{"$error":"#REF!"}},-0.44400000000000006,-1.452,2.7060000000000004,-2.4359999999999999,-3.8299999999999996,12.008000000000001,-1.3333999999999998E-3,-1.6889000000000001E-2,8.8899999999999982E-4]
[null,null,null,null,null,null,null,null,null,null,null,null,null,null,null,null,null,null,null,null,null,null,null,null,null,null,null,null,0,{"$f":"AVERAGE(#REF!)","v":{"$error":"#REF!"}},-0.13400000000000004,-0.60599999999999998,1.214,-2.1240000000000001,-2.9799999999999995,10.513999999999999,1.5554000000000006E-3,-6.4446000000000035E-3,-6.6639999999999994E-4]
[null,null,null,null,null,null,null,null,null,null,null,null,null,null,null,null,null,null,null,null,null,null,null,null,null,null,null,null,0,{"$f":"AVERAGE(#REF!)","v":{"$error":"#REF!"}},-2.2000000000000013E-2,0.20600000000000004,-0.34599999999999997,-2.0100000000000002,-2.1659999999999995,8.9520000000000017,-1.1111999999999997E-3,8.222199999999999E-3,-1.3332000000000001E-3]
[null,null,null,null,null,null,null,null,null,null,null,null,null,null,null,null,null,null,null,null,null,null,null,null,null,null,null,null,0,{"$f":"AVERAGE(#REF!)","v":{"$error":"#REF!"}},1.6000000000000014E-2,0.23399999999999999,0.28200000000000014,-1.972,-2.1379999999999995,9.58,-3.3333999999999994E-3,1.3999999999999999E-2,4.4459999999999986E-4]
[null,null,null,null,null,null,null,null,null,null,null,null,null,null,null,null,null,null,null,null,null,null,null,null,null,null,null,null,0,{"$f":"AVERAGE(#REF!)","v":{"$error":"#REF!"}},0.22400000000000003,0.4880000000000001,0.50599999999999989,-1.7600000000000002,-1.8859999999999999,9.8019999999999996,-2.4444000000000002E-3,8.4445999999999966E-3,1.7778E-3]
[null,null,null,null,null,null,null,null,null,null,null,null,null,null,null,null,null,null,null,null,null,null,null,null,null,null,null,null,0,{"$f":"AVERAGE(#REF!)","v":{"$error":"#REF!"}},0.36799999999999999,0.87800000000000011,0.28200000000000003,-1.6160000000000001,-1.496,9.5779999999999994,-4.4439999999999985E-4,3.3336000000000004E-3,2.2221999999999997E-3]
[null,null,null,null,null,null,null,null,null,null,null,null,null,null,null,null,null,null,null,null,null,null,null,null,null,null,null,null,0,{"$f":"AVERAGE(#REF!)","v":{"$error":"#REF!"}},0.33399999999999996,0.82599999999999996,0.44799999999999995,-1.6519999999999999,-1.5500000000000003,9.7439999999999998,-1.3331999999999999E-3,2.2259999999999885E-4,1.5553999999999998E-3]
[null,null,null,null,null,null,null,null,null,null,null,null,null,null,null,null,null,null,null,null,null,null,null,null,null,null,null,null,0,{"$f":"AVERAGE(#REF!)","v":{"$error":"#REF!"}},0.378,0.68200000000000005,0.58600000000000008,-1.6080000000000001,-1.6940000000000002,9.8819999999999997,2.224000000000002E-4,-5.5552000000000006E-3,8.8879999999999981E-4]
[null,null,null,null,null,null,null,null,null,null,null,null,null,null,null,null,null,null,null,null,null,null,null,null,null,null,null,null,0,{"$f":"AVERAGE(#REF!)","v":{"$error":"#REF!"}},0.30199999999999994,0.72600000000000009,0.48,-1.6859999999999999,-1.65,9.7780000000000005,-6.6639999999999994E-4,-8.8886E-3,4.4440000000000001E-4]
[null,null,null,null,null,null,null,null,null,null,null,null,null,null,null,null,null,null,null,null,null,null,null,null,null,null,null,null,0,{"$f":"AVERAGE(#REF!)","v":{"$error":"#REF!"}},0.17799999999999999,0.56799999999999995,0.52600000000000002,-1.81,-1.8060000000000003,9.8239999999999998,-1.3332000000000001E-3,-4.4441999999999997E-3,-4.4440000000000001E-4]
[null,null,null,null,null,null,null,null,null,null,null,null,null,null,null,null,null,null,null,null,null,null,null,null,null,null,null,null,0,{"$f":"AVERAGE(#REF!)","v":{"$error":"#REF!"}},0.32599999999999996,0.79800000000000004,-0.44800000000000006,-1.6599999999999997,-1.5740000000000001,8.847999999999999,-1.7776000000000001E-3,2.0001999999999997E-3,-8.8880000000000003E-4]
[null,null,null,null,null,null,null,null,null,null,null,null,null,null,null,null,null,null,null,null,null,null,null,null,null,null,null,null,0,{"$f":"AVERAGE(#REF!)","v":{"$error":"#REF!"}},0.27400000000000002,0.73599999999999999,-0.32999999999999996,-1.7119999999999997,-1.6360000000000003,8.9659999999999993,-2.2220000000000001E-4,2.2223999999999994E-3,2.2240000000000004E-4]
[null,null,null,null,null,null,null,null,null,null,null,null,null,null,null,null,null,null,null,null,null,null,null,null,null,null,null,null,0,{"$f":"AVERAGE(#REF!)","v":{"$error":"#REF!"}},0.21200000000000002,0.56799999999999995,-0.20800000000000002,-1.7760000000000002,-1.8039999999999998,9.09,-8.8900000000000003E-4,-3.5554000000000002E-3,2.2224000000000002E-3]
[null,null,null,null,null,null,null,null,null,null,null,null,null,null,null,null,null,null,null,null,null,null,null,null,null,null,null,null,0,{"$f":"AVERAGE(#REF!)","v":{"$error":"#REF!"}},0.21800000000000003,0.754,-0.23999999999999994,-1.768,-1.6160000000000001,9.0560000000000009,2.2199999999999998E-4,-5.3332000000000006E-3,1.3333999999999998E-3]
[null,null,null,null,null,null,null,null,null,null,null,null,null,null,null,null,null,null,null,null,null,null,null,null,null,null,null,null,0,{"$f":"AVERAGE(#REF!)","v":{"$error":"#REF!"}},0.14999999999999997,0.752,-0.3660000000000001,-1.8400000000000003,-1.6179999999999999,8.9320000000000004,-2.2240000000000004E-4,-4.4440000000000034E-4,4.4439999999999985E-4]
[null,null,null,null,null,null,null,null,null,null,null,null,null,null,null,null,null,null,null,null,null,null,null,null,null,null,null,null,0,{"$f":"AVERAGE(#REF!)","v":{"$error":"#REF!"}},0.24,0.79600000000000004,-9.5999999999999974E-2,-1.7520000000000002,-1.5760000000000001,9.2039999999999988,-1.3335999999999999E-3,0,1.7776000000000001E-3]
[null,null,null,null,null,null,null,null,null,null,null,null,null,null,null,null,null,null,null,null,null,null,null,null,null,null,null,null,0,{"$f":"AVERAGE(#REF!)","v":{"$error":"#REF!"}},0.28600000000000003,0.68800000000000006,0.624,-1.704,-1.6839999999999999,9.927999999999999,-1.9999999999985308E-7,-4.889000000000001E-3,2.4441999999999997E-3]
[null,null,null,null,null,null,null,null,null,null,null,null,null,null,null,null,null,null,null,null,null,null,null,null,null,null,null,null,0,{"$f":"AVERAGE(#REF!)","v":{"$error":"#REF!"}},0.35799999999999998,0.8,0.63600000000000001,-1.6300000000000001,-1.5719999999999998,9.9380000000000006,-6.6679999999999984E-4,4.4419999999999996E-4,8.8860000000000002E-4]
[null,null,null,null,null,null,null,null,null,null,null,null,null,null,null,null,null,null,null,null,null,null,null,null,null,null,null,null,0,{"$f":"AVERAGE(#REF!)","v":{"$error":"#REF!"}},0.61199999999999988,0.50800000000000001,-0.26200000000000007,-1.3740000000000001,-1.8660000000000001,9.0380000000000003,-4.4439999999999985E-4,4.6664000000000002E-3,4.4419999999999996E-4]
[null,null,null,null,null,null,null,null,null,null,null,null,null,null,null,null,null,null,null,null,null,null,null,null,null,null,null,null,0,{"$f":"AVERAGE(#REF!)","v":{"$error":"#REF!"}},0.45199999999999996,0.72599999999999998,-1.8359999999999999,-1.532,-1.6480000000000001,7.4600000000000009,-2.2219999999999982E-4,-1.3335999999999995E-3,8.8880000000000003E-4]
[null,null,null,null,null,null,null,null,null,null,null,null,null,null,null,null,null,null,null,null,null,null,null,null,null,null,null,null,0,{"$f":"AVERAGE(#REF!)","v":{"$error":"#REF!"}},0.10000000000000005,-7.3999999999999927E-2,-2.7159999999999997,-1.8839999999999999,-2.448,6.5780000000000003,1.5556000000000001E-3,2.2220000000000005E-3,6.6660000000000005E-4]
[null,null,null,null,null,null,null,null,null,null,null,null,null,null,null,null,null,null,null,null,null,null,null,null,null,null,null,null,0,{"$f":"AVERAGE(#REF!)","v":{"$error":"#REF!"}},0.28599999999999998,0.15399999999999997,-3.5060000000000002,-1.698,-2.2220000000000004,5.7859999999999996,-1.111E-3,-1.3333999999999998E-3,1.5556000000000001E-3]
[null,null,null,null,null,null,null,null,null,null,null,null,null,null,null,null,null,null,null,null,null,null,null,null,null,null,null,null,0,{"$f":"AVERAGE(#REF!)","v":{"$error":"#REF!"}},-0.38400000000000001,-0.77400000000000002,-3.1,-2.37,-3.1540000000000004,6.1920000000000002,1.1112000000000001E-3,-3.5555999999999999E-3,-2.2220000000000001E-4]
[null,null,null,null,null,null,null,null,null,null,null,null,null,null,null,null,null,null,null,null,null,null,null,null,null,null,null,null,0,{"$f":"AVERAGE(#REF!)","v":{"$error":"#REF!"}},-0.748,-0.37600000000000006,-3.464,-2.7359999999999998,-2.7559999999999998,5.8280000000000003,-1.7778E-3,6.2222000000000006E-3,-4.4440000000000001E-4]
[null,null,null,null,null,null,null,null,null,null,null,null,null,null,null,null,null,null,null,null,null,null,null,null,null,null,null,null,0,{"$f":"AVERAGE(#REF!)","v":{"$error":"#REF!"}},-0.51600000000000001,-1.038,-1.4720000000000002,-2.5020000000000002,-3.4200000000000004,7.8220000000000001,-1.1109999999999998E-3,6.2222000000000006E-3,4.4440000000000018E-4]
[null,null,null,null,null,null,null,null,null,null,null,null,null,null,null,null,null,null,null,null,null,null,null,null,null,null,null,null,0,{"$f":"AVERAGE(#REF!)","v":{"$error":"#REF!"}},-0.39799999999999996,-0.34000000000000008,0.33600000000000013,-2.3839999999999995,-2.7199999999999998,9.6319999999999997,-1.5553999999999998E-3,-6.6667999999999988E-3,2.2220000000000001E-4]
[null,null,null,null,null,null,null,null,null,null,null,null,null,null,null,null,null,null,null,null,null,null,null,null,null,null,null,null,0,{"$f":"AVERAGE(#REF!)","v":{"$error":"#REF!"}},-0.70000000000000007,-1.214,0.69000000000000006,-2.6879999999999997,-3.5939999999999999,9.984,-6.6659999999999983E-4,3.9998000000000013E-3,-8.8900000000000003E-4]
[null,null,null,null,null,null,null,null,null,null,null,null,null,null,null,null,null,null,null,null,null,null,null,null,null,null,null,null,0,{"$f":"AVERAGE(#REF!)","v":{"$error":"#REF!"}},0.22599999999999998,-0.28599999999999992,1.256,-1.7600000000000002,-2.6639999999999997,10.552,-2.6665999999999994E-3,2.6666000000000012E-3,0]
[null,null,null,null,null,null,null,null,null,null,null,null,null,null,null,null,null,null,null,null,null,null,null,null,null,null,null,null,0,{"$f":"AVERAGE(#REF!)","v":{"$error":"#REF!"}},0.62,-0.39799999999999996,2.7180000000000004,-1.3659999999999999,-2.7760000000000002,12.016,6.6680000000000016E-4,-1.1555599999999999E-2,-1.1112000000000001E-3]
[null,null,null,null,null,null,null,null,null,null,null,null,null,null,null,null,null,null,null,null,null,null,null,null,null,null,null,null,0,{"$f":"AVERAGE(#REF!)","v":{"$error":"#REF!"}},0.69199999999999995,0.32400000000000012,0.76600000000000001,-1.2939999999999998,-2.0539999999999998,10.062000000000001,-2.2221999999999997E-3,-1.3333999999999985E-3,-8.8900000000000003E-4]
[null,null,null,null,null,null,null,null,null,null,null,null,null,null,null,null,null,null,null,null,null,null,null,null,null,null,null,null,0,{"$f":"AVERAGE(#REF!)","v":{"$error":"#REF!"}},0.81200000000000006,0.17400000000000007,-0.72799999999999998,-1.1719999999999999,-2.2079999999999997,8.5679999999999996,-2.2219999999999949E-4,3.5556000000000003E-3,-8.8900000000000003E-4]
[null,null,null,null,null,null,null,null,null,null,null,null,null,null,null,null,null,null,null,null,null,null,null,null,null,null,null,null,0,{"$f":"AVERAGE(#REF!)","v":{"$error":"#REF!"}},0.61599999999999999,1.2200000000000002,-0.85199999999999998,-1.37,-1.1619999999999999,8.4439999999999991,0,-9.9999999999999985E-3,-1.3334E-3]
[null,null,null,null,null,null,null,null,null,null,null,null,null,null,null,null,null,null,null,null,null,null,null,null,null,null,null,null,0,{"$f":"AVERAGE(#REF!)","v":{"$error":"#REF!"}},-4.9999999999999954E-2,0.83800000000000008,-2.1579999999999999,-2.04,-1.546,7.1360000000000001,1.7778000000000002E-3,8.8880000000000068E-4,-1.5556000000000001E-3]
[null,null,null,null,null,null,null,null,null,null,null,null,null,null,null,null,null,null,null,null,null,null,null,null,null,null,null,null,0,{"$f":"AVERAGE(#REF!)","v":{"$error":"#REF!"}},-0.16200000000000001,1.1720000000000002,-1.7560000000000002,-2.1520000000000001,-1.2120000000000002,7.5379999999999994,-1.1111999999999999E-3,6.0000000000000001E-3,8.8900000000000003E-4]
[null,null,null,null,null,null,null,null,null,null,null,null,null,null,null,null,null,null,null,null,null,null,null,null,null,null,null,null,0,{"$f":"AVERAGE(#REF!)","v":{"$error":"#REF!"}},-0.61199999999999999,0.10800000000000001,-0.13400000000000017,-2.6040000000000001,-2.2779999999999996,9.1620000000000008,2.6666000000000003E-3,-8.6666E-3,-2.2199999999999998E-4]
[null,null,null,null,null,null,null,null,null,null,null,null,null,null,null,null,null,null,null,null,null,null,null,null,null,null,null,null,0,{"$f":"AVERAGE(#REF!)","v":{"$error":"#REF!"}},-1.036,0.37,0.27799999999999991,-3.032,-2.016,9.5699999999999985,-1.5555999999999999E-3,1.5556000000000014E-3,-8.8860000000000002E-4]
[null,null,null,null,null,null,null,null,null,null,null,null,null,null,null,null,null,null,null,null,null,null,null,null,null,null,null,null,0,{"$f":"AVERAGE(#REF!)","v":{"$error":"#REF!"}},-0.82999999999999985,-0.90600000000000003,2.194,-2.8239999999999998,-3.2939999999999996,11.488,0,6.4446000000000017E-3,6.6700000000000006E-4]
[null,null,null,null,null,null,null,null,null,null,null,null,null,null,null,null,null,null,null,null,null,null,null,null,null,null,null,null,0,{"$f":"AVERAGE(#REF!)","v":{"$error":"#REF!"}},-0.45800000000000002,-0.58600000000000008,4.4719999999999995,-2.4479999999999995,-2.972,13.768000000000001,-6.6659999999999961E-4,-9.9997999999999997E-3,4.4480000000000008E-4]
[null,null,null,null,null,null,null,null,null,null,null,null,null,null,null,null,null,null,null,null,null,null,null,null,null,null,null,null,0,{"$f":"AVERAGE(#REF!)","v":{"$error":"#REF!"}},-0.376,-1.3820000000000001,3.2,-2.3659999999999997,-3.7700000000000005,12.494,1.5556000000000003E-3,2.6667999999999996E-3,-6.6639999999999994E-4]
[null,null,null,null,null,null,null,null,null,null,null,null,null,null,null,null,null,null,null,null,null,null,null,null,null,null,null,null,0,{"$f":"AVERAGE(#REF!)","v":{"$error":"#REF!"}},0.45199999999999996,-0.25800000000000012,3.4659999999999997,-1.5379999999999998,-2.6459999999999999,12.760000000000002,-1.5555999999999999E-3,6.2224000000000003E-3,8.8900000000000003E-4]
[null,null,null,null,null,null,null,null,null,null,null,null,null,null,null,null,null,null,null,null,null,null,null,null,null,null,null,null,0,{"$f":"AVERAGE(#REF!)","v":{"$error":"#REF!"}},0.63,-0.53600000000000003,2.3540000000000005,-1.36,-2.9260000000000002,11.65,1.7776000000000001E-3,-8.8887999999999988E-3,-8.8880000000000003E-4]
[null,null,null,null,null,null,null,null,null,null,null,null,null,null,null,null,null,null,null,null,null,null,null,null,null,null,null,null,0,{"$f":"AVERAGE(#REF!)","v":{"$error":"#REF!"}},0.91399999999999992,0.79200000000000004,-0.25999999999999995,-1.0760000000000001,-1.5979999999999999,9.032,-2.2224000000000002E-3,3.7778E-3,-1.3334E-3]
[null,null,null,null,null,null,null,null,null,null,null,null,null,null,null,null,null,null,null,null,null,null,null,null,null,null,null,null,0,{"$f":"AVERAGE(#REF!)","v":{"$error":"#REF!"}},0.42399999999999982,0.628,-1.75,-1.5680000000000001,-1.764,7.5400000000000009,4.4419999999999996E-4,3.9999999999999992E-3,-2.0000000000002654E-7]
[null,null,null,null,null,null,null,null,null,null,null,null,null,null,null,null,null,null,null,null,null,null,null,null,null,null,null,null,0,{"$f":"AVERAGE(#REF!)","v":{"$error":"#REF!"}},2.3999999999999976E-2,1.3759999999999999,-3.1799999999999997,-1.9700000000000002,-1.014,6.1100000000000012,-2.4446000000000003E-3,-7.7777999999999996E-3,-1.1114E-3]
[null,null,null,null,null,null,null,null,null,null,null,null,null,null,null,null,null,null,null,null,null,null,null,null,null,null,null,null,0,{"$f":"AVERAGE(#REF!)","v":{"$error":"#REF!"}},-0.56800000000000006,0.43599999999999994,-5.4159999999999995,-2.5639999999999996,-1.954,3.8719999999999999,2.2220000000000001E-4,4.6666000000000008E-3,-6.6680000000000005E-4]
[null,null,null,null,null,null,null,null,null,null,null,null,null,null,null,null,null,null,null,null,null,null,null,null,null,null,null,null,0,{"$f":"AVERAGE(#REF!)","v":{"$error":"#REF!"}},-0.69800000000000006,0.60600000000000009,-3.4859999999999998,-2.6920000000000002,-1.78,5.8040000000000003,-2E-3,2.2222000000000006E-3,1.5554E-3]
[null,null,null,null,null,null,null,null,null,null,null,null,null,null,null,null,null,null,null,null,null,null,null,null,null,null,null,null,0,{"$f":"AVERAGE(#REF!)","v":{"$error":"#REF!"}},-1.6420000000000001,-0.69199999999999995,-2.8899999999999997,-3.6360000000000001,-3.0799999999999996,6.4019999999999992,6.6660000000000005E-4,-6.2221999999999998E-3,2.2220000000000001E-4]
[null,null,null,null,null,null,null,null,null,null,null,null,null,null,null,null,null,null,null,null,null,null,null,null,null,null,null,null,0,{"$f":"AVERAGE(#REF!)","v":{"$error":"#REF!"}},-0.98999999999999988,-0.75800000000000001,-1.3160000000000001,-2.9820000000000002,-3.1480000000000001,7.9779999999999998,-1.7778000000000002E-3,7.5556000000000009E-3,0]
[null,null,null,null,null,null,null,null,null,null,null,null,null,null,null,null,null,null,null,null,null,null,null,null,null,null,null,null,0,{"$f":"AVERAGE(#REF!)","v":{"$error":"#REF!"}},-1.0539999999999998,-1.474,1.6840000000000004,-3.0420000000000003,-3.8679999999999999,10.979999999999999,1.5556000000000001E-3,-2.4443999999999994E-3,8.8900000000000003E-4]
[null,null,null,null,null,null,null,null,null,null,null,null,null,null,null,null,null,null,null,null,null,null,null,null,null,null,null,null,{"$f":"(1609.34/3600)*Delta_Speed","v":0},{"$f":"AVERAGE(#REF!)","v":{"$error":"#REF!"}},-0.54200000000000004,-1.3199999999999998,3.11,-2.5259999999999998,-3.714,12.407999999999998,-2.2221999999999997E-3,-4.8888000000000004E-3,-6.6660000000000005E-4]
[null,null,null,null,null,null,null,null,null,null,null,null,null,null,null,null,null,null,null,null,null,null,null,null,null,null,null,null,0,{"$f":"AVERAGE(#REF!)","v":{"$error":"#REF!"}},0.14799999999999996,-1.3299999999999998,3.8579999999999997,-1.8359999999999999,-3.7239999999999993,13.156000000000001,1.7778000000000002E-3,3.778000000000001E-3,2.2240000000000004E-4]
[null,null,null,null,null,null,null,null,null,null,null,null,null,null,null,null,null,null,null,null,null,null,null,null,null,null,null,null,0,{"$f":"AVERAGE(#REF!)","v":{"$error":"#REF!"}},0.92799999999999994,-0.18399999999999989,5.6839999999999993,-1.0539999999999998,-2.5780000000000003,14.984,0,-5.5554000000000003E-3,4.4460000000000002E-4]
[null,null,null,null,null,null,null,null,null,null,null,null,null,null,null,null,null,null,null,null,null,null,null,null,null,null,null,null,0,{"$f":"AVERAGE(#REF!)","v":{"$error":"#REF!"}},1.044,0.154,3.6259999999999999,-0.93800000000000006,-2.2359999999999998,12.923999999999998,-4.4439999999999985E-4,-3.5554000000000002E-3,2.0000000000002654E-7]
[null,null,null,null,null,null,null,null,null,null,null,null,null,null,null,null,null,null,null,null,null,null,null,null,null,null,null,null,0,{"$f":"AVERAGE(#REF!)","v":{"$error":"#REF!"}},{"$f":"AVERAGE(Q770:Q774)","v":1.8259999999999998},{"$f":"AVERAGE(R770:R774)","v":0.88200000000000001},{"$f":"AVERAGE(S770:S774)","v":2.4160000000000004},{"$f":"AVERAGE(T770:T774)","v":-0.156},{"$f":"AVERAGE(U770:U774)","v":-1.506},{"$f":"AVERAGE(V770:V774)","v":11.714},{"$f":"AVERAGE(W770:W774)","v":-6.6659999999999983E-4},{"$f":"AVERAGE(X770:X774)","v":5.5558000000000005E-3},{"$f":"AVERAGE(Y770:Y774)","v":6.6680000000000005E-4}]
[null,null,null,null,null,null,null,null,null,null,null,null,null,null,null,null,null,null,null,null,null,null,null,null,null,null,null,null,0,{"$f":"AVERAGE(#REF!)","v":{"$error":"#REF!"}},1.198,1.4420000000000002,1.2040000000000002,-0.78400000000000003,-0.94399999999999995,10.5,2E-3,-8.4442000000000024E-3,6.6680000000000005E-4]
[null,null,null,null,null,null,null,null,null,null,null,null,null,null,null,null,null,null,null,null,null,null,null,null,null,null,null,null,0,{"$f":"AVERAGE(#REF!)","v":{"$error":"#REF!"}},0.76800000000000013,1.5620000000000001,-1.524,-1.214,-0.82400000000000007,7.7700000000000005,-2.4444000000000002E-3,2.0000000000020002E-7,-4.4440000000000001E-4]
[null,null,null,null,null,null,null,null,null,null,null,null,null,null,null,null,null,null,null,null,null,null,null,null,null,null,null,null,0,{"$f":"AVERAGE(#REF!)","v":{"$error":"#REF!"}},0.45599999999999996,1.4040000000000001,-2.3520000000000003,-1.526,-0.98000000000000009,6.944,6.6680000000000005E-4,5.7780000000000001E-3,8.8880000000000003E-4]
[null,null,null,null,null,null,null,null,null,null,null,null,null,null,null,null,null,null,null,null,null,null,null,null,null,null,null,null,0,{"$f":"AVERAGE(#REF!)","v":{"$error":"#REF!"}},-0.2579999999999999,1.1000000000000001,-2.0760000000000001,-2.2399999999999998,-1.286,7.2199999999999989,6.6680000000000005E-4,-9.1109999999999993E-3,2.2220000000000001E-4]
[null,null,null,null,null,null,null,null,null,null,null,null,null,null,null,null,null,null,null,null,null,null,null,null,null,null,null,null,0,{"$f":"AVERAGE(#REF!)","v":{"$error":"#REF!"}},-1.1960000000000002,0.41800000000000004,-3.5720000000000001,-3.1799999999999997,-1.968,5.7219999999999995,-4.4440000000000001E-4,2.0000000000000005E-3,0]
[null,null,null,null,null,null,null,null,null,null,null,null,null,null,null,null,null,null,null,null,null,null,null,null,null,null,null,null,0,{"$f":"AVERAGE(#REF!)","v":{"$error":"#REF!"}},-1.302,-0.56599999999999995,-1.3439999999999999,-3.2860000000000005,-2.9539999999999997,7.9539999999999988,4.4460000000000002E-4,3.5556000000000003E-3,8.8880000000000003E-4]
[null,null,null,null,null,null,null,null,null,null,null,null,null,null,null,null,null,null,null,null,null,null,null,null,null,null,null,null,0,{"$f":"AVERAGE(#REF!)","v":{"$error":"#REF!"}},-1.7299999999999998,-0.48399999999999999,-0.35399999999999998,-3.714,-2.8719999999999999,8.9439999999999991,8.8900000000000025E-4,-6.4444000000000012E-3,-4.4460000000000002E-4]
[null,null,null,null,null,null,null,null,null,null,null,null,null,null,null,null,null,null,null,null,null,null,null,null,null,null,null,null,0,{"$f":"AVERAGE(#REF!)","v":{"$error":"#REF!"}},-1.73,-1.472,0.4860000000000001,-3.714,-3.8600000000000003,9.782,2.0000000000002654E-7,-2.0000000000000009E-3,-8.8900000000000003E-4]
[null,null,null,null,null,null,null,null,null,null,null,null,null,null,null,null,null,null,null,null,null,null,null,null,null,null,null,null,0,{"$f":"AVERAGE(#REF!)","v":{"$error":"#REF!"}},-1.5559999999999998,-0.74,0.67599999999999993,-3.54,-3.1280000000000006,9.9719999999999995,-1.111E-3,2.2239999999999898E-4,6.6639999999999994E-4]
[null,null,null,null,null,null,null,null,null,null,null,null,null,null,null,null,null,null,null,null,null,null,null,null,null,null,null,null,0,{"$f":"AVERAGE(#REF!)","v":{"$error":"#REF!"}},-1.1159999999999999,-9.1999999999999776E-2,2.2999999999999998,-3.0959999999999996,-2.4779999999999998,11.598000000000001,1.5555999999999999E-3,-6.2220000000000001E-3,-6.6700000000000006E-4]
[null,null,null,null,null,null,null,null,null,null,null,null,null,null,null,null,null,null,null,null,null,null,null,null,null,null,null,null,0,{"$f":"AVERAGE(#REF!)","v":{"$error":"#REF!"}},-1.08,0.36599999999999999,0.79800000000000015,-3.06,-2.02,10.091999999999999,-2.4444000000000002E-3,-1.3332000000000003E-3,-6.6700000000000006E-4]
[null,null,null,null,null,null,null,null,null,null,null,null,null,null,null,null,null,null,null,null,null,null,null,null,null,null,null,null,0,{"$f":"AVERAGE(#REF!)","v":{"$error":"#REF!"}},-0.504,-7.9999999999999412E-3,0.96599999999999986,-2.48,-2.3980000000000001,10.262,-2.2220000000000001E-4,-2.2220000000000036E-4,2.2199999999999998E-4]
[null,null,null,null,null,null,null,null,null,null,null,null,null,null,null,null,null,null,null,null,null,null,null,null,null,null,null,null,0,{"$f":"AVERAGE(#REF!)","v":{"$error":"#REF!"}},-0.89399999999999991,-0.23599999999999993,-0.84400000000000008,-2.87,-2.6259999999999999,8.452,2.2220000000000001E-4,-6.2221999999999998E-3,-2.0000000000002654E-7]
[null,null,null,null,null,null,null,null,null,null,null,null,null,null,null,null,null,null,null,null,null,null,null,null,null,null,null,null,0,{"$f":"AVERAGE(#REF!)","v":{"$error":"#REF!"}},-0.41799999999999998,-0.13000000000000006,-1.5660000000000001,-2.3939999999999997,-2.52,7.7300000000000013,-8.8900000000000025E-4,5.5554000000000003E-3,-1.1112000000000001E-3]
[null,null,null,null,null,null,null,null,null,null,null,null,null,null,null,null,null,null,null,null,null,null,null,null,null,null,null,null,0,{"$f":"AVERAGE(#REF!)","v":{"$error":"#REF!"}},-0.74199999999999999,-0.13799999999999996,-2.4979999999999998,-2.7199999999999998,-2.528,6.798,-6.6679999999999973E-4,-4.6667999999999996E-3,0]
[null,null,null,null,null,null,null,null,null,null,null,null,null,null,null,null,null,null,null,null,null,null,null,null,null,null,null,null,0,{"$f":"AVERAGE(#REF!)","v":{"$error":"#REF!"}},-0.26799999999999996,-3.3999999999999989E-2,-2.6919999999999997,-2.246,-2.4240000000000004,6.6039999999999992,-8.8900000000000025E-4,1.3332000000000003E-3,-4.4440000000000001E-4]
[null,null,null,null,null,null,null,null,null,null,null,null,null,null,null,null,null,null,null,null,null,null,null,null,null,null,null,null,0,{"$f":"AVERAGE(#REF!)","v":{"$error":"#REF!"}},-0.50800000000000001,0.71799999999999997,-3.4179999999999993,-2.4880000000000004,-1.67,5.8759999999999994,-8.8900000000000003E-4,-1.7777999999999995E-3,2.2220000000000001E-4]
[null,null,null,null,null,null,null,null,null,null,null,null,null,null,null,null,null,null,null,null,null,null,null,null,null,null,null,null,0,{"$f":"AVERAGE(#REF!)","v":{"$error":"#REF!"}},3.4000000000000009E-2,0.7240000000000002,-3.07,-1.9439999999999997,-1.6640000000000001,6.2219999999999995,-1.5558000000000002E-3,6.6666E-3,-4.4440000000000001E-4]
[null,null,null,null,null,null,null,null,null,null,null,null,null,null,null,null,null,null,null,null,null,null,null,null,null,null,null,null,0,{"$f":"AVERAGE(#REF!)","v":{"$error":"#REF!"}},-0.60399999999999998,-0.54799999999999993,-2.806,-2.5840000000000001,-2.9359999999999999,6.4859999999999998,4.4419999999999996E-4,-3.7778E-3,1.1112000000000001E-3]
[null,null,null,null,null,null,null,null,null,null,null,null,null,null,null,null,null,null,null,null,null,null,null,null,null,null,null,null,0,{"$f":"AVERAGE(#REF!)","v":{"$error":"#REF!"}},-0.17400000000000004,-0.76200000000000012,-2.9079999999999999,-2.1520000000000001,-3.15,6.3819999999999997,-2.2240000000000004E-4,3.3332000000000001E-3,4.4460000000000002E-4]
[null,null,null,null,null,null,null,null,null,null,null,null,null,null,null,null,null,null,null,null,null,null,null,null,null,null,null,null,0,{"$f":"AVERAGE(#REF!)","v":{"$error":"#REF!"}},3.2000000000000028E-2,-0.33799999999999997,-2.3780000000000001,-1.9440000000000002,-2.7240000000000002,6.9120000000000008,6.6639999999999994E-4,3.7775999999999999E-3,1.1112000000000001E-3]
[null,null,null,null,null,null,null,null,null,null,null,null,null,null,null,null,null,null,null,null,null,null,null,null,null,null,null,null,0,{"$f":"AVERAGE(#REF!)","v":{"$error":"#REF!"}},0.14000000000000004,-0.27599999999999991,-2.472,-1.8379999999999999,-2.6619999999999999,6.82,6.6639999999999983E-4,-2.6667999999999996E-3,8.8900000000000003E-4]
[null,null,null,null,null,null,null,null,null,null,null,null,null,null,null,null,null,null,null,null,null,null,null,null,null,null,null,null,0,{"$f":"AVERAGE(#REF!)","v":{"$error":"#REF!"}},0.34399999999999997,0.52200000000000002,-3.09,-1.6339999999999999,-1.8640000000000001,6.202,-1.1112000000000001E-3,2.2220000000000017E-4,8.8900000000000003E-4]
[null,null,null,null,null,null,null,null,null,null,null,null,null,null,null,null,null,null,null,null,null,null,null,null,null,null,null,null,0,{"$f":"AVERAGE(#REF!)","v":{"$error":"#REF!"}},0.5,1.5620000000000001,-3.496,-1.4759999999999998,-0.82400000000000007,5.7960000000000003,8.8879999999999981E-4,-1.7778000000000002E-3,2.2220000000000001E-4]
[null,null,null,null,null,null,null,null,null,null,null,null,null,null,null,null,null,null,null,null,null,null,null,null,null,null,null,null,0,{"$f":"AVERAGE(#REF!)","v":{"$error":"#REF!"}},0.31999999999999995,0.90600000000000025,-3.6019999999999994,-1.6579999999999999,-1.482,5.69,-1.1111999999999999E-3,-4.4440000000000001E-4,-4.4460000000000002E-4]
[null,null,null,null,null,null,null,null,null,null,null,null,null,null,null,null,null,null,null,null,null,null,null,null,null,null,null,null,0,{"$f":"AVERAGE(#REF!)","v":{"$error":"#REF!"}},-0.48399999999999999,0.32999999999999996,-3.6680000000000006,-2.464,-2.06,5.6239999999999997,0,-2.6666000000000003E-3,0]
[null,null,null,null,null,null,null,null,null,null,null,null,null,null,null,null,null,null,null,null,null,null,null,null,null,null,null,null,0,{"$f":"AVERAGE(#REF!)","v":{"$error":"#REF!"}},-0.67799999999999994,-0.65999999999999992,-3.2380000000000004,-2.6559999999999997,-3.05,6.0520000000000005,8.8900000000000003E-4,0,-4.4440000000000001E-4]
[null,null,null,null,null,null,null,null,null,null,null,null,null,null,null,null,null,null,null,null,null,null,null,null,null,null,null,null,0,{"$f":"AVERAGE(#REF!)","v":{"$error":"#REF!"}},-0.50800000000000001,0.14600000000000007,-3.1700000000000004,-2.4900000000000002,-2.2440000000000002,6.12,0,-6.668000000000007E-4,-2.2220000000000001E-4]
[null,null,null,null,null,null,null,null,null,null,null,null,null,null,null,null,null,null,null,null,null,null,null,null,null,null,null,null,0,{"$f":"AVERAGE(#REF!)","v":{"$error":"#REF!"}},-0.45199999999999996,1.2000000000000099E-2,-2.8220000000000001,-2.4340000000000002,-2.3760000000000003,6.4679999999999991,8.8900000000000003E-4,-4.4459999999999986E-4,-4.4440000000000001E-4]
[null,null,null,null,null,null,null,null,null,null,null,null,null,null,null,null,null,null,null,null,null,null,null,null,null,null,null,null,0,{"$f":"AVERAGE(#REF!)","v":{"$error":"#REF!"}},-0.14200000000000004,0.378,-2.536,-2.1220000000000003,-2.0100000000000002,6.7539999999999996,-1.3332000000000001E-3,1.3332000000000003E-3,4.4460000000000002E-4]
[null,null,null,null,null,null,null,null,null,null,null,null,null,null,null,null,null,null,null,null,null,null,null,null,null,null,null,null,0,{"$f":"AVERAGE(#REF!)","v":{"$error":"#REF!"}},0.19,1.226,-3.4539999999999997,-1.7900000000000003,-1.1640000000000001,5.8360000000000003,1.1112000000000001E-3,-3.7777999999999991E-3,-2.2220000000000001E-4]
[null,null,null,null,null,null,null,null,null,null,null,null,null,null,null,null,null,null,null,null,null,null,null,null,null,null,null,null,0,{"$f":"AVERAGE(#REF!)","v":{"$error":"#REF!"}},0.58200000000000007,0.78999999999999992,-2.5939999999999999,-1.3960000000000001,-1.6,6.6980000000000004,-2.2220000000000001E-4,5.3332000000000006E-3,-4.4440000000000001E-4]
[null,null,null,null,null,null,null,null,null,null,null,null,null,null,null,null,null,null,null,null,null,null,null,null,null,null,null,null,0,{"$f":"AVERAGE(#REF!)","v":{"$error":"#REF!"}},-0.11800000000000002,-0.56600000000000006,-2.718,-2.0940000000000003,-2.9579999999999997,6.5739999999999998,-4.4440000000000018E-4,-6.2221999999999998E-3,-4.4440000000000001E-4]
[null,null,null,null,null,null,null,null,null,null,null,null,null,null,null,null,null,null,null,null,null,null,null,null,null,null,null,null,0,{"$f":"AVERAGE(#REF!)","v":{"$error":"#REF!"}},0.39800000000000002,-0.67400000000000004,-2.286,-1.5760000000000001,-3.0680000000000001,7.0059999999999985,-1.1109999999999998E-3,1.3333999999999998E-3,-1.7776000000000001E-3]
[null,null,null,null,null,null,null,null,null,null,null,null,null,null,null,null,null,null,null,null,null,null,null,null,null,null,null,null,0,{"$f":"AVERAGE(#REF!)","v":{"$error":"#REF!"}},0.46600000000000003,-0.49199999999999999,-1.2599999999999998,-1.5080000000000002,-2.8879999999999999,8.0359999999999978,4.4460000000000018E-4,-1.5556000000000001E-3,-8.8880000000000003E-4]
[null,null,null,null,null,null,null,null,null,null,null,null,null,null,null,null,null,null,null,null,null,null,null,null,null,null,null,null,0,{"$f":"AVERAGE(#REF!)","v":{"$error":"#REF!"}},0.91400000000000003,-0.25600000000000006,-0.98199999999999998,-1.0580000000000001,-2.6520000000000001,8.3140000000000001,-1.9998000000000004E-3,-8.8899999999999982E-4,-1.7776000000000001E-3]
[null,null,null,null,null,null,null,null,null,null,null,null,null,null,null,null,null,null,null,null,null,null,null,null,null,null,null,null,0,{"$f":"AVERAGE(#REF!)","v":{"$error":"#REF!"}},0.91799999999999993,-0.376,-0.35999999999999976,-1.054,-2.7719999999999998,8.9359999999999999,-1.5554E-3,-1.1112000000000001E-3,-6.6660000000000005E-4]
[null,null,null,null,null,null,null,null,null,null,null,null,null,null,null,null,null,null,null,null,null,null,null,null,null,null,null,null,0,{"$f":"AVERAGE(#REF!)","v":{"$error":"#REF!"}},1.4319999999999999,0.15399999999999991,-3.9999999999999945E-2,-0.53600000000000003,-2.242,9.2560000000000002,-1.5554E-3,4.4420000000000017E-4,0]
[null,null,null,null,null,null,null,null,null,null,null,null,null,null,null,null,null,null,null,null,null,null,null,null,null,null,null,null,0,{"$f":"AVERAGE(#REF!)","v":{"$error":"#REF!"}},1.25,-0.33400000000000002,1.042,-0.71799999999999997,-2.7320000000000002,10.34,0,1.1107999999999999E-3,2.2220000000000001E-4]
[null,null,null,null,null,null,null,null,null,null,null,null,null,null,null,null,null,null,null,null,null,null,null,null,null,null,null,null,0,{"$f":"AVERAGE(#REF!)","v":{"$error":"#REF!"}},1.1519999999999999,-1.004,1.1239999999999999,-0.81600000000000006,-3.4019999999999997,10.42,-1.5556000000000001E-3,-8.8920000000000004E-4,1.1112000000000001E-3]
[null,null,null,null,null,null,null,null,null,null,null,null,null,null,null,null,null,null,null,null,null,null,null,null,null,null,null,null,0,{"$f":"AVERAGE(#REF!)","v":{"$error":"#REF!"}},0.78999999999999992,-0.98399999999999999,2.0760000000000001,-1.1800000000000002,-3.3819999999999992,11.373999999999999,-8.8900000000000025E-4,8.8859999999999981E-4,1.1112000000000001E-3]
[null,null,null,null,null,null,null,null,null,null,null,null,null,null,null,null,null,null,null,null,null,null,null,null,null,null,null,null,0,{"$f":"AVERAGE(#REF!)","v":{"$error":"#REF!"}},0.11399999999999996,-1.0580000000000003,0.99799999999999967,-1.8579999999999999,-3.4579999999999997,10.294,0,-4.0001999999999998E-3,4.4460000000000002E-4]
[null,null,null,null,null,null,null,null,null,null,null,null,null,null,null,null,null,null,null,null,null,null,null,null,null,null,null,null,0,{"$f":"AVERAGE(#REF!)","v":{"$error":"#REF!"}},-0.57800000000000007,-1.6520000000000004,1.8340000000000001,-2.5539999999999998,-4.0519999999999996,11.132,0,2.4444000000000002E-3,4.4460000000000002E-4]
[null,null,null,null,null,null,null,null,null,null,null,null,null,null,null,null,null,null,null,null,null,null,null,null,null,null,null,null,0,{"$f":"AVERAGE(#REF!)","v":{"$error":"#REF!"}},-0.94000000000000006,-1.0840000000000001,0.44200000000000006,-2.9159999999999995,-3.4820000000000002,9.7379999999999995,-3.3332000000000001E-3,-3.5555999999999999E-3,1.1112000000000001E-3]
[null,null,null,null,null,null,null,null,null,null,null,null,null,null,null,null,null,null,null,null,null,null,null,null,null,null,null,null,0,{"$f":"AVERAGE(#REF!)","v":{"$error":"#REF!"}},-1.4780000000000002,-0.66400000000000003,0.52200000000000002,-3.4559999999999995,-3.0619999999999998,9.8180000000000014,-8.8880000000000003E-4,-2.6665999999999994E-3,-2.2220000000000001E-4]
[null,null,null,null,null,null,null,null,null,null,null,null,null,null,null,null,null,null,null,null,null,null,null,null,null,null,null,null,0,{"$f":"AVERAGE(#REF!)","v":{"$error":"#REF!"}},-1.7020000000000004,-0.83599999999999997,-0.74,-3.6799999999999997,-3.2339999999999995,8.5539999999999985,-2.6666000000000003E-3,-3.1110000000000001E-3,4.4440000000000001E-4]
[null,null,null,null,null,null,null,null,null,null,null,null,null,null,null,null,null,null,null,null,null,null,null,null,null,null,null,null,0,{"$f":"AVERAGE(#REF!)","v":{"$error":"#REF!"}},-1.43,0.93800000000000006,-0.69199999999999995,-3.4079999999999999,-1.4599999999999997,8.6020000000000003,-1.3334000000000002E-3,6.6680000000000016E-4,2.2220000000000001E-4]
[null,null,null,null,null,null,null,null,null,null,null,null,null,null,null,null,null,null,null,null,null,null,null,null,null,null,null,null,0,{"$f":"AVERAGE(#REF!)","v":{"$error":"#REF!"}},-1.268,1.0059999999999998,-1.7799999999999998,-3.2439999999999998,-1.39,7.5120000000000005,-6.6679999999999984E-4,-5.1110000000000001E-3,0]
[null,null,null,null,null,null,null,null,null,null,null,null,null,null,null,null,null,null,null,null,null,null,null,null,null,null,null,null,0,{"$f":"AVERAGE(#REF!)","v":{"$error":"#REF!"}},-0.70399999999999996,0.93399999999999994,-1.272,-2.68,-1.462,8.02,-2.2240000000000004E-4,1.1113999999999998E-3,-4.4440000000000001E-4]
[null,null,null,null,null,null,null,null,null,null,null,null,null,null,null,null,null,null,null,null,null,null,null,null,null,null,null,null,0,{"$f":"AVERAGE(#REF!)","v":{"$error":"#REF!"}},-0.64200000000000013,0.73399999999999999,-2.5219999999999998,-2.6179999999999999,-1.6619999999999997,6.7700000000000005,8.8880000000000003E-4,-3.333E-3,-2.2220000000000001E-4]
[null,null,null,null,null,null,null,null,null,null,null,null,null,null,null,null,null,null,null,null,null,null,null,null,null,null,null,null,0,{"$f":"AVERAGE(#REF!)","v":{"$error":"#REF!"}},2.5999999999999978E-2,0.8859999999999999,-1.9100000000000001,-1.95,-1.5100000000000002,7.3820000000000006,0,4.4446000000000008E-3,-6.6660000000000005E-4]
[null,null,null,null,null,null,null,null,null,null,null,null,null,null,null,null,null,null,null,null,null,null,null,null,null,null,null,null,0,{"$f":"AVERAGE(#REF!)","v":{"$error":"#REF!"}},0.3,0.74199999999999999,-2.4500000000000002,-1.6740000000000002,-1.6519999999999999,6.8420000000000005,-4.4440000000000001E-4,-3.5553999999999994E-3,2.2220000000000001E-4]
[null,null,null,null,null,null,null,null,null,null,null,null,null,null,null,null,null,null,null,null,null,null,null,null,null,null,null,null,0,{"$f":"AVERAGE(#REF!)","v":{"$error":"#REF!"}},0.8640000000000001,0.95199999999999996,-1.7119999999999997,-1.1079999999999999,-1.444,7.581999999999999,-1.111E-3,3.3334000000000003E-3,0]
[null,null,null,null,null,null,null,null,null,null,null,null,null,null,null,null,null,null,null,null,null,null,null,null,null,null,null,null,0,{"$f":"AVERAGE(#REF!)","v":{"$error":"#REF!"}},0.49000000000000005,0.80199999999999994,-2.6199999999999997,-1.48,-1.5920000000000001,6.6739999999999995,0,-2.2221999999999997E-3,1.3332000000000001E-3]
[null,null,null,null,null,null,null,null,null,null,null,null,null,null,null,null,null,null,null,null,null,null,null,null,null,null,null,null,0,{"$f":"AVERAGE(#REF!)","v":{"$error":"#REF!"}},0.98199999999999998,0.72399999999999998,-1.8720000000000003,-0.98599999999999999,-1.67,7.4239999999999995,-1.3334E-3,4.4443999999999994E-3,6.6660000000000005E-4]
[null,null,null,null,null,null,null,null,null,null,null,null,null,null,null,null,null,null,null,null,null,null,null,null,null,null,null,null,0,{"$f":"AVERAGE(#REF!)","v":{"$error":"#REF!"}},0.21800000000000003,-0.87400000000000022,-2.21,-1.7479999999999998,-3.2659999999999996,7.0860000000000003,8.8880000000000003E-4,-4.8888000000000004E-3,1.111E-3]
[null,null,null,null,null,null,null,null,null,null,null,null,null,null,null,null,null,null,null,null,null,null,null,null,null,null,null,null,0,{"$f":"AVERAGE(#REF!)","v":{"$error":"#REF!"}},0.61199999999999988,-1.1940000000000002,-1.4819999999999998,-1.3539999999999999,-3.5859999999999999,7.8140000000000001,4.4440000000000001E-4,-2.2220000000000052E-4,2.2220000000000001E-4]
[null,null,null,null,null,null,null,null,null,null,null,null,null,null,null,null,null,null,null,null,null,null,null,null,null,null,null,null,0,{"$f":"AVERAGE(#REF!)","v":{"$error":"#REF!"}},0.56400000000000006,-0.72800000000000009,-0.87599999999999978,-1.4019999999999997,-3.1179999999999999,8.42,8.8880000000000003E-4,-3.1110000000000001E-3,8.8880000000000003E-4]
[null,null,null,null,null,null,null,null,null,null,null,null,null,null,null,null,null,null,null,null,null,null,null,null,null,null,null,null,0,{"$f":"AVERAGE(#REF!)","v":{"$error":"#REF!"}},0.98000000000000009,-0.36000000000000004,-0.29599999999999999,-0.98799999999999977,-2.754,9,2.2220000000000001E-4,-4.2221999999999997E-3,0]
[null,null,null,null,null,null,null,null,null,null,null,null,null,null,null,null,null,null,null,null,null,null,null,null,null,null,null,null,{"$f":"(1609.34/3600)*Delta_Speed","v":0},{"$f":"AVERAGE(#REF!)","v":{"$error":"#REF!"}},0.83000000000000007,-0.54200000000000004,0.53800000000000003,-1.1379999999999999,-2.9360000000000004,9.8339999999999996,1.1112000000000001E-3,-4.666599999999999E-3,8.8880000000000003E-4]
[null,null,null,null,null,null,null,null,null,null,null,null,null,null,null,null,null,null,null,null,null,null,null,null,null,null,null,null,0,{"$f":"AVERAGE(#REF!)","v":{"$error":"#REF!"}},1.3880000000000001,-0.34199999999999992,1.44,-0.57800000000000007,-2.7380000000000004,10.738,4.4440000000000018E-4,-4.4443999999999994E-3,1.3332000000000001E-3]
[null,null,null,null,null,null,null,null,null,null,null,null,null,null,null,null,null,null,null,null,null,null,null,null,null,null,null,null,0,{"$f":"AVERAGE(#REF!)","v":{"$error":"#REF!"}},0.96599999999999997,-0.38799999999999996,2.1160000000000001,-1,-2.7840000000000003,11.416,1.1109999999999998E-3,-6.6659999999999951E-4,1.5554E-3]
[null,null,null,null,null,null,null,null,null,null,null,null,null,null,null,null,null,null,null,null,null,null,null,null,null,null,null,null,0,{"$f":"AVERAGE(#REF!)","v":{"$error":"#REF!"}},0.98199999999999998,-0.85399999999999987,2.2700000000000005,-0.9860000000000001,-3.2519999999999998,11.571999999999999,1.3331999999999999E-3,-2.8887999999999995E-3,1.3332000000000001E-3]
[null,null,null,null,null,null,null,null,null,null,null,null,null,null,null,null,null,null,null,null,null,null,null,null,null,null,null,null,0,{"$f":"AVERAGE(#REF!)","v":{"$error":"#REF!"}},{"$f":"AVERAGE(Q834:Q838)","v":0.41400000000000003},{"$f":"AVERAGE(R834:R838)","v":-0.84800000000000009},{"$f":"AVERAGE(S834:S838)","v":2.7700000000000005},{"$f":"AVERAGE(T834:T838)","v":-1.5539999999999998},{"$f":"AVERAGE(U834:U838)","v":-3.246},{"$f":"AVERAGE(V834:V838)","v":12.074},{"$f":"AVERAGE(W834:W838)","v":6.6660000000000005E-4},{"$f":"AVERAGE(X834:X838)","v":2.2224000000000002E-3},{"$f":"AVERAGE(Y834:Y838)","v":8.8880000000000003E-4}]
[null,null,null,null,null,null,null,null,null,null,null,null,null,null,null,null,null,null,null,null,null,null,null,null,null,null,null,null,0,{"$f":"AVERAGE(#REF!)","v":{"$error":"#REF!"}},-6.2000000000000013E-2,-0.94000000000000006,1.3800000000000003,-2.032,-3.3359999999999999,10.68,1.3331999999999997E-3,-2.2219999999999996E-3,6.6660000000000005E-4]
[null,null,null,null,null,null,null,null,null,null,null,null,null,null,null,null,null,null,null,null,null,null,null,null,null,null,null,null,0,{"$f":"AVERAGE(#REF!)","v":{"$error":"#REF!"}},-0.77600000000000002,-1.212,1.6839999999999999,-2.7480000000000002,-3.6079999999999997,10.984,-2.2220000000000052E-4,6.0001999999999998E-3,2.2220000000000001E-4]
[null,null,null,null,null,null,null,null,null,null,null,null,null,null,null,null,null,null,null,null,null,null,null,null,null,null,null,null,0,{"$f":"AVERAGE(#REF!)","v":{"$error":"#REF!"}},-1.0299999999999998,-1.232,0.53199999999999992,-3.0019999999999998,-3.6280000000000001,9.8299999999999983,-2.0000000000000005E-3,-2.4442000000000005E-3,6.6660000000000005E-4]
[null,null,null,null,null,null,null,null,null,null,null,null,null,null,null,null,null,null,null,null,null,null,null,null,null,null,null,null,0,{"$f":"AVERAGE(#REF!)","v":{"$error":"#REF!"}},-1.5959999999999999,-1.2159999999999997,0.52400000000000002,-3.5680000000000001,-3.6120000000000005,9.82,-2.4444000000000002E-3,1.7779999999999996E-3,4.4440000000000001E-4]
[null,null,null,null,null,null,null,null,null,null,null,null,null,null,null,null,null,null,null,null,null,null,null,null,null,null,null,null,0,{"$f":"AVERAGE(#REF!)","v":{"$error":"#REF!"}},-1.718,-1.2060000000000002,-0.57999999999999985,-3.69,-3.6019999999999994,8.7140000000000022,-1.5556000000000001E-3,-3.1110000000000005E-3,1.111E-3]
[null,null,null,null,null,null,null,null,null,null,null,null,null,null,null,null,null,null,null,null,null,null,null,null,null,null,null,null,0,{"$f":"AVERAGE(#REF!)","v":{"$error":"#REF!"}},-1.4359999999999999,0.35,0.10000000000000009,-3.4060000000000001,-2.0480000000000005,9.3960000000000008,-3.1112000000000002E-3,3.7777999999999991E-3,0]
[null,null,null,null,null,null,null,null,null,null,null,null,null,null,null,null,null,null,null,null,null,null,null,null,null,null,null,null,0,{"$f":"AVERAGE(#REF!)","v":{"$error":"#REF!"}},-1.4079999999999999,0.80799999999999983,-0.88400000000000001,-3.3780000000000001,-1.59,8.41,-1.3335999999999999E-3,-4.8888000000000004E-3,6.6660000000000005E-4]
[null,null,null,null,null,null,null,null,null,null,null,null,null,null,null,null,null,null,null,null,null,null,null,null,null,null,null,null,0,{"$f":"AVERAGE(#REF!)","v":{"$error":"#REF!"}},-1.1379999999999999,0.36599999999999999,-0.97599999999999976,-3.1059999999999994,-2.0339999999999998,8.3180000000000014,-1.3336000000000001E-3,3.1111999999999997E-3,-2.2220000000000001E-4]
[null,null,null,null,null,null,null,null,null,null,null,null,null,null,null,null,null,null,null,null,null,null,null,null,null,null,null,null,0,{"$f":"AVERAGE(#REF!)","v":{"$error":"#REF!"}},-1.3119999999999998,0.18999999999999995,-1.8579999999999999,-3.282,-2.21,7.4340000000000002,2.2199999999999998E-4,-2.2220000000000001E-4,0]
[null,null,null,null,null,null,null,null,null,null,null,null,null,null,null,null,null,null,null,null,null,null,null,null,null,null,null,null,0,{"$f":"AVERAGE(#REF!)","v":{"$error":"#REF!"}},-1.0499999999999998,0.23200000000000004,-1.8219999999999998,-3.02,-2.1680000000000001,7.4699999999999989,-4.4460000000000002E-4,2.2240000000000004E-4,-2.2220000000000001E-4]
[null,null,null,null,null,null,null,null,null,null,null,null,null,null,null,null,null,null,null,null,null,null,null,null,null,null,null,null,0,{"$f":"AVERAGE(#REF!)","v":{"$error":"#REF!"}},-1.2899999999999998,-0.27799999999999997,-2.298,-3.2600000000000002,-2.6759999999999997,6.992,-2.2240000000000004E-4,-2.2219999999999996E-3,1.3332000000000001E-3]
[null,null,null,null,null,null,null,null,null,null,null,null,null,null,null,null,null,null,null,null,null,null,null,null,null,null,null,null,0,{"$f":"AVERAGE(#REF!)","v":{"$error":"#REF!"}},-0.79600000000000004,0.45200000000000007,-2.6439999999999997,-2.7660000000000005,-1.9440000000000002,6.6479999999999988,0,-1.9997999999999999E-3,8.8880000000000003E-4]
[null,null,null,null,null,null,null,null,null,null,null,null,null,null,null,null,null,null,null,null,null,null,null,null,null,null,null,null,0,{"$f":"AVERAGE(#REF!)","v":{"$error":"#REF!"}},-1.016,1.474,-2.806,-2.99,-0.92199999999999993,6.4880000000000013,1.7778E-3,-4.4420000000000017E-4,1.3332000000000001E-3]
[null,null,null,null,null,null,null,null,null,null,null,null,null,null,null,null,null,null,null,null,null,null,null,null,null,null,null,null,0,{"$f":"AVERAGE(#REF!)","v":{"$error":"#REF!"}},-0.54,1.2479999999999998,-3.004,-2.512,-1.1480000000000001,6.2899999999999991,2.2219999999999982E-4,-3.9998000000000004E-3,1.7776000000000001E-3]
[null,null,null,null,null,null,null,null,null,null,null,null,null,null,null,null,null,null,null,null,null,null,null,null,null,null,null,null,0,{"$f":"AVERAGE(#REF!)","v":{"$error":"#REF!"}},-0.10800000000000001,1.3180000000000001,-1.5080000000000002,-2.08,-1.0780000000000001,7.7879999999999994,8.8880000000000003E-4,2.2224000000000002E-3,1.5554E-3]
[null,null,null,null,null,null,null,null,null,null,null,null,null,null,null,null,null,null,null,null,null,null,null,null,null,null,null,null,0,{"$f":"AVERAGE(#REF!)","v":{"$error":"#REF!"}},0.61599999999999999,1.3220000000000001,-1.4940000000000002,-1.3539999999999999,-1.0739999999999998,7.8019999999999996,2.2221999999999997E-3,-3.3332000000000001E-3,1.3332000000000001E-3]
[null,null,null,null,null,null,null,null,null,null,null,null,null,null,null,null,null,null,null,null,null,null,null,null,null,null,null,null,0,{"$f":"AVERAGE(#REF!)","v":{"$error":"#REF!"}},0.82400000000000007,1.1140000000000001,-4.8000000000000043E-2,-1.1459999999999999,-1.282,9.2480000000000011,6.6659999999999983E-4,4.6668000000000005E-3,8.8880000000000003E-4]
[null,null,null,null,null,null,null,null,null,null,null,null,null,null,null,null,null,null,null,null,null,null,null,null,null,null,null,null,0,{"$f":"AVERAGE(#REF!)","v":{"$error":"#REF!"}},1.52,0.87200000000000011,0.62399999999999989,-0.44800000000000006,-1.5240000000000002,9.918000000000001,0,-2.6666000000000003E-3,1.3332000000000001E-3]
[null,null,null,null,null,null,null,null,null,null,null,null,null,null,null,null,null,null,null,null,null,null,null,null,null,null,null,null,0,{"$f":"AVERAGE(#REF!)","v":{"$error":"#REF!"}},1.3459999999999999,0.87200000000000011,1.8520000000000003,-0.624,-1.5239999999999998,11.148,8.8899999999999982E-4,1.1112000000000001E-3,2.2220000000000001E-4]
[null,null,null,null,null,null,null,null,null,null,null,null,null,null,null,null,null,null,null,null,null,null,null,null,null,null,null,null,0,{"$f":"AVERAGE(#REF!)","v":{"$error":"#REF!"}},1.0080000000000002,-0.79599999999999993,2.1800000000000002,-0.96,-3.1920000000000002,11.475999999999999,-2.4442000000000001E-3,-2.0000000000000005E-3,1.3332000000000001E-3]
[null,null,null,null,null,null,null,null,null,null,null,null,null,null,null,null,null,null,null,null,null,null,null,null,null,null,null,null,0,{"$f":"AVERAGE(#REF!)","v":{"$error":"#REF!"}},0.58800000000000008,-0.40199999999999997,2.7800000000000002,-1.3839999999999999,-2.8,12.077999999999999,-2.4442000000000001E-3,3.3333999999999994E-3,0]
[null,null,null,null,null,null,null,null,null,null,null,null,null,null,null,null,null,null,null,null,null,null,null,null,null,null,null,null,0,{"$f":"AVERAGE(#REF!)","v":{"$error":"#REF!"}},0.55999999999999994,-0.81799999999999995,3.214,-1.4120000000000001,-3.22,12.513999999999999,-1.9998000000000004E-3,-4.4444000000000003E-3,4.4440000000000001E-4]
[null,null,null,null,null,null,null,null,null,null,null,null,null,null,null,null,null,null,null,null,null,null,null,null,null,null,null,null,0,{"$f":"AVERAGE(#REF!)","v":{"$error":"#REF!"}},-0.13600000000000001,-1.0779999999999998,3.5680000000000001,-2.1080000000000001,-3.4780000000000002,12.87,-5.1110000000000001E-3,3.1112000000000006E-3,0]
[null,null,null,null,null,null,null,null,null,null,null,null,null,null,null,null,null,null,null,null,null,null,null,null,null,null,null,null,0,{"$f":"AVERAGE(#REF!)","v":{"$error":"#REF!"}},-0.33399999999999996,-0.8640000000000001,2.194,-2.3040000000000003,-3.2640000000000002,11.494000000000002,-2.4444000000000002E-3,-2.2219999999999996E-3,-2.2220000000000001E-4]
[null,null,null,null,null,null,null,null,null,null,null,null,null,null,null,null,null,null,null,null,null,null,null,null,null,null,null,null,0,{"$f":"AVERAGE(#REF!)","v":{"$error":"#REF!"}},-0.96599999999999997,-0.80399999999999994,1.4600000000000004,-2.9379999999999997,-3.2039999999999997,10.76,-2.2222000000000001E-3,4.0002000000000006E-3,-8.8880000000000003E-4]
[null,null,null,null,null,null,null,null,null,null,null,null,null,null,null,null,null,null,null,null,null,null,null,null,null,null,null,null,0,{"$f":"AVERAGE(#REF!)","v":{"$error":"#REF!"}},-0.70599999999999996,-0.56599999999999984,0.37600000000000017,-2.6739999999999999,-2.9659999999999997,9.6739999999999995,-2.4444000000000002E-3,-2.8887999999999995E-3,0]
[null,null,null,null,null,null,null,null,null,null,null,null,null,null,null,null,null,null,null,null,null,null,null,null,null,null,null,null,0,{"$f":"AVERAGE(#REF!)","v":{"$error":"#REF!"}},-1.0680000000000001,0.11000000000000006,-1.018,-3.036,-2.2859999999999996,8.2759999999999998,-6.6660000000000005E-4,1.3334000000000002E-3,-4.4440000000000001E-4]
[null,null,null,null,null,null,null,null,null,null,null,null,null,null,null,null,null,null,null,null,null,null,null,null,null,null,null,null,0,{"$f":"AVERAGE(#REF!)","v":{"$error":"#REF!"}},-0.62200000000000011,-0.61199999999999977,-1.1320000000000001,-2.5880000000000001,-3.0100000000000002,8.1620000000000008,-1.9998000000000004E-3,-8.8880000000000003E-4,6.6660000000000005E-4]
[null,null,null,null,null,null,null,null,null,null,null,null,null,null,null,null,null,null,null,null,null,null,null,null,null,null,null,null,0,{"$f":"AVERAGE(#REF!)","v":{"$error":"#REF!"}},6.4000000000000057E-2,0.31800000000000012,-1.226,-1.9,-2.0780000000000003,8.0680000000000014,-2.2199999999999998E-4,3.3334000000000003E-3,-6.6679999999999984E-4]
[null,null,null,null,null,null,null,null,null,null,null,null,null,null,null,null,null,null,null,null,null,null,null,null,null,null,null,null,0,{"$f":"AVERAGE(#REF!)","v":{"$error":"#REF!"}},0.68,0.79800000000000015,-0.38999999999999985,-1.2819999999999998,-1.5979999999999999,8.9039999999999999,2.0001999999999997E-3,-1.1110000000000004E-3,-4.4459999999999986E-4]
[null,null,null,null,null,null,null,null,null,null,null,null,null,null,null,null,null,null,null,null,null,null,null,null,null,null,null,null,0,{"$f":"AVERAGE(#REF!)","v":{"$error":"#REF!"}},0.182,0.35400000000000004,-0.24799999999999994,-1.782,-2.04,9.0459999999999994,-1.1110000000000004E-3,2.0001999999999997E-3,-4.4459999999999986E-4]
[null,null,null,null,null,null,null,null,null,null,null,null,null,null,null,null,null,null,null,null,null,null,null,null,null,null,null,null,0,{"$f":"AVERAGE(#REF!)","v":{"$error":"#REF!"}},0.29200000000000004,0.76,0.35,-1.6719999999999999,-1.6379999999999995,9.6479999999999997,4.4459999999999969E-4,8.8900000000000025E-4,-1.3333999999999998E-3]
[null,null,null,null,null,null,null,null,null,null,null,null,null,null,null,null,null,null,null,null,null,null,null,null,null,null,null,null,0,{"$f":"AVERAGE(#REF!)","v":{"$error":"#REF!"}},-0.47400000000000003,0.24599999999999991,-0.13399999999999998,-2.44,-2.1520000000000001,9.1620000000000008,3.1112000000000002E-3,-2.2221999999999997E-3,-2.2221999999999997E-3]
[null,null,null,null,null,null,null,null,null,null,null,null,null,null,null,null,null,null,null,null,null,null,null,null,null,null,null,null,0,{"$f":"AVERAGE(#REF!)","v":{"$error":"#REF!"}},-1.31,-0.96400000000000008,0.30599999999999999,-3.278,-3.3639999999999999,9.6020000000000003,-3.7778000000000004E-3,3.3332000000000001E-3,-8.8880000000000003E-4]
[null,null,null,null,null,null,null,null,null,null,null,null,null,null,null,null,null,null,null,null,null,null,null,null,null,null,null,null,0,{"$f":"AVERAGE(#REF!)","v":{"$error":"#REF!"}},-1.1240000000000001,0.2759999999999998,-1.034,-3.0920000000000001,-2.1239999999999997,8.26,-1.1112000000000003E-3,-5.1112000000000006E-3,-1.3332000000000001E-3]
[null,null,null,null,null,null,null,null,null,null,null,null,null,null,null,null,null,null,null,null,null,null,null,null,null,null,null,null,0,{"$f":"AVERAGE(#REF!)","v":{"$error":"#REF!"}},-0.84199999999999997,0.28999999999999987,-1.046,-2.81,-2.11,8.2479999999999993,-8.8900000000000036E-4,4.4440000000000034E-4,-8.8880000000000003E-4]
[null,null,null,null,null,null,null,null,null,null,null,null,null,null,null,null,null,null,null,null,null,null,null,null,null,null,null,null,0,{"$f":"AVERAGE(#REF!)","v":{"$error":"#REF!"}},-0.58999999999999986,-0.75599999999999989,-1.3839999999999999,-2.556,-3.1539999999999999,7.9060000000000006,-3.3336000000000004E-3,-2.8888000000000004E-3,8.8880000000000003E-4]
[null,null,null,null,null,null,null,null,null,null,null,null,null,null,null,null,null,null,null,null,null,null,null,null,null,null,null,null,0,{"$f":"AVERAGE(#REF!)","v":{"$error":"#REF!"}},3.4000000000000051E-2,0.188,-0.11599999999999984,-1.9300000000000002,-2.2080000000000002,9.1760000000000002,2.2199999999999927E-4,3.7778E-3,0]
[null,null,null,null,null,null,null,null,null,null,null,null,null,null,null,null,null,null,null,null,null,null,null,null,null,null,null,null,0,{"$f":"AVERAGE(#REF!)","v":{"$error":"#REF!"}},0.85,0.38200000000000001,0.54600000000000026,-1.1120000000000001,-2.016,9.84,2.2199999999999927E-4,-3.9998000000000004E-3,1.3332000000000001E-3]
[null,null,null,null,null,null,null,null,null,null,null,null,null,null,null,null,null,null,null,null,null,null,null,null,null,null,null,null,0,{"$f":"AVERAGE(#REF!)","v":{"$error":"#REF!"}},0.8600000000000001,0.54400000000000004,1.6060000000000003,-1.1020000000000001,-1.8539999999999999,10.901999999999999,-1.3336000000000005E-3,5.7780000000000001E-3,1.111E-3]
[null,null,null,null,null,null,null,null,null,null,null,null,null,null,null,null,null,null,null,null,null,null,null,null,null,null,null,null,0,{"$f":"AVERAGE(#REF!)","v":{"$error":"#REF!"}},1.35,0.57200000000000017,2.0740000000000003,-0.61199999999999999,-1.8259999999999998,11.372,1.3331999999999997E-3,-4.4440000000000001E-4,4.4440000000000001E-4]
[null,null,null,null,null,null,null,null,null,null,null,null,null,null,null,null,null,null,null,null,null,null,null,null,null,null,null,null,0,{"$f":"AVERAGE(#REF!)","v":{"$error":"#REF!"}},1.3320000000000001,0.81200000000000006,2.9620000000000006,-0.63,-1.5880000000000003,12.26,-2.2220000000000017E-4,6.6666E-3,-6.6660000000000005E-4]
[null,null,null,null,null,null,null,null,null,null,null,null,null,null,null,null,null,null,null,null,null,null,null,null,null,null,null,null,0,{"$f":"AVERAGE(#REF!)","v":{"$error":"#REF!"}},1.6800000000000002,1.2420000000000002,1.8360000000000003,-0.28400000000000003,-1.1620000000000001,11.132,-1.5556000000000001E-3,-2.8888E-3,6.6660000000000005E-4]
[null,null,null,null,null,null,null,null,null,null,null,null,null,null,null,null,null,null,null,null,null,null,null,null,null,null,null,null,0,{"$f":"AVERAGE(#REF!)","v":{"$error":"#REF!"}},1.3619999999999999,1.1320000000000001,2.3079999999999998,-0.60399999999999987,-1.27,11.603999999999999,4.0000000000000001E-3,-5.7778000000000005E-3,-4.4440000000000001E-4]
[null,null,null,null,null,null,null,null,null,null,null,null,null,null,null,null,null,null,null,null,null,null,null,null,null,null,null,null,0,{"$f":"AVERAGE(#REF!)","v":{"$error":"#REF!"}},0.8620000000000001,1.1579999999999999,1.018,-1.1039999999999999,-1.2440000000000002,10.314,2.6668000000000004E-3,-7.1111999999999998E-3,-2.2220000000000001E-4]
[null,null,null,null,null,null,null,null,null,null,null,null,null,null,null,null,null,null,null,null,null,null,null,null,null,null,null,null,0,{"$f":"AVERAGE(#REF!)","v":{"$error":"#REF!"}},0.31399999999999995,1.34,1.3459999999999999,-1.6519999999999999,-1.0639999999999998,10.641999999999999,-2.2220000000000001E-4,-5.1112000000000006E-3,6.6660000000000005E-4]
[null,null,null,null,null,null,null,null,null,null,null,null,null,null,null,null,null,null,null,null,null,null,null,null,null,null,null,null,0,{"$f":"AVERAGE(#REF!)","v":{"$error":"#REF!"}},-0.28399999999999997,1.052,-0.10999999999999996,-2.25,-1.35,9.1859999999999999,5.3332000000000006E-3,-7.3334000000000012E-3,2.2220000000000001E-4]
[null,null,null,null,null,null,null,null,null,null,null,null,null,null,null,null,null,null,null,null,null,null,null,null,null,null,null,null,0,{"$f":"AVERAGE(#REF!)","v":{"$error":"#REF!"}},-0.99399999999999999,0.89600000000000013,0.20799999999999991,-2.96,-1.5020000000000002,9.5060000000000002,6.6659999999999983E-4,-5.5558000000000005E-3,0]
[null,null,null,null,null,null,null,null,null,null,null,null,null,null,null,null,null,null,null,null,null,null,null,null,null,null,null,null,0,{"$f":"AVERAGE(#REF!)","v":{"$error":"#REF!"}},-1.266,1.0379999999999998,-1.294,-3.2299999999999995,-1.36,8.0019999999999989,-8.8899999999999971E-4,1.9997999999999999E-3,-2.2220000000000001E-4]
[null,null,null,null,null,null,null,null,null,null,null,null,null,null,null,null,null,null,null,null,null,null,null,null,null,null,null,null,0,{"$f":"AVERAGE(#REF!)","v":{"$error":"#REF!"}},-1.5939999999999999,-0.85,-0.56400000000000006,-3.5579999999999998,-3.2480000000000002,8.7320000000000011,1.3332000000000001E-3,-4.0002000000000006E-3,-4.4440000000000001E-4]
[null,null,null,null,null,null,null,null,null,null,null,null,null,null,null,null,null,null,null,null,null,null,null,null,null,null,null,null,0,{"$f":"AVERAGE(#REF!)","v":{"$error":"#REF!"}},-1.4179999999999997,-0.8,-1.544,-3.3780000000000001,-3.2,7.75,4.4440000000000034E-4,1.7775999999999996E-3,-1.111E-3]
[null,null,null,null,null,null,null,null,null,null,null,null,null,null,null,null,null,null,null,null,null,null,null,null,null,null,null,null,0,{"$f":"AVERAGE(#REF!)","v":{"$error":"#REF!"}},-1.236,-0.17600000000000002,-1.232,-3.1979999999999995,-2.5740000000000003,8.0620000000000012,-1.111E-3,-3.778000000000001E-3,-2.2220000000000001E-4]
[null,null,null,null,null,null,null,null,null,null,null,null,null,null,null,null,null,null,null,null,null,null,null,null,null,null,null,null,0,{"$f":"AVERAGE(#REF!)","v":{"$error":"#REF!"}},-0.72599999999999998,-0.85,-1.284,-2.6840000000000002,-3.25,8.0120000000000005,1.7778E-3,-1.7780000000000005E-3,-8.8880000000000003E-4]
[null,null,null,null,null,null,null,null,null,null,null,null,null,null,null,null,null,null,null,null,null,null,null,null,null,null,null,null,0,{"$f":"AVERAGE(#REF!)","v":{"$error":"#REF!"}},-0.48000000000000009,7.1999999999999925E-2,-0.43199999999999994,-2.44,-2.3259999999999996,8.8659999999999997,-2E-3,1.3329999999999995E-3,6.6680000000000005E-4]
[null,null,null,null,null,null,null,null,null,null,null,null,null,null,null,null,null,null,null,null,null,null,null,null,null,null,null,null,0,{"$f":"AVERAGE(#REF!)","v":{"$error":"#REF!"}},0.13599999999999995,0.66800000000000015,0.38200000000000012,-1.8219999999999998,-1.732,9.68,-8.8900000000000058E-4,6.6640000000000037E-4,2.2240000000000004E-4]
[null,null,null,null,null,null,null,null,null,null,null,null,null,null,null,null,null,null,null,null,null,null,null,null,null,null,null,null,0,{"$f":"AVERAGE(#REF!)","v":{"$error":"#REF!"}},-0.31,0.31,0.4280000000000001,-2.2700000000000005,-2.0880000000000001,9.7260000000000009,3.1110000000000001E-3,1.9998000000000004E-3,2.0000000000002654E-7]
[null,null,null,null,null,null,null,null,null,null,null,null,null,null,null,null,null,null,null,null,null,null,null,null,null,null,null,null,0,{"$f":"AVERAGE(#REF!)","v":{"$error":"#REF!"}},-0.11599999999999999,0.78600000000000003,1.0620000000000001,-2.0760000000000001,-1.6160000000000001,10.362,-1.3336000000000003E-3,1.3332000000000003E-3,4.4460000000000002E-4]
[null,null,null,null,null,null,null,null,null,null,null,null,null,null,null,null,null,null,null,null,null,null,null,null,null,null,null,null,0,{"$f":"AVERAGE(#REF!)","v":{"$error":"#REF!"}},-0.83799999999999986,0.24400000000000013,0.7220000000000002,-2.8,-2.16,10.018000000000001,4.4419999999999979E-4,5.3332000000000006E-3,4.4460000000000002E-4]
[null,null,null,null,null,null,null,null,null,null,null,null,null,null,null,null,null,null,null,null,null,null,null,null,null,null,null,null,0,{"$f":"AVERAGE(#REF!)","v":{"$error":"#REF!"}},-1.26,-0.95199999999999996,0.56400000000000006,-3.22,-3.3600000000000003,9.86,3.7775999999999999E-3,-1.7778E-3,-2.2220000000000001E-4]
[null,null,null,null,null,null,null,null,null,null,null,null,null,null,null,null,null,null,null,null,null,null,null,null,null,null,null,null,{"$f":"(1609.34/3600)*Delta_Speed","v":0},{"$f":"AVERAGE(#REF!)","v":{"$error":"#REF!"}},-1.3580000000000001,-9.9999999999999638E-3,-1.012,-3.3200000000000003,-2.4180000000000001,8.282,-1.1111999999999999E-3,7.111000000000001E-3,4.4440000000000001E-4]
[null,null,null,null,null,null,null,null,null,null,null,null,null,null,null,null,null,null,null,null,null,null,null,null,null,null,null,null,0,{"$f":"AVERAGE(#REF!)","v":{"$error":"#REF!"}},-0.75800000000000001,-0.74999999999999989,-0.36399999999999993,-2.718,-3.16,8.9319999999999986,2.2200000000000033E-4,-3.7777999999999991E-3,8.8880000000000003E-4]
[null,null,null,null,null,null,null,null,null,null,null,null,null,null,null,null,null,null,null,null,null,null,null,null,null,null,null,null,0,{"$f":"AVERAGE(#REF!)","v":{"$error":"#REF!"}},-0.53800000000000003,-1.248,-1.1239999999999999,-2.4940000000000002,-3.6559999999999997,8.17,8.8880000000000003E-4,2.6665999999999999E-3,4.4440000000000001E-4]
[null,null,null,null,null,null,null,null,null,null,null,null,null,null,null,null,null,null,null,null,null,null,null,null,null,null,null,null,0,{"$f":"AVERAGE(#REF!)","v":{"$error":"#REF!"}},-5.2000000000000005E-2,-0.74599999999999989,1.8000000000000148E-2,-2.0060000000000002,-3.1539999999999999,9.3139999999999983,-1.3333999999999998E-3,8.8900000000000025E-4,1.111E-3]
[null,null,null,null,null,null,null,null,null,null,null,null,null,null,null,null,null,null,null,null,null,null,null,null,null,null,null,null,0,{"$f":"AVERAGE(#REF!)","v":{"$error":"#REF!"}},{"$f":"AVERAGE(Q898:Q902)","v":0.67000000000000015},{"$f":"AVERAGE(R898:R902)","v":-0.59399999999999986},{"$f":"AVERAGE(S898:S902)","v":0.6100000000000001},{"$f":"AVERAGE(T898:T902)","v":-1.282},{"$f":"AVERAGE(U898:U902)","v":-3.0019999999999998},{"$f":"AVERAGE(V898:V902)","v":9.9059999999999988},{"$f":"AVERAGE(W898:W902)","v":1.9999999999999996E-3},{"$f":"AVERAGE(X898:X902)","v":1.5556000000000001E-3},{"$f":"AVERAGE(Y898:Y902)","v":-6.6680000000000005E-4}]
[null,null,null,null,null,null,null,null,null,null,null,null,null,null,null,null,null,null,null,null,null,null,null,null,null,null,null,null,0,{"$f":"AVERAGE(#REF!)","v":{"$error":"#REF!"}},0.57799999999999996,-0.53199999999999981,1.4219999999999999,-1.3759999999999999,-2.94,10.72,3.1109999999999996E-3,-1.3332000000000001E-3,-2.2240000000000004E-4]
[null,null,null,null,null,null,null,null,null,null,null,null,null,null,null,null,null,null,null,null,null,null,null,null,null,null,null,null,0,{"$f":"AVERAGE(#REF!)","v":{"$error":"#REF!"}},0.67199999999999993,0.75600000000000001,1.956,-1.2819999999999998,-1.6519999999999997,11.254000000000001,-6.6660000000000016E-4,2.6667999999999996E-3,-6.6680000000000005E-4]
[null,null,null,null,null,null,null,null,null,null,null,null,null,null,null,null,null,null,null,null,null,null,null,null,null,null,null,null,0,{"$f":"AVERAGE(#REF!)","v":{"$error":"#REF!"}},-8.9999999999999941E-2,-0.46400000000000008,2.6580000000000004,-2.0479999999999996,-2.8759999999999999,11.958,4.4443999999999994E-3,-2.6664000000000002E-3,-1.3334E-3]
[null,null,null,null,null,null,null,null,null,null,null,null,null,null,null,null,null,null,null,null,null,null,null,null,null,null,null,null,0,{"$f":"AVERAGE(#REF!)","v":{"$error":"#REF!"}},-6.5999999999999989E-2,0.71200000000000008,1.1719999999999999,-2.024,-1.7,10.47,1.5555999999999996E-3,-2.2199999999999998E-4,-1.3334E-3]
[null,null,null,null,null,null,null,null,null,null,null,null,null,null,null,null,null,null,null,null,null,null,null,null,null,null,null,null,0,{"$f":"AVERAGE(#REF!)","v":{"$error":"#REF!"}},-0.47200000000000009,1.6079999999999999,6.2000000000000055E-2,-2.4340000000000002,-0.80200000000000016,9.3580000000000005,-1.7778000000000002E-3,-8.8859999999999981E-4,0]
[null,null,null,null,null,null,null,null,null,null,null,null,null,null,null,null,null,null,null,null,null,null,null,null,null,null,null,null,0,{"$f":"AVERAGE(#REF!)","v":{"$error":"#REF!"}},-0.10999999999999996,0.85799999999999998,-0.30199999999999994,-2.0680000000000001,-1.552,8.9919999999999991,1.3334E-3,-4.2220000000000009E-3,-6.6660000000000005E-4]
[null,null,null,null,null,null,null,null,null,null,null,null,null,null,null,null,null,null,null,null,null,null,null,null,null,null,null,null,0,{"$f":"AVERAGE(#REF!)","v":{"$error":"#REF!"}},-0.35399999999999998,0.47599999999999998,-1.6659999999999997,-2.3119999999999998,-1.9359999999999999,7.6259999999999994,-1.5556000000000001E-3,-8.8880000000000003E-4,6.6680000000000005E-4]
[null,null,null,null,null,null,null,null,null,null,null,null,null,null,null,null,null,null,null,null,null,null,null,null,null,null,null,null,0,{"$f":"AVERAGE(#REF!)","v":{"$error":"#REF!"}},0.40599999999999997,0.84399999999999997,-0.90799999999999981,-1.55,-1.5660000000000001,8.3840000000000003,-1.5555999999999996E-3,4.4439999999999985E-4,8.8900000000000003E-4]
[null,null,null,null,null,null,null,null,null,null,null,null,null,null,null,null,null,null,null,null,null,null,null,null,null,null,null,null,0,{"$f":"AVERAGE(#REF!)","v":{"$error":"#REF!"}},0.51200000000000001,-1.018,0.15,-1.4460000000000002,-3.4279999999999999,9.4440000000000008,2.2221999999999997E-3,-1.1111999999999993E-3,1.3334E-3]
[null,null,null,null,null,null,null,null,null,null,null,null,null,null,null,null,null,null,null,null,null,null,null,null,null,null,null,null,0,{"$f":"AVERAGE(#REF!)","v":{"$error":"#REF!"}},0.87799999999999989,-0.17799999999999994,0.79399999999999982,-1.0780000000000001,-2.59,10.09,-2.2219999999999982E-4,-4.4460000000000002E-4,2.2221999999999997E-3]
[null,null,null,null,null,null,null,null,null,null,null,null,null,null,null,null,null,null,null,null,null,null,null,null,null,null,null,null,0,{"$f":"AVERAGE(#REF!)","v":{"$error":"#REF!"}},1.1440000000000001,0.63000000000000012,1.5620000000000001,-0.81600000000000017,-1.784,10.860000000000001,-1.3333999999999998E-3,2.2219999999999996E-3,2.2221999999999997E-3]
[null,null,null,null,null,null,null,null,null,null,null,null,null,null,null,null,null,null,null,null,null,null,null,null,null,null,null,null,0,{"$f":"AVERAGE(#REF!)","v":{"$error":"#REF!"}},0.59400000000000008,-0.56599999999999973,2.6480000000000001,-1.3680000000000001,-2.9799999999999995,11.948,4.4443999999999994E-3,-3.1112000000000002E-3,1.7776000000000001E-3]
[null,null,null,null,null,null,null,null,null,null,null,null,null,null,null,null,null,null,null,null,null,null,null,null,null,null,null,null,0,{"$f":"AVERAGE(#REF!)","v":{"$error":"#REF!"}},0.20399999999999996,0.49600000000000011,1.1560000000000001,-1.7579999999999998,-1.9179999999999999,10.454000000000001,-1.9999999999999996E-3,4.6665999999999999E-3,1.9998000000000004E-3]
[null,null,null,null,null,null,null,null,null,null,null,null,null,null,null,null,null,null,null,null,null,null,null,null,null,null,null,null,0,{"$f":"AVERAGE(#REF!)","v":{"$error":"#REF!"}},-0.36799999999999999,1.2320000000000002,0.99400000000000011,-2.33,-1.1839999999999999,10.292,-4.4459999999999986E-4,-5.1111999999999998E-3,1.7776000000000001E-3]
[null,null,null,null,null,null,null,null,null,null,null,null,null,null,null,null,null,null,null,null,null,null,null,null,null,null,null,null,0,{"$f":"AVERAGE(#REF!)","v":{"$error":"#REF!"}},-0.45200000000000007,0.74,-0.16599999999999993,-2.4119999999999999,-1.6759999999999997,9.129999999999999,1.111E-3,-2.2219999999999949E-4,8.8880000000000003E-4]
[null,null,null,null,null,null,null,null,null,null,null,null,null,null,null,null,null,null,null,null,null,null,null,null,null,null,null,null,0,{"$f":"AVERAGE(#REF!)","v":{"$error":"#REF!"}},-1.038,0.8600000000000001,-1.6919999999999997,-2.9980000000000002,-1.5540000000000003,7.6020000000000012,-1.3334E-3,-2.2221999999999993E-3,1.5554E-3]
[null,null,null,null,null,null,null,null,null,null,null,null,null,null,null,null,null,null,null,null,null,null,null,null,null,null,null,null,0,{"$f":"AVERAGE(#REF!)","v":{"$error":"#REF!"}},-0.4880000000000001,0.56600000000000006,-1.5939999999999999,-2.4460000000000002,-1.8460000000000001,7.7,4.4439999999999963E-4,2.2222000000000006E-3,2.2220000000000001E-4]
[null,null,null,null,null,null,null,null,null,null,null,null,null,null,null,null,null,null,null,null,null,null,null,null,null,null,null,null,0,{"$f":"AVERAGE(#REF!)","v":{"$error":"#REF!"}},-0.34200000000000003,-0.78400000000000014,-1.3340000000000001,-2.2999999999999998,-3.1979999999999995,7.9599999999999991,1.9999999999999996E-3,-4.2221999999999997E-3,1.111E-3]
[null,null,null,null,null,null,null,null,null,null,null,null,null,null,null,null,null,null,null,null,null,null,null,null,null,null,null,null,0,{"$f":"AVERAGE(#REF!)","v":{"$error":"#REF!"}},0.5,0.25200000000000006,-1.0240000000000002,-1.458,-2.1599999999999997,8.27,-1.3331999999999999E-3,1.5556000000000003E-3,6.6660000000000005E-4]
[null,null,null,null,null,null,null,null,null,null,null,null,null,null,null,null,null,null,null,null,null,null,null,null,null,null,null,null,0,{"$f":"AVERAGE(#REF!)","v":{"$error":"#REF!"}},-9.1999999999999998E-2,-0.90800000000000003,-0.15399999999999997,-2.052,-3.3199999999999994,9.1419999999999995,1.5555999999999999E-3,-2.4444000000000002E-3,4.4440000000000001E-4]
[null,null,null,null,null,null,null,null,null,null,null,null,null,null,null,null,null,null,null,null,null,null,null,null,null,null,null,null,0,{"$f":"AVERAGE(#REF!)","v":{"$error":"#REF!"}},-0.11999999999999995,-2.0460000000000003,1.1839999999999999,-2.0780000000000003,-4.4580000000000002,10.482000000000001,8.8900000000000025E-4,-8.8880000000000003E-4,4.4440000000000001E-4]
[null,null,null,null,null,null,null,null,null,null,null,null,null,null,null,null,null,null,null,null,null,null,null,null,null,null,null,null,0,{"$f":"AVERAGE(#REF!)","v":{"$error":"#REF!"}},-0.53200000000000003,-0.95600000000000007,0.52,-2.492,-3.3660000000000005,9.8159999999999989,-4.2221999999999997E-3,6.6680000000000005E-4,8.8880000000000003E-4]
[null,null,null,null,null,null,null,null,null,null,null,null,null,null,null,null,null,null,null,null,null,null,null,null,null,null,null,null,0,{"$f":"AVERAGE(#REF!)","v":{"$error":"#REF!"}},-0.83000000000000007,-0.69399999999999995,1.5840000000000001,-2.7920000000000003,-3.1019999999999994,10.881999999999998,2.2219999999999982E-4,-5.9998000000000004E-3,0]
[null,null,null,null,null,null,null,null,null,null,null,null,null,null,null,null,null,null,null,null,null,null,null,null,null,null,null,null,0,{"$f":"AVERAGE(#REF!)","v":{"$error":"#REF!"}},-1.466,-0.61799999999999999,-1.9999999999999575E-3,-3.4299999999999997,-3.0260000000000002,9.2940000000000005,-2.6667999999999996E-3,-4.4420000000000082E-4,-4.4440000000000001E-4]
[null,null,null,null,null,null,null,null,null,null,null,null,null,null,null,null,null,null,null,null,null,null,null,null,null,null,null,null,0,{"$f":"AVERAGE(#REF!)","v":{"$error":"#REF!"}},-1.0660000000000001,0.59,0.29399999999999998,-3.032,-1.8180000000000001,9.59,-2.6667999999999996E-3,-1.1110000000000004E-3,2.2220000000000001E-4]
[null,null,null,null,null,null,null,null,null,null,null,null,null,null,null,null,null,null,null,null,null,null,null,null,null,null,null,null,0,{"$f":"AVERAGE(#REF!)","v":{"$error":"#REF!"}},-1.3699999999999999,0.49399999999999988,-0.69599999999999995,-3.3379999999999996,-1.9160000000000004,8.597999999999999,-1.5558E-3,-3.5554000000000002E-3,-6.6660000000000005E-4]
[null,null,null,null,null,null,null,null,null,null,null,null,null,null,null,null,null,null,null,null,null,null,null,null,null,null,null,null,0,{"$f":"AVERAGE(#REF!)","v":{"$error":"#REF!"}},-0.81799999999999995,0.60799999999999998,-0.79,-2.7839999999999998,-1.802,8.5039999999999996,-1.7780000000000001E-3,-3.3332000000000001E-3,-2.2220000000000001E-4]
[null,null,null,null,null,null,null,null,null,null,null,null,null,null,null,null,null,null,null,null,null,null,null,null,null,null,null,null,0,{"$f":"AVERAGE(#REF!)","v":{"$error":"#REF!"}},-0.85799999999999998,0.53799999999999981,-1.8640000000000001,-2.8220000000000001,-1.8719999999999999,7.4279999999999999,-1.5557999999999995E-3,-2.2221999999999997E-3,0]
[null,null,null,null,null,null,null,null,null,null,null,null,null,null,null,null,null,null,null,null,null,null,null,null,null,null,null,null,0,{"$f":"AVERAGE(#REF!)","v":{"$error":"#REF!"}},-0.1959999999999999,0.6160000000000001,-1.0859999999999999,-2.1579999999999999,-1.794,8.2059999999999995,-2.0000000000020002E-7,-4.4439999999999963E-4,2.2220000000000001E-4]
[null,null,null,null,null,null,null,null,null,null,null,null,null,null,null,null,null,null,null,null,null,null,null,null,null,null,null,null,0,{"$f":"AVERAGE(#REF!)","v":{"$error":"#REF!"}},0.28400000000000014,1.012,-1.716,-1.6740000000000002,-1.3980000000000001,7.5739999999999998,-2.6668E-3,-2.2219999999999982E-4,0]
[null,null,null,null,null,null,null,null,null,null,null,null,null,null,null,null,null,null,null,null,null,null,null,null,null,null,null,null,0,{"$f":"AVERAGE(#REF!)","v":{"$error":"#REF!"}},0.63200000000000001,0.44400000000000012,-0.2639999999999999,-1.3260000000000001,-1.964,9.0280000000000005,6.6659999999999983E-4,-4.4440000000000001E-4,0]
[null,null,null,null,null,null,null,null,null,null,null,null,null,null,null,null,null,null,null,null,null,null,null,null,null,null,null,null,0,{"$f":"AVERAGE(#REF!)","v":{"$error":"#REF!"}},0.54600000000000004,-0.43600000000000005,0.74800000000000011,-1.4140000000000001,-2.8460000000000001,10.042,-1.5556000000000001E-3,2.2219999999999949E-4,1.5555999999999999E-3]
[null,null,null,null,null,null,null,null,null,null,null,null,null,null,null,null,null,null,null,null,null,null,null,null,null,null,null,null,0,{"$f":"AVERAGE(#REF!)","v":{"$error":"#REF!"}},0.64000000000000012,0.81400000000000006,0.80000000000000016,-1.3199999999999998,-1.5960000000000003,10.093999999999999,-2.8888E-3,5.5555999999999991E-3,8.8899999999999982E-4]
[null,null,null,null,null,null,null,null,null,null,null,null,null,null,null,null,null,null,null,null,null,null,null,null,null,null,null,null,0,{"$f":"AVERAGE(#REF!)","v":{"$error":"#REF!"}},0.21400000000000002,-0.69199999999999995,1.014,-1.7439999999999998,-3.1020000000000003,10.309999999999999,2E-3,-6.6660000000000037E-4,6.6679999999999984E-4]
[null,null,null,null,null,null,null,null,null,null,null,null,null,null,null,null,null,null,null,null,null,null,null,null,null,null,null,null,0,{"$f":"AVERAGE(#REF!)","v":{"$error":"#REF!"}},-0.15,-2.2199999999999998,1.0779999999999998,-2.1120000000000001,-4.6300000000000008,10.373999999999999,1.3332000000000001E-3,3.1112000000000002E-3,1.5558E-3]
[null,null,null,null,null,null,null,null,null,null,null,null,null,null,null,null,null,null,null,null,null,null,null,null,null,null,null,null,0,{"$f":"AVERAGE(#REF!)","v":{"$error":"#REF!"}},0.14400000000000002,-0.61199999999999988,0.71,-1.8140000000000001,-3.0219999999999994,10.005999999999998,-2.8890000000000001E-3,3.1111999999999993E-3,2.2224000000000002E-3]
[null,null,null,null,null,null,null,null,null,null,null,null,null,null,null,null,null,null,null,null,null,null,null,null,null,null,null,null,0,{"$f":"AVERAGE(#REF!)","v":{"$error":"#REF!"}},0.30399999999999999,0.53,0.70799999999999996,-1.6519999999999999,-1.8800000000000001,10.004,2.8888E-3,2.2239999999999985E-4,-2.2199999999999998E-4]
[null,null,null,null,null,null,null,null,null,null,null,null,null,null,null,null,null,null,null,null,null,null,null,null,null,null,null,null,0,{"$f":"AVERAGE(#REF!)","v":{"$error":"#REF!"}},3.7999999999999992E-2,-0.65599999999999992,0.628,-1.9179999999999999,-3.0659999999999998,9.9239999999999995,3.1110000000000001E-3,6.6679999999999984E-4,8.8900000000000003E-4]
[null,null,null,null,null,null,null,null,null,null,null,null,null,null,null,null,null,null,null,null,null,null,null,null,null,null,null,null,0,{"$f":"AVERAGE(#REF!)","v":{"$error":"#REF!"}},-0.47000000000000003,-0.46799999999999997,0.46200000000000008,-2.4279999999999999,-2.8780000000000001,9.7560000000000002,-2.2221999999999997E-3,3.3333999999999994E-3,1.3334E-3]
[null,null,null,null,null,null,null,null,null,null,null,null,null,null,null,null,null,null,null,null,null,null,null,null,null,null,null,null,0,{"$f":"AVERAGE(#REF!)","v":{"$error":"#REF!"}},-0.35600000000000004,0.59000000000000008,0.26999999999999996,-2.3099999999999996,-1.8180000000000001,9.5640000000000001,-1.3332000000000001E-3,1.9999999999985308E-7,4.4440000000000001E-4]
[null,null,null,null,null,null,null,null,null,null,null,null,null,null,null,null,null,null,null,null,null,null,null,null,null,null,null,null,0,{"$f":"AVERAGE(#REF!)","v":{"$error":"#REF!"}},-0.84600000000000009,-4.8000000000000001E-2,-0.47200000000000009,-2.802,-2.4539999999999997,8.82,2.8890000000000001E-3,-2.6665999999999994E-3,-2.2220000000000001E-4]
[null,null,null,null,null,null,null,null,null,null,null,null,null,null,null,null,null,null,null,null,null,null,null,null,null,null,null,null,0,{"$f":"AVERAGE(#REF!)","v":{"$error":"#REF!"}},-0.9139999999999997,-0.64,-1.2600000000000002,-2.8720000000000003,-3.0459999999999998,8.0299999999999994,-1.9998000000000004E-3,8.8880000000000003E-4,1.5556000000000001E-3]
[null,null,null,null,null,null,null,null,null,null,null,null,null,null,null,null,null,null,null,null,null,null,null,null,null,null,null,null,0,{"$f":"AVERAGE(#REF!)","v":{"$error":"#REF!"}},-0.35199999999999998,9.9999999999999811E-3,-0.24600000000000008,-2.31,-2.3940000000000001,9.0459999999999994,-1.9998000000000004E-3,-1.7778000000000002E-3,8.8900000000000003E-4]
[null,null,null,null,null,null,null,null,null,null,null,null,null,null,null,null,null,null,null,null,null,null,null,null,null,null,null,null,0,{"$f":"AVERAGE(#REF!)","v":{"$error":"#REF!"}},0.19,-7.9999999999999988E-2,0.72,-1.7659999999999996,-2.4840000000000004,10.016,2.8890000000000001E-3,-2.4443999999999998E-3,2.2240000000000004E-4]
[null,null,null,null,null,null,null,null,null,null,null,null,null,null,null,null,null,null,null,null,null,null,null,null,null,null,null,null,0,{"$f":"AVERAGE(#REF!)","v":{"$error":"#REF!"}},-0.20800000000000002,-0.15599999999999997,0.39600000000000002,-2.1680000000000001,-2.56,9.6920000000000002,6.6680000000000005E-4,-1.3333999999999998E-3,1.3336000000000001E-3]
[null,null,null,null,null,null,null,null,null,null,null,null,null,null,null,null,null,null,null,null,null,null,null,null,null,null,null,null,0,{"$f":"AVERAGE(#REF!)","v":{"$error":"#REF!"}},-0.10799999999999998,0.44800000000000006,0.18600000000000003,-2.0680000000000005,-1.956,9.4820000000000011,-2.4441999999999997E-3,1.5556000000000007E-3,1.3336000000000001E-3]
[null,null,null,null,null,null,null,null,null,null,null,null,null,null,null,null,null,null,null,null,null,null,null,null,null,null,null,null,0,{"$f":"AVERAGE(#REF!)","v":{"$error":"#REF!"}},-0.31199999999999994,2.8000000000000025E-2,0.36199999999999999,-2.2700000000000005,-2.3759999999999999,9.66,2.8890000000000001E-3,-3.3332000000000001E-3,-2.2199999999999998E-4]
[null,null,null,null,null,null,null,null,null,null,null,null,null,null,null,null,null,null,null,null,null,null,null,null,null,null,null,null,0,{"$f":"AVERAGE(#REF!)","v":{"$error":"#REF!"}},-0.54599999999999993,-0.754,-0.54399999999999993,-2.504,-3.1599999999999997,8.7519999999999989,8.8900000000000003E-4,-1.1109999999999998E-3,-4.4419999999999996E-4]
[null,null,null,null,null,null,null,null,null,null,null,null,null,null,null,null,null,null,null,null,null,null,null,null,null,null,null,null,0,{"$f":"AVERAGE(#REF!)","v":{"$error":"#REF!"}},-0.21399999999999997,0.44000000000000006,-1.1679999999999999,-2.1740000000000004,-1.966,8.1260000000000012,-5.1109999999999992E-3,-1.1109999999999998E-3,6.6680000000000005E-4]
[null,null,null,null,null,null,null,null,null,null,null,null,null,null,null,null,null,null,null,null,null,null,null,null,null,null,null,null,0,{"$f":"AVERAGE(#REF!)","v":{"$error":"#REF!"}},-0.37400000000000005,-0.70200000000000007,-0.12399999999999997,-2.3319999999999999,-3.11,9.1720000000000006,6.668000000000007E-4,-4.2220000000000001E-3,-8.8880000000000003E-4]
[null,null,null,null,null,null,null,null,null,null,null,null,null,null,null,null,null,null,null,null,null,null,null,null,null,null,null,null,0,{"$f":"AVERAGE(#REF!)","v":{"$error":"#REF!"}},-0.48600000000000004,-2.278,1.1339999999999999,-2.444,-4.6900000000000004,10.432,8.8900000000000068E-4,-4.2219999999999992E-3,-6.6660000000000005E-4]
[null,null,null,null,null,null,null,null,null,null,null,null,null,null,null,null,null,null,null,null,null,null,null,null,null,null,null,null,0,{"$f":"AVERAGE(#REF!)","v":{"$error":"#REF!"}},-0.74600000000000011,-0.84000000000000008,0.19000000000000003,-2.7039999999999997,-3.2520000000000002,9.4860000000000007,-3.777599999999999E-3,-6.6639999999999961E-4,8.8900000000000003E-4]
[null,null,null,null,null,null,null,null,null,null,null,null,null,null,null,null,null,null,null,null,null,null,null,null,null,null,null,null,0,{"$f":"AVERAGE(#REF!)","v":{"$error":"#REF!"}},-0.71800000000000019,0.7380000000000001,-0.10199999999999987,-2.6740000000000004,-1.6739999999999999,9.1939999999999991,-1.1109999999999991E-3,-3.7775999999999999E-3,8.8900000000000003E-4]
[null,null,null,null,null,null,null,null,null,null,null,null,null,null,null,null,null,null,null,null,null,null,null,null,null,null,null,null,0,{"$f":"AVERAGE(#REF!)","v":{"$error":"#REF!"}},-1.1800000000000002,-0.86199999999999988,-0.3279999999999999,-3.1360000000000001,-3.2759999999999998,8.9659999999999993,3.3334000000000003E-3,-2E-3,1.1112000000000001E-3]
[null,null,null,null,null,null,null,null,null,null,null,null,null,null,null,null,null,null,null,null,null,null,null,null,null,null,null,null,0,{"$f":"AVERAGE(#REF!)","v":{"$error":"#REF!"}},-0.94000000000000017,-0.66800000000000004,-1.204,-2.8959999999999999,-3.0839999999999996,8.0879999999999992,-3.1111999999999997E-3,-1.9999999999999996E-3,1.7778000000000002E-3]
[null,null,null,null,null,null,null,null,null,null,null,null,null,null,null,null,null,null,null,null,null,null,null,null,null,null,null,null,0,{"$f":"AVERAGE(#REF!)","v":{"$error":"#REF!"}},-0.19800000000000012,0.72800000000000009,-1.4600000000000002,-2.1539999999999999,-1.6839999999999999,7.8320000000000007,-6.6680000000000005E-4,8.8880000000000014E-4,1.7778000000000002E-3]
[null,null,null,null,null,null,null,null,null,null,null,null,null,null,null,null,null,null,null,null,null,null,null,null,null,null,null,null,0,{"$f":"AVERAGE(#REF!)","v":{"$error":"#REF!"}},-0.35200000000000004,-0.68200000000000005,-0.4499999999999999,-2.31,-3.0940000000000003,8.8440000000000012,2.2219999999999996E-3,-3.3334000000000003E-3,1.111E-3]
[null,null,null,null,null,null,null,null,null,null,null,null,null,null,null,null,null,null,null,null,null,null,null,null,null,null,null,null,0,{"$f":"AVERAGE(#REF!)","v":{"$error":"#REF!"}},-0.14200000000000004,-1.4200000000000002,0.31999999999999995,-2.1,-3.8300000000000005,9.6160000000000014,-2.6668000000000004E-3,2.6666000000000003E-3,2.4444000000000002E-3]
[null,null,null,null,null,null,null,null,null,null,null,null,null,null,null,null,null,null,null,null,null,null,null,null,null,null,null,null,0,{"$f":"AVERAGE(#REF!)","v":{"$error":"#REF!"}},-0.42000000000000004,-0.64200000000000013,0.20599999999999996,-2.3780000000000001,-3.05,9.5019999999999989,-1.1112000000000003E-3,-2.6665999999999999E-3,1.5556000000000003E-3]
[null,null,null,null,null,null,null,null,null,null,null,null,null,null,null,null,null,null,null,null,null,null,null,null,null,null,null,null,{"$f":"(1609.34/3600)*Delta_Speed","v":0},{"$f":"AVERAGE(#REF!)","v":{"$error":"#REF!"}},-0.63800000000000001,-0.58200000000000007,1.1399999999999999,-2.5960000000000001,-2.988,10.437999999999999,2.2221999999999997E-3,-3.1112000000000002E-3,6.6680000000000005E-4]
[null,null,null,null,null,null,null,null,null,null,null,null,null,null,null,null,null,null,null,null,null,null,null,null,null,null,null,null,0,{"$f":"AVERAGE(#REF!)","v":{"$error":"#REF!"}},-1.1240000000000001,-0.39200000000000007,-0.41000000000000014,-3.08,-2.8,8.8859999999999992,-2.4444000000000002E-3,-6.6660000000000048E-4,1.3334E-3]
[null,null,null,null,null,null,null,null,null,null,null,null,null,null,null,null,null,null,null,null,null,null,null,null,null,null,null,null,0,{"$f":"AVERAGE(#REF!)","v":{"$error":"#REF!"}},-0.96399999999999986,1.0680000000000001,-1.4500000000000002,-2.9180000000000001,-1.3419999999999999,7.8439999999999994,8.8900000000000025E-4,-3.3334000000000003E-3,1.5556000000000001E-3]
[null,null,null,null,null,null,null,null,null,null,null,null,null,null,null,null,null,null,null,null,null,null,null,null,null,null,null,null,0,{"$f":"AVERAGE(#REF!)","v":{"$error":"#REF!"}},-0.97199999999999986,-5.800000000000001E-2,-1.6440000000000001,-2.9279999999999999,-2.4699999999999998,7.65,3.1112000000000006E-3,0,-6.6680000000000005E-4]
[null,null,null,null,null,null,null,null,null,null,null,null,null,null,null,null,null,null,null,null,null,null,null,null,null,null,null,null,0,{"$f":"AVERAGE(#REF!)","v":{"$error":"#REF!"}},{"$f":"AVERAGE(Q962:Q966)","v":-0.376},{"$f":"AVERAGE(R962:R966)","v":1.04},{"$f":"AVERAGE(S962:S966)","v":-1.0900000000000003},{"$f":"AVERAGE(T962:T966)","v":-2.33},{"$f":"AVERAGE(U962:U966)","v":-1.3719999999999999},{"$f":"AVERAGE(V962:V966)","v":8.2059999999999995},{"$f":"AVERAGE(W962:W966)","v":-1.9998000000000004E-3},{"$f":"AVERAGE(X962:X966)","v":-2.2219999999999982E-4},{"$f":"AVERAGE(Y962:Y966)","v":2.6666000000000003E-3}]
[null,null,null,null,null,null,null,null,null,null,null,null,null,null,null,null,null,null,null,null,null,null,null,null,null,null,null,null,0,{"$f":"AVERAGE(#REF!)","v":{"$error":"#REF!"}},0.47000000000000003,2.1160000000000001,-0.9,-1.484,-0.29599999999999999,8.395999999999999,-1.7775999999999996E-3,3.3334000000000003E-3,2.2219999999999982E-4]
[null,null,null,null,null,null,null,null,null,null,null,null,null,null,null,null,null,null,null,null,null,null,null,null,null,null,null,null,0,{"$f":"AVERAGE(#REF!)","v":{"$error":"#REF!"}},9.8000000000000087E-2,0.91399999999999992,0.27400000000000008,-1.8559999999999999,-1.5,9.5719999999999992,-2.6665999999999994E-3,-2.2221999999999997E-3,-2.2221999999999997E-3]
[null,null,null,null,null,null,null,null,null,null,null,null,null,null,null,null,null,null,null,null,null,null,null,null,null,null,null,null,0,{"$f":"AVERAGE(#REF!)","v":{"$error":"#REF!"}},0.21200000000000002,-0.17800000000000005,1.5419999999999998,-1.7439999999999998,-2.5920000000000001,10.841999999999999,-1.24444E-2,6.0000000000000001E-3,-2.8888E-3]
[null,null,null,null,null,null,null,null,null,null,null,null,null,null,null,null,null,null,null,null,null,null,null,null,null,null,null,null,0,{"$f":"AVERAGE(#REF!)","v":{"$error":"#REF!"}},-8.0000000000000071E-3,1.0079999999999998,1.204,-1.964,-1.4079999999999999,10.501999999999999,-1.31112E-2,-2.6665999999999999E-3,-3.5554000000000002E-3]
[null,null,null,null,null,null,null,null,null,null,null,null,null,null,null,null,null,null,null,null,null,null,null,null,null,null,null,null,0,{"$f":"AVERAGE(#REF!)","v":{"$error":"#REF!"}},-0.60399999999999998,-0.20200000000000004,0.67599999999999993,-2.5619999999999998,-2.6239999999999997,9.9719999999999995,-1.3555800000000002E-2,-2.6665999999999999E-3,-8.8887999999999988E-3]
[null,null,null,null,null,null,null,null,null,null,null,null,null,null,null,null,null,null,null,null,null,null,null,null,null,null,null,null,0,{"$f":"AVERAGE(#REF!)","v":{"$error":"#REF!"}},-0.74800000000000011,-0.53400000000000003,-0.26399999999999996,-2.7039999999999997,-2.96,9.0280000000000005,-2.0222400000000001E-2,2.4446000000000003E-3,-6.2221999999999998E-3]
[null,null,null,null,null,null,null,null,null,null,null,null,null,null,null,null,null,null,null,null,null,null,null,null,null,null,null,null,0,{"$f":"AVERAGE(#REF!)","v":{"$error":"#REF!"}},-0.376,-0.11800000000000004,0.33200000000000002,-2.3319999999999999,-2.5499999999999998,9.6220000000000017,-1.5333400000000001E-2,2.6668000000000004E-3,-4.2221999999999997E-3]
[null,null,null,null,null,null,null,null,null,null,null,null,null,null,null,null,null,null,null,null,null,null,null,null,null,null,null,null,0,{"$f":"AVERAGE(#REF!)","v":{"$error":"#REF!"}},-0.186,-0.49799999999999994,0.78200000000000014,-2.14,-2.9340000000000002,10.07,-7.3334000000000012E-3,4.4460000000000056E-4,-4.4443999999999994E-3]
[null,null,null,null,null,null,null,null,null,null,null,null,null,null,null,null,null,null,null,null,null,null,null,null,null,null,null,null,0,{"$f":"AVERAGE(#REF!)","v":{"$error":"#REF!"}},-0.21799999999999997,-0.34799999999999998,0.45,-2.1719999999999997,-2.786,9.7379999999999995,-6.6666E-3,2.6668000000000004E-3,0]
[null,null,null,null,null,null,null,null,null,null,null,null,null,null,null,null,null,null,null,null,null,null,null,null,null,null,null,null,0,{"$f":"AVERAGE(#REF!)","v":{"$error":"#REF!"}},-0.11799999999999997,0.442,-4.0000000000000036E-3,-2.0720000000000001,-1.996,9.2840000000000007,4.4459999999999986E-4,3.5556000000000003E-3,4.4443999999999994E-3]
[null,null,null,null,null,null,null,null,null,null,null,null,null,null,null,null,null,null,null,null,null,null,null,null,null,null,null,null,0,{"$f":"AVERAGE(#REF!)","v":{"$error":"#REF!"}},-0.28199999999999992,-5.9999999999999921E-2,0.43199999999999994,-2.234,-2.5,9.7240000000000002,1.0222400000000001E-2,-1.9999999999999996E-3,5.1110000000000001E-3]
[null,null,null,null,null,null,null,null,null,null,null,null,null,null,null,null,null,null,null,null,null,null,null,null,null,null,null,null,0,{"$f":"AVERAGE(#REF!)","v":{"$error":"#REF!"}},-0.46600000000000003,-0.66199999999999992,-0.54,-2.4180000000000001,-3.0979999999999999,8.7519999999999989,7.1111999999999998E-3,8.8880000000000014E-4,3.7776000000000003E-3]
[null,null,null,null,null,null,null,null,null,null,null,null,null,null,null,null,null,null,null,null,null,null,null,null,null,null,null,null,0,{"$f":"AVERAGE(#REF!)","v":{"$error":"#REF!"}},-0.10400000000000001,0.65199999999999991,-1.256,-2.0580000000000003,-1.784,8.0359999999999996,-2.2219999999999949E-4,2.2220000000000001E-4,1.9998000000000004E-3]
[null,null,null,null,null,null,null,null,null,null,null,null,null,null,null,null,null,null,null,null,null,null,null,null,null,null,null,null,0,{"$f":"AVERAGE(#REF!)","v":{"$error":"#REF!"}},-0.20000000000000004,-0.50600000000000001,-6.9999999999999923E-2,-2.1539999999999999,-2.944,9.2219999999999995,-2.2220000000000036E-4,-3.7778E-3,-2.2224000000000002E-3]
[null,null,null,null,null,null,null,null,null,null,null,null,null,null,null,null,null,null,null,null,null,null,null,null,null,null,null,null,0,{"$f":"AVERAGE(#REF!)","v":{"$error":"#REF!"}},-6.4000000000000071E-2,-1.8980000000000001,1.3540000000000001,-2.016,-4.3380000000000001,10.646000000000001,-5.3334000000000003E-3,-1.5555999999999996E-3,-2.6668E-3]
[null,null,null,null,null,null,null,null,null,null,null,null,null,null,null,null,null,null,null,null,null,null,null,null,null,null,null,null,0,{"$f":"AVERAGE(#REF!)","v":{"$error":"#REF!"}},-0.39600000000000002,-0.89199999999999979,0.52800000000000014,-2.3520000000000003,-3.3300000000000005,9.8180000000000014,-4.8889999999999992E-3,-8.8899999999999971E-4,-1.7778000000000002E-3]
[null,null,null,null,null,null,null,null,null,null,null,null,null,null,null,null,null,null,null,null,null,null,null,null,null,null,null,null,0,{"$f":"AVERAGE(#REF!)","v":{"$error":"#REF!"}},-0.374,0.60599999999999987,0.43000000000000016,-2.3300000000000005,-1.8299999999999996,9.7199999999999989,6.6666E-3,-2.6667999999999996E-3,2.6667999999999996E-3]
[null,null,null,null,null,null,null,null,null,null,null,null,null,null,null,null,null,null,null,null,null,null,null,null,null,null,null,null,0,{"$f":"AVERAGE(#REF!)","v":{"$error":"#REF!"}},-0.93800000000000006,-0.89199999999999979,0.1680000000000002,-2.8920000000000003,-3.3199999999999994,9.4580000000000002,1.7555599999999998E-2,-1.3333999999999998E-3,7.5556E-3]
[null,null,null,null,null,null,null,null,null,null,null,null,null,null,null,null,null,null,null,null,null,null,null,null,null,null,null,null,0,{"$f":"AVERAGE(#REF!)","v":{"$error":"#REF!"}},-0.78199999999999992,-0.23600000000000004,-0.99199999999999977,-2.7359999999999998,-2.6539999999999999,8.3000000000000007,1.9333400000000001E-2,-6.6680000000000005E-4,1.1333399999999999E-2]
[null,null,null,null,null,null,null,null,null,null,null,null,null,null,null,null,null,null,null,null,null,null,null,null,null,null,null,null,0,{"$f":"AVERAGE(#REF!)","v":{"$error":"#REF!"}},-0.39400000000000002,0.64600000000000002,-1.3599999999999999,-2.3479999999999999,-1.7580000000000002,7.9360000000000017,2.7111200000000002E-2,-1.9999999999999996E-3,8.2222000000000007E-3]
[null,null,null,null,null,null,null,null,null,null,null,null,null,null,null,null,null,null,null,null,null,null,null,null,null,null,null,null,0,{"$f":"AVERAGE(#REF!)","v":{"$error":"#REF!"}},5.6000000000000008E-2,-0.71200000000000008,-0.93999999999999984,-1.8960000000000001,-3.1040000000000001,8.3579999999999988,3.5999999999999997E-2,-5.1110000000000001E-3,7.3331999999999998E-3]
[null,null,null,null,null,null,null,null,null,null,null,null,null,null,null,null,null,null,null,null,null,null,null,null,null,null,null,null,0,{"$f":"AVERAGE(#REF!)","v":{"$error":"#REF!"}},0.28999999999999998,-1.9760000000000002,-0.80199999999999994,-1.6579999999999999,-4.3499999999999996,8.5019999999999989,4.7333199999999999E-2,-1.68886E-2,8.8886E-3]
[null,null,null,null,null,null,null,null,null,null,null,null,null,null,null,null,null,null,null,null,null,null,null,null,null,null,null,null,0,{"$f":"AVERAGE(#REF!)","v":{"$error":"#REF!"}},0.496,-2.3359999999999999,-1.0379999999999998,-1.4460000000000002,-4.6719999999999997,8.2759999999999998,9.4444200000000006E-2,-3.3777600000000005E-2,1.7110999999999998E-2]
[null,null,null,null,null,null,null,null,null,null,null,null,null,null,null,null,null,null,null,null,null,null,null,null,null,null,null,null,0,{"$f":"AVERAGE(#REF!)","v":{"$error":"#REF!"}},0.56200000000000006,-2.66,-0.72399999999999998,-1.3719999999999999,-4.93,8.6080000000000005,0.1639996,-3.7777600000000001E-2,3.44444E-2]
[null,null,null,null,null,null,null,null,null,null,null,null,null,null,null,null,null,null,null,null,null,null,null,null,null,null,null,null,0,{"$f":"AVERAGE(#REF!)","v":{"$error":"#REF!"}},0.56199999999999994,-2.3459999999999996,-1.4,-1.3640000000000001,-4.5180000000000007,7.9539999999999988,0.22644419999999998,-4.0444399999999998E-2,5.0666600000000006E-2]
[null,null,null,null,null,null,null,null,null,null,null,null,null,null,null,null,null,null,null,null,null,null,null,null,null,null,null,null,0,{"$f":"AVERAGE(#REF!)","v":{"$error":"#REF!"}},0.12199999999999997,-1.3239999999999996,-1.6359999999999999,-1.7979999999999996,-3.3620000000000005,7.7480000000000002,0.30466660000000001,-3.8666600000000002E-2,7.2000000000000008E-2]
[null,null,null,null,null,null,null,null,null,null,null,null,null,null,null,null,null,null,null,null,null,null,null,null,null,null,null,null,0,{"$f":"AVERAGE(#REF!)","v":{"$error":"#REF!"}},-9.4000000000000014E-2,-1.552,-1.38,-2.0140000000000002,-3.4180000000000001,8.0419999999999998,0.38333340000000005,-2.3777800000000002E-2,9.0888999999999998E-2]
[null,null,null,null,null,null,null,null,null,null,null,null,null,null,null,null,null,null,null,null,null,null,null,null,null,null,null,null,0,{"$f":"AVERAGE(#REF!)","v":{"$error":"#REF!"}},-0.628,-0.63600000000000001,-1.9079999999999999,-2.5479999999999996,-2.306,7.5519999999999996,0.44177800000000006,-2.1999999999999999E-2,0.10866659999999999]
[null,null,null,null,null,null,null,null,null,null,null,null,null,null,null,null,null,null,null,null,null,null,null,null,null,null,null,null,0,{"$f":"AVERAGE(#REF!)","v":{"$error":"#REF!"}},-0.18200000000000002,-3.4000000000000009E-2,-1.3540000000000001,-2.0979999999999999,-1.482,8.1419999999999995,0.48466700000000007,-2.1999999999999999E-2,0.11222220000000001]
[null,null,null,null,null,null,null,null,null,null,null,null,null,null,null,null,null,null,null,null,null,null,null,null,null,null,null,null,0,{"$f":"AVERAGE(#REF!)","v":{"$error":"#REF!"}},-0.22399999999999998,0.16200000000000001,-0.48600000000000021,-2.1339999999999999,-1.046,9.0460000000000012,0.52333359999999995,-2.6222200000000001E-2,0.11733339999999999]
[null,null,null,null,null,null,null,null,null,null,null,null,null,null,null,null,null,null,null,null,null,null,null,null,null,null,null,null,0,{"$f":"AVERAGE(#REF!)","v":{"$error":"#REF!"}},0.55800000000000005,0.84800000000000009,-0.20000000000000004,-1.3419999999999999,-0.11199999999999992,9.3620000000000001,0.52244460000000004,-3.77778E-2,0.10577779999999999]
[null,null,null,null,null,null,null,null,null,null,null,null,null,null,null,null,null,null,null,null,null,null,null,null,null,null,null,null,0,{"$f":"AVERAGE(#REF!)","v":{"$error":"#REF!"}},0.84599999999999986,1.35,0.60199999999999998,-1.0379999999999998,0.62800000000000011,10.186000000000002,0.4922224,-3.9777800000000002E-2,8.4444400000000003E-2]
[null,null,null,null,null,null,null,null,null,null,null,null,null,null,null,null,null,null,null,null,null,null,null,null,null,null,null,null,0,{"$f":"AVERAGE(#REF!)","v":{"$error":"#REF!"}},1.45,2.0499999999999998,1.522,-0.41799999999999998,1.544,11.124000000000001,0.43244460000000001,-3.5999999999999997E-2,4.6889E-2]
[null,null,null,null,null,null,null,null,null,null,null,null,null,null,null,null,null,null,null,null,null,null,null,null,null,null,null,null,0,{"$f":"AVERAGE(#REF!)","v":{"$error":"#REF!"}},1.0640000000000001,2.008,2.0260000000000002,-0.79200000000000004,1.6800000000000002,11.641999999999999,0.35622239999999999,-2.8222200000000003E-2,1.1555599999999999E-2]
[null,null,null,null,null,null,null,null,null,null,null,null,null,null,null,null,null,null,null,null,null,null,null,null,null,null,null,null,0,{"$f":"AVERAGE(#REF!)","v":{"$error":"#REF!"}},-0.80399999999999994,-0.5,0.23600000000000013,-2.6420000000000003,-0.53800000000000003,9.8620000000000001,2.5777999999999988E-2,-2.0000000000000005E-3,-0.10311099999999999]
[null,null,null,null,null,null,null,null,null,null,null,null,null,null,null,null,null,null,null,null,null,null,null,null,null,null,null,null,0,{"$f":"AVERAGE(#REF!)","v":{"$error":"#REF!"}},-0.89400000000000013,0.15400000000000014,-3.63,-2.6480000000000001,0.2599999999999999,6.008,-3.1109999999999996E-3,-2.2219999999999965E-4,-2.2240000000000004E-4]
[null,null,null,null,null,null,null,null,null,null,null,null,null,null,null,null,null,null,null,null,null,null,null,null,null,null,null,null,0,{"$f":"AVERAGE(#REF!)","v":{"$error":"#REF!"}},0.8,-0.16200000000000001,-1.42,-2.1480000000000001,1.2680000000000002,10.856,-1.2889000000000001E-2,-2.6666000000000025E-3,0.03]
[null,null,null,null,null,null,null,null,null,null,null,null,null,null,null,null,null,null,null,null,null,null,null,null,null,null,null,null,0,{"$f":"AVERAGE(#REF!)","v":{"$error":"#REF!"}},6.0000000000000053E-3,0.16800000000000001,-5.6000000000000008E-2,-1.9620000000000002,1.024,9.3719999999999999,-3.5556000000000003E-3,1.5999800000000002E-2,3.0889E-2]
[null,null,null,null,null,null,null,null,null,null,null,null,null,null,null,null,null,null,null,null,null,null,null,null,null,null,null,null,0,{"$f":"AVERAGE(#REF!)","v":{"$error":"#REF!"}},0.8859999999999999,-0.13800000000000004,1.226,-1.466,1.1579999999999999,9.6080000000000005,-6.4444199999999993E-2,4.5555600000000002E-2,0.16333340000000002]
[null,null,null,null,null,null,null,null,null,null,null,null,null,null,null,null,null,null,null,null,null,null,null,null,null,null,null,null,0,{"$f":"AVERAGE(#REF!)","v":{"$error":"#REF!"}},0.39,-6.9999999999999993E-2,0.53,-1.5979999999999996,0.158,10.126000000000001,-4.6444400000000004E-2,7.9999999999999984E-3,3.3334000000000003E-3]
[null,null,null,null,null,null,null,null,null,null,null,null,null,null,null,null,null,null,null,null,null,null,null,null,null,null,null,null,0,{"$f":"AVERAGE(#REF!)","v":{"$error":"#REF!"}},-8.2000000000000003E-2,-8.6000000000000021E-2,0.13800000000000001,-2.1640000000000001,7.2000000000000008E-2,9.7119999999999997,3.5999799999999998E-2,9.5556000000000009E-3,0.11755560000000001]
[null,null,null,null,null,null,null,null,null,null,null,null,null,null,null,null,null,null,null,null,null,null,null,null,null,null,null,null,0,{"$f":"AVERAGE(#REF!)","v":{"$error":"#REF!"}},0.10200000000000002,-0.20600000000000002,-0.16400000000000001,-2.4459999999999997,-0.23200000000000004,9.2940000000000005,3.2000000000000001E-2,3.3334000000000011E-3,0.25666679999999997]
[null,null,null,null,null,null,null,null,null,null,null,null,null,null,null,null,null,null,null,null,null,null,null,null,null,null,null,null,0,{"$f":"AVERAGE(#REF!)","v":{"$error":"#REF!"}},{"$f":"AVERAGE(Q1282:Q1286)","v":0.11399999999999999},{"$f":"AVERAGE(R1282:R1286)","v":0.75800000000000001},{"$f":"AVERAGE(S1282:S1286)","v":0.18800000000000003},{"$f":"AVERAGE(T1282:T1286)","v":-2.4880000000000004},{"$f":"AVERAGE(U1282:U1286)","v":1.1760000000000002},{"$f":"AVERAGE(V1282:V1286)","v":9.6300000000000008},{"$f":"AVERAGE(W1282:W1286)","v":-0.17377799999999999},{"$f":"AVERAGE(X1282:X1286)","v":5.7999999999999996E-2},{"$f":"AVERAGE(Y1282:Y1286)","v":0.2677776}]
[null,null,null,null,null,null,null,null,null,null,null,null,null,null,null,null,null,null,null,null,null,null,null,null,null,null,null,null,0,{"$f":"AVERAGE(#REF!)","v":{"$error":"#REF!"}},0.81600000000000006,-0.21000000000000002,0.41,-2.1119999999999997,9.6000000000000002E-2,9.7600000000000016,-1.8222200000000001E-2,1.2888800000000001E-2,-1.7778000000000002E-3]
[null,null,null,null,null,null,null,null,null,null,null,null,null,null,null,null,null,null,null,null,null,null,null,null,null,null,null,null,0,{"$f":"AVERAGE(#REF!)","v":{"$error":"#REF!"}},0.68,-0.24000000000000005,4.3999999999999997E-2,-2.2519999999999998,5.6000000000000008E-2,9.3899999999999988,3.8666800000000001E-2,-2.2221999999999993E-3,2.2444600000000002E-2]
[null,null,null,null,null,null,null,null,null,null,null,null,null,null,null,null,null,null,null,null,null,null,null,null,null,null,null,null,0,{"$f":"AVERAGE(#REF!)","v":{"$error":"#REF!"}},-9.4E-2,-0.17400000000000002,0.35399999999999998,-2.9880000000000004,-0.22599999999999998,9.718,-7.5777799999999992E-2,2.4446000000000003E-3,1.5111000000000003E-2]
[null,null,null,null,null,null,null,null,null,null,null,null,null,null,null,null,null,null,null,null,null,null,null,null,null,null,null,null,0.44703888888888887,{"$f":"AVERAGE(#REF!)","v":{"$error":"#REF!"}},0.56800000000000006,0.38600000000000001,0.24199999999999999,-2.19,1.0720000000000001,9.6159999999999997,0.1277778,-4.4666600000000001E-2,0.27599999999999997]
[null,null,null,null,null,null,null,null,null,null,null,null,null,null,null,null,null,null,null,null,null,null,null,null,null,null,null,null,0,{"$f":"AVERAGE(#REF!)","v":{"$error":"#REF!"}},0.27599999999999997,0.82800000000000007,0.42400000000000004,-1.98,-0.39599999999999991,9.8800000000000008,-0.12755540000000001,-5.2666600000000008E-2,0.50888880000000003]
[null,null,null,null,null,null,null,null,null,null,null,null,null,null,null,null,null,null,null,null,null,null,null,null,null,null,null,null,0,{"$f":"AVERAGE(#REF!)","v":{"$error":"#REF!"}},-1.4059999999999999,-0.16199999999999998,0.10400000000000001,-3.7299999999999995,0.18800000000000003,9.6180000000000003,3.8888600000000002E-2,-2.8890000000000001E-3,0.2064444]
[null,null,null,null,null,null,null,null,null,null,null,null,null,null,null,null,null,null,null,null,null,null,null,null,null,null,null,null,0,{"$f":"AVERAGE(#REF!)","v":{"$error":"#REF!"}},-1.5939999999999999,-0.32599999999999996,-0.502,-4.0140000000000002,0.64600000000000013,8.9460000000000015,2.7555600000000003E-2,2.1555600000000001E-2,6.5555599999999992E-2]
[null,null,null,null,null,null,null,null,null,null,null,null,null,null,null,null,null,null,null,null,null,null,null,null,null,null,null,null,0,{"$f":"AVERAGE(#REF!)","v":{"$error":"#REF!"}},0.13799999999999998,-0.31999999999999995,-0.10000000000000005,-2.012,0.70799999999999996,9.4060000000000006,-3.0221999999999999E-2,-3.9999999999999992E-3,-6.2220000000000001E-3]
[null,null,null,null,null,null,null,null,null,null,null,null,null,null,null,null,null,null,null,null,null,null,null,null,null,null,null,null,0,{"$f":"AVERAGE(#REF!)","v":{"$error":"#REF!"}},8.3999999999999991E-2,-0.38,0.248,-2.0740000000000003,0.50399999999999989,9.77,-1.5111200000000002E-2,-2.4446000000000008E-3,-2.222E-3]
[null,null,null,null,null,null,null,null,null,null,null,null,null,null,null,null,null,null,null,null,null,null,null,null,null,null,null,null,0,{"$f":"AVERAGE(#REF!)","v":{"$error":"#REF!"}},2.1999999999999999E-2,-0.35199999999999998,0.29799999999999999,-2.0959999999999996,0.22599999999999998,9.8520000000000003,4.9777799999999997E-2,2.2221999999999997E-3,5.1114000000000003E-3]
[null,null,null,null,null,null,null,null,null,null,null,null,null,null,null,null,null,null,null,null,null,null,null,null,null,null,null,null,0,{"$f":"AVERAGE(#REF!)","v":{"$error":"#REF!"}},3.8000000000000006E-2,-0.20800000000000002,0.25800000000000001,-2.0640000000000001,0.8,9.7799999999999976,1.26666E-2,-2.2219999999999982E-4,1.7778E-3]
[null,null,null,null,null,null,null,null,null,null,null,null,null,null,null,null,null,null,null,null,null,null,null,null,null,null,null,null,0,{"$f":"AVERAGE(#REF!)","v":{"$error":"#REF!"}},-5.1999999999999991E-2,-1.012,0.24000000000000005,-2.2320000000000002,-0.91600000000000004,9.7960000000000012,-4.1333400000000006E-2,3.5555999999999999E-3,2.2222000000000001E-3]
[null,null,null,null,null,null,null,null,null,null,null,null,null,null,null,null,null,null,null,null,null,null,null,null,null,null,null,null,0,{"$f":"AVERAGE(#REF!)","v":{"$error":"#REF!"}},0.17599999999999999,-0.32800000000000001,0.22400000000000003,-1.92,0.13000000000000003,9.7900000000000009,-1.2888800000000001E-2,-2.2222000000000001E-3,-5.5557999999999996E-3]
[null,null,null,null,null,null,null,null,null,null,null,null,null,null,null,null,null,null,null,null,null,null,null,null,null,null,null,null,0,{"$f":"AVERAGE(#REF!)","v":{"$error":"#REF!"}},-0.08,-0.29599999999999999,0.32199999999999995,-2.1439999999999997,6.6000000000000017E-2,9.8979999999999997,-2.9555399999999999E-2,8.8880000000000003E-4,-8.4446E-3]
[null,null,null,null,null,null,null,null,null,null,null,null,null,null,null,null,null,null,null,null,null,null,null,null,null,null,null,null,0,{"$f":"AVERAGE(#REF!)","v":{"$error":"#REF!"}},-8.8000000000000023E-2,-0.504,0.17599999999999999,-2.1640000000000001,-0.23200000000000004,9.7540000000000013,-8.8900000000000003E-4,-1.1112000000000001E-3,-4.4440000000000001E-4]
[null,null,null,null,null,null,null,null,null,null,null,null,null,null,null,null,null,null,null,null,null,null,null,null,null,null,null,null,0,{"$f":"AVERAGE(#REF!)","v":{"$error":"#REF!"}},-0.13799999999999998,-0.29399999999999998,-6.0000000000000053E-3,-2.198,5.9999999999999941E-3,9.5680000000000014,1.51112E-2,1.3332000000000001E-3,4.6665999999999999E-3]
[null,null,null,null,null,null,null,null,null,null,null,null,null,null,null,null,null,null,null,null,null,null,null,null,null,null,null,null,0,{"$f":"AVERAGE(#REF!)","v":{"$error":"#REF!"}},4.7999999999999987E-2,-0.02,7.1999999999999995E-2,-2.0259999999999998,0.27999999999999997,9.6479999999999997,7.111000000000001E-3,3.555599999999999E-3,1.9998000000000004E-3]
[null,null,null,null,null,null,null,null,null,null,null,null,null,null,null,null,null,null,null,null,null,null,null,null,null,null,null,null,0,{"$f":"AVERAGE(#REF!)","v":{"$error":"#REF!"}},-0.11600000000000002,-0.22399999999999998,-2.6000000000000002E-2,-2.1819999999999995,7.1999999999999995E-2,9.5460000000000012,-3.5554000000000002E-3,3.5554000000000002E-3,-4.4440000000000001E-4]
[null,null,null,null,null,null,null,null,null,null,null,null,null,null,null,null,null,null,null,null,null,null,null,null,null,null,null,null,0,{"$f":"AVERAGE(#REF!)","v":{"$error":"#REF!"}},6.8000000000000005E-2,-0.21800000000000003,0.29799999999999999,-2.3480000000000003,0.156,9.4939999999999998,2.5111000000000001E-2,0,5.3331999999999997E-3]
[null,null,null,null,null,null,null,null,null,null,null,null,null,null,null,null,null,null,null,null,null,null,null,null,null,null,null,null,0,{"$f":"AVERAGE(#REF!)","v":{"$error":"#REF!"}},0.16599999999999998,-0.13200000000000001,0.192,-1.9079999999999999,0.16599999999999998,9.8580000000000005,4.7555399999999998E-2,-8.222199999999999E-3,8.2223999999999995E-3]
[null,null,null,null,null,null,null,null,null,null,null,null,null,null,null,null,null,null,null,null,null,null,null,null,null,null,null,null,0,{"$f":"AVERAGE(#REF!)","v":{"$error":"#REF!"}},-0.154,0.12000000000000002,0.124,-1.948,0.48999999999999994,9.6960000000000015,1.7777999999999999E-2,5.3332000000000006E-3,3.1107999999999999E-3]
[null,null,null,null,null,null,null,null,null,null,null,null,null,null,null,null,null,null,null,null,null,null,null,null,null,null,null,null,0,{"$f":"AVERAGE(#REF!)","v":{"$error":"#REF!"}},-0.22799999999999998,-0.13199999999999998,-7.9999999999999898E-3,-1.8620000000000001,0.22200000000000003,9.8379999999999992,-5.7778000000000005E-3,-6.0001999999999998E-3,0]
[null,null,null,null,null,null,null,null,null,null,null,null,null,null,null,null,null,null,null,null,null,null,null,null,null,null,null,null,0,{"$f":"AVERAGE(#REF!)","v":{"$error":"#REF!"}},-0.34,3.1999999999999994E-2,-3.4000000000000002E-2,-2.3280000000000003,0.4,9.6639999999999997,1.1333400000000002E-2,-8.8887999999999988E-3,-4.4440000000000001E-4]
[null,null,null,null,null,null,null,null,null,null,null,null,null,null,null,null,null,null,null,null,null,null,null,null,null,null,null,null,0,{"$f":"AVERAGE(#REF!)","v":{"$error":"#REF!"}},-0.31999999999999995,-3.8000000000000006E-2,0.39800000000000002,-1.8860000000000003,0.186,9.7960000000000012,-1.1110000000000002E-3,1.1112000000000003E-3,1.5556000000000001E-3]
[null,null,null,null,null,null,null,null,null,null,null,null,null,null,null,null,null,null,null,null,null,null,null,null,null,null,null,null,0,{"$f":"AVERAGE(#REF!)","v":{"$error":"#REF!"}},-0.12799999999999997,-2.0000000000000131E-3,8.2000000000000003E-2,-2.1799999999999997,0.27199999999999996,9.6620000000000008,3.3333999999999994E-3,-1.9997999999999999E-3,-2.2221999999999997E-3]
[null,null,null,null,null,null,null,null,null,null,null,null,null,null,null,null,null,null,null,null,null,null,null,null,null,null,null,null,0,{"$f":"AVERAGE(#REF!)","v":{"$error":"#REF!"}},6.8000000000000019E-2,-0.13999999999999999,0.25599999999999995,-2.0260000000000007,-0.22000000000000003,9.831999999999999,-9.4666799999999995E-2,6.4444000000000003E-3,-2.44446E-2]
[null,null,null,null,null,null,null,null,null,null,null,null,null,null,null,null,null,null,null,null,null,null,null,null,null,null,null,null,0,{"$f":"AVERAGE(#REF!)","v":{"$error":"#REF!"}},-0.74200000000000021,0.68799999999999994,-0.44400000000000006,-2.714,0.64599999999999991,9.1539999999999999,-1.8889E-2,-1.33334E-2,3.3333999999999994E-3]
[null,null,null,null,null,null,null,null,null,null,null,null,null,null,null,null,null,null,null,null,null,null,null,null,null,null,null,null,0,{"$f":"AVERAGE(#REF!)","v":{"$error":"#REF!"}},1.9600000000000002,-0.50800000000000001,1.0960000000000001,-0.12800000000000003,-0.67199999999999993,10.672000000000001,6.8888000000000005E-3,-1.4222000000000002E-2,3.3555599999999991E-2]
[null,null,null,null,null,null,null,null,null,null,null,null,null,null,null,null,null,null,null,null,null,null,null,null,null,null,null,null,0,{"$f":"AVERAGE(#REF!)","v":{"$error":"#REF!"}},0.93399999999999994,1.5680000000000001,-2.6619999999999999,-1.1880000000000002,0.51,6.8459999999999992,-0.26244440000000002,1.66666E-2,7.3333599999999999E-2]
[null,null,null,null,null,null,null,null,null,null,null,null,null,null,null,null,null,null,null,null,null,null,null,null,null,null,null,null,0,{"$f":"AVERAGE(#REF!)","v":{"$error":"#REF!"}},1.3440000000000001,1.97,1.3120000000000001,-0.91799999999999993,-0.55199999999999994,10.507999999999999,4.1111200000000001E-2,-0.18066659999999998,0.44844439999999997]
[null,null,null,null,null,null,null,null,null,null,null,null,null,null,null,null,null,null,null,null,null,null,null,null,null,null,null,null,0,{"$f":"AVERAGE(#REF!)","v":{"$error":"#REF!"}},1.468,0.84199999999999997,1.0780000000000001,-0.60399999999999987,0.32,10.641999999999999,0.182889,-4.0000000000000001E-3,9.2888799999999994E-2]
[null,null,null,null,null,null,null,null,null,null,null,null,null,null,null,null,null,null,null,null,null,null,null,null,null,null,null,null,0,{"$f":"AVERAGE(#REF!)","v":{"$error":"#REF!"}},0.36799999999999999,8.5999999999999938E-2,-1.1699999999999995,-1.472,0.40399999999999991,8.4499999999999993,3.1111199999999999E-2,3.2222199999999993E-2,-1.04446E-2]
[null,null,null,null,null,null,null,null,null,null,null,null,null,null,null,null,null,null,null,null,null,null,null,null,null,null,null,null,0,{"$f":"AVERAGE(#REF!)","v":{"$error":"#REF!"}},0.6319999999999999,-0.43599999999999994,0.37,-1.05,-3.6000000000000032E-2,10.013999999999999,-1.0666400000000001E-2,7.1111999999999998E-3,-1.7999999999999999E-2]
[null,null,null,null,null,null,null,null,null,null,null,null,null,null,null,null,null,null,null,null,null,null,null,null,null,null,null,null,0,{"$f":"AVERAGE(#REF!)","v":{"$error":"#REF!"}},0.376,-0.21200000000000002,-0.5099999999999999,-1.256,0.152,9.1419999999999995,-0.01,-7.7776E-3,-1.4666600000000002E-2]
[null,null,null,null,null,null,null,null,null,null,null,null,null,null,null,null,null,null,null,null,null,null,null,null,null,null,null,null,0,{"$f":"AVERAGE(#REF!)","v":{"$error":"#REF!"}},0.13999999999999999,8.0000000000000019E-3,0.27200000000000002,-1.5119999999999998,0.29599999999999999,9.93,0.02,-1.0444599999999998E-2,0.01]
[null,null,null,null,null,null,null,null,null,null,null,null,null,null,null,null,null,null,null,null,null,null,null,null,null,null,null,null,0,{"$f":"AVERAGE(#REF!)","v":{"$error":"#REF!"}},0.13199999999999998,-0.58399999999999996,0.17399999999999999,-1.532,-7.5999999999999984E-2,9.8219999999999992,1.53332E-2,3.7333400000000003E-2,-2.5111199999999993E-2]
[null,null,null,null,null,null,null,null,null,null,null,null,null,null,null,null,null,null,null,null,null,null,null,null,null,null,null,null,0,{"$f":"AVERAGE(#REF!)","v":{"$error":"#REF!"}},4.8000000000000022E-2,-0.13599999999999998,-4.5840000000000005,-1.8440000000000001,4.4000000000000018E-2,5.0340000000000007,3.1555600000000003E-2,0.21755559999999999,6.8888000000000005E-3]
[null,null,null,null,null,null,null,null,null,null,null,null,null,null,null,null,null,null,null,null,null,null,null,null,null,null,null,null,0,{"$f":"AVERAGE(#REF!)","v":{"$error":"#REF!"}},0.53200000000000003,-8.3999999999999991E-2,-0.43000000000000005,-1.216,0.16,9.2140000000000004,1.2889000000000001E-2,-2.8888000000000004E-3,1.17778E-2]
[null,null,null,null,null,null,null,null,null,null,null,null,null,null,null,null,null,null,null,null,null,null,null,null,null,null,null,null,0,{"$f":"AVERAGE(#REF!)","v":{"$error":"#REF!"}},-0.25400000000000006,1.5999999999999948E-2,0.61,-2.1520000000000001,0.16600000000000001,10.224,-2.3999799999999995E-2,-3.5554000000000002E-3,1.6222400000000001E-2]
[null,null,null,null,null,null,null,null,null,null,null,null,null,null,null,null,null,null,null,null,null,null,null,null,null,null,null,null,0,{"$f":"AVERAGE(#REF!)","v":{"$error":"#REF!"}},-0.35399999999999998,0.4,1.55,-2.258,0.55999999999999994,11.166,6.4444399999999999E-2,1.9555599999999999E-2,6.4444599999999991E-2]
[null,null,null,null,null,null,null,null,null,null,null,null,null,null,null,null,null,null,null,null,null,null,null,null,null,null,null,null,0,{"$f":"AVERAGE(#REF!)","v":{"$error":"#REF!"}},-1.8699999999999999,-0.314,-0.86999999999999988,-4.0860000000000003,0.26399999999999996,8.6560000000000006,-2.19998E-2,1.3333999999999998E-3,-0.1406666]
[null,null,null,null,null,null,null,null,null,null,null,null,null,null,null,null,null,null,null,null,null,null,null,null,null,null,null,null,0,{"$f":"AVERAGE(#REF!)","v":{"$error":"#REF!"}},-0.44399999999999995,-9.9999999999999638E-3,0.25999999999999995,-2.5179999999999998,0.24399999999999994,9.84,1.5333400000000001E-2,-3.55556E-2,3.7555400000000003E-2]
[null,null,null,null,null,null,null,null,null,null,null,null,null,null,null,null,null,null,null,null,null,null,null,null,null,null,null,null,0,{"$f":"AVERAGE(#REF!)","v":{"$error":"#REF!"}},1.9039999999999999,-2.23,1.8260000000000001,0.14199999999999996,3.4000000000000016E-2,11.198,9.5777799999999996E-2,-9.0222400000000008E-2,-0.40933320000000001]
[null,null,null,null,null,null,null,null,null,null,null,null,null,null,null,null,null,null,null,null,null,null,null,null,null,null,null,null,0,{"$f":"AVERAGE(#REF!)","v":{"$error":"#REF!"}},2.1480000000000001,-2.218,0.57800000000000018,0.66999999999999982,0.60600000000000009,9.8439999999999994,3.6666599999999994E-2,-0.12022220000000002,-0.33755540000000001]
[null,null,null,null,null,null,null,null,null,null,null,null,null,null,null,null,null,null,null,null,null,null,null,null,null,null,null,null,0,{"$f":"AVERAGE(#REF!)","v":{"$error":"#REF!"}},0.59799999999999998,-1.9059999999999999,-0.15200000000000005,-1.02,7.7999999999999944E-2,9.3039999999999985,-0.16222220000000001,-2.2221999999999984E-3,-0.24999979999999997]
[null,null,null,null,null,null,null,null,null,null,null,null,null,null,null,null,null,null,null,null,null,null,null,null,null,null,null,null,0,{"$f":"AVERAGE(#REF!)","v":{"$error":"#REF!"}},-2.2799999999999998,0.32600000000000001,-1.4039999999999997,-2.3039999999999998,0.32600000000000001,9.4819999999999993,-1.7777599999999998E-2,-3.1777999999999994E-2,-3.0222199999999998E-2]
[null,null,null,null,null,null,null,null,null,null,null,null,null,null,null,null,null,null,null,null,null,null,null,null,null,null,null,null,0,{"$f":"AVERAGE(#REF!)","v":{"$error":"#REF!"}},-2.0840000000000001,-0.156,-1.5979999999999999,-2.5859999999999999,-0.372,11.962,-3.4888799999999998E-2,-1.31112E-2,2.4445999999999995E-3]
[null,null,null,null,null,null,null,null,null,null,null,null,null,null,null,null,null,null,null,null,null,null,null,null,null,null,null,null,0,{"$f":"AVERAGE(#REF!)","v":{"$error":"#REF!"}},0.94800000000000006,-8.3999999999999991E-2,2.492,-4.5739999999999998,-0.45800000000000002,4.5359999999999996,0.03,0.25044440000000001,3.0889E-2]
[null,null,null,null,null,null,null,null,null,null,null,null,null,null,null,null,null,null,null,null,null,null,null,null,null,null,null,null,0,{"$f":"AVERAGE(#REF!)","v":{"$error":"#REF!"}},-1.5560000000000003,0.6160000000000001,-0.37,-0.51800000000000002,-0.60199999999999998,12.674000000000001,3.6222400000000002E-2,1.8222200000000001E-2,3.0666599999999999E-2]
[null,null,null,null,null,null,null,null,null,null,null,null,null,null,null,null,null,null,null,null,null,null,null,null,null,null,null,null,0,{"$f":"AVERAGE(#REF!)","v":{"$error":"#REF!"}},-1.6300000000000001,0.17199999999999999,7.400000000000001E-2,-3.55,-0.16199999999999998,9.6120000000000001,-0.12822220000000001,8.000199999999999E-3,-3.2888600000000004E-2]
[null,null,null,null,null,null,null,null,null,null,null,null,null,null,null,null,null,null,null,null,null,null,null,null,null,null,null,null,0,{"$f":"AVERAGE(#REF!)","v":{"$error":"#REF!"}},0.80399999999999994,-0.31,0.53400000000000003,-0.68399999999999994,-0.92000000000000015,10.331999999999999,1.1333200000000002E-2,-9.1333600000000001E-2,-8.4446E-3]
[null,null,null,null,null,null,null,null,null,null,null,null,null,null,null,null,null,null,null,null,null,null,null,null,null,null,null,null,0,{"$f":"AVERAGE(#REF!)","v":{"$error":"#REF!"}},1.3999999999999979E-2,-0.27600000000000002,0.376,-1.8920000000000001,-0.19600000000000001,9.5120000000000005,-1.3332000000000001E-3,9.7777999999999997E-3,4.6668000000000005E-3]
[null,null,null,null,null,null,null,null,null,null,null,null,null,null,null,null,null,null,null,null,null,null,null,null,null,null,null,null,0,{"$f":"AVERAGE(#REF!)","v":{"$error":"#REF!"}},-0.10999999999999999,-0.10200000000000001,0,-1.6440000000000001,-0.154,9.6800000000000015,-2.222E-3,-1.3332000000000001E-3,2.2220000000000001E-4]
[null,null,null,null,null,null,null,null,null,null,null,null,null,null,null,null,null,null,null,null,null,null,null,null,null,null,null,null,0,{"$f":"AVERAGE(#REF!)","v":{"$error":"#REF!"}},-7.9999999999999967E-3,-4.6000000000000006E-2,0.14599999999999999,-1.546,-9.6000000000000002E-2,9.8279999999999994,2.4444000000000002E-3,-2.2239999999999969E-4,2.6665999999999999E-3]
[null,null,null,null,null,null,null,null,null,null,null,null,null,null,null,null,null,null,null,null,null,null,null,null,null,null,null,null,0,{"$f":"AVERAGE(#REF!)","v":{"$error":"#REF!"}},-1.8000000000000023E-2,0.11400000000000002,8.7999999999999981E-2,-1.5719999999999998,4.8000000000000001E-2,9.7639999999999993,-2.2220000000000001E-4,-4.6665999999999999E-3,-2.2220000000000001E-4]
[null,null,null,null,null,null,null,null,null,null,null,null,null,null,null,null,null,null,null,null,null,null,null,null,null,null,null,null,0,{"$f":"AVERAGE(#REF!)","v":{"$error":"#REF!"}},6.0000000000000053E-3,-0.17200000000000001,0.2,-1.5640000000000001,-0.28199999999999997,9.8740000000000006,4.4440000000000001E-4,2.6664000000000002E-3,2.222E-3]
[null,null,null,null,null,null,null,null,null,null,null,null,null,null,null,null,null,null,null,null,null,null,null,null,null,null,null,null,0,{"$f":"AVERAGE(#REF!)","v":{"$error":"#REF!"}},-6.9999999999999993E-2,-6.4000000000000001E-2,1.2000000000000021E-2,-1.6620000000000001,-0.184,9.6780000000000008,-1.5556000000000001E-3,2.2222000000000006E-3,2.2220000000000001E-4]
[null,null,null,null,null,null,null,null,null,null,null,null,null,null,null,null,null,null,null,null,null,null,null,null,null,null,null,null,0,{"$f":"AVERAGE(#REF!)","v":{"$error":"#REF!"}},0.09,9.1999999999999998E-2,0.13999999999999999,-1.512,-4.8000000000000001E-2,9.8079999999999981,-1.1110999999999999E-2,-2.4444000000000002E-3,-1.9998000000000004E-3]
[null,null,null,null,null,null,null,null,null,null,null,null,null,null,null,null,null,null,null,null,null,null,null,null,null,null,null,null,0,{"$f":"AVERAGE(#REF!)","v":{"$error":"#REF!"}},0.128,-4.9999999999999996E-2,0.32800000000000001,-1.472,-0.29399999999999998,9.9959999999999987,8.8900000000000003E-4,-7.5553999999999994E-3,2.4441999999999997E-3]
[null,null,null,null,null,null,null,null,null,null,null,null,null,null,null,null,null,null,null,null,null,null,null,null,null,null,null,null,0,{"$f":"AVERAGE(#REF!)","v":{"$error":"#REF!"}},-0.13600000000000001,9.1999999999999998E-2,-0.21600000000000003,-1.75,-0.16,9.4480000000000004,7.7776E-3,2.6666000000000003E-3,6.6660000000000005E-4]
[null,null,null,null,null,null,null,null,null,null,null,null,null,null,null,null,null,null,null,null,null,null,null,null,null,null,null,null,0,{"$f":"AVERAGE(#REF!)","v":{"$error":"#REF!"}},7.1999999999999953E-2,-1.999999999999999E-2,0.16799999999999998,-1.552,-0.24800000000000005,9.8339999999999996,-3.5556000000000003E-3,-6.4444000000000003E-3,0]
[null,null,null,null,null,null,null,null,null,null,null,null,null,null,null,null,null,null,null,null,null,null,null,null,null,null,null,null,0,{"$f":"AVERAGE(#REF!)","v":{"$error":"#REF!"}},9.4000000000000014E-2,-2.9999999999999992E-2,0.24199999999999999,-1.532,-0.27600000000000002,9.9059999999999988,4.6665999999999999E-3,2.4441999999999997E-3,1.3332000000000001E-3]
[null,null,null,null,null,null,null,null,null,null,null,null,null,null,null,null,null,null,null,null,null,null,null,null,null,null,null,null,0,{"$f":"AVERAGE(#REF!)","v":{"$error":"#REF!"}},-0.29000000000000004,-3.2000000000000008E-2,-0.38800000000000001,-1.9159999999999999,-0.32200000000000001,9.2680000000000007,4.3555799999999999E-2,4.8888000000000004E-3,7.7777999999999996E-3]
[null,null,null,null,null,null,null,null,null,null,null,null,null,null,null,null,null,null,null,null,null,null,null,null,null,null,null,null,0,{"$f":"AVERAGE(#REF!)","v":{"$error":"#REF!"}},-0.12,-7.2000000000000036E-2,-4.4000000000000004E-2,-1.7600000000000002,-0.502,9.6080000000000005,5.355540000000001E-2,-3.1113999999999998E-3,3.4888799999999998E-2]
[null,null,null,null,null,null,null,null,null,null,null,null,null,null,null,null,null,null,null,null,null,null,null,null,null,null,null,null,0,{"$f":"AVERAGE(#REF!)","v":{"$error":"#REF!"}},-0.10000000000000005,-4.8000000000000001E-2,7.5999999999999998E-2,-1.7280000000000002,-0.34199999999999997,9.7379999999999995,-1.3555600000000001E-2,6.0002000000000007E-3,-2.4442000000000001E-3]
[null,null,null,null,null,null,null,null,null,null,null,null,null,null,null,null,null,null,null,null,null,null,null,null,null,null,null,null,0,{"$f":"AVERAGE(#REF!)","v":{"$error":"#REF!"}},8.199999999999999E-2,-5.6000000000000008E-2,0.28399999999999997,-1.5539999999999998,-0.38800000000000001,9.9420000000000002,3.7776000000000003E-3,-8.6668000000000005E-3,1.5556000000000003E-3]
[null,null,null,null,null,null,null,null,null,null,null,null,null,null,null,null,null,null,null,null,null,null,null,null,null,null,null,null,0,{"$f":"AVERAGE(#REF!)","v":{"$error":"#REF!"}},-0.57000000000000006,0.128,-0.17799999999999999,-2.202,-9.6000000000000002E-2,9.4860000000000007,1.13332E-2,-1.1109999999999998E-3,6.6679999999999984E-4]
[null,null,null,null,null,null,null,null,null,null,null,null,null,null,null,null,null,null,null,null,null,null,null,null,null,null,null,null,0,{"$f":"AVERAGE(#REF!)","v":{"$error":"#REF!"}},1.0859999999999999,0.26200000000000001,0.13800000000000004,-0.49800000000000005,0.17199999999999999,9.8059999999999992,1.4888800000000002E-2,-4.8888000000000004E-3,1.3334E-3]
[null,null,null,null,null,null,null,null,null,null,null,null,null,null,null,null,null,null,null,null,null,null,null,null,null,null,null,null,0,{"$f":"AVERAGE(#REF!)","v":{"$error":"#REF!"}},0.71799999999999997,-8.199999999999999E-2,-0.89399999999999991,-0.85599999999999987,-8.8000000000000009E-2,8.7759999999999998,3.4888800000000005E-2,4.8885999999999999E-3,8.5999999999999993E-2]
[null,null,null,null,null,null,null,null,null,null,null,null,null,null,null,null,null,null,null,null,null,null,null,null,null,null,null,null,0,{"$f":"AVERAGE(#REF!)","v":{"$error":"#REF!"}},-0.73199999999999998,0.66399999999999992,-0.128,-2.3400000000000003,0.6080000000000001,9.5380000000000003,-2.3555400000000004E-2,1.1555600000000001E-2,-3.5556000000000003E-3]
[null,null,null,null,null,null,null,null,null,null,null,null,null,null,null,null,null,null,null,null,null,null,null,null,null,null,null,null,0,{"$f":"AVERAGE(#REF!)","v":{"$error":"#REF!"}},-1.3359999999999999,0.14599999999999996,-5.1999999999999977E-2,-3.0180000000000002,-4.0000000000000036E-3,9.6,-5.62222E-2,1.73332E-2,-4.0666399999999998E-2]
[null,null,null,null,null,null,null,null,null,null,null,null,null,null,null,null,null,null,null,null,null,null,null,null,null,null,null,null,0,{"$f":"AVERAGE(#REF!)","v":{"$error":"#REF!"}},-0.14199999999999999,7.5999999999999984E-2,0.11800000000000002,-1.802,-0.21000000000000002,9.77,2.5333399999999996E-2,-7.5553999999999994E-3,8.000199999999999E-3]
[null,null,null,null,null,null,null,null,null,null,null,null,null,null,null,null,null,null,null,null,null,null,null,null,null,null,null,null,0,{"$f":"AVERAGE(#REF!)","v":{"$error":"#REF!"}},-0.39600000000000002,0.11600000000000002,-0.26,-2.0419999999999998,-0.10400000000000001,9.395999999999999,1.5333400000000001E-2,8.8891999999999999E-3,3.1112000000000002E-3]
[null,null,null,null,null,null,null,null,null,null,null,null,null,null,null,null,null,null,null,null,null,null,null,null,null,null,null,null,0,{"$f":"AVERAGE(#REF!)","v":{"$error":"#REF!"}},-0.34200000000000003,-9.9999999999999985E-3,-6.5999999999999975E-2,-2,-0.374,9.5879999999999992,8.4444000000000012E-3,1.7780000000000001E-3,2.222E-3]
[null,null,null,null,null,null,null,null,null,null,null,null,null,null,null,null,null,null,null,null,null,null,null,null,null,null,null,null,0,{"$f":"AVERAGE(#REF!)","v":{"$error":"#REF!"}},-7.2000000000000008E-2,7.1999999999999995E-2,0.21600000000000003,-1.736,-0.24199999999999999,9.870000000000001,-2.222E-3,-6.6659999999999951E-4,8.8880000000000003E-4]
[null,null,null,null,null,null,null,null,null,null,null,null,null,null,null,null,null,null,null,null,null,null,null,null,null,null,null,null,0,{"$f":"AVERAGE(#REF!)","v":{"$error":"#REF!"}},-0.25,4.9999999999999982E-2,-0.21399999999999997,-1.9440000000000002,-0.22000000000000003,9.4359999999999982,-1.2889000000000001E-2,6.8888000000000005E-3,-3.7778E-3]
[null,null,null,null,null,null,null,null,null,null,null,null,null,null,null,null,null,null,null,null,null,null,null,null,null,null,null,null,0,{"$f":"AVERAGE(#REF!)","v":{"$error":"#REF!"}},-0.316,0.192,-0.10000000000000002,-2.0059999999999998,-8.2000000000000003E-2,9.5500000000000007,5.9999999999999993E-3,8.0000000000000002E-3,1.9998000000000004E-3]
[null,null,null,null,null,null,null,null,null,null,null,null,null,null,null,null,null,null,null,null,null,null,null,null,null,null,null,null,0,{"$f":"AVERAGE(#REF!)","v":{"$error":"#REF!"}},-0.20600000000000002,7.1999999999999995E-2,-1.7999999999999981E-2,-1.9039999999999999,-0.21200000000000002,9.6280000000000001,-4.4440000000000001E-4,2.0001999999999997E-3,8.8880000000000003E-4]
[null,null,null,null,null,null,null,null,null,null,null,null,null,null,null,null,null,null,null,null,null,null,null,null,null,null,null,null,0,{"$f":"AVERAGE(#REF!)","v":{"$error":"#REF!"}},-3.9999999999999994E-2,-8.0000000000000019E-3,6.4000000000000015E-2,-1.7439999999999998,-0.34400000000000003,9.7099999999999991,8.8886000000000017E-3,1.7778E-3,2.4441999999999997E-3]
[null,null,null,null,null,null,null,null,null,null,null,null,null,null,null,null,null,null,null,null,null,null,null,null,null,null,null,null,0,{"$f":"AVERAGE(#REF!)","v":{"$error":"#REF!"}},-0.22000000000000003,0.28799999999999998,4.9999999999999975E-2,-1.9179999999999999,-1.9999999999999961E-3,9.6980000000000004,1.5777599999999999E-2,-4.2221999999999997E-3,4.4442000000000006E-3]
[null,null,null,null,null,null,null,null,null,null,null,null,null,null,null,null,null,null,null,null,null,null,null,null,null,null,null,null,0,{"$f":"AVERAGE(#REF!)","v":{"$error":"#REF!"}},-0.21600000000000003,1.8000000000000009E-2,-0.16600000000000001,-1.9439999999999997,-0.28799999999999998,9.4760000000000009,-2.4444000000000002E-3,4.2224000000000003E-3,-2.2220000000000001E-4]
[null,null,null,null,null,null,null,null,null,null,null,null,null,null,null,null,null,null,null,null,null,null,null,null,null,null,null,null,0,{"$f":"AVERAGE(#REF!)","v":{"$error":"#REF!"}},-0.23399999999999999,-1.2E-2,0.154,-1.968,-0.27,9.7979999999999983,0,5.5556000000000008E-3,-4.4440000000000001E-4]
[null,null,null,null,null,null,null,null,null,null,null,null,null,null,null,null,null,null,null,null,null,null,null,null,null,null,null,null,0,{"$f":"AVERAGE(#REF!)","v":{"$error":"#REF!"}},6.6000000000000003E-2,0.12999999999999998,0.11600000000000002,-1.6460000000000001,-9.6000000000000002E-2,9.766,2.6000000000000002E-2,-3.3334000000000003E-3,6.4444000000000003E-3]
[null,null,null,null,null,null,null,null,null,null,null,null,null,null,null,null,null,null,null,null,null,null,null,null,null,null,null,null,0,{"$f":"AVERAGE(#REF!)","v":{"$error":"#REF!"}},0.26200000000000001,0.14799999999999999,0.40200000000000002,-1.4180000000000001,0.10599999999999998,10.062000000000001,9.1111999999999981E-3,-1.1999800000000001E-2,1.3329999999999998E-3]
[null,null,null,null,null,null,null,null,null,null,null,null,null,null,null,null,null,null,null,null,null,null,null,null,null,null,null,null,0,{"$f":"AVERAGE(#REF!)","v":{"$error":"#REF!"}},0.96800000000000019,0.32399999999999995,-0.65200000000000002,-0.76600000000000001,0.45800000000000002,8.9920000000000009,5.6222399999999992E-2,4.4439999999999898E-4,6.9333199999999998E-2]
[null,null,null,null,null,null,null,null,null,null,null,null,null,null,null,null,null,null,null,null,null,null,null,null,null,null,null,null,0,{"$f":"AVERAGE(#REF!)","v":{"$error":"#REF!"}},-0.95,3.9999999999999994E-2,-0.55999999999999994,-2.6659999999999999,0.24000000000000005,9.0860000000000003,2.8000000000000004E-2,1.0666600000000002E-2,-1.2222199999999999E-2]
[null,null,null,null,null,null,null,null,null,null,null,null,null,null,null,null,null,null,null,null,null,null,null,null,null,null,null,null,0,{"$f":"AVERAGE(#REF!)","v":{"$error":"#REF!"}},-1.4220000000000002,3.0000000000000009E-2,-0.09,-3.3380000000000001,-2.6000000000000013E-2,9.5239999999999991,-4.35556E-2,-7.3333999999999986E-3,-2.97778E-2]
[null,null,null,null,null,null,null,null,null,null,null,null,null,null,null,null,null,null,null,null,null,null,null,null,null,null,null,null,0,{"$f":"AVERAGE(#REF!)","v":{"$error":"#REF!"}},0.11799999999999999,-1.7999999999999995E-2,0.41,-1.6460000000000001,-0.438,10.044,1.2888800000000001E-2,-3.3335999999999991E-3,4.2220000000000001E-3]
[null,null,null,null,null,null,null,null,null,null,null,null,null,null,null,null,null,null,null,null,null,null,null,null,null,null,null,null,0,{"$f":"AVERAGE(#REF!)","v":{"$error":"#REF!"}},-0.182,-1.9999999999999997E-2,6.0000000000000166E-3,-1.9460000000000002,-0.39400000000000002,9.6379999999999999,-2.4444400000000002E-2,-1.7778E-3,-3.1110000000000001E-3]
[null,null,null,null,null,null,null,null,null,null,null,null,null,null,null,null,null,null,null,null,null,null,null,null,null,null,null,null,0,{"$f":"AVERAGE(#REF!)","v":{"$error":"#REF!"}},-8.2000000000000003E-2,8.8000000000000009E-2,0.21600000000000003,-1.8260000000000001,-0.17399999999999999,9.8559999999999981,6.6659999999999983E-4,-2.2224000000000002E-3,0]
[null,null,null,null,null,null,null,null,null,null,null,null,null,null,null,null,null,null,null,null,null,null,null,null,null,null,null,null,0,{"$f":"AVERAGE(#REF!)","v":{"$error":"#REF!"}},0.14399999999999999,0.12600000000000003,0.36,-1.59,-0.13199999999999998,10.004,8.2220000000000001E-3,-6.6659999999999983E-4,2E-3]
[null,null,null,null,null,null,null,null,null,null,null,null,null,null,null,null,null,null,null,null,null,null,null,null,null,null,null,null,0,{"$f":"AVERAGE(#REF!)","v":{"$error":"#REF!"}},2.4E-2,4.5999999999999999E-2,0.20200000000000001,-1.714,-0.27200000000000002,9.8379999999999992,1.3334E-3,-6.2221999999999998E-3,1.1112000000000001E-3]
[null,null,null,null,null,null,null,null,null,null,null,null,null,null,null,null,null,null,null,null,null,null,null,null,null,null,null,null,0,{"$f":"AVERAGE(#REF!)","v":{"$error":"#REF!"}},0.15200000000000002,0.28399999999999997,0.11200000000000002,-1.5939999999999999,7.9999999999999967E-3,9.75,1.33334E-2,-3.7776000000000003E-3,3.5554000000000002E-3]
[null,null,null,null,null,null,null,null,null,null,null,null,null,null,null,null,null,null,null,null,null,null,null,null,null,null,null,null,0,{"$f":"AVERAGE(#REF!)","v":{"$error":"#REF!"}},-0.22400000000000003,0.22400000000000003,-0.12599999999999997,-1.9700000000000002,-0.17799999999999999,9.5060000000000002,1.3777600000000001E-2,2.8889999999999996E-3,4.4444000000000003E-3]
[null,null,null,null,null,null,null,null,null,null,null,null,null,null,null,null,null,null,null,null,null,null,null,null,null,null,null,null,0,{"$f":"AVERAGE(#REF!)","v":{"$error":"#REF!"}},-0.16600000000000001,0.14999999999999997,-6.4000000000000001E-2,-1.9140000000000001,-0.154,9.57,-6.4444000000000003E-3,-3.7778000000000004E-3,-1.5556000000000001E-3]
[null,null,null,null,null,null,null,null,null,null,null,null,null,null,null,null,null,null,null,null,null,null,null,null,null,null,null,null,0,{"$f":"AVERAGE(#REF!)","v":{"$error":"#REF!"}},-9.9999999999999759E-3,-2.3999999999999987E-2,0.34599999999999997,-1.7600000000000002,-0.32800000000000001,9.9860000000000007,1.5556000000000001E-3,-1.9998000000000004E-3,-4.4440000000000001E-4]
[null,null,null,null,null,null,null,null,null,null,null,null,null,null,null,null,null,null,null,null,null,null,null,null,null,null,null,null,0,{"$f":"AVERAGE(#REF!)","v":{"$error":"#REF!"}},-0.30200000000000005,0.19600000000000001,-6.5999999999999975E-2,-2.0620000000000003,-0.16399999999999998,9.5659999999999989,5.7780000000000001E-3,3.7778E-3,1.3332000000000001E-3]
[null,null,null,null,null,null,null,null,null,null,null,null,null,null,null,null,null,null,null,null,null,null,null,null,null,null,null,null,0,{"$f":"AVERAGE(#REF!)","v":{"$error":"#REF!"}},-0.188,0.184,-0.05,-1.9579999999999997,-0.16800000000000001,9.5859999999999985,-1.7779999999999996E-3,-4.6668000000000005E-3,8.8900000000000003E-4]
[null,null,null,null,null,null,null,null,null,null,null,null,null,null,null,null,null,null,null,null,null,null,null,null,null,null,null,null,0,{"$f":"AVERAGE(#REF!)","v":{"$error":"#REF!"}},-0.11599999999999999,0.156,-0.20600000000000002,-1.9019999999999999,-0.15799999999999997,9.4280000000000008,1.3334E-3,1.5558000000000004E-3,4.4440000000000001E-4]
[null,null,null,null,null,null,null,null,null,null,null,null,null,null,null,null,null,null,null,null,null,null,null,null,null,null,null,null,0,{"$f":"AVERAGE(#REF!)","v":{"$error":"#REF!"}},-0.192,0.13400000000000001,-6.7999999999999991E-2,-2,-0.17600000000000002,9.5659999999999989,1.24444E-2,2.8887999999999991E-3,2.4444000000000002E-3]
[null,null,null,null,null,null,null,null,null,null,null,null,null,null,null,null,null,null,null,null,null,null,null,null,null,null,null,null,0,{"$f":"AVERAGE(#REF!)","v":{"$error":"#REF!"}},0.11599999999999999,-0.10800000000000001,0.378,-1.7119999999999997,-0.60400000000000009,9.9939999999999998,-6.2221999999999998E-3,-9.1111999999999999E-3,-2.2220000000000001E-4]
[null,null,null,null,null,null,null,null,null,null,null,null,null,null,null,null,null,null,null,null,null,null,null,null,null,null,null,null,0,{"$f":"AVERAGE(#REF!)","v":{"$error":"#REF!"}},-4.2000000000000016E-2,9.4E-2,1.5999999999999997E-2,-2.0979999999999999,-0.16399999999999998,9.5139999999999993,2.4E-2,4.6668000000000005E-3,5.7780000000000001E-3]
[null,null,null,null,null,null,null,null,null,null,null,null,null,null,null,null,null,null,null,null,null,null,null,null,null,null,null,null,0,{"$f":"AVERAGE(#REF!)","v":{"$error":"#REF!"}},5.800000000000001E-2,2.7999999999999997E-2,0.29799999999999999,-1.6059999999999999,-0.41399999999999998,9.8360000000000003,-2.6666000000000003E-3,-4.6665999999999999E-3,8.8880000000000003E-4]
[null,null,null,null,null,null,null,null,null,null,null,null,null,null,null,null,null,null,null,null,null,null,null,null,null,null,null,null,0,{"$f":"AVERAGE(#REF!)","v":{"$error":"#REF!"}},4.0000000000000036E-3,0.124,0.17,-2.008,-0.39800000000000002,9.3820000000000014,1.17778E-2,2.8890000000000001E-3,2.4444000000000002E-3]
[null,null,null,null,null,null,null,null,null,null,null,null,null,null,null,null,null,null,null,null,null,null,null,null,null,null,null,null,0,{"$f":"AVERAGE(#REF!)","v":{"$error":"#REF!"}},-0.38800000000000001,0.10400000000000001,-0.34400000000000003,-1.986,-0.32800000000000001,9.6660000000000004,1.26666E-2,-5.1114000000000003E-3,2.8886000000000003E-3]
[null,null,null,null,null,null,null,null,null,null,null,null,null,null,null,null,null,null,null,null,null,null,null,null,null,null,null,null,0,{"$f":"AVERAGE(#REF!)","v":{"$error":"#REF!"}},-6.3999999999999987E-2,-0.182,3.1999999999999994E-2,-2.0020000000000002,-0.22000000000000003,9.5339999999999989,-4.4445999999999991E-3,2.8890000000000001E-3,1.111E-3]
[null,null,null,null,null,null,null,null,null,null,null,null,null,null,null,null,null,null,null,null,null,null,null,null,null,null,null,null,0,{"$f":"AVERAGE(#REF!)","v":{"$error":"#REF!"}},6.0000000000000279E-3,0.154,-0.154,-1.8320000000000001,-0.22800000000000004,10.062000000000001,1.1112000000000001E-3,-8.8880000000000068E-4,1.5556000000000001E-3]
[null,null,null,null,null,null,null,null,null,null,null,null,null,null,null,null,null,null,null,null,null,null,null,null,null,null,null,null,0,{"$f":"AVERAGE(#REF!)","v":{"$error":"#REF!"}},-2.4000000000000011E-2,0.246,4.8000000000000001E-2,-1.72,-0.36799999999999999,9.911999999999999,4.4460000000000002E-4,-3.3334000000000003E-3,6.6680000000000005E-4]
[null,null,null,null,null,null,null,null,null,null,null,null,null,null,null,null,null,null,null,null,null,null,null,null,null,null,null,null,0,{"$f":"AVERAGE(#REF!)","v":{"$error":"#REF!"}},-0.20200000000000001,0.18800000000000003,-0.16400000000000001,-1.6780000000000002,-0.41,9.9400000000000013,6.6659999999999961E-4,-2.6667999999999996E-3,-2.2199999999999998E-4]
[null,null,null,null,null,null,null,null,null,null,null,null,null,null,null,null,null,null,null,null,null,null,null,null,null,null,null,null,0,{"$f":"AVERAGE(#REF!)","v":{"$error":"#REF!"}},-0.24200000000000005,8.5999999999999993E-2,-0.25600000000000001,-1.6199999999999999,-0.254,10.106,-3.1110000000000001E-3,-3.3334000000000003E-3,-8.8900000000000003E-4]
[null,null,null,null,null,null,null,null,null,null,null,null,null,null,null,null,null,null,null,null,null,null,null,null,null,null,null,null,0,{"$f":"AVERAGE(#REF!)","v":{"$error":"#REF!"}},-0.12999999999999998,7.5999999999999984E-2,-0.32600000000000001,-1.5720000000000001,-0.33199999999999996,9.9420000000000019,5.1111999999999998E-3,-9.7776000000000009E-3,2.222E-3]
[null,null,null,null,null,null,null,null,null,null,null,null,null,null,null,null,null,null,null,null,null,null,null,null,null,null,null,null,{"$f":"(1609.34/3600)*Delta_Speed","v":0},{"$f":"AVERAGE(#REF!)","v":{"$error":"#REF!"}},-0.14199999999999999,3.9999999999999994E-2,-2.4E-2,-1.6539999999999999,-0.27799999999999997,9.9039999999999999,3.1110000000000001E-3,-8.4446E-3,2.2199999999999998E-4]
[null,null,null,null,null,null,null,null,null,null,null,null,null,null,null,null,null,null,null,null,null,null,null,null,null,null,null,null,0,{"$f":"AVERAGE(#REF!)","v":{"$error":"#REF!"}},-0.12799999999999997,-8.6000000000000007E-2,-3.7999999999999999E-2,-1.6919999999999997,-0.46599999999999991,9.9220000000000006,6.2221999999999998E-3,-1.5555999999999994E-3,2.4444000000000002E-3]
[null,null,null,null,null,null,null,null,null,null,null,null,null,null,null,null,null,null,null,null,null,null,null,null,null,null,null,null,0,{"$f":"AVERAGE(#REF!)","v":{"$error":"#REF!"}},0.14199999999999999,-1.4000000000000002E-2,0.28599999999999998,-2.1779999999999999,-0.35,9.5499999999999989,9.3331999999999998E-3,3.5556000000000003E-3,2.4444000000000002E-3]
[null,null,null,null,null,null,null,null,null,null,null,null,null,null,null,null,null,null,null,null,null,null,null,null,null,null,null,null,0,{"$f":"AVERAGE(#REF!)","v":{"$error":"#REF!"}},0.17600000000000005,-9.2000000000000012E-2,0.43000000000000005,-1.8980000000000001,-0.30200000000000005,9.92,3.1111999999999997E-3,-8.8880000000000003E-4,-6.6660000000000005E-4]
[null,null,null,null,null,null,null,null,null,null,null,null,null,null,null,null,null,null,null,null,null,null,null,null,null,null,null,null,0,{"$f":"AVERAGE(#REF!)","v":{"$error":"#REF!"}},-0.24199999999999999,6.0000000000000001E-3,3.4000000000000016E-2,-1.7380000000000002,-0.38600000000000001,9.8979999999999997,-2.6222200000000001E-2,-6.6666E-3,-5.1112000000000006E-3]
[null,null,null,null,null,null,null,null,null,null,null,null,null,null,null,null,null,null,null,null,null,null,null,null,null,null,null,null,0,{"$f":"AVERAGE(#REF!)","v":{"$error":"#REF!"}},-0.12399999999999997,4.8000000000000022E-2,-0.13600000000000001,-1.95,-0.33999999999999997,9.4860000000000007,3.1555600000000003E-2,-6.6659999999999983E-4,1.7778000000000002E-3]
[null,null,null,null,null,null,null,null,null,null,null,null,null,null,null,null,null,null,null,null,null,null,null,null,null,null,null,null,0,{"$f":"AVERAGE(#REF!)","v":{"$error":"#REF!"}},6.1999999999999965E-2,-0.192,6.5999999999999989E-2,-1.762,-0.56200000000000006,9.6860000000000017,-4.02222E-2,1.1111999999999997E-3,-5.7777999999999996E-3]
[null,null,null,null,null,null,null,null,null,null,null,null,null,null,null,null,null,null,null,null,null,null,null,null,null,null,null,null,0,{"$f":"AVERAGE(#REF!)","v":{"$error":"#REF!"}},1.8419999999999999,-0.14800000000000005,0.6120000000000001,0.15200000000000005,-0.25200000000000006,10.267999999999999,2.9111399999999999E-2,-2.9555399999999999E-2,4.1777599999999998E-2]
[null,null,null,null,null,null,null,null,null,null,null,null,null,null,null,null,null,null,null,null,null,null,null,null,null,null,null,null,0,{"$f":"AVERAGE(#REF!)","v":{"$error":"#REF!"}},2.4580000000000002,-0.73,-6.9359999999999999,0.65199999999999991,-0.69800000000000006,2.6919999999999997,1.73332E-2,7.3999800000000004E-2,3.1112000000000002E-3]
[null,null,null,null,null,null,null,null,null,null,null,null,null,null,null,null,null,null,null,null,null,null,null,null,null,null,null,null,0,{"$f":"AVERAGE(#REF!)","v":{"$error":"#REF!"}},-0.79200000000000004,-0.442,-1.5,-2.87,-9.4000000000000028E-2,8.07,2.13332E-2,-4.5333199999999997E-2,-2.3111E-2]
[null,null,null,null,null,null,null,null,null,null,null,null,null,null,null,null,null,null,null,null,null,null,null,null,null,null,null,null,0,{"$f":"AVERAGE(#REF!)","v":{"$error":"#REF!"}},-2.2120000000000002,1.9999999999999997E-2,-3.0019999999999998,-4.2560000000000002,0.246,6.58,3.4666800000000005E-2,7.7777799999999994E-2,2.0889000000000001E-2]
[null,null,null,null,null,null,null,null,null,null,null,null,null,null,null,null,null,null,null,null,null,null,null,null,null,null,null,null,0,{"$f":"AVERAGE(#REF!)","v":{"$error":"#REF!"}},-0.96200000000000008,-2.8000000000000025E-2,0.18799999999999989,-3.2679999999999998,-0.3000000000000001,9.7140000000000022,-4.9555599999999998E-2,3.9999999999999992E-3,2.2220000000000017E-4]
[null,null,null,null,null,null,null,null,null,null,null,null,null,null,null,null,null,null,null,null,null,null,null,null,null,null,null,null,0,{"$f":"AVERAGE(#REF!)","v":{"$error":"#REF!"}},-0.60399999999999998,1.1659999999999999,-0.67199999999999993,-2.9319999999999999,0.76800000000000002,8.84,-4.889000000000001E-3,-2.4443999999999972E-3,7.9333400000000012E-2]
[null,null,null,null,null,null,null,null,null,null,null,null,null,null,null,null,null,null,null,null,null,null,null,null,null,null,null,null,0,{"$f":"AVERAGE(#REF!)","v":{"$error":"#REF!"}},0.30800000000000005,-0.59399999999999997,0.92000000000000015,-1.964,-0.27400000000000002,10.452000000000002,-1.5777799999999998E-2,1.0444600000000002E-2,-7.2889000000000009E-2]
[null,null,null,null,null,null,null,null,null,null,null,null,null,null,null,null,null,null,null,null,null,null,null,null,null,null,null,null,0,{"$f":"AVERAGE(#REF!)","v":{"$error":"#REF!"}},3.2280000000000002,0.24000000000000005,0.74199999999999999,1.1140000000000001,1.2000000000000011E-2,10.309999999999999,1.1333400000000002E-2,-2.5111000000000001E-2,3.7999800000000007E-2]
[null,null,null,null,null,null,null,null,null,null,null,null,null,null,null,null,null,null,null,null,null,null,null,null,null,null,null,null,0,{"$f":"AVERAGE(#REF!)","v":{"$error":"#REF!"}},1.1620000000000001,1.3240000000000003,-1.228,-0.87800000000000011,1.0580000000000001,8.354000000000001,8.199999999999999E-2,2.5111000000000001E-2,2.64444E-2]
[null,null,null,null,null,null,null,null,null,null,null,null,null,null,null,null,null,null,null,null,null,null,null,null,null,null,null,null,0,{"$f":"AVERAGE(#REF!)","v":{"$error":"#REF!"}},-2.8740000000000001,-0.15199999999999997,-1.3919999999999999,-5.16,0.09,8.1319999999999997,1.4666400000000001E-2,3.7333199999999997E-2,-3.2444199999999999E-2]
[null,null,null,null,null,null,null,null,null,null,null,null,null,null,null,null,null,null,null,null,null,null,null,null,null,null,null,null,0,{"$f":"AVERAGE(#REF!)","v":{"$error":"#REF!"}},0.54800000000000004,0.38599999999999995,0.56399999999999983,-1.69,0.34799999999999998,10.110000000000001,-7.2222199999999986E-2,-2.5777799999999997E-2,-3.7555400000000003E-2]
[null,null,null,null,null,null,null,null,null,null,null,null,null,null,null,null,null,null,null,null,null,null,null,null,null,null,null,null,0,{"$f":"AVERAGE(#REF!)","v":{"$error":"#REF!"}},0.11200000000000002,-1.31,-2.1840000000000002,-1.9560000000000002,-0.64200000000000002,7.3740000000000006,2.06666E-2,1.31112E-2,-4.6889E-2]
[null,null,null,null,null,null,null,null,null,null,null,null,null,null,null,null,null,null,null,null,null,null,null,null,null,null,null,null,0,{"$f":"AVERAGE(#REF!)","v":{"$error":"#REF!"}},-5.599999999999998E-2,4.0000000000000063E-2,-1.5620000000000001,-2.2119999999999997,0.40199999999999997,7.9920000000000018,-6.9111199999999998E-2,2.3333399999999997E-2,-5.9777600000000007E-2]
[null,null,null,null,null,null,null,null,null,null,null,null,null,null,null,null,null,null,null,null,null,null,null,null,null,null,null,null,0,{"$f":"AVERAGE(#REF!)","v":{"$error":"#REF!"}},-0.12800000000000003,-0.42400000000000004,0.32199999999999995,-2.3879999999999999,0.11999999999999997,9.8460000000000001,-6.6666E-3,-1.4889000000000003E-2,-5.0666799999999998E-2]
[null,null,null,null,null,null,null,null,null,null,null,null,null,null,null,null,null,null,null,null,null,null,null,null,null,null,null,null,0,{"$f":"AVERAGE(#REF!)","v":{"$error":"#REF!"}},1.19,-0.31799999999999995,3.5800000000000005,-1.1499999999999999,3.3999999999999989E-2,13.096,1.26666E-2,-4.7555599999999996E-2,-1.6666799999999999E-2]
[null,null,null,null,null,null,null,null,null,null,null,null,null,null,null,null,null,null,null,null,null,null,null,null,null,null,null,null,0,{"$f":"AVERAGE(#REF!)","v":{"$error":"#REF!"}},-1.0760000000000001,-9.0000000000000038E-2,-0.254,-3.4840000000000004,0.69,9.2119999999999997,3.1777600000000003E-2,2.7778000000000004E-2,-3.2889000000000002E-2]
[null,null,null,null,null,null,null,null,null,null,null,null,null,null,null,null,null,null,null,null,null,null,null,null,null,null,null,null,0,{"$f":"AVERAGE(#REF!)","v":{"$error":"#REF!"}},0.92199999999999993,-0.64200000000000002,0.88800000000000012,-1.528,-4.9999999999999975E-2,10.362,8.2220000000000019E-3,6.4222199999999993E-2,-2.4222200000000003E-2]
[null,null,null,null,null,null,null,null,null,null,null,null,null,null,null,null,null,null,null,null,null,null,null,null,null,null,null,null,0,{"$f":"AVERAGE(#REF!)","v":{"$error":"#REF!"}},0.24200000000000005,1.45,0.85,-2.1079999999999997,0.69799999999999995,10.338000000000001,-7.1555600000000011E-2,-4.5555599999999995E-2,8.4446E-3]
[null,null,null,null,null,null,null,null,null,null,null,null,null,null,null,null,null,null,null,null,null,null,null,null,null,null,null,null,0,{"$f":"AVERAGE(#REF!)","v":{"$error":"#REF!"}},-0.44800000000000006,1.548,0.14999999999999983,-2.7280000000000002,9.6000000000000016E-2,9.57,-6.3999800000000009E-2,-4.7333400000000005E-2,4.4000200000000003E-2]
[null,null,null,null,null,null,null,null,null,null,null,null,null,null,null,null,null,null,null,null,null,null,null,null,null,null,null,null,0,{"$f":"AVERAGE(#REF!)","v":{"$error":"#REF!"}},-1.4460000000000002,1.8640000000000001,0.16000000000000003,-3.694,-0.188,9.4759999999999991,5.7777999999999987E-3,-1.3110999999999998E-2,0.1035556]
[null,null,null,null,null,null,null,null,null,null,null,null,null,null,null,null,null,null,null,null,null,null,null,null,null,null,null,null,0,{"$f":"AVERAGE(#REF!)","v":{"$error":"#REF!"}},-0.21799999999999997,1.8439999999999999,0.68600000000000005,-2.4460000000000002,0.17800000000000002,10.082000000000001,-1.8666599999999998E-2,-1.5333400000000001E-2,7.1777799999999989E-2]
[null,null,null,null,null,null,null,null,null,null,null,null,null,null,null,null,null,null,null,null,null,null,null,null,null,null,null,null,0,{"$f":"AVERAGE(#REF!)","v":{"$error":"#REF!"}},-0.94800000000000006,1.714,-0.42600000000000005,-3.0739999999999998,-0.36599999999999994,7.0520000000000014,-4.5555600000000002E-2,-4.2666800000000005E-2,8.0222199999999994E-2]
[null,null,null,null,null,null,null,null,null,null,null,null,null,null,null,null,null,null,null,null,null,null,null,null,null,null,null,null,0,{"$f":"AVERAGE(#REF!)","v":{"$error":"#REF!"}},-7.1999999999999995E-2,1.9339999999999999,1.1739999999999999,-2.09,-0.8899999999999999,10.273999999999999,-3.9555600000000003E-2,4.2888999999999997E-2,4.8444400000000006E-2]
[null,null,null,null,null,null,null,null,null,null,null,null,null,null,null,null,null,null,null,null,null,null,null,null,null,null,null,null,0,{"$f":"AVERAGE(#REF!)","v":{"$error":"#REF!"}},-0.438,1.3079999999999998,-0.52800000000000002,-2.8740000000000001,0.10600000000000001,10.562000000000001,-5.8888799999999998E-2,-4.8887999999999987E-3,5.28888E-2]
[null,null,null,null,null,null,null,null,null,null,null,null,null,null,null,null,null,null,null,null,null,null,null,null,null,null,null,null,0,{"$f":"AVERAGE(#REF!)","v":{"$error":"#REF!"}},1.0739999999999998,1.8320000000000001,1.288,-2.4459999999999997,-0.22799999999999998,10.678000000000001,-0.26288900000000004,-2.0222199999999999E-2,-1.8222200000000001E-2]
[null,null,null,null,null,null,null,null,null,null,null,null,null,null,null,null,null,null,null,null,null,null,null,null,null,null,null,null,0,{"$f":"AVERAGE(#REF!)","v":{"$error":"#REF!"}},0.32400000000000007,2.5659999999999998,-0.7400000000000001,-2.8980000000000001,-0.90399999999999991,7.581999999999999,9.8222000000000004E-2,8.8899999999999938E-4,0.1453334]
[null,null,null,null,null,null,null,null,null,null,null,null,null,null,null,null,null,null,null,null,null,null,null,null,null,null,null,null,0,{"$f":"AVERAGE(#REF!)","v":{"$error":"#REF!"}},0.12000000000000002,1.4159999999999999,2.6459999999999999,-2.0799999999999996,0.48399999999999999,10.321999999999999,-6.6666599999999993E-2,4.4439999999999757E-4,9.5555600000000004E-2]
[null,null,null,null,null,null,null,null,null,null,null,null,null,null,null,null,null,null,null,null,null,null,null,null,null,null,null,null,0,{"$f":"AVERAGE(#REF!)","v":{"$error":"#REF!"}},0.47200000000000009,2.41,0.29399999999999998,-1.7260000000000002,-1.0680000000000001,12.257999999999999,1.0888800000000001E-2,-4.4222200000000003E-2,0.10244439999999999]
[null,null,null,null,null,null,null,null,null,null,null,null,null,null,null,null,null,null,null,null,null,null,null,null,null,null,null,null,0,{"$f":"AVERAGE(#REF!)","v":{"$error":"#REF!"}},0.16200000000000009,2.4220000000000002,-1.2880000000000003,-2.5140000000000002,0.16,7.8639999999999999,-0.1975558,-1.1110799999999999E-2,3.8000199999999998E-2]
[null,null,null,null,null,null,null,null,null,null,null,null,null,null,null,null,null,null,null,null,null,null,null,null,null,null,null,null,0,{"$f":"AVERAGE(#REF!)","v":{"$error":"#REF!"}},0.73,1.4059999999999999,-0.122,-1.9519999999999995,-0.36199999999999999,9.1359999999999992,-4.8888999999999995E-2,-1.53332E-2,8.2666799999999999E-2]
[null,null,null,null,null,null,null,null,null,null,null,null,null,null,null,null,null,null,null,null,null,null,null,null,null,null,null,null,0,{"$f":"AVERAGE(#REF!)","v":{"$error":"#REF!"}},-0.91000000000000014,1.6460000000000001,-1.53,-3.5559999999999996,-0.28599999999999998,7.702,3.5111000000000003E-2,-2.4444000000000007E-3,0.10266659999999998]
[null,null,null,null,null,null,null,null,null,null,null,null,null,null,null,null,null,null,null,null,null,null,null,null,null,null,null,null,0,{"$f":"AVERAGE(#REF!)","v":{"$error":"#REF!"}},-9.6000000000000016E-2,1.1519999999999999,0.67600000000000005,-2.7380000000000004,-0.752,9.9220000000000006,1.0222400000000001E-2,-1.0666600000000002E-2,0.11222219999999998]
[null,null,null,null,null,null,null,null,null,null,null,null,null,null,null,null,null,null,null,null,null,null,null,null,null,null,null,null,0,{"$f":"AVERAGE(#REF!)","v":{"$error":"#REF!"}},1.0580000000000003,1.484,2.1739999999999999,-1.5840000000000001,-0.16199999999999998,11.47,3.2222199999999999E-2,-2.3555599999999999E-2,0.1146668]
[null,null,null,null,null,null,null,null,null,null,null,null,null,null,null,null,null,null,null,null,null,null,null,null,null,null,null,null,0,{"$f":"AVERAGE(#REF!)","v":{"$error":"#REF!"}},0.33200000000000013,1.9359999999999999,1.3019999999999996,-2.2359999999999998,0.29799999999999993,10.616000000000001,6.6660000000000016E-4,-1.1111000000000001E-2,0.11711099999999999]
[null,null,null,null,null,null,null,null,null,null,null,null,null,null,null,null,null,null,null,null,null,null,null,null,null,null,null,null,0,{"$f":"AVERAGE(#REF!)","v":{"$error":"#REF!"}},1.2720000000000002,0.94000000000000006,2.0639999999999996,-1.2900000000000003,-0.51400000000000001,11.412000000000001,1.6889000000000001E-2,-4.3999999999999997E-2,0.10955540000000001]
[null,null,null,null,null,null,null,null,null,null,null,null,null,null,null,null,null,null,null,null,null,null,null,null,null,null,null,null,0,{"$f":"AVERAGE(#REF!)","v":{"$error":"#REF!"}},0.57799999999999996,-0.82599999999999996,-1.75,-2.052,-0.83000000000000007,7.6519999999999992,-1.1306666000000001,0.10666679999999999,-0.31266680000000002]
[null,null,null,null,null,null,null,null,null,null,null,null,null,null,null,null,null,null,null,null,null,null,null,null,null,null,null,null,0,{"$f":"AVERAGE(#REF!)","v":{"$error":"#REF!"}},0.11800000000000002,-1.2319999999999998,-1.0980000000000001,-2.3380000000000001,-0.35199999999999998,8.35,-0.12622220000000001,4.1333399999999999E-2,-7.2222200000000014E-2]
[null,null,null,null,null,null,null,null,null,null,null,null,null,null,null,null,null,null,null,null,null,null,null,null,null,null,null,null,0,{"$f":"AVERAGE(#REF!)","v":{"$error":"#REF!"}},0.43000000000000005,-0.27599999999999997,2.0680000000000001,-2,0.25999999999999995,11.547999999999998,6.9555800000000001E-2,-3.8222399999999997E-2,2.0888799999999999E-2]
[null,null,null,null,null,null,null,null,null,null,null,null,null,null,null,null,null,null,null,null,null,null,null,null,null,null,null,null,0,{"$f":"AVERAGE(#REF!)","v":{"$error":"#REF!"}},0.52799999999999991,-1.8560000000000003,0.31799999999999995,-1.8160000000000001,-0.28000000000000003,9.6959999999999997,0.16511119999999999,-2.5777600000000001E-2,8.8889999999999993E-3]
[null,null,null,null,null,null,null,null,null,null,null,null,null,null,null,null,null,null,null,null,null,null,null,null,null,null,null,null,0,{"$f":"AVERAGE(#REF!)","v":{"$error":"#REF!"}},0.45600000000000007,-1.7600000000000002,1.738,-1.6,0.98199999999999998,10.917999999999999,-7.3333999999999995E-3,-5.3110999999999998E-2,-0.10688880000000001]
[null,null,null,null,null,null,null,null,null,null,null,null,null,null,null,null,null,null,null,null,null,null,null,null,null,null,null,null,0,{"$f":"AVERAGE(#REF!)","v":{"$error":"#REF!"}},0.6319999999999999,-1.5960000000000001,2.1559999999999997,-1.518,1.2280000000000002,11.296000000000001,3.4222200000000001E-2,-3.3555399999999999E-2,-0.1133332]
[null,null,null,null,null,null,null,null,null,null,null,null,null,null,null,null,null,null,null,null,null,null,null,null,null,null,null,null,0,{"$f":"AVERAGE(#REF!)","v":{"$error":"#REF!"}},-1.1839999999999999,-1.8080000000000003,0.38,-2.3239999999999998,-0.65799999999999992,10.989999999999998,-6.4222199999999993E-2,-2.4222399999999998E-2,-0.1177778]
[null,null,null,null,null,null,null,null,null,null,null,null,null,null,null,null,null,null,null,null,null,null,null,null,null,null,null,null,0,{"$f":"AVERAGE(#REF!)","v":{"$error":"#REF!"}},-0.502,-1.302,-0.39599999999999996,-3.2479999999999998,0.16999999999999998,9.6879999999999988,-4.5555400000000003E-2,-1.02224E-2,-0.11155560000000002]
[null,null,null,null,null,null,null,null,null,null,null,null,null,null,null,null,null,null,null,null,null,null,null,null,null,null,null,null,0,{"$f":"AVERAGE(#REF!)","v":{"$error":"#REF!"}},-0.84800000000000009,-2.028,-0.79600000000000004,-3.4120000000000004,-0.14799999999999999,10.246,-0.11844440000000001,2.8892000000000002E-3,-8.4000000000000005E-2]
[null,null,null,null,null,null,null,null,null,null,null,null,null,null,null,null,null,null,null,null,null,null,null,null,null,null,null,null,0,{"$f":"AVERAGE(#REF!)","v":{"$error":"#REF!"}},0.17600000000000007,0.28599999999999998,-1.4019999999999999,-2.0380000000000003,0.39400000000000002,8.1440000000000001,-1.5111400000000001E-2,-1.1333000000000001E-2,1.1778E-2]
[null,null,null,null,null,null,null,null,null,null,null,null,null,null,null,null,null,null,null,null,null,null,null,null,null,null,null,null,0,{"$f":"AVERAGE(#REF!)","v":{"$error":"#REF!"}},0.41399999999999998,-0.246,0.29199999999999998,-1.8180000000000001,-0.05,9.8339999999999996,4.5999999999999999E-2,3.0888800000000001E-2,1.8221999999999999E-2]
[null,null,null,null,null,null,null,null,null,null,null,null,null,null,null,null,null,null,null,null,null,null,null,null,null,null,null,null,0,{"$f":"AVERAGE(#REF!)","v":{"$error":"#REF!"}},0.22399999999999992,-0.36399999999999999,-0.21800000000000003,-2.1260000000000003,6.0000000000000032E-2,9.2880000000000003,5.8666800000000005E-2,-1.6444600000000004E-2,8.4443999999999995E-3]
[null,null,null,null,null,null,null,null,null,null,null,null,null,null,null,null,null,null,null,null,null,null,null,null,null,null,null,null,0,{"$f":"AVERAGE(#REF!)","v":{"$error":"#REF!"}},-0.4920000000000001,-0.60199999999999998,0.78999999999999992,-2.8239999999999998,0.42200000000000004,10.251999999999999,0.19044459999999999,-4.9111000000000002E-2,4.59998E-2]
[null,null,null,null,null,null,null,null,null,null,null,null,null,null,null,null,null,null,null,null,null,null,null,null,null,null,null,null,0,{"$f":"AVERAGE(#REF!)","v":{"$error":"#REF!"}},1.034,-5.984,4.7720000000000002,-0.47799999999999992,-0.6359999999999999,12.847999999999999,-7.5556E-3,-0.33911119999999995,-0.48266660000000006]
[null,null,null,null,null,null,null,null,null,null,null,null,null,null,null,null,null,null,null,null,null,null,null,null,null,null,null,null,0,{"$f":"AVERAGE(#REF!)","v":{"$error":"#REF!"}},2.1740000000000004,-5.056,3.3180000000000001,0.74,-0.18,11.7,-9.8444799999999999E-2,-0.23111099999999998,-0.40200019999999997]
[null,null,null,null,null,null,null,null,null,null,null,null,null,null,null,null,null,null,null,null,null,null,null,null,null,null,null,null,0,{"$f":"AVERAGE(#REF!)","v":{"$error":"#REF!"}},-0.19199999999999995,0.72600000000000009,1.5400000000000003,-2.5920000000000001,-0.67200000000000004,10.937999999999999,-0.17511099999999999,1.3777599999999997E-2,5.9333199999999996E-2]
[null,null,null,null,null,null,null,null,null,null,null,null,null,null,null,null,null,null,null,null,null,null,null,null,null,null,null,null,0,{"$f":"AVERAGE(#REF!)","v":{"$error":"#REF!"}},-0.93799999999999994,-0.53800000000000003,4.7999999999999973E-2,-3.226,0.17400000000000002,9.5500000000000007,0.31577759999999999,-3.7111000000000005E-2,1.6888999999999998E-2]
[null,null,null,null,null,null,null,null,null,null,null,null,null,null,null,null,null,null,null,null,null,null,null,null,null,null,null,null,0,{"$f":"AVERAGE(#REF!)","v":{"$error":"#REF!"}},0.48399999999999999,-0.29199999999999998,0.29199999999999998,-1.85,-0.16400000000000001,9.8079999999999998,-0.1015554,1.0222200000000002E-2,-3.5777800000000005E-2]
[null,null,null,null,null,null,null,null,null,null,null,null,null,null,null,null,null,null,null,null,null,null,null,null,null,null,null,null,0,{"$f":"AVERAGE(#REF!)","v":{"$error":"#REF!"}},-1.0820000000000001,0.42200000000000004,-1.58,-3.4799999999999995,0.372,7.92,-2.5555600000000001E-2,4.5333400000000003E-2,1.0222E-2]
[null,null,null,null,null,null,null,null,null,null,null,null,null,null,null,null,null,null,null,null,null,null,null,null,null,null,null,null,0,{"$f":"AVERAGE(#REF!)","v":{"$error":"#REF!"}},-0.32400000000000007,-0.12199999999999996,-0.53599999999999992,-2.754,-0.38,8.9520000000000017,-0.34199999999999997,4.1111000000000002E-2,-0.14577780000000001]
[null,null,null,null,null,null,null,null,null,null,null,null,null,null,null,null,null,null,null,null,null,null,null,null,null,null,null,null,0,{"$f":"AVERAGE(#REF!)","v":{"$error":"#REF!"}},-1.3919999999999999,0.21600000000000003,2.222,-3.9379999999999997,0.41199999999999992,11.691999999999998,-3.0666800000000001E-2,-2.444400000000002E-3,-2.0444400000000001E-2]
[null,null,null,null,null,null,null,null,null,null,null,null,null,null,null,null,null,null,null,null,null,null,null,null,null,null,null,null,0,{"$f":"AVERAGE(#REF!)","v":{"$error":"#REF!"}},-1.982,-0.33799999999999997,-2.1120000000000001,-4.58,-0.21399999999999997,7.3360000000000003,1.7333400000000002E-2,-1.0666800000000001E-2,8.4446E-3]
[null,null,null,null,null,null,null,null,null,null,null,null,null,null,null,null,null,null,null,null,null,null,null,null,null,null,null,null,0,{"$f":"AVERAGE(#REF!)","v":{"$error":"#REF!"}},-0.95,0.28399999999999992,0.23800000000000007,-3.44,0.39,9.718,-1.4222199999999999E-2,-8.0000000000000019E-3,-1.0888800000000001E-2]
[null,null,null,null,null,null,null,null,null,null,null,null,null,null,null,null,null,null,null,null,null,null,null,null,null,null,null,null,0,{"$f":"AVERAGE(#REF!)","v":{"$error":"#REF!"}},-1,0.63400000000000001,0.2679999999999999,-3.496,0.68799999999999994,9.7460000000000004,-9.5554000000000004E-3,1.7333400000000002E-2,-5.1112000000000006E-3]
[null,null,null,null,null,null,null,null,null,null,null,null,null,null,null,null,null,null,null,null,null,null,null,null,null,null,null,null,0,{"$f":"AVERAGE(#REF!)","v":{"$error":"#REF!"}},-1.7560000000000002,0.66600000000000004,0.79999999999999993,-4.5200000000000005,0.74599999999999989,9.6080000000000005,4.7999800000000002E-2,2.2222000000000019E-3,4.4222200000000003E-2]
[null,null,null,null,null,null,null,null,null,null,null,null,null,null,null,null,null,null,null,null,null,null,null,null,null,null,null,null,0,{"$f":"AVERAGE(#REF!)","v":{"$error":"#REF!"}},-1.052,-1.399999999999999E-2,-0.22800000000000004,-3.7119999999999997,-0.10600000000000001,9.2880000000000003,1.4888999999999999E-2,-8.8880000000000068E-4,4.6666600000000003E-2]
[null,null,null,null,null,null,null,null,null,null,null,null,null,null,null,null,null,null,null,null,null,null,null,null,null,null,null,null,0,{"$f":"AVERAGE(#REF!)","v":{"$error":"#REF!"}},-1.0660000000000001,0.10199999999999998,-0.57400000000000007,-3.1619999999999999,0.14599999999999999,9.77,-2.3111E-2,-3.7778000000000004E-3,2.3333200000000002E-2]
[null,null,null,null,null,null,null,null,null,null,null,null,null,null,null,null,null,null,null,null,null,null,null,null,null,null,null,null,0,{"$f":"AVERAGE(#REF!)","v":{"$error":"#REF!"}},-1.0559999999999998,1.2E-2,-0.21600000000000003,-3.5700000000000003,0.26,9.2519999999999989,0.05,-4.48888E-2,-1.64446E-2]
[null,null,null,null,null,null,null,null,null,null,null,null,null,null,null,null,null,null,null,null,null,null,null,null,null,null,null,null,0,{"$f":"AVERAGE(#REF!)","v":{"$error":"#REF!"}},-0.97599999999999998,0.24000000000000005,-0.30199999999999994,-3.1320000000000001,0.78,9.59,-4.9111200000000008E-2,-4.2888599999999999E-2,-1.3333199999999998E-2]
[null,null,null,null,null,null,null,null,null,null,null,null,null,null,null,null,null,null,null,null,null,null,null,null,null,null,null,null,0,{"$f":"AVERAGE(#REF!)","v":{"$error":"#REF!"}},-0.14200000000000002,2.0000000000000044E-3,0.12199999999999996,-2.6640000000000001,0.376,9.4740000000000002,-9.5556000000000009E-3,-1.5556000000000001E-3,-6.6680000000000005E-4]
[null,null,null,null,null,null,null,null,null,null,null,null,null,null,null,null,null,null,null,null,null,null,null,null,null,null,null,null,{"$f":"(1609.34/3600)*Delta_Speed","v":0},{"$f":"AVERAGE(#REF!)","v":{"$error":"#REF!"}},-0.42800000000000005,7.5999999999999998E-2,-0.41,-2.718,0.40800000000000003,9.1080000000000005,-4.0000000000000001E-3,-6.8889999999999993E-3,-8.8880000000000003E-4]
[null,null,null,null,null,null,null,null,null,null,null,null,null,null,null,null,null,null,null,null,null,null,null,null,null,null,null,null,0,{"$f":"AVERAGE(#REF!)","v":{"$error":"#REF!"}},-0.69000000000000006,-8.3999999999999991E-2,-0.80199999999999994,-2.9979999999999998,0.21000000000000002,8.718,9.7777999999999997E-3,5.7778000000000013E-3,3.1110000000000001E-3]
[null,null,null,null,null,null,null,null,null,null,null,null,null,null,null,null,null,null,null,null,null,null,null,null,null,null,null,null,0,{"$f":"AVERAGE(#REF!)","v":{"$error":"#REF!"}},-0.16999999999999998,1.3999999999999995E-2,-5.1999999999999956E-2,-2.4539999999999997,0.39200000000000002,9.4719999999999995,3.9111199999999999E-2,-0.02,5.7778000000000005E-3]
[null,null,null,null,null,null,null,null,null,null,null,null,null,null,null,null,null,null,null,null,null,null,null,null,null,null,null,null,0,{"$f":"AVERAGE(#REF!)","v":{"$error":"#REF!"}},0.32,0.14399999999999999,-0.32400000000000001,-1.9580000000000002,0.29399999999999998,9.2039999999999988,3.5110999999999996E-2,-2.6665999999999999E-3,9.3334000000000021E-3]
[null,null,null,null,null,null,null,null,null,null,null,null,null,null,null,null,null,null,null,null,null,null,null,null,null,null,null,null,0,{"$f":"AVERAGE(#REF!)","v":{"$error":"#REF!"}},1.7880000000000003,-0.69000000000000006,0.7,-0.46000000000000008,-0.59800000000000009,10.238000000000001,-7.6444600000000001E-2,-1.3333399999999999E-2,-8.311099999999999E-2]
[null,null,null,null,null,null,null,null,null,null,null,null,null,null,null,null,null,null,null,null,null,null,null,null,null,null,null,null,0,{"$f":"AVERAGE(#REF!)","v":{"$error":"#REF!"}},1.98,2.1999999999999999E-2,1.3080000000000001,-0.27599999999999997,-0.158,10.846,-6.8444600000000008E-2,-1.64446E-2,8.8666600000000012E-2]
[null,null,null,null,null,null,null,null,null,null,null,null,null,null,null,null,null,null,null,null,null,null,null,null,null,null,null,null,0,{"$f":"AVERAGE(#REF!)","v":{"$error":"#REF!"}},0.97799999999999998,0.33799999999999997,-1.0099999999999998,-1.2579999999999998,0.55800000000000005,8.5259999999999998,7.3332000000000007E-3,1.51112E-2,-1.9111200000000002E-2]
[null,null,null,null,null,null,null,null,null,null,null,null,null,null,null,null,null,null,null,null,null,null,null,null,null,null,null,null,0,{"$f":"AVERAGE(#REF!)","v":{"$error":"#REF!"}},1.232,-0.22000000000000003,0.52800000000000002,-1.0399999999999998,-0.23400000000000004,10.064000000000002,-2.2219999999999982E-4,-5.1111999999999989E-3,6.0000000000000001E-3]
[null,null,null,null,null,null,null,null,null,null,null,null,null,null,null,null,null,null,null,null,null,null,null,null,null,null,null,null,0,{"$f":"AVERAGE(#REF!)","v":{"$error":"#REF!"}},0.504,-0.41399999999999998,-0.12199999999999993,-1.7879999999999998,-0.308,9.4080000000000013,-6.4446E-3,1.6444400000000001E-2,-7.5553999999999994E-3]
[null,null,null,null,null,null,null,null,null,null,null,null,null,null,null,null,null,null,null,null,null,null,null,null,null,null,null,null,0,{"$f":"AVERAGE(#REF!)","v":{"$error":"#REF!"}},-0.26200000000000001,-9.8000000000000004E-2,0.44000000000000006,-2.5699999999999994,-3.0000000000000034E-2,9.9699999999999989,-1.4666799999999999E-2,1.6444599999999997E-2,-8.8887999999999988E-3]
[null,null,null,null,null,null,null,null,null,null,null,null,null,null,null,null,null,null,null,null,null,null,null,null,null,null,null,null,0,{"$f":"AVERAGE(#REF!)","v":{"$error":"#REF!"}},-0.10800000000000001,-0.34400000000000003,-2.1999999999999929E-2,-2.4320000000000004,-0.36199999999999999,9.5,6.8888000000000005E-3,1.3332000000000003E-3,9.3332000000000016E-3]
[null,null,null,null,null,null,null,null,null,null,null,null,null,null,null,null,null,null,null,null,null,null,null,null,null,null,null,null,0,{"$f":"AVERAGE(#REF!)","v":{"$error":"#REF!"}},0.15599999999999997,-3.8000000000000075E-2,1.23,-2.1339999999999999,-8.199999999999999E-2,10.763999999999999,-6.8892000000000007E-3,-1.7778000000000008E-3,4.6665999999999999E-3]
[null,null,null,null,null,null,null,null,null,null,null,null,null,null,null,null,null,null,null,null,null,null,null,null,null,null,null,null,0,{"$f":"AVERAGE(#REF!)","v":{"$error":"#REF!"}},-0.27999999999999997,3.4000000000000009E-2,0.86199999999999988,-2.5819999999999999,-8.0000000000000071E-3,10.391999999999999,-1.4888799999999999E-2,-1.2889000000000001E-2,3.3332000000000001E-3]
[null,null,null,null,null,null,null,null,null,null,null,null,null,null,null,null,null,null,null,null,null,null,null,null,null,null,null,null,0,{"$f":"AVERAGE(#REF!)","v":{"$error":"#REF!"}},-0.186,5.9999999999999963E-2,-1.3119999999999998,-2.6079999999999997,0.59599999999999997,9.4559999999999995,-1.55554E-2,-3.42224E-2,-7.1109999999999993E-3]
[null,null,null,null,null,null,null,null,null,null,null,null,null,null,null,null,null,null,null,null,null,null,null,null,null,null,null,null,0,{"$f":"AVERAGE(#REF!)","v":{"$error":"#REF!"}},0.30199999999999988,0.2599999999999999,0.18200000000000022,-3.5340000000000003,-0.66800000000000004,7.9060000000000006,-4.1333400000000006E-2,2.0222200000000003E-2,-3.3333999999999994E-3]
[null,null,null,null,null,null,null,null,null,null,null,null,null,null,null,null,null,null,null,null,null,null,null,null,null,null,null,null,0,{"$f":"AVERAGE(#REF!)","v":{"$error":"#REF!"}},-5.2000000000000025E-2,-0.12,-0.28000000000000008,-3.0100000000000002,-1.0000000000000031E-2,7.7840000000000007,5.1108000000000013E-3,1.8666600000000002E-2,-9.3334000000000004E-3]
[null,null,null,null,null,null,null,null,null,null,null,null,null,null,null,null,null,null,null,null,null,null,null,null,null,null,null,null,0,{"$f":"AVERAGE(#REF!)","v":{"$error":"#REF!"}},0.25800000000000001,0.84600000000000009,-1.3,-2.0760000000000001,-0.20400000000000001,9.9480000000000004,1.2222199999999999E-2,-1.2444399999999998E-2,2.5333399999999999E-2]
[null,null,null,null,null,null,null,null,null,null,null,null,null,null,null,null,null,null,null,null,null,null,null,null,null,null,null,null,0,{"$f":"AVERAGE(#REF!)","v":{"$error":"#REF!"}},0.69600000000000017,-0.5,2.8220000000000001,-1.502,-0.372,12.376000000000001,-1.6666599999999997E-2,2.2240000000000036E-4,-2.4444399999999998E-2]
[null,null,null,null,null,null,null,null,null,null,null,null,null,null,null,null,null,null,null,null,null,null,null,null,null,null,null,null,0,{"$f":"AVERAGE(#REF!)","v":{"$error":"#REF!"}},-0.40399999999999991,0.66799999999999993,0.2619999999999999,-2.7019999999999995,0.49199999999999999,9.7900000000000009,-1.28892E-2,1.3555599999999998E-2,1.6889000000000001E-2]
[null,null,null,null,null,null,null,null,null,null,null,null,null,null,null,null,null,null,null,null,null,null,null,null,null,null,null,null,0,{"$f":"AVERAGE(#REF!)","v":{"$error":"#REF!"}},2.6320000000000001,-0.41600000000000004,0.55599999999999983,0.40800000000000003,-0.55199999999999994,10.102,-1.9999800000000002E-2,2.4444399999999995E-2,-8.2220000000000001E-3]
[null,null,null,null,null,null,null,null,null,null,null,null,null,null,null,null,null,null,null,null,null,null,null,null,null,null,null,null,0,{"$f":"AVERAGE(#REF!)","v":{"$error":"#REF!"}},-0.60199999999999998,0.16400000000000003,-0.19800000000000001,-2.8959999999999999,0.10199999999999998,9.33,1.6E-2,2.8888000000000013E-3,1.3111199999999998E-2]
[null,null,null,null,null,null,null,null,null,null,null,null,null,null,null,null,null,null,null,null,null,null,null,null,null,null,null,null,0,{"$f":"AVERAGE(#REF!)","v":{"$error":"#REF!"}},-1.1579999999999999,1.276,-1.1320000000000001,-3.4259999999999997,1.1280000000000001,8.4019999999999992,1.77778E-2,2.7333200000000002E-2,3.02224E-2]
[null,null,null,null,null,null,null,null,null,null,null,null,null,null,null,null,null,null,null,null,null,null,null,null,null,null,null,null,0,{"$f":"AVERAGE(#REF!)","v":{"$error":"#REF!"}},-0.23199999999999998,-0.21600000000000003,1.6239999999999999,-2.5640000000000001,-0.25399999999999995,11.145999999999997,-3.8444599999999995E-2,-1.4666799999999997E-2,-4.3555599999999993E-2]
[null,null,null,null,null,null,null,null,null,null,null,null,null,null,null,null,null,null,null,null,null,null,null,null,null,null,null,null,0,{"$f":"AVERAGE(#REF!)","v":{"$error":"#REF!"}},0.45400000000000007,0.41400000000000003,3.66,-1.7879999999999998,-0.11400000000000002,13.193999999999999,-0.17911100000000002,-3.2222199999999993E-2,-5.5555599999999997E-2]
[null,null,null,null,null,null,null,null,null,null,null,null,null,null,null,null,null,null,null,null,null,null,null,null,null,null,null,null,0,{"$f":"AVERAGE(#REF!)","v":{"$error":"#REF!"}},-2.5200000000000005,0.35799999999999998,0.58200000000000007,-4.7939999999999996,-0.48599999999999993,10.077999999999999,-0.27022220000000002,2.4444399999999998E-2,-7.3111200000000001E-2]
[null,null,null,null,null,null,null,null,null,null,null,null,null,null,null,null,null,null,null,null,null,null,null,null,null,null,null,null,0,{"$f":"AVERAGE(#REF!)","v":{"$error":"#REF!"}},2.8740000000000001,1.748,2.0199999999999996,1.6000000000000104E-2,-1.1779999999999999,10.925999999999998,-0.17088900000000001,3.7110999999999998E-2,0.16155559999999997]
[null,null,null,null,null,null,null,null,null,null,null,null,null,null,null,null,null,null,null,null,null,null,null,null,null,null,null,null,0,{"$f":"AVERAGE(#REF!)","v":{"$error":"#REF!"}},1.8720000000000003,1.042,1.3680000000000001,-0.94999999999999984,-1.1080000000000001,10.506000000000002,1.9999999999999992E-3,-4.3555200000000002E-2,0.17288899999999999]
[null,null,null,null,null,null,null,null,null,null,null,null,null,null,null,null,null,null,null,null,null,null,null,null,null,null,null,null,0,{"$f":"AVERAGE(#REF!)","v":{"$error":"#REF!"}},0.13999999999999999,1.504,-0.57800000000000018,-2.5140000000000002,0.47199999999999998,8.8000000000000007,3.8222199999999998E-2,1.84444E-2,7.8666399999999997E-2]
[null,null,null,null,null,null,null,null,null,null,null,null,null,null,null,null,null,null,null,null,null,null,null,null,null,null,null,null,0,{"$f":"AVERAGE(#REF!)","v":{"$error":"#REF!"}},0.50800000000000001,1.476,0.18000000000000002,-2.1740000000000004,0.49399999999999994,9.5539999999999985,-1.5555600000000003E-2,1.15554E-2,3.3110999999999995E-2]
[null,null,null,null,null,null,null,null,null,null,null,null,null,null,null,null,null,null,null,null,null,null,null,null,null,null,null,null,0,{"$f":"AVERAGE(#REF!)","v":{"$error":"#REF!"}},0.87799999999999989,1.5719999999999998,-0.25599999999999995,-1.8140000000000001,-0.89400000000000013,8.8339999999999996,2.7333399999999997E-2,-2.8222199999999996E-2,0.17111100000000001]
[null,null,null,null,null,null,null,null,null,null,null,null,null,null,null,null,null,null,null,null,null,null,null,null,null,null,null,null,0,{"$f":"AVERAGE(#REF!)","v":{"$error":"#REF!"}},2.2020000000000004,2.5000000000000004,2.556,-1.4440000000000002,-0.64200000000000002,8.016,-5.5555999999999956E-3,2.0666400000000001E-2,9.8889000000000005E-2]
[null,null,null,null,null,null,null,null,null,null,null,null,null,null,null,null,null,null,null,null,null,null,null,null,null,null,null,null,0,{"$f":"AVERAGE(#REF!)","v":{"$error":"#REF!"}},1.544,0.92399999999999982,-0.81600000000000006,-0.51,-0.154,9.9860000000000007,0.23599999999999999,-2.3111E-2,0.1451112]
[null,null,null,null,null,null,null,null,null,null,null,null,null,null,null,null,null,null,null,null,null,null,null,null,null,null,null,null,0,{"$f":"AVERAGE(#REF!)","v":{"$error":"#REF!"}},3.599999999999999E-2,-0.51,0.12600000000000006,-3.7419999999999995,-0.40199999999999997,10.406000000000001,0.10177779999999999,6.2666600000000003E-2,1.2444400000000001E-2]
[null,null,null,null,null,null,null,null,null,null,null,null,null,null,null,null,null,null,null,null,null,null,null,null,null,null,null,null,0,{"$f":"AVERAGE(#REF!)","v":{"$error":"#REF!"}},-0.39399999999999996,-0.70799999999999996,-0.94000000000000006,-2.8759999999999999,0.376,9.7959999999999994,6.9999800000000001E-2,-3.3111200000000007E-2,-4.8888000000000004E-3]
[null,null,null,null,null,null,null,null,null,null,null,null,null,null,null,null,null,null,null,null,null,null,null,null,null,null,null,null,0,{"$f":"AVERAGE(#REF!)","v":{"$error":"#REF!"}},0.93599999999999994,-2.956,-0.47199999999999981,-2.456,-0.46199999999999991,6.1760000000000002,0.14288899999999999,4.8222200000000007E-2,-4.9777800000000004E-2]
[null,null,null,null,null,null,null,null,null,null,null,null,null,null,null,null,null,null,null,null,null,null,null,null,null,null,null,null,0,{"$f":"AVERAGE(#REF!)","v":{"$error":"#REF!"}},0.88400000000000001,-3.1520000000000001,0.10200000000000013,-2.48,0.60199999999999998,9.5760000000000005,-5.911120000000001E-2,-9.3332000000000016E-3,-0.12399980000000002]
[null,null,null,null,null,null,null,null,null,null,null,null,null,null,null,null,null,null,null,null,null,null,null,null,null,null,null,null,0,{"$f":"AVERAGE(#REF!)","v":{"$error":"#REF!"}},-1.284,-1.298,-1.25,-3.62,0.27600000000000008,8.1359999999999992,5.7111199999999987E-2,2.3333200000000002E-2,-5.0666600000000006E-2]
[null,null,null,null,null,null,null,null,null,null,null,null,null,null,null,null,null,null,null,null,null,null,null,null,null,null,null,null,0,{"$f":"AVERAGE(#REF!)","v":{"$error":"#REF!"}},-7.7999999999999986E-2,-1.464,-0.82599999999999996,-2.456,-0.10200000000000001,8.5860000000000003,-5.15556E-2,-1.6888800000000002E-2,-5.7999800000000004E-2]
[null,null,null,null,null,null,null,null,null,null,null,null,null,null,null,null,null,null,null,null,null,null,null,null,null,null,null,null,{"$f":"(1609.34/3600)*Delta_Speed","v":0},{"$f":"AVERAGE(#REF!)","v":{"$error":"#REF!"}},1.31,-7.8000000000000042E-2,1.302,-1.1419999999999999,0.47799999999999992,10.77,0.46844439999999998,-7.1111199999999999E-2,0.11266659999999999]
[null,null,null,null,null,null,null,null,null,null,null,null,null,null,null,null,null,null,null,null,null,null,null,null,null,null,null,null,0,{"$f":"AVERAGE(#REF!)","v":{"$error":"#REF!"}},-0.80599999999999983,0.77400000000000002,-2.452,-3.3180000000000001,-2.4E-2,6.9879999999999995,-0.14555560000000001,-2.1111200000000004E-2,4.7777800000000002E-2]
[null,null,null,null,null,null,null,null,null,null,null,null,null,null,null,null,null,null,null,null,null,null,null,null,null,null,null,null,0,{"$f":"AVERAGE(#REF!)","v":{"$error":"#REF!"}},0.21400000000000002,-0.71800000000000008,0.35399999999999998,-2.2020000000000004,-0.27999999999999997,9.8420000000000005,5.0889200000000002E-2,2.9999800000000004E-2,-1.8000200000000001E-2]
[null,null,null,null,null,null,null,null,null,null,null,null,null,null,null,null,null,null,null,null,null,null,null,null,null,null,null,null,0,{"$f":"AVERAGE(#REF!)","v":{"$error":"#REF!"}},0.62399999999999989,-1.3459999999999999,2.4000000000000021E-2,-1.736,-0.43,9.4920000000000009,0.13333319999999999,1.5555599999999999E-2,3.04444E-2]
[null,null,null,null,null,null,null,null,null,null,null,null,null,null,null,null,null,null,null,null,null,null,null,null,null,null,null,null,0,{"$f":"AVERAGE(#REF!)","v":{"$error":"#REF!"}},-3.400000000000003E-2,-0.72399999999999998,-0.96200000000000008,-2.4220000000000002,-3.5999999999999976E-2,8.516,-0.21844440000000001,-1.3111199999999998E-2,-8.9333400000000007E-2]
[null,null,null,null,null,null,null,null,null,null,null,null,null,null,null,null,null,null,null,null,null,null,null,null,null,null,null,null,0,{"$f":"AVERAGE(#REF!)","v":{"$error":"#REF!"}},0.47200000000000009,-0.98199999999999998,1.8000000000000016E-2,-1.7899999999999998,0.48799999999999999,9.4379999999999988,0.18644440000000001,-1.6888800000000002E-2,-1.4222199999999999E-2]
[null,null,null,null,null,null,null,null,null,null,null,null,null,null,null,null,null,null,null,null,null,null,null,null,null,null,null,null,0,{"$f":"AVERAGE(#REF!)","v":{"$error":"#REF!"}},-0.13199999999999998,-0.35000000000000009,0.21600000000000003,-2.4340000000000002,0.86199999999999988,9.6639999999999997,-0.13822220000000002,-4.8890000000000045E-3,-9.1555600000000001E-2]
[null,null,null,null,null,null,null,null,null,null,null,null,null,null,null,null,null,null,null,null,null,null,null,null,null,null,null,null,0,{"$f":"AVERAGE(#REF!)","v":{"$error":"#REF!"}},0.61,-0.192,0.63400000000000001,-1.732,2.6000000000000002E-2,10.15,-4.4440000000000034E-4,-1.3333999999999985E-3,-1.1109999999999994E-3]
[null,null,null,null,null,null,null,null,null,null,null,null,null,null,null,null,null,null,null,null,null,null,null,null,null,null,null,null,{"$f":"(1609.34/3600)*Delta_Speed","v":0},{"$f":"AVERAGE(#REF!)","v":{"$error":"#REF!"}},0.97,0.33000000000000007,0.94199999999999995,-1.3619999999999999,0.5,10.457999999999998,-8.6666000000000017E-3,1.75552E-2,-2.2224000000000007E-3]
[null,null,null,null,null,null,null,null,null,null,null,null,null,null,null,null,null,null,null,null,null,null,null,null,null,null,null,null,0,{"$f":"AVERAGE(#REF!)","v":{"$error":"#REF!"}},-0.88600000000000012,-1.3460000000000001,-2.8979999999999997,-3.2280000000000002,-1.236,6.6199999999999992,8.2220000000000019E-3,1.6666599999999997E-2,2.2222000000000006E-3]
[null,null,null,null,null,null,null,null,null,null,null,null,null,null,null,null,null,null,null,null,null,null,null,null,null,null,null,null,0,{"$f":"AVERAGE(#REF!)","v":{"$error":"#REF!"}},0.43600000000000005,-0.82399999999999984,-0.81200000000000006,-1.8219999999999998,-0.66600000000000004,8.7219999999999995,3.1112000000000006E-3,1.2444399999999991E-2,-9.1109999999999993E-3]
[null,null,null,null,null,null,null,null,null,null,null,null,null,null,null,null,null,null,null,null,null,null,null,null,null,null,null,null,0,{"$f":"AVERAGE(#REF!)","v":{"$error":"#REF!"}},1.6740000000000002,-7.2000000000000064E-2,0.6319999999999999,-0.55399999999999971,0,10.178000000000001,-3.4888799999999998E-2,-2.1999800000000014E-2,-1.5555399999999997E-2]
[null,null,null,null,null,null,null,null,null,null,null,null,null,null,null,null,null,null,null,null,null,null,null,null,null,null,null,null,0,{"$f":"AVERAGE(#REF!)","v":{"$error":"#REF!"}},0.13599999999999995,-1.1879999999999999,1.0659999999999998,-1.9939999999999998,-0.88200000000000023,10.626000000000001,1.33334E-2,2.2888599999999999E-2,-1.1777999999999999E-2]
[null,null,null,null,null,null,null,null,null,null,null,null,null,null,null,null,null,null,null,null,null,null,null,null,null,null,null,null,0,{"$f":"AVERAGE(#REF!)","v":{"$error":"#REF!"}},-0.39200000000000007,2.2320000000000002,-1.3699999999999999,-2.488,2.476,8.2020000000000017,-4.4445999999999999E-3,-1.7777999999999961E-3,-6.4446E-3]
[null,null,null,null,null,null,null,null,null,null,null,null,null,null,null,null,null,null,null,null,null,null,null,null,null,null,null,null,0,{"$f":"AVERAGE(#REF!)","v":{"$error":"#REF!"}},-0.7420000000000001,-0.16599999999999993,-3.8820000000000001,-2.8580000000000001,-8.4000000000000019E-2,5.69,2.9555399999999999E-2,3.5999999999999997E-2,9.1109999999999993E-3]
[null,null,null,null,null,null,null,null,null,null,null,null,null,null,null,null,null,null,null,null,null,null,null,null,null,null,null,null,0,{"$f":"AVERAGE(#REF!)","v":{"$error":"#REF!"}},0.77400000000000002,0.40800000000000003,0.66799999999999982,-1.55,1.0219999999999998,10.559999999999999,1.9111200000000002E-2,-3.2444399999999998E-2,3.5558000000000005E-3]
[null,null,null,null,null,null,null,null,null,null,null,null,null,null,null,null,null,null,null,null,null,null,null,null,null,null,null,null,0,{"$f":"AVERAGE(#REF!)","v":{"$error":"#REF!"}},0.41600000000000004,-4.3999999999999997E-2,-1.482,-2.4460000000000002,-0.502,9.629999999999999,-0.16044460000000002,-1.5553999999999985E-3,-2.5333400000000006E-2]
[null,null,null,null,null,null,null,null,null,null,null,null,null,null,null,null,null,null,null,null,null,null,null,null,null,null,null,null,0,{"$f":"AVERAGE(#REF!)","v":{"$error":"#REF!"}},0.16200000000000006,1.044,-2.9259999999999997,-1.4379999999999999,1.7420000000000002,10.225999999999999,-2.2444199999999997E-2,-1.5555599999999999E-2,1.8889E-2]
[null,null,null,null,null,null,null,null,null,null,null,null,null,null,null,null,null,null,null,null,null,null,null,null,null,null,null,null,0,{"$f":"AVERAGE(#REF!)","v":{"$error":"#REF!"}},5.2000000000000046E-2,-1.996,-1.8039999999999998,-0.51800000000000002,-0.35200000000000004,10.545999999999999,1.3333399999999999E-2,-1.1999800000000001E-2,2.4443999999999994E-3]
[null,null,null,null,null,null,null,null,null,null,null,null,null,null,null,null,null,null,null,null,null,null,null,null,null,null,null,null,0,{"$f":"AVERAGE(#REF!)","v":{"$error":"#REF!"}},0.88200000000000001,-1.3820000000000001,1.0879999999999999,-2.254,0.11999999999999997,7.3120000000000003,3.6888600000000001E-2,3.5555799999999999E-2,-2.6665999999999994E-3]
[null,null,null,null,null,null,null,null,null,null,null,null,null,null,null,null,null,null,null,null,null,null,null,null,null,null,null,null,0,{"$f":"AVERAGE(#REF!)","v":{"$error":"#REF!"}},-0.65200000000000002,-0.81800000000000017,-0.49800000000000022,-1.33,-0.35600000000000004,9.4060000000000006,4.6444400000000004E-2,-4.2888799999999998E-2,1.3778000000000002E-2]
[null,null,null,null,null,null,null,null,null,null,null,null,null,null,null,null,null,null,null,null,null,null,null,null,null,null,null,null,0,{"$f":"AVERAGE(#REF!)","v":{"$error":"#REF!"}},0.70599999999999985,-0.39799999999999996,3.0079999999999996,-1.198,0.67400000000000004,12.563999999999998,-5.1110000000000027E-3,-4.3555599999999993E-2,-4.3999799999999999E-2]
[null,null,null,null,null,null,null,null,null,null,null,null,null,null,null,null,null,null,null,null,null,null,null,null,null,null,null,null,0,{"$f":"AVERAGE(#REF!)","v":{"$error":"#REF!"}},-1.1559999999999999,0.8,-4.2239999999999993,-3.1220000000000008,1.5759999999999998,5.3460000000000001,-2.0222200000000003E-2,-4.2666800000000005E-2,-2.17778E-2]
[null,null,null,null,null,null,null,null,null,null,null,null,null,null,null,null,null,null,null,null,null,null,null,null,null,null,null,null,0,{"$f":"AVERAGE(#REF!)","v":{"$error":"#REF!"}},-0.64400000000000002,-0.60800000000000021,0.44800000000000006,-2.6920000000000002,1.9999999999999973E-2,10.013999999999999,9.3331999999999998E-3,-3.8888999999999993E-2,-1.73332E-2]
[null,null,null,null,null,null,null,null,null,null,null,null,null,null,null,null,null,null,null,null,null,null,null,null,null,null,null,null,0,{"$f":"AVERAGE(#REF!)","v":{"$error":"#REF!"}},-0.34599999999999997,-0.73399999999999999,0.44800000000000006,-2.3820000000000001,-4.0000000000000036E-2,10.012,6.4444000000000003E-3,1.8444599999999998E-2,-2.7777799999999998E-2]
[null,null,null,null,null,null,null,null,null,null,null,null,null,null,null,null,null,null,null,null,null,null,null,null,null,null,null,null,0,{"$f":"AVERAGE(#REF!)","v":{"$error":"#REF!"}},0.66200000000000014,-0.73199999999999998,0.50800000000000001,-1.3900000000000001,-8.8000000000000078E-2,10.074000000000002,1.9999999999999997E-2,-1.4222200000000001E-2,-2.9333200000000004E-2]
[null,null,null,null,null,null,null,null,null,null,null,null,null,null,null,null,null,null,null,null,null,null,null,null,null,null,null,null,0,{"$f":"AVERAGE(#REF!)","v":{"$error":"#REF!"}},-0.246,-0.20400000000000001,3.4380000000000002,-2.3420000000000001,0.59599999999999997,12.982000000000003,3.2888800000000003E-2,-1.55558E-2,-7.9997999999999979E-3]
[null,null,null,null,null,null,null,null,null,null,null,null,null,null,null,null,null,null,null,null,null,null,null,null,null,null,null,null,0,{"$f":"AVERAGE(#REF!)","v":{"$error":"#REF!"}},-0.69000000000000017,-1.012,0.61999999999999988,-2.8200000000000003,-0.27399999999999991,10.156000000000001,-2.7111200000000002E-2,2.8222199999999996E-2,-4.00002E-2]
[null,null,null,null,null,null,null,null,null,null,null,null,null,null,null,null,null,null,null,null,null,null,null,null,null,null,null,null,0,{"$f":"AVERAGE(#REF!)","v":{"$error":"#REF!"}},-0.53,-0.8620000000000001,0.11999999999999993,-2.7079999999999997,-0.32600000000000007,9.66,-5.9111000000000004E-2,-7.1112000000000007E-3,-2.3555599999999999E-2]
[null,null,null,null,null,null,null,null,null,null,null,null,null,null,null,null,null,null,null,null,null,null,null,null,null,null,null,null,0,{"$f":"AVERAGE(#REF!)","v":{"$error":"#REF!"}},1.456,0.60600000000000009,2.5619999999999998,-0.19800000000000001,-0.20799999999999996,15.166,1.55554E-2,-9.5111000000000015E-2,2.4441999999999997E-3]
[null,null,null,null,null,null,null,null,null,null,null,null,null,null,null,null,null,null,null,null,null,null,null,null,null,null,null,null,0,{"$f":"AVERAGE(#REF!)","v":{"$error":"#REF!"}},-0.64800000000000002,0.51,0.95799999999999985,-1.8940000000000001,-0.12799999999999995,9.5240000000000009,8.2222000000000007E-3,-3.02224E-2,-3.1112000000000002E-3]
[null,null,null,null,null,null,null,null,null,null,null,null,null,null,null,null,null,null,null,null,null,null,null,null,null,null,null,null,0,{"$f":"AVERAGE(#REF!)","v":{"$error":"#REF!"}},-0.23000000000000007,0.73199999999999998,0.66200000000000014,-2.3479999999999999,0.84599999999999986,10.232000000000001,-8.8860000000000046E-4,-2.7110999999999996E-2,-1.8889000000000003E-2]
[null,null,null,null,null,null,null,null,null,null,null,null,null,null,null,null,null,null,null,null,null,null,null,null,null,null,null,null,0,{"$f":"AVERAGE(#REF!)","v":{"$error":"#REF!"}},-0.27999999999999997,0.34600000000000003,-2.6799999999999997,-2.246,0.23399999999999993,6.919999999999999,4.2888999999999997E-2,6.9111199999999998E-2,1.24444E-2]
[null,null,null,null,null,null,null,null,null,null,null,null,null,null,null,null,null,null,null,null,null,null,null,null,null,null,null,null,0,{"$f":"AVERAGE(#REF!)","v":{"$error":"#REF!"}},-0.72799999999999998,-0.52200000000000002,0.18799999999999989,-2.6260000000000003,-0.53400000000000003,9.8079999999999998,3.6666600000000001E-2,2.8888999999999998E-2,5.3332000000000006E-3]
[null,null,null,null,null,null,null,null,null,null,null,null,null,null,null,null,null,null,null,null,null,null,null,null,null,null,null,null,0,{"$f":"AVERAGE(#REF!)","v":{"$error":"#REF!"}},-6.0000000000000496E-3,0.77400000000000013,3.4859999999999998,-1.8320000000000001,0.71000000000000008,13.118,2.4888999999999998E-2,-3.9111199999999999E-2,1.5554000000000006E-3]
[null,null,null,null,null,null,null,null,null,null,null,null,null,null,null,null,null,null,null,null,null,null,null,null,null,null,null,null,0,{"$f":"AVERAGE(#REF!)","v":{"$error":"#REF!"}},-0.746,-0.752,0.93800000000000006,-2.4980000000000002,-0.13799999999999996,10.564,5.5111200000000006E-2,-1.1333199999999998E-2,-1.3331999999999984E-3]
[null,null,null,null,null,null,null,null,null,null,null,null,null,null,null,null,null,null,null,null,null,null,null,null,null,null,null,null,0,{"$f":"AVERAGE(#REF!)","v":{"$error":"#REF!"}},-0.52400000000000002,-0.33599999999999997,-1.4639999999999997,-2.3220000000000001,-1.0299999999999998,8.1440000000000001,9.1109999999999993E-3,5.0222000000000003E-2,1.7555599999999998E-2]
[null,null,null,null,null,null,null,null,null,null,null,null,null,null,null,null,null,null,null,null,null,null,null,null,null,null,null,null,0,{"$f":"AVERAGE(#REF!)","v":{"$error":"#REF!"}},0.626,-0.20200000000000001,3.3560000000000003,-1.1560000000000001,-0.59800000000000009,12.983999999999998,5.4444400000000004E-2,-5.9555800000000006E-2,1.4888999999999999E-2]
[null,null,null,null,null,null,null,null,null,null,null,null,null,null,null,null,null,null,null,null,null,null,null,null,null,null,null,null,0,{"$f":"AVERAGE(#REF!)","v":{"$error":"#REF!"}},-0.90200000000000014,-9.1999999999999998E-2,-1.8320000000000001,-2.6779999999999999,-3.3999999999999989E-2,7.806,4.5777599999999995E-2,2.8000000000000004E-2,6.4443999999999986E-3]
[null,null,null,null,null,null,null,null,null,null,null,null,null,null,null,null,null,null,null,null,null,null,null,null,null,null,null,null,0,{"$f":"AVERAGE(#REF!)","v":{"$error":"#REF!"}},-0.72800000000000009,-1.4379999999999999,-2.2340000000000004,-2.4880000000000004,-1.32,7.4060000000000006,-1.1555599999999999E-2,3.7555400000000003E-2,3.5555999999999999E-3]
[null,null,null,null,null,null,null,null,null,null,null,null,null,null,null,null,null,null,null,null,null,null,null,null,null,null,null,null,0,{"$f":"AVERAGE(#REF!)","v":{"$error":"#REF!"}},-0.35399999999999998,-1.2440000000000002,-2.1160000000000001,-2.1399999999999997,-1.448,7.5220000000000002,-2.4444000000000007E-3,3.3777599999999998E-2,8.4442000000000007E-3]
[null,null,null,null,null,null,null,null,null,null,null,null,null,null,null,null,null,null,null,null,null,null,null,null,null,null,null,null,0,{"$f":"AVERAGE(#REF!)","v":{"$error":"#REF!"}},1.502,2.000000000000046E-3,2.0660000000000003,-0.30000000000000004,2.4000000000000066E-2,11.7,-4.2888999999999997E-2,-5.3555399999999996E-2,-1.6222399999999998E-2]
[null,null,null,null,null,null,null,null,null,null,null,null,null,null,null,null,null,null,null,null,null,null,null,null,null,null,null,null,0,{"$f":"AVERAGE(#REF!)","v":{"$error":"#REF!"}},-0.77,-0.85600000000000009,-1.0000000000000054E-2,-2.718,-0.99000000000000021,9.7319999999999993,8.4446E-3,2.2444399999999996E-2,5.5555999999999991E-3]
[null,null,null,null,null,null,null,null,null,null,null,null,null,null,null,null,null,null,null,null,null,null,null,null,null,null,null,null,0,{"$f":"AVERAGE(#REF!)","v":{"$error":"#REF!"}},-0.8859999999999999,7.4000000000000024E-2,4.1999999999999815E-2,-2.7500000000000004,-0.22399999999999998,7.3639999999999999,1.6889000000000001E-2,1.2000000000000005E-2,8.2219999999999984E-3]
[null,null,null,null,null,null,null,null,null,null,null,null,null,null,null,null,null,null,null,null,null,null,null,null,null,null,null,null,0,{"$f":"AVERAGE(#REF!)","v":{"$error":"#REF!"}},0.81799999999999995,0.83000000000000007,1.784,-2.3639999999999999,0.36599999999999999,8.1979999999999986,1.0888800000000001E-2,5.4888800000000001E-2,-1.3334000000000006E-3]
[null,null,null,null,null,null,null,null,null,null,null,null,null,null,null,null,null,null,null,null,null,null,null,null,null,null,null,null,0,{"$f":"AVERAGE(#REF!)","v":{"$error":"#REF!"}},-5.9999999999999828E-3,-0.49799999999999994,9.200000000000004E-2,-1.9780000000000002,-0.6140000000000001,9.6939999999999991,2.7777800000000002E-2,1.1333400000000002E-2,6.000000000000001E-3]
[null,null,null,null,null,null,null,null,null,null,null,null,null,null,null,null,null,null,null,null,null,null,null,null,null,null,null,null,0,{"$f":"AVERAGE(#REF!)","v":{"$error":"#REF!"}},-0.42199999999999988,-1.3420000000000001,-2.1339999999999995,-2.3959999999999999,-1.302,7.4640000000000013,3.4444600000000006E-2,-2.9333199999999993E-2,5.9998000000000004E-3]
[null,null,null,null,null,null,null,null,null,null,null,null,null,null,null,null,null,null,null,null,null,null,null,null,null,null,null,null,0,{"$f":"AVERAGE(#REF!)","v":{"$error":"#REF!"}},-0.41600000000000004,0.77199999999999991,1.6400000000000001,-2.3820000000000001,0.47400000000000003,11.242000000000001,-3.6888799999999999E-2,-6.4444000000000003E-3,-3.1112000000000002E-3]
[null,null,null,null,null,null,null,null,null,null,null,null,null,null,null,null,null,null,null,null,null,null,null,null,null,null,null,null,0,{"$f":"AVERAGE(#REF!)","v":{"$error":"#REF!"}},-0.24400000000000005,1.2099999999999997,-0.38200000000000001,-2.238,1.0720000000000001,9.2119999999999997,3.0222399999999993E-2,8.2220000000000036E-3,8.6665999999999983E-3]
[null,null,null,null,null,null,null,null,null,null,null,null,null,null,null,null,null,null,null,null,null,null,null,null,null,null,null,null,0,{"$f":"AVERAGE(#REF!)","v":{"$error":"#REF!"}},-1.1840000000000004,-1.3419999999999999,-1.2300000000000002,-3.13,-5.9999999999999963E-2,8.2919999999999998,9.8444400000000015E-2,-7.5555999999999974E-3,6.6667999999999988E-3]
[null,null,null,null,null,null,null,null,null,null,null,null,null,null,null,null,null,null,null,null,null,null,null,null,null,null,null,null,0,{"$f":"AVERAGE(#REF!)","v":{"$error":"#REF!"}},-0.22799999999999992,-0.58200000000000007,3.1960000000000002,-1.9700000000000002,1.6799999999999997,12.576000000000002,9.3555599999999989E-2,-6.0444599999999994E-2,-3.9333199999999999E-2]
[null,null,null,null,null,null,null,null,null,null,null,null,null,null,null,null,null,null,null,null,null,null,null,null,null,null,null,null,0,{"$f":"AVERAGE(#REF!)","v":{"$error":"#REF!"}},-2.7439999999999998,0.47400000000000003,-3.4919999999999995,-4.4779999999999998,1.3480000000000001,6.1120000000000001,0.11644460000000001,-5.1111399999999994E-2,-8.8879999999999949E-4]
[null,null,null,null,null,null,null,null,null,null,null,null,null,null,null,null,null,null,null,null,null,null,null,null,null,null,null,null,{"$f":"(1609.34/3600)*Delta_Speed","v":0},{"$f":"AVERAGE(#REF!)","v":{"$error":"#REF!"}},-1.268,-1.3280000000000001,0.52200000000000013,-2.7920000000000003,0.28599999999999992,10.065999999999999,2.1777600000000001E-2,-7.6444399999999996E-2,-4.1555399999999999E-2]
[null,null,null,null,null,null,null,null,null,null,null,null,null,null,null,null,null,null,null,null,null,null,null,null,null,null,null,null,0,{"$f":"AVERAGE(#REF!)","v":{"$error":"#REF!"}},0.75000000000000022,-0.23800000000000007,-4.734,-0.70200000000000018,1.3480000000000001,4.8339999999999996,-3.3333399999999999E-2,-7.3110999999999995E-2,-3.2444600000000004E-2]
[null,null,null,null,null,null,null,null,null,null,null,null,null,null,null,null,null,null,null,null,null,null,null,null,null,null,null,null,0,{"$f":"AVERAGE(#REF!)","v":{"$error":"#REF!"}},-0.77799999999999991,-0.89200000000000002,1.0660000000000001,-2.024,0.7639999999999999,10.644,1.6888800000000002E-2,-3.9111400000000004E-2,-4.46668E-2]
[null,null,null,null,null,null,null,null,null,null,null,null,null,null,null,null,null,null,null,null,null,null,null,null,null,null,null,null,0,{"$f":"AVERAGE(#REF!)","v":{"$error":"#REF!"}},0.67799999999999994,-1.8359999999999999,3.4099999999999993,-0.47600000000000009,-0.11800000000000006,12.988,6.4446E-3,-6.7555600000000007E-2,-3.4444600000000006E-2]
[null,null,null,null,null,null,null,null,null,null,null,null,null,null,null,null,null,null,null,null,null,null,null,null,null,null,null,null,0,{"$f":"AVERAGE(#REF!)","v":{"$error":"#REF!"}},-1.278,-2.1540000000000008,-1.1100000000000003,-2.3839999999999995,-0.57000000000000006,8.5,-9.3331999999999998E-3,4.7333199999999999E-2,-4.7111E-2]
[null,null,null,null,null,null,null,null,null,null,null,null,null,null,null,null,null,null,null,null,null,null,null,null,null,null,null,null,0,{"$f":"AVERAGE(#REF!)","v":{"$error":"#REF!"}},0.79999999999999993,-1.47,2.1819999999999999,-0.33199999999999996,-0.24399999999999994,11.843999999999999,-6.8000000000000005E-2,1.7777800000000003E-2,-6.55554E-2]
[null,null,null,null,null,null,null,null,null,null,null,null,null,null,null,null,null,null,null,null,null,null,null,null,null,null,null,null,{"$f":"(1609.34/3600)*Delta_Speed","v":0},{"$f":"AVERAGE(#REF!)","v":{"$error":"#REF!"}},-0.53,7.7999999999999931E-2,1.522,-1.7840000000000003,0.25200000000000011,11.244,2.51112E-2,-2.4000200000000003E-2,1.11112E-2]
[null,null,null,null,null,null,null,null,null,null,null,null,null,null,null,null,null,null,null,null,null,null,null,null,null,null,null,null,0,{"$f":"AVERAGE(#REF!)","v":{"$error":"#REF!"}},0.53200000000000003,3.9999999999999593E-3,1.7080000000000002,-0.76200000000000001,0.61999999999999988,11.404,-0.14199999999999999,-4.1555599999999998E-2,-5.8666800000000005E-2]
[null,null,null,null,null,null,null,null,null,null,null,null,null,null,null,null,null,null,null,null,null,null,null,null,null,null,null,null,0,{"$f":"AVERAGE(#REF!)","v":{"$error":"#REF!"}},-1.36,-1.1240000000000001,-2.0680000000000001,-2.6959999999999997,-0.86,7.6380000000000008,8.4444000000000012E-3,3.7999999999999999E-2,8.8880000000000003E-4]
[null,null,null,null,null,null,null,null,null,null,null,null,null,null,null,null,null,null,null,null,null,null,null,null,null,null,null,null,0,{"$f":"AVERAGE(#REF!)","v":{"$error":"#REF!"}},-0.43,9.6000000000000002E-2,1.3299999999999996,-1.6659999999999997,0.53800000000000003,11.046000000000001,-2.2666799999999997E-2,-4.02222E-2,-2.0444399999999998E-2]
[null,null,null,null,null,null,null,null,null,null,null,null,null,null,null,null,null,null,null,null,null,null,null,null,null,null,null,null,0,{"$f":"AVERAGE(#REF!)","v":{"$error":"#REF!"}},1.016,0.13800000000000007,4.9279999999999999,-0.23799999999999991,0.47400000000000003,14.646000000000001,3.7555600000000001E-2,-0.11777760000000001,-2.0001999999999993E-3]
[null,null,null,null,null,null,null,null,null,null,null,null,null,null,null,null,null,null,null,null,null,null,null,null,null,null,null,null,0,{"$f":"AVERAGE(#REF!)","v":{"$error":"#REF!"}},-0.8879999999999999,0.20199999999999996,-0.68800000000000006,-2.2160000000000002,1.1999999999999966E-2,9.0200000000000014,3.3111000000000002E-2,2.2666600000000002E-2,2.46666E-2]
[null,null,null,null,null,null,null,null,null,null,null,null,null,null,null,null,null,null,null,null,null,null,null,null,null,null,null,null,0,{"$f":"AVERAGE(#REF!)","v":{"$error":"#REF!"}},-1.6819999999999999,-1.768,-5.1840000000000002,-2.9100000000000006,-1.6600000000000001,4.5359999999999996,6.0889000000000006E-2,0.10155539999999999,1.7777999999999995E-3]
[null,null,null,null,null,null,null,null,null,null,null,null,null,null,null,null,null,null,null,null,null,null,null,null,null,null,null,null,0,{"$f":"AVERAGE(#REF!)","v":{"$error":"#REF!"}},-0.97599999999999976,-0.63400000000000001,-1.2459999999999998,-2.2120000000000002,-0.46999999999999992,8.4740000000000002,3.3778000000000002E-2,4.6444400000000004E-2,0]
[null,null,null,null,null,null,null,null,null,null,null,null,null,null,null,null,null,null,null,null,null,null,null,null,null,null,null,null,0,{"$f":"AVERAGE(#REF!)","v":{"$error":"#REF!"}},-0.82599999999999996,-1.054,-2.0439999999999996,-2.0740000000000003,-0.70399999999999996,7.67,-1.1555600000000001E-2,-4.1111199999999994E-2,-1.6888999999999998E-2]
[null,null,null,null,null,null,null,null,null,null,null,null,null,null,null,null,null,null,null,null,null,null,null,null,null,null,null,null,0,{"$f":"AVERAGE(#REF!)","v":{"$error":"#REF!"}},-1.4359999999999999,-4.4000000000000018E-2,-3.2359999999999998,-2.6639999999999997,0.14399999999999999,6.49,4.24444E-2,9.3333200000000005E-2,4.000000000000001E-3]
[null,null,null,null,null,null,null,null,null,null,null,null,null,null,null,null,null,null,null,null,null,null,null,null,null,null,null,null,0,{"$f":"AVERAGE(#REF!)","v":{"$error":"#REF!"}},-0.5079999999999999,-0.54800000000000004,-0.44000000000000006,-1.75,-0.25600000000000001,9.2759999999999998,1.4666800000000002E-2,5.4444599999999996E-2,-1.2E-2]
[null,null,null,null,null,null,null,null,null,null,null,null,null,null,null,null,null,null,null,null,null,null,null,null,null,null,null,null,0,{"$f":"AVERAGE(#REF!)","v":{"$error":"#REF!"}},-0.69399999999999995,0.38200000000000001,0.15799999999999984,-1.9359999999999999,0.51,9.8859999999999992,-2.97778E-2,1.4666600000000002E-2,-8.8900000000000025E-4]
[null,null,null,null,null,null,null,null,null,null,null,null,null,null,null,null,null,null,null,null,null,null,null,null,null,null,null,null,0,{"$f":"AVERAGE(#REF!)","v":{"$error":"#REF!"}},-1.7,-0.188,-0.68800000000000028,-2.91,-0.21600000000000003,9.0400000000000009,3.0000200000000005E-2,-2.2666800000000008E-2,2.3111E-2]
[null,null,null,null,null,null,null,null,null,null,null,null,null,null,null,null,null,null,null,null,null,null,null,null,null,null,null,null,0,{"$f":"AVERAGE(#REF!)","v":{"$error":"#REF!"}},-0.54399999999999993,-0.80400000000000005,0.32999999999999996,-2.4159999999999999,0.74800000000000022,7.6400000000000006,-9.9999999999999985E-3,1.3333400000000006E-2,8.4446E-3]
[null,null,null,null,null,null,null,null,null,null,null,null,null,null,null,null,null,null,null,null,null,null,null,null,null,null,null,null,0,{"$f":"AVERAGE(#REF!)","v":{"$error":"#REF!"}},-0.19800000000000001,-0.63600000000000012,1.2600000000000002,-1.3619999999999999,-0.32400000000000001,9.4640000000000004,-2.46666E-2,1.0666800000000006E-2,-1.8666599999999998E-2]
[null,null,null,null,null,null,null,null,null,null,null,null,null,null,null,null,null,null,null,null,null,null,null,null,null,null,null,null,0,{"$f":"AVERAGE(#REF!)","v":{"$error":"#REF!"}},-0.79800000000000004,0.24800000000000005,0.29400000000000015,-1.22,1.1059999999999999,9.9940000000000015,1.6000000000000004E-2,-5.75554E-2,2.0444400000000001E-2]
[null,null,null,null,null,null,null,null,null,null,null,null,null,null,null,null,null,null,null,null,null,null,null,null,null,null,null,null,0,{"$f":"AVERAGE(#REF!)","v":{"$error":"#REF!"}},-1.484,-0.84800000000000009,-5.4000000000000006E-2,-3.0260000000000002,0.16,8.6560000000000006,-2.1999800000000003E-2,-1.2666600000000004E-2,-1.5556000000000003E-3]
[null,null,null,null,null,null,null,null,null,null,null,null,null,null,null,null,null,null,null,null,null,null,null,null,null,null,null,null,0,{"$f":"AVERAGE(#REF!)","v":{"$error":"#REF!"}},-1.052,1.8000000000000037E-2,-1.0799999999999998,-2.4080000000000004,-0.34599999999999997,8.2440000000000015,8.2222000000000007E-3,1.0222200000000009E-2,-9.7776000000000009E-3]
[null,null,null,null,null,null,null,null,null,null,null,null,null,null,null,null,null,null,null,null,null,null,null,null,null,null,null,null,0,{"$f":"AVERAGE(#REF!)","v":{"$error":"#REF!"}},-1.256,-0.24400000000000005,-2.4740000000000002,-2.7640000000000002,-0.28399999999999997,7.2080000000000002,-4.8666799999999996E-2,1.4444400000000001E-2,2.2199999999999962E-4]
[null,null,null,null,null,null,null,null,null,null,null,null,null,null,null,null,null,null,null,null,null,null,null,null,null,null,null,null,0,{"$f":"AVERAGE(#REF!)","v":{"$error":"#REF!"}},-1.27,8.7999999999999939E-2,-0.86199999999999977,-2.778,0.25799999999999995,8.8240000000000016,6.2223999999999986E-3,1.6666800000000002E-2,1.77778E-2]
[null,null,null,null,null,null,null,null,null,null,null,null,null,null,null,null,null,null,null,null,null,null,null,null,null,null,null,null,0,{"$f":"AVERAGE(#REF!)","v":{"$error":"#REF!"}},-0.18600000000000008,0.71800000000000008,-2.1779999999999999,-1.6300000000000001,0.76,7.5160000000000009,-1.7999999999999999E-2,8.2222000000000024E-3,1.8444200000000001E-2]
[null,null,null,null,null,null,null,null,null,null,null,null,null,null,null,null,null,null,null,null,null,null,null,null,null,null,null,null,0,{"$f":"AVERAGE(#REF!)","v":{"$error":"#REF!"}},-1.7060000000000002,-1.446,-1.1060000000000001,-3.028,-1.4120000000000001,8.604000000000001,2.9778000000000006E-2,2.6664000000000019E-3,1.4444400000000001E-2]
[null,null,null,null,null,null,null,null,null,null,null,null,null,null,null,null,null,null,null,null,null,null,null,null,null,null,null,null,0,{"$f":"AVERAGE(#REF!)","v":{"$error":"#REF!"}},-0.48799999999999999,0.60799999999999987,0.626,-1.7,0.67199999999999993,10.35,1.5556000000000007E-3,-1.0667000000000005E-2,-2.6665999999999994E-3]
[null,null,null,null,null,null,null,null,null,null,null,null,null,null,null,null,null,null,null,null,null,null,null,null,null,null,null,null,0,{"$f":"AVERAGE(#REF!)","v":{"$error":"#REF!"}},-0.746,-0.40599999999999997,-0.43600000000000005,-1.9459999999999997,-0.27399999999999997,9.2880000000000003,1.6888600000000004E-2,9.1112000000000033E-3,7.7777999999999996E-3]
[null,null,null,null,null,null,null,null,null,null,null,null,null,null,null,null,null,null,null,null,null,null,null,null,null,null,null,null,0,{"$f":"AVERAGE(#REF!)","v":{"$error":"#REF!"}},-1.1800000000000002,0.30599999999999988,1.8960000000000001,-2.4020000000000001,0.25400000000000011,11.622,-6.2224000000000003E-3,-4.0444600000000004E-2,-1.1333399999999999E-2]
[null,null,null,null,null,null,null,null,null,null,null,null,null,null,null,null,null,null,null,null,null,null,null,null,null,null,null,null,0,{"$f":"AVERAGE(#REF!)","v":{"$error":"#REF!"}},-1.6480000000000001,-0.50800000000000001,-4.2299999999999995,-2.8319999999999999,-0.40200000000000002,5.4980000000000002,-1.0222200000000001E-2,4.1111199999999994E-2,8.4443999999999995E-3]
[null,null,null,null,null,null,null,null,null,null,null,null,null,null,null,null,null,null,null,null,null,null,null,null,null,null,null,null,0,{"$f":"AVERAGE(#REF!)","v":{"$error":"#REF!"}},-0.39,0.12399999999999997,1.1660000000000001,-1.5400000000000003,8.8000000000000037E-2,10.902000000000001,-3.9997999999999995E-3,5.6221999999999994E-2,-1.6E-2]
[null,null,null,null,null,null,null,null,null,null,null,null,null,null,null,null,null,null,null,null,null,null,null,null,null,null,null,null,0,{"$f":"AVERAGE(#REF!)","v":{"$error":"#REF!"}},-1.4299999999999997,2.9999999999999982E-2,-0.39799999999999985,-2.56,0.24399999999999999,9.331999999999999,4.4419999999999735E-4,1.6666799999999999E-2,-1.51112E-2]
[null,null,null,null,null,null,null,null,null,null,null,null,null,null,null,null,null,null,null,null,null,null,null,null,null,null,null,null,0,{"$f":"AVERAGE(#REF!)","v":{"$error":"#REF!"}},-6.399999999999996E-2,1.3599999999999999,1.2600000000000002,-1.1919999999999997,1.3740000000000001,11,-2.2888800000000001E-2,1.5555999999999986E-3,-1.3332000000000001E-3]
[null,null,null,null,null,null,null,null,null,null,null,null,null,null,null,null,null,null,null,null,null,null,null,null,null,null,null,null,0,{"$f":"AVERAGE(#REF!)","v":{"$error":"#REF!"}},-2.3079999999999998,-1.3119999999999998,-1.7559999999999998,-3.4,-1.1240000000000001,7.984,8.8899999999999949E-4,1.8666600000000002E-2,-8.6666E-3]
[null,null,null,null,null,null,null,null,null,null,null,null,null,null,null,null,null,null,null,null,null,null,null,null,null,null,null,null,0,{"$f":"AVERAGE(#REF!)","v":{"$error":"#REF!"}},-0.34399999999999997,-5.599999999999996E-2,-1.206,-1.4339999999999999,-3.1999999999999987E-2,8.5340000000000007,1.1333200000000002E-2,-3.77778E-2,1.1333399999999999E-2]
[null,null,null,null,null,null,null,null,null,null,null,null,null,null,null,null,null,null,null,null,null,null,null,null,null,null,null,null,0,{"$f":"AVERAGE(#REF!)","v":{"$error":"#REF!"}},-1.78,1.3160000000000001,-0.38400000000000017,-2.8920000000000003,1.1959999999999997,9.3580000000000005,-2.1999999999999999E-2,1.5554000000000006E-3,-1.9777800000000002E-2]
[null,null,null,null,null,null,null,null,null,null,null,null,null,null,null,null,null,null,null,null,null,null,null,null,null,null,null,null,0,{"$f":"AVERAGE(#REF!)","v":{"$error":"#REF!"}},-0.95199999999999996,-1.02,1.1839999999999999,-2,-1.1139999999999999,10.928000000000001,3.6888999999999998E-2,2.2222000000000032E-3,2.0001999999999993E-3]
[null,null,null,null,null,null,null,null,null,null,null,null,null,null,null,null,null,null,null,null,null,null,null,null,null,null,null,null,0,{"$f":"AVERAGE(#REF!)","v":{"$error":"#REF!"}},0.20800000000000002,-0.43200000000000005,3.6439999999999997,-0.74799999999999978,-0.48599999999999993,13.4,-2.3777800000000002E-2,-5.15556E-2,-2.4666600000000004E-2]
[null,null,null,null,null,null,null,null,null,null,null,null,null,null,null,null,null,null,null,null,null,null,null,null,null,null,null,null,0,{"$f":"AVERAGE(#REF!)","v":{"$error":"#REF!"}},-2.3780000000000001,0.26799999999999996,-2.0699999999999994,-3.2979999999999996,0.27600000000000002,7.6819999999999995,3.7555599999999995E-2,5.8222399999999994E-2,1.2444199999999999E-2]
[null,null,null,null,null,null,null,null,null,null,null,null,null,null,null,null,null,null,null,null,null,null,null,null,null,null,null,null,0,{"$f":"AVERAGE(#REF!)","v":{"$error":"#REF!"}},-1.7559999999999998,-2.1059999999999999,0.65400000000000014,-2.6139999999999999,-1.516,10.398,6.4666799999999997E-2,-4.0666799999999996E-2,-2.8888000000000004E-3]
[null,null,null,null,null,null,null,null,null,null,null,null,null,null,null,null,null,null,null,null,null,null,null,null,null,null,null,null,0,{"$f":"AVERAGE(#REF!)","v":{"$error":"#REF!"}},-1.8320000000000001,-1.3000000000000003,1.9739999999999998,-2.508,0.28399999999999992,11.624000000000001,0.1177778,-5.9333400000000001E-2,-2.5333600000000001E-2]
[null,null,null,null,null,null,null,null,null,null,null,null,null,null,null,null,null,null,null,null,null,null,null,null,null,null,null,null,0,{"$f":"AVERAGE(#REF!)","v":{"$error":"#REF!"}},-1.9600000000000002,-1.3,7.3999999999999927E-2,-2.6139999999999999,0.39799999999999996,9.7039999999999988,-5.1333399999999994E-2,-2.8890000000000018E-3,-5.2666600000000008E-2]
[null,null,null,null,null,null,null,null,null,null,null,null,null,null,null,null,null,null,null,null,null,null,null,null,null,null,null,null,{"$f":"(1609.34/3600)*Delta_Speed","v":0},{"$f":"AVERAGE(#REF!)","v":{"$error":"#REF!"}},-2.3440000000000003,-1.1640000000000001,-3.492,-3.0340000000000003,0.25200000000000006,6.1760000000000002,7.5558000000000031E-3,2.9111199999999997E-2,-2.5777600000000001E-2]
[null,null,null,null,null,null,null,null,null,null,null,null,null,null,null,null,null,null,null,null,null,null,null,null,null,null,null,null,0,{"$f":"AVERAGE(#REF!)","v":{"$error":"#REF!"}},-2.7359999999999998,-0.43199999999999994,-0.36000000000000015,-3.3659999999999997,1.1179999999999999,9.3000000000000007,4.1555599999999998E-2,4.3110999999999997E-2,-2.5111000000000001E-2]
[null,null,null,null,null,null,null,null,null,null,null,null,null,null,null,null,null,null,null,null,null,null,null,null,null,null,null,null,0,{"$f":"AVERAGE(#REF!)","v":{"$error":"#REF!"}},-1.796,-1.474,-2.0000000000000131E-3,-2.4699999999999998,0.318,9.6080000000000005,-6.7555600000000007E-2,-4.4460000000000056E-4,-5.5111199999999992E-2]
[null,null,null,null,null,null,null,null,null,null,null,null,null,null,null,null,null,null,null,null,null,null,null,null,null,null,null,null,0,{"$f":"AVERAGE(#REF!)","v":{"$error":"#REF!"}},-1.8320000000000003,-0.10200000000000001,-0.95199999999999996,-2.5860000000000003,1.1160000000000001,8.7439999999999998,-0.1175554,3.7778000000000035E-3,-4.7333400000000005E-2]
[null,null,null,null,null,null,null,null,null,null,null,null,null,null,null,null,null,null,null,null,null,null,null,null,null,null,null,null,0,{"$f":"AVERAGE(#REF!)","v":{"$error":"#REF!"}},-2.0479999999999996,-0.69200000000000006,-0.80399999999999994,-2.6260000000000003,0.37,7.0720000000000001,-4.6665999999999999E-3,1.4222200000000001E-2,-2.4446000000000003E-3]
[null,null,null,null,null,null,null,null,null,null,null,null,null,null,null,null,null,null,null,null,null,null,null,null,null,null,null,null,0,{"$f":"AVERAGE(#REF!)","v":{"$error":"#REF!"}},-0.82999999999999985,0.67199999999999993,1.012,-3.1259999999999999,-0.25800000000000001,8.3859999999999992,2.0002000000000006E-3,-7.3333999999999986E-3,7.3333999999999995E-3]
[null,null,null,null,null,null,null,null,null,null,null,null,null,null,null,null,null,null,null,null,null,null,null,null,null,null,null,null,0,{"$f":"AVERAGE(#REF!)","v":{"$error":"#REF!"}},-0.67000000000000015,-0.65799999999999992,0.10999999999999979,-2.3280000000000003,0.21800000000000005,11.625999999999999,-1.6889000000000001E-2,-8.890000000000009E-4,-1.35554E-2]
[null,null,null,null,null,null,null,null,null,null,null,null,null,null,null,null,null,null,null,null,null,null,null,null,null,null,null,null,0,{"$f":"AVERAGE(#REF!)","v":{"$error":"#REF!"}},-1.9379999999999995,-4.000000000000092E-3,-0.62400000000000033,-2.194,-0.97399999999999998,10.724,-4.4443999999999994E-3,-3.6888799999999999E-2,-3.7779999999999992E-3]
[null,null,null,null,null,null,null,null,null,null,null,null,null,null,null,null,null,null,null,null,null,null,null,null,null,null,null,null,{"$f":"(1609.34/3600)*Delta_Speed","v":0},{"$f":"AVERAGE(#REF!)","v":{"$error":"#REF!"}},-1.1519999999999999,-1.236,-1.6579999999999999,-2.4779999999999998,0.68599999999999994,8.879999999999999,9.1111999999999981E-3,8.8889999999999993E-3,-4.0000000000000001E-3]
[null,null,null,null,null,null,null,null,null,null,null,null,null,null,null,null,null,null,null,null,null,null,null,null,null,null,null,null,0,{"$f":"AVERAGE(#REF!)","v":{"$error":"#REF!"}},-1.8059999999999998,-0.77600000000000002,-0.9740000000000002,-1.794,-0.27600000000000002,9.3619999999999983,1.5555999999999994E-3,-4.0444400000000005E-2,2.2221999999999993E-3]
[null,null,null,null,null,null,null,null,null,null,null,null,null,null,null,null,null,null,null,null,null,null,null,null,null,null,null,null,0,{"$f":"AVERAGE(#REF!)","v":{"$error":"#REF!"}},-1.6799999999999997,-0.73199999999999998,0.12400000000000022,-3.1640000000000001,0.15999999999999998,8.7119999999999997,8.8887999999999988E-3,-1.3334000000000054E-3,-6.6679999999999973E-4]
[null,null,null,null,null,null,null,null,null,null,null,null,null,null,null,null,null,null,null,null,null,null,null,null,null,null,null,null,0,{"$f":"AVERAGE(#REF!)","v":{"$error":"#REF!"}},{"$f":"AVERAGE(Q12738:Q12742)","v":-1.6679999999999999},{"$f":"AVERAGE(R12738:R12742)","v":8.0000000000000071E-3},{"$f":"AVERAGE(S12738:S12742)","v":-0.92599999999999993},{"$f":"AVERAGE(T12738:T12742)","v":-2.4160000000000004},{"$f":"AVERAGE(U12738:U12742)","v":0.26600000000000001},{"$f":"AVERAGE(V12738:V12742)","v":8.8460000000000001},{"$f":"AVERAGE(W12738:W12742)","v":-4.2222200000000001E-2},{"$f":"AVERAGE(X12738:X12742)","v":-2.4444599999999993E-2},{"$f":"AVERAGE(Y12738:Y12742)","v":-1.1999800000000001E-2}]
[null,null,null,null,null,null,null,null,null,null,null,null,null,null,null,null,null,null,null,null,null,null,null,null,null,null,null,null,0,{"$f":"AVERAGE(#REF!)","v":{"$error":"#REF!"}},-0.95,0.25999999999999995,4.9999999999999642E-2,-1.7060000000000002,9.6000000000000044E-2,9.8219999999999992,-8.3777799999999986E-2,2.2222000000000019E-3,-1.9999800000000002E-2]
[null,null,null,null,null,null,null,null,null,null,null,null,null,null,null,null,null,null,null,null,null,null,null,null,null,null,null,null,0,{"$f":"AVERAGE(#REF!)","v":{"$error":"#REF!"}},-1.03,1.3999999999999924E-2,-0.374,-1.8460000000000001,-0.88399999999999979,9.35,-2.0000000000000018E-3,-5.7777800000000004E-2,5.4666599999999996E-2]
[null,null,null,null,null,null,null,null,null,null,null,null,null,null,null,null,null,null,null,null,null,null,null,null,null,null,null,null,0,{"$f":"AVERAGE(#REF!)","v":{"$error":"#REF!"}},-0.91999999999999993,2.0840000000000001,-0.92600000000000016,-1.75,1.0699999999999998,8.7840000000000007,-2.3111200000000005E-2,2E-3,3.9111199999999999E-2]
[null,null,null,null,null,null,null,null,null,null,null,null,null,null,null,null,null,null,null,null,null,null,null,null,null,null,null,null,0,{"$f":"AVERAGE(#REF!)","v":{"$error":"#REF!"}},-1.3959999999999999,1.1759999999999999,0.32399999999999995,-2.2999999999999998,-0.25,9.9779999999999998,3.1110000000000001E-3,-4.5333200000000004E-2,3.8444400000000004E-2]
[null,null,null,null,null,null,null,null,null,null,null,null,null,null,null,null,null,null,null,null,null,null,null,null,null,null,null,null,0,{"$f":"AVERAGE(#REF!)","v":{"$error":"#REF!"}},-1.5420000000000003,1.1460000000000001,8.3999999999999991E-2,-2.4300000000000002,1.9999999999999797E-3,9.782,4.2222200000000001E-2,-4.1333399999999999E-2,5.333319999999999E-2]
[null,null,null,null,null,null,null,null,null,null,null,null,null,null,null,null,null,null,null,null,null,null,null,null,null,null,null,null,0,{"$f":"AVERAGE(#REF!)","v":{"$error":"#REF!"}},-1.65,0.85600000000000009,0.6359999999999999,-2.5019999999999998,-0.14200000000000004,10.346,2.1111400000000002E-2,-1.4888999999999996E-2,2.8222199999999996E-2]
[null,null,null,null,null,null,null,null,null,null,null,null,null,null,null,null,null,null,null,null,null,null,null,null,null,null,null,null,0,{"$f":"AVERAGE(#REF!)","v":{"$error":"#REF!"}},-1.3140000000000001,0.58600000000000008,0.62600000000000011,-2.1520000000000001,0.12999999999999998,10.385999999999999,2.6666000000000003E-3,-1.5555999999999973E-3,-1.5553999999999989E-3]
[null,null,null,null,null,null,null,null,null,null,null,null,null,null,null,null,null,null,null,null,null,null,null,null,null,null,null,null,0,{"$f":"AVERAGE(#REF!)","v":{"$error":"#REF!"}},-0.83599999999999997,-0.17,9.6000000000000002E-2,-1.6600000000000001,-0.50800000000000001,9.8559999999999999,4.7555799999999995E-2,-5.7780000000000028E-3,3.6666800000000006E-2]
[null,null,null,null,null,null,null,null,null,null,null,null,null,null,null,null,null,null,null,null,null,null,null,null,null,null,null,null,0,{"$f":"AVERAGE(#REF!)","v":{"$error":"#REF!"}},-1.6440000000000001,-0.12200000000000003,0.38000000000000012,-2.4139999999999997,-0.25600000000000001,10.151999999999999,1.5556000000000007E-3,6.8887999999999979E-3,3.1109999999999996E-3]
[null,null,null,null,null,null,null,null,null,null,null,null,null,null,null,null,null,null,null,null,null,null,null,null,null,null,null,null,0,{"$f":"AVERAGE(#REF!)","v":{"$error":"#REF!"}},-2.2280000000000002,1.1780000000000002,-2.778,-3.0200000000000005,0.72799999999999998,6.9819999999999993,-3.7555400000000003E-2,1.53332E-2,9.7777999999999997E-3]
[null,null,null,null,null,null,null,null,null,null,null,null,null,null,null,null,null,null,null,null,null,null,null,null,null,null,null,null,0,{"$f":"AVERAGE(#REF!)","v":{"$error":"#REF!"}},-2.6360000000000001,1.0420000000000003,-1.3599999999999999,-3.4159999999999995,0.86799999999999999,8.4080000000000013,2.1333600000000001E-2,2.53332E-2,2.6668000000000004E-3]
[null,null,null,null,null,null,null,null,null,null,null,null,null,null,null,null,null,null,null,null,null,null,null,null,null,null,null,null,0,{"$f":"AVERAGE(#REF!)","v":{"$error":"#REF!"}},-0.81200000000000006,-0.12199999999999997,0.7799999999999998,-1.506,-0.11999999999999997,10.56,-3.4666799999999998E-2,-1.5555599999999999E-2,-1.9111200000000002E-2]
[null,null,null,null,null,null,null,null,null,null,null,null,null,null,null,null,null,null,null,null,null,null,null,null,null,null,null,null,0,{"$f":"AVERAGE(#REF!)","v":{"$error":"#REF!"}},-1.6859999999999999,-0.84800000000000009,-0.15399999999999991,-2.234,-0.86199999999999988,9.6319999999999997,-4.4444400000000002E-2,1.1999800000000001E-2,-3.31112E-2]
[null,null,null,null,null,null,null,null,null,null,null,null,null,null,null,null,null,null,null,null,null,null,null,null,null,null,null,null,0,{"$f":"AVERAGE(#REF!)","v":{"$error":"#REF!"}},-2.6019999999999999,0.79799999999999993,-0.84000000000000008,-3.1219999999999999,0.32599999999999996,8.9359999999999999,-4.4440000000000034E-4,1.0666600000000002E-2,2.2889E-2]
[null,null,null,null,null,null,null,null,null,null,null,null,null,null,null,null,null,null,null,null,null,null,null,null,null,null,null,null,0,{"$f":"AVERAGE(#REF!)","v":{"$error":"#REF!"}},-1.6780000000000002,0.70199999999999996,-0.8859999999999999,-2.1979999999999995,0.32800000000000001,8.8960000000000008,3.2000000000000001E-2,-9.5557999999999997E-3,1.9555800000000002E-2]
[null,null,null,null,null,null,null,null,null,null,null,null,null,null,null,null,null,null,null,null,null,null,null,null,null,null,null,null,0,{"$f":"AVERAGE(#REF!)","v":{"$error":"#REF!"}},-2.15,0.73399999999999999,-1.6559999999999999,-2.31,0.41200000000000003,9.6959999999999997,-2.8444399999999998E-2,3.4888999999999996E-2,-5.7778000000000005E-3]
[null,null,null,null,null,null,null,null,null,null,null,null,null,null,null,null,null,null,null,null,null,null,null,null,null,null,null,null,0,{"$f":"AVERAGE(#REF!)","v":{"$error":"#REF!"}},-1.3639999999999999,0.72199999999999998,-0.27599999999999997,-2.6280000000000001,-0.25999999999999995,9.6540000000000017,-3.9333400000000004E-2,1.0444200000000004E-2,1.5553999999999998E-3]
[null,null,null,null,null,null,null,null,null,null,null,null,null,null,null,null,null,null,null,null,null,null,null,null,null,null,null,null,0,{"$f":"AVERAGE(#REF!)","v":{"$error":"#REF!"}},-1.3699999999999997,0.34199999999999992,-0.57999999999999996,-2.35,-0.126,9.0699999999999985,-4.5333400000000003E-2,-9.5555999999999992E-3,-1.9555599999999999E-2]
[null,null,null,null,null,null,null,null,null,null,null,null,null,null,null,null,null,null,null,null,null,null,null,null,null,null,null,null,0,{"$f":"AVERAGE(#REF!)","v":{"$error":"#REF!"}},-2.7160000000000002,0.32800000000000001,-2.0100000000000002,-2.2120000000000002,0.32200000000000001,9.0239999999999991,2.3111200000000002E-2,-1.6E-2,5.7778000000000005E-3]
[null,null,null,null,null,null,null,null,null,null,null,null,null,null,null,null,null,null,null,null,null,null,null,null,null,null,null,null,0,{"$f":"AVERAGE(#REF!)","v":{"$error":"#REF!"}},-1.65,0.28399999999999997,-0.45000000000000018,-2.1979999999999995,6.5999999999999975E-2,9.331999999999999,1.2E-2,-5.5553999999999994E-3,-3.7778000000000004E-3]
[null,null,null,null,null,null,null,null,null,null,null,null,null,null,null,null,null,null,null,null,null,null,null,null,null,null,null,null,0,{"$f":"AVERAGE(#REF!)","v":{"$error":"#REF!"}},-1.1120000000000001,0.374,-0.37,-1.7740000000000002,3.0000000000000027E-2,9.402000000000001,-3.77778E-2,1.3333399999999999E-2,1.7777999999999991E-3]
[null,null,null,null,null,null,null,null,null,null,null,null,null,null,null,null,null,null,null,null,null,null,null,null,null,null,null,null,0,{"$f":"AVERAGE(#REF!)","v":{"$error":"#REF!"}},-4.8160000000000007,0.39400000000000002,-2.2120000000000002,-5.5739999999999998,0.11200000000000002,7.5539999999999994,-1.7778000000000002E-3,-2.6665999999999994E-3,2.2220000000000052E-4]
[null,null,null,null,null,null,null,null,null,null,null,null,null,null,null,null,null,null,null,null,null,null,null,null,null,null,null,null,0,{"$f":"AVERAGE(#REF!)","v":{"$error":"#REF!"}},-2.7700000000000005,0.98000000000000009,-2.1859999999999999,-3.5640000000000001,0.72399999999999998,7.5820000000000007,-2.8888000000000004E-3,2.0222400000000001E-2,3.7778000000000013E-3]
[null,null,null,null,null,null,null,null,null,null,null,null,null,null,null,null,null,null,null,null,null,null,null,null,null,null,null,null,0,{"$f":"AVERAGE(#REF!)","v":{"$error":"#REF!"}},-3.4079999999999999,0.82400000000000007,-3.8560000000000003,-4.2200000000000006,0.7420000000000001,5.9119999999999999,1.8444199999999997E-2,3.6222400000000002E-2,1.7778000000000008E-3]
[null,null,null,null,null,null,null,null,null,null,null,null,null,null,null,null,null,null,null,null,null,null,null,null,null,null,null,null,0,{"$f":"AVERAGE(#REF!)","v":{"$error":"#REF!"}},-1.29,0.52799999999999991,1.3239999999999998,-1.9260000000000002,0.37400000000000005,11.106,-3.0222199999999998E-2,-2.0002000000000006E-3,-2.2667E-2]
[null,null,null,null,null,null,null,null,null,null,null,null,null,null,null,null,null,null,null,null,null,null,null,null,null,null,null,null,0,{"$f":"AVERAGE(#REF!)","v":{"$error":"#REF!"}},-0.13599999999999998,0.5119999999999999,1.5139999999999998,-0.49800000000000005,0.42200000000000004,11.309999999999999,-4.5777799999999993E-2,-5.6666799999999996E-2,-1.7333399999999999E-2]
[null,null,null,null,null,null,null,null,null,null,null,null,null,null,null,null,null,null,null,null,null,null,null,null,null,null,null,null,0,{"$f":"AVERAGE(#REF!)","v":{"$error":"#REF!"}},-2.1739999999999999,0.86399999999999988,-0.98199999999999998,-2.4339999999999997,0.39600000000000002,8.8039999999999985,-3.1333199999999999E-2,7.111000000000001E-3,9.3334000000000004E-3]
[null,null,null,null,null,null,null,null,null,null,null,null,null,null,null,null,null,null,null,null,null,null,null,null,null,null,null,null,0,{"$f":"AVERAGE(#REF!)","v":{"$error":"#REF!"}},-2.3140000000000001,0.24400000000000008,-0.68599999999999972,-2.37,0.18799999999999994,9.1159999999999997,7.9333200000000006E-2,-2.3111000000000003E-2,1.3555800000000002E-2]
[null,null,null,null,null,null,null,null,null,null,null,null,null,null,null,null,null,null,null,null,null,null,null,null,null,null,null,null,0,{"$f":"AVERAGE(#REF!)","v":{"$error":"#REF!"}},-3.1919999999999993,-0.98399999999999999,-1.04,-3.1960000000000006,-1.23,8.7560000000000002,-4.5111400000000003E-2,5.0666799999999998E-2,-2.2444599999999999E-2]
[null,null,null,null,null,null,null,null,null,null,null,null,null,null,null,null,null,null,null,null,null,null,null,null,null,null,null,null,0,{"$f":"AVERAGE(#REF!)","v":{"$error":"#REF!"}},-1.224,1.6940000000000002,1.544,-1.222,1.3140000000000001,11.337999999999999,-9.9997999999999997E-3,-4.3111200000000002E-2,8.4446E-3]
[null,null,null,null,null,null,null,null,null,null,null,null,null,null,null,null,null,null,null,null,null,null,null,null,null,null,null,null,0,{"$f":"AVERAGE(#REF!)","v":{"$error":"#REF!"}},-2.3639999999999999,0.96400000000000008,-0.18200000000000011,-2.3420000000000001,0.85399999999999987,9.6140000000000008,5.3336E-3,1.2222400000000001E-2,1.1555800000000001E-2]
[null,null,null,null,null,null,null,null,null,null,null,null,null,null,null,null,null,null,null,null,null,null,null,null,null,null,null,null,0,{"$f":"AVERAGE(#REF!)","v":{"$error":"#REF!"}},-2.5059999999999998,-0.64400000000000002,-0.95799999999999996,-2.4620000000000002,-0.8640000000000001,8.8379999999999992,-4.9555599999999998E-2,-1.5555999999999986E-3,-2.6000000000000002E-2]
[null,null,null,null,null,null,null,null,null,null,null,null,null,null,null,null,null,null,null,null,null,null,null,null,null,null,null,null,{"$f":"(1609.34/3600)*Delta_Speed","v":0},{"$f":"AVERAGE(#REF!)","v":{"$error":"#REF!"}},-2.7640000000000002,0.75800000000000001,-0.29000000000000009,-2.746,0.18000000000000002,5.4060000000000006,1.8444200000000001E-2,8.4446E-3,1.2666800000000001E-2]
[null,null,null,null,null,null,null,null,null,null,null,null,null,null,null,null,null,null,null,null,null,null,null,null,null,null,null,null,0,{"$f":"AVERAGE(#REF!)","v":{"$error":"#REF!"}},-2.3160000000000003,0.43800000000000006,-1.282,-1.26,-0.14599999999999999,10.423999999999999,-9.5556000000000009E-3,1.64446E-2,-2.6665999999999999E-3]
[null,null,null,null,null,null,null,null,null,null,null,null,null,null,null,null,null,null,null,null,null,null,null,null,null,null,null,null,0,{"$f":"AVERAGE(#REF!)","v":{"$error":"#REF!"}},-2.0880000000000001,1.1480000000000001,-1.294,-1.8839999999999999,0.94200000000000017,9.0220000000000002,-2.2666800000000001E-2,8.222199999999999E-3,6.6666E-3]
[null,null,null,null,null,null,null,null,null,null,null,null,null,null,null,null,null,null,null,null,null,null,null,null,null,null,null,null,0,{"$f":"AVERAGE(#REF!)","v":{"$error":"#REF!"}},-1.6559999999999999,-0.16999999999999998,1.1740000000000002,-1.8160000000000003,-0.41199999999999992,10.972000000000001,5.5556000000000026E-3,-6.4446E-3,1.9999999999999992E-3]
[null,null,null,null,null,null,null,null,null,null,null,null,null,null,null,null,null,null,null,null,null,null,null,null,null,null,null,null,0,{"$f":"AVERAGE(#REF!)","v":{"$error":"#REF!"}},-0.68199999999999994,0.14000000000000001,1.0780000000000001,-0.90999999999999992,0.74399999999999999,10.86,4.6444600000000003E-2,-4.13332E-2,-1.7555399999999999E-2]
[null,null,null,null,null,null,null,null,null,null,null,null,null,null,null,null,null,null,null,null,null,null,null,null,null,null,null,null,0,{"$f":"AVERAGE(#REF!)","v":{"$error":"#REF!"}},-0.42200000000000004,-1.008,1.0240000000000002,-0.49199999999999999,0.72599999999999998,10.668000000000001,0.14844459999999998,-3.4222400000000007E-2,-4.4446000000000008E-3]
[null,null,null,null,null,null,null,null,null,null,null,null,null,null,null,null,null,null,null,null,null,null,null,null,null,null,null,null,0,{"$f":"AVERAGE(#REF!)","v":{"$error":"#REF!"}},-1.6679999999999999,-0.69199999999999995,0.4019999999999998,-1.736,1.4420000000000002,9.9640000000000004,-3.5777800000000005E-2,3.5333600000000007E-2,-7.0000199999999985E-2]
[null,null,null,null,null,null,null,null,null,null,null,null,null,null,null,null,null,null,null,null,null,null,null,null,null,null,null,null,0,{"$f":"AVERAGE(#REF!)","v":{"$error":"#REF!"}},-3.306,-1.024,-2.1659999999999999,-3.6179999999999999,0.496,7.5060000000000002,-2.8444599999999997E-2,4.8889999999999984E-3,-4.7333200000000006E-2]
[null,null,null,null,null,null,null,null,null,null,null,null,null,null,null,null,null,null,null,null,null,null,null,null,null,null,null,null,{"$f":"(1609.34/3600)*Delta_Speed","v":0},{"$f":"AVERAGE(#REF!)","v":{"$error":"#REF!"}},-3.41,-3.0540000000000003,-0.30800000000000005,-3.726,-1.2420000000000002,9.3140000000000001,-4.9778000000000003E-2,9.5556000000000009E-3,-6.1555600000000002E-2]
[null,null,null,null,null,null,null,null,null,null,null,null,null,null,null,null,null,null,null,null,null,null,null,null,null,null,null,null,0,{"$f":"AVERAGE(#REF!)","v":{"$error":"#REF!"}},-1.64,-1.1440000000000001,2.786,-1.9759999999999998,-0.82,12.577999999999999,-7.9777600000000004E-2,-3.3333399999999999E-2,-3.1777800000000002E-2]
[null,null,null,null,null,null,null,null,null,null,null,null,null,null,null,null,null,null,null,null,null,null,null,null,null,null,null,null,0,{"$f":"AVERAGE(#REF!)","v":{"$error":"#REF!"}},-2.2000000000000002,-9.9999999999999204E-3,1.544,-2.484,0.29200000000000015,11.336,-1.7778E-3,-7.4444199999999988E-2,-4.6666000000000008E-3]
[null,null,null,null,null,null,null,null,null,null,null,null,null,null,null,null,null,null,null,null,null,null,null,null,null,null,null,null,0,{"$f":"AVERAGE(#REF!)","v":{"$error":"#REF!"}},-1.0059999999999998,1.9999999999999928E-2,2.04,-1.1419999999999999,0.22599999999999998,11.843999999999999,-2.04446E-2,-1.2222199999999997E-2,1.11112E-2]
[null,null,null,null,null,null,null,null,null,null,null,null,null,null,null,null,null,null,null,null,null,null,null,null,null,null,null,null,0,{"$f":"AVERAGE(#REF!)","v":{"$error":"#REF!"}},-3.97,-0.84000000000000008,-4.24,-4.0759999999999996,-0.54200000000000004,5.5540000000000003,-1.3778000000000002E-2,9.111000000000008E-3,-1.4222400000000001E-2]
[null,null,null,null,null,null,null,null,null,null,null,null,null,null,null,null,null,null,null,null,null,null,null,null,null,null,null,null,0,{"$f":"AVERAGE(#REF!)","v":{"$error":"#REF!"}},-1.3420000000000001,-0.56999999999999995,2.6760000000000002,-1.3220000000000001,-0.39600000000000002,12.48,5.0222199999999995E-2,-3.5777800000000005E-2,2.3110800000000001E-2]
[null,null,null,null,null,null,null,null,null,null,null,null,null,null,null,null,null,null,null,null,null,null,null,null,null,null,null,null,0,{"$f":"AVERAGE(#REF!)","v":{"$error":"#REF!"}},-1.7239999999999998,-0.20799999999999996,1.3180000000000001,-2.4300000000000002,0.77800000000000002,8.5519999999999996,-2.6444200000000001E-2,6.8887999999999987E-3,-1.8666599999999998E-2]
[null,null,null,null,null,null,null,null,null,null,null,null,null,null,null,null,null,null,null,null,null,null,null,null,null,null,null,null,0,{"$f":"AVERAGE(#REF!)","v":{"$error":"#REF!"}},-1.464,-0.94599999999999995,2.6079999999999997,-2.5860000000000003,-0.73,7.9120000000000008,-2.5555399999999999E-2,3.4222200000000001E-2,1.1333399999999997E-2]
[null,null,null,null,null,null,null,null,null,null,null,null,null,null,null,null,null,null,null,null,null,null,null,null,null,null,null,null,0,{"$f":"AVERAGE(#REF!)","v":{"$error":"#REF!"}},-3.2520000000000002,8.3999999999999964E-2,-2.492,-2.5979999999999999,0.85799999999999998,7.5060000000000002,4.1777599999999998E-2,-3.2444399999999998E-2,2.0222400000000001E-2]
[null,null,null,null,null,null,null,null,null,null,null,null,null,null,null,null,null,null,null,null,null,null,null,null,null,null,null,null,0,{"$f":"AVERAGE(#REF!)","v":{"$error":"#REF!"}},-2.456,-0.59799999999999998,-1.2080000000000002,-2.2919999999999998,-0.32399999999999995,8.588000000000001,1.1110999999999999E-2,-6.6659999999999495E-4,-7.3334000000000012E-3]
[null,null,null,null,null,null,null,null,null,null,null,null,null,null,null,null,null,null,null,null,null,null,null,null,null,null,null,null,0,{"$f":"AVERAGE(#REF!)","v":{"$error":"#REF!"}},-2.988,0.71800000000000008,-1.21,-2.96,0.52999999999999992,8.5919999999999987,-0.11466659999999999,1.8666599999999998E-2,-3.1333199999999999E-2]
[null,null,null,null,null,null,null,null,null,null,null,null,null,null,null,null,null,null,null,null,null,null,null,null,null,null,null,null,0,{"$f":"AVERAGE(#REF!)","v":{"$error":"#REF!"}},-2.9460000000000002,2.3240000000000003,-1.4319999999999999,-3.0520000000000005,1.3039999999999998,8.3140000000000001,-4.1999799999999997E-2,6.8887999999999979E-3,1.9777599999999999E-2]
[null,null,null,null,null,null,null,null,null,null,null,null,null,null,null,null,null,null,null,null,null,null,null,null,null,null,null,null,0,{"$f":"AVERAGE(#REF!)","v":{"$error":"#REF!"}},-1.4979999999999998,1.6440000000000001,-0.70600000000000007,-1.6480000000000001,0.55000000000000004,9.032,-1.2888800000000001E-2,-2.0888799999999996E-2,1.6888999999999998E-2]
[null,null,null,null,null,null,null,null,null,null,null,null,null,null,null,null,null,null,null,null,null,null,null,null,null,null,null,null,0,{"$f":"AVERAGE(#REF!)","v":{"$error":"#REF!"}},-2.0960000000000001,0.60600000000000009,-0.73199999999999998,-2.3359999999999999,-0.8620000000000001,8.952,-6.2444399999999997E-2,-9.5555999999999974E-3,1.9555599999999999E-2]
[null,null,null,null,null,null,null,null,null,null,null,null,null,null,null,null,null,null,null,null,null,null,null,null,null,null,null,null,0,{"$f":"AVERAGE(#REF!)","v":{"$error":"#REF!"}},-2.476,1.722,0.21199999999999997,-2.7680000000000002,0.19999999999999996,9.8919999999999995,-1.5333400000000001E-2,-4.2223999999999986E-3,3.3777800000000004E-2]
[null,null,null,null,null,null,null,null,null,null,null,null,null,null,null,null,null,null,null,null,null,null,null,null,null,null,null,null,0,{"$f":"AVERAGE(#REF!)","v":{"$error":"#REF!"}},-2.4799999999999995,1.3959999999999999,1.452,-2.6879999999999997,0.16,11.173999999999999,1.6222199999999999E-2,-2.2888800000000004E-2,2.7111199999999995E-2]
[null,null,null,null,null,null,null,null,null,null,null,null,null,null,null,null,null,null,null,null,null,null,null,null,null,null,null,null,0,{"$f":"AVERAGE(#REF!)","v":{"$error":"#REF!"}},-1.8880000000000003,0.8640000000000001,0.34800000000000003,-2.0300000000000002,5.6000000000000008E-2,10.114000000000001,8.3555599999999994E-2,-2.8222399999999998E-2,2.5555600000000001E-2]
[null,null,null,null,null,null,null,null,null,null,null,null,null,null,null,null,null,null,null,null,null,null,null,null,null,null,null,null,0,{"$f":"AVERAGE(#REF!)","v":{"$error":"#REF!"}},-1.5920000000000001,1.1599999999999999,0.36000000000000004,-1.4319999999999999,0.626,10.145999999999999,1.3555599999999998E-2,2.7777799999999998E-2,1.26664E-2]
[null,null,null,null,null,null,null,null,null,null,null,null,null,null,null,null,null,null,null,null,null,null,null,null,null,null,null,null,0,{"$f":"AVERAGE(#REF!)","v":{"$error":"#REF!"}},-1.4279999999999999,0.58600000000000008,-3.8440000000000003,-1.1879999999999999,9.6000000000000016E-2,5.9440000000000008,-2.7999799999999998E-2,-2.4888799999999999E-2,-6.889000000000001E-3]
[null,null,null,null,null,null,null,null,null,null,null,null,null,null,null,null,null,null,null,null,null,null,null,null,null,null,null,null,0,{"$f":"AVERAGE(#REF!)","v":{"$error":"#REF!"}},-1.302,0.85600000000000009,0.1740000000000001,-0.96400000000000008,0.35199999999999998,9.9540000000000006,-3.9999999999999992E-3,-2.0000200000000003E-2,-8.6666E-3]
[null,null,null,null,null,null,null,null,null,null,null,null,null,null,null,null,null,null,null,null,null,null,null,null,null,null,null,null,0,{"$f":"AVERAGE(#REF!)","v":{"$error":"#REF!"}},-1.534,0.87999999999999967,-0.34600000000000009,-1.1319999999999999,0.45199999999999996,9.4359999999999999,3.9111199999999999E-2,-1.73332E-2,8.0002000000000024E-3]
[null,null,null,null,null,null,null,null,null,null,null,null,null,null,null,null,null,null,null,null,null,null,null,null,null,null,null,null,0,{"$f":"AVERAGE(#REF!)","v":{"$error":"#REF!"}},-2.6320000000000001,0.86799999999999999,1.7,-2.2380000000000004,0.34800000000000003,11.48,3.6888799999999999E-2,-3.7555400000000003E-2,1.5777800000000002E-2]
[null,null,null,null,null,null,null,null,null,null,null,null,null,null,null,null,null,null,null,null,null,null,null,null,null,null,null,null,0,{"$f":"AVERAGE(#REF!)","v":{"$error":"#REF!"}},-3.05,1.7719999999999998,7.9999999999999186E-3,-2.6560000000000001,1.4540000000000002,9.798,5.0222200000000009E-2,-2.7333400000000008E-2,-5.5554000000000003E-3]
[null,null,null,null,null,null,null,null,null,null,null,null,null,null,null,null,null,null,null,null,null,null,null,null,null,null,null,null,0,{"$f":"AVERAGE(#REF!)","v":{"$error":"#REF!"}},-2.1739999999999999,0.93799999999999994,-0.96200000000000008,-1.7559999999999998,0.44800000000000006,8.8200000000000021,1.4666599999999998E-2,-2.4E-2,4.2222000000000006E-3]
[null,null,null,null,null,null,null,null,null,null,null,null,null,null,null,null,null,null,null,null,null,null,null,null,null,null,null,null,0,{"$f":"AVERAGE(#REF!)","v":{"$error":"#REF!"}},-2.71,-0.19,-1.1480000000000001,-2.3639999999999999,-0.75800000000000001,8.6300000000000008,2.2220000000000017E-4,-6.000000000000001E-3,-6.2221999999999998E-3]
[null,null,null,null,null,null,null,null,null,null,null,null,null,null,null,null,null,null,null,null,null,null,null,null,null,null,null,null,0,{"$f":"AVERAGE(#REF!)","v":{"$error":"#REF!"}},-2.7719999999999998,-0.44800000000000006,-0.96800000000000019,-2.5100000000000002,-0.89400000000000013,8.8180000000000014,4.6665999999999999E-3,-2.2666599999999999E-2,1.5554000000000006E-3]
[null,null,null,null,null,null,null,null,null,null,null,null,null,null,null,null,null,null,null,null,null,null,null,null,null,null,null,null,0,{"$f":"AVERAGE(#REF!)","v":{"$error":"#REF!"}},-2.222,-6.5999999999999989E-2,0.33999999999999997,-2.0019999999999998,-0.5,10.132,-2.0000000000000018E-3,-4.2888999999999997E-2,-7.7778000000000014E-3]
[null,null,null,null,null,null,null,null,null,null,null,null,null,null,null,null,null,null,null,null,null,null,null,null,null,null,null,null,0,{"$f":"AVERAGE(#REF!)","v":{"$error":"#REF!"}},-2.2839999999999998,0.70199999999999996,-1.298,-2.1859999999999999,0.19600000000000009,8.4860000000000007,-1.82224E-2,-6.6660000000000048E-4,6.4446E-3]
[null,null,null,null,null,null,null,null,null,null,null,null,null,null,null,null,null,null,null,null,null,null,null,null,null,null,null,null,0,{"$f":"AVERAGE(#REF!)","v":{"$error":"#REF!"}},-2.9359999999999999,0.99199999999999999,0.91399999999999992,-1.67,-0.4,11.802,-6.2222000000000006E-3,-2.4446000000000025E-3,-6.2221999999999998E-3]
[null,null,null,null,null,null,null,null,null,null,null,null,null,null,null,null,null,null,null,null,null,null,null,null,null,null,null,null,0,{"$f":"AVERAGE(#REF!)","v":{"$error":"#REF!"}},-2.6740000000000004,0.6140000000000001,-1.3659999999999997,-1.9080000000000001,-0.48799999999999999,11.651999999999999,-2.7777999999999997E-2,3.1777800000000002E-2,-1.5333200000000002E-2]
[null,null,null,null,null,null,null,null,null,null,null,null,null,null,null,null,null,null,null,null,null,null,null,null,null,null,null,null,0,{"$f":"AVERAGE(#REF!)","v":{"$error":"#REF!"}},-3.3599999999999994,0.53800000000000003,-1.246,-2.4159999999999999,1.6000000000000014E-2,10.513999999999999,2.4444199999999999E-2,-2.4889000000000001E-2,6.6679999999999951E-4]
[null,null,null,null,null,null,null,null,null,null,null,null,null,null,null,null,null,null,null,null,null,null,null,null,null,null,null,null,0,{"$f":"AVERAGE(#REF!)","v":{"$error":"#REF!"}},{"$f":"AVERAGE(Q15234:Q15238)","v":-3.0339999999999998},{"$f":"AVERAGE(R15234:R15238)","v":-4.2000000000000037E-2},{"$f":"AVERAGE(S15234:S15238)","v":-1.3879999999999999},{"$f":"AVERAGE(T15234:T15238)","v":-1.9759999999999998},{"$f":"AVERAGE(U15234:U15238)","v":5.599999999999998E-2},{"$f":"AVERAGE(V15234:V15238)","v":10.247999999999999},{"$f":"AVERAGE(W15234:W15238)","v":1.51112E-2},{"$f":"AVERAGE(X15234:X15238)","v":-5.2000000000000005E-2},{"$f":"AVERAGE(Y15234:Y15238)","v":-7.7777999999999996E-3}]
[null,null,null,null,null,null,null,null,null,null,null,null,null,null,null,null,null,null,null,null,null,null,null,null,null,null,null,null,0,{"$f":"AVERAGE(#REF!)","v":{"$error":"#REF!"}},-1.8799999999999997,0.58599999999999997,-0.45599999999999996,-1.1120000000000001,9.799999999999999E-2,10.486000000000001,-5.6666599999999991E-2,-8.2222000000000007E-3,3.5556000000000003E-3]
[null,null,null,null,null,null,null,null,null,null,null,null,null,null,null,null,null,null,null,null,null,null,null,null,null,null,null,null,0,{"$f":"AVERAGE(#REF!)","v":{"$error":"#REF!"}},-2.766,0.99600000000000011,-1.6940000000000002,-2.6660000000000004,0.46600000000000008,8.09,4.4222200000000003E-2,-8.6666E-3,8.0002000000000007E-3]
[null,null,null,null,null,null,null,null,null,null,null,null,null,null,null,null,null,null,null,null,null,null,null,null,null,null,null,null,0,{"$f":"AVERAGE(#REF!)","v":{"$error":"#REF!"}},-2.2200000000000002,0.38600000000000001,0.6100000000000001,-2.1419999999999999,-0.16400000000000006,10.396000000000001,-1.6222199999999999E-2,-1.1333199999999998E-2,2.4446000000000003E-3]
[null,null,null,null,null,null,null,null,null,null,null,null,null,null,null,null,null,null,null,null,null,null,null,null,null,null,null,null,0,{"$f":"AVERAGE(#REF!)","v":{"$error":"#REF!"}},-2.694,0.70799999999999996,-0.36399999999999999,-2.6160000000000001,0.13400000000000004,9.4199999999999982,-7.3334000000000038E-3,2.1333200000000004E-2,6.0002000000000007E-3]
[null,null,null,null,null,null,null,null,null,null,null,null,null,null,null,null,null,null,null,null,null,null,null,null,null,null,null,null,0,{"$f":"AVERAGE(#REF!)","v":{"$error":"#REF!"}},-2.3460000000000001,0.63200000000000001,2.6920000000000002,-2.274,1.1999999999999988E-2,12.474,2.13332E-2,-2.7110999999999989E-2,1.7333399999999999E-2]
[null,null,null,null,null,null,null,null,null,null,null,null,null,null,null,null,null,null,null,null,null,null,null,null,null,null,null,null,0,{"$f":"AVERAGE(#REF!)","v":{"$error":"#REF!"}},-2.1779999999999999,0.61399999999999999,0.23399999999999993,-2.0659999999999998,8.199999999999999E-2,10.02,-7.5556E-3,6.668000000000007E-4,5.1111999999999998E-3]
[null,null,null,null,null,null,null,null,null,null,null,null,null,null,null,null,null,null,null,null,null,null,null,null,null,null,null,null,0,{"$f":"AVERAGE(#REF!)","v":{"$error":"#REF!"}},-1.6859999999999999,1.6640000000000001,-1.5980000000000001,-1.5239999999999998,1.2640000000000002,8.1879999999999988,7.7776000000000026E-3,3.7111200000000004E-2,-1.9999999999999996E-3]
[null,null,null,null,null,null,null,null,null,null,null,null,null,null,null,null,null,null,null,null,null,null,null,null,null,null,null,null,0,{"$f":"AVERAGE(#REF!)","v":{"$error":"#REF!"}},-3.3040000000000007,0.4240000000000001,-0.40600000000000014,-3.1240000000000001,2.7999999999999935E-2,9.3819999999999997,-3.1110000000000001E-3,5.5553999999999968E-3,-5.3332000000000006E-3]
[null,null,null,null,null,null,null,null,null,null,null,null,null,null,null,null,null,null,null,null,null,null,null,null,null,null,null,null,0,{"$f":"AVERAGE(#REF!)","v":{"$error":"#REF!"}},-3,-0.182,-0.45200000000000007,-2.8140000000000001,-0.49000000000000005,9.3420000000000005,-3.5111199999999995E-2,6.8888000000000005E-3,-1.3332000000000003E-3]
[null,null,null,null,null,null,null,null,null,null,null,null,null,null,null,null,null,null,null,null,null,null,null,null,null,null,null,null,0,{"$f":"AVERAGE(#REF!)","v":{"$error":"#REF!"}},-2.9140000000000001,-0.56199999999999994,-2.298,-2.698,-1.05,7.4859999999999998,-1.7347234759768071E-18,2.9333600000000005E-2,7.1109999999999993E-3]
[null,null,null,null,null,null,null,null,null,null,null,null,null,null,null,null,null,null,null,null,null,null,null,null,null,null,null,null,0,{"$f":"AVERAGE(#REF!)","v":{"$error":"#REF!"}},-3.4879999999999995,1.5420000000000003,-2.4539999999999997,-3.2619999999999996,1.026,7.3280000000000003,2.13332E-2,-2.9555600000000005E-2,1.3555599999999998E-2]
[null,null,null,null,null,null,null,null,null,null,null,null,null,null,null,null,null,null,null,null,null,null,null,null,null,null,null,null,0,{"$f":"AVERAGE(#REF!)","v":{"$error":"#REF!"}},-3.3899999999999997,0.27400000000000008,-0.77799999999999991,-3.1680000000000001,-0.30600000000000005,9.0040000000000013,2.3111199999999998E-2,1.9777599999999999E-2,9.7777999999999997E-3]
[null,null,null,null,null,null,null,null,null,null,null,null,null,null,null,null,null,null,null,null,null,null,null,null,null,null,null,null,{"$f":"(1609.34/3600)*Delta_Speed","v":0},{"$f":"AVERAGE(#REF!)","v":{"$error":"#REF!"}},-3.282,0.92800000000000016,-0.27799999999999991,-3.032,0.5,9.5139999999999993,2.4000200000000003E-2,6.5999999999999989E-2,2.2219999999999879E-4]
[null,null,null,null,null,null,null,null,null,null,null,null,null,null,null,null,null,null,null,null,null,null,null,null,null,null,null,null,0,{"$f":"AVERAGE(#REF!)","v":{"$error":"#REF!"}},-2.5360000000000005,1.0379999999999998,-2.62,-2.3619999999999997,0.5,7.2560000000000002,1.6444400000000001E-2,-1.2444399999999998E-2,1.5999800000000002E-2]
[null,null,null,null,null,null,null,null,null,null,null,null,null,null,null,null,null,null,null,null,null,null,null,null,null,null,null,null,0,{"$f":"AVERAGE(#REF!)","v":{"$error":"#REF!"}},-2.472,0.43799999999999989,0.18599999999999978,-2.3119999999999998,1.02,11.058,-1.1777800000000001E-2,-2.5555600000000001E-2,-6.6668000000000022E-3]
[null,null,null,null,null,null,null,null,null,null,null,null,null,null,null,null,null,null,null,null,null,null,null,null,null,null,null,null,0,{"$f":"AVERAGE(#REF!)","v":{"$error":"#REF!"}},-1.6359999999999999,0.55800000000000005,2.4620000000000002,-2.87,-0.95199999999999996,6.669999999999999,7.3334000000000012E-3,7.3555599999999999E-2,-2.4444000000000007E-3]
[null,null,null,null,null,null,null,null,null,null,null,null,null,null,null,null,null,null,null,null,null,null,null,null,null,null,null,null,0,{"$f":"AVERAGE(#REF!)","v":{"$error":"#REF!"}},-3.1399999999999997,-0.25800000000000001,-1.5680000000000001,-1.746,0.158,10.172000000000001,2.888599999999999E-3,5.7778000000000013E-3,1.9999999999999992E-3]
[null,null,null,null,null,null,null,null,null,null,null,null,null,null,null,null,null,null,null,null,null,null,null,null,null,null,null,null,0,{"$f":"AVERAGE(#REF!)","v":{"$error":"#REF!"}},-3.0319999999999996,0.95399999999999996,2.0119999999999996,-2.2679999999999998,0.65999999999999992,10.68,-2.4666799999999999E-2,-2.2219999999999461E-4,-7.1112000000000007E-3]
[null,null,null,null,null,null,null,null,null,null,null,null,null,null,null,null,null,null,null,null,null,null,null,null,null,null,null,null,0,{"$f":"AVERAGE(#REF!)","v":{"$error":"#REF!"}},-2.2920000000000003,0.55599999999999994,-0.47800000000000004,-1.5699999999999998,-0.11800000000000002,9.2720000000000002,2.0000000000000009E-3,-5.5553999999999994E-3,2.6666000000000016E-3]
[null,null,null,null,null,null,null,null,null,null,null,null,null,null,null,null,null,null,null,null,null,null,null,null,null,null,null,null,0,{"$f":"AVERAGE(#REF!)","v":{"$error":"#REF!"}},-3.3599999999999994,1.5020000000000002,1.3060000000000003,-2.6019999999999999,0.746,11.053999999999998,9.7777999999999997E-3,-1.4444399999999996E-2,1.1777800000000001E-2]
[null,null,null,null,null,null,null,null,null,null,null,null,null,null,null,null,null,null,null,null,null,null,null,null,null,null,null,null,0,{"$f":"AVERAGE(#REF!)","v":{"$error":"#REF!"}},-2.9880000000000004,1.274,0.45,-2.1599999999999997,0.55400000000000005,10.192,-7.8666600000000003E-2,-2.2222000000000002E-2,-2.51112E-2]
[null,null,null,null,null,null,null,null,null,null,null,null,null,null,null,null,null,null,null,null,null,null,null,null,null,null,null,null,0,{"$f":"AVERAGE(#REF!)","v":{"$error":"#REF!"}},-2.6979999999999995,0.26199999999999996,0.39799999999999996,-1.8979999999999997,-0.77799999999999991,10.110000000000001,1.3778000000000002E-2,-5.6888800000000003E-2,1.9555599999999999E-2]
[null,null,null,null,null,null,null,null,null,null,null,null,null,null,null,null,null,null,null,null,null,null,null,null,null,null,null,null,0,{"$f":"AVERAGE(#REF!)","v":{"$error":"#REF!"}},-3.496,2.6480000000000006,-1.536,-2.7039999999999997,1.0820000000000001,8.1020000000000003,-9.4222199999999992E-2,1.1999800000000001E-2,-4.2220000000000001E-3]
[null,null,null,null,null,null,null,null,null,null,null,null,null,null,null,null,null,null,null,null,null,null,null,null,null,null,null,null,0,{"$f":"AVERAGE(#REF!)","v":{"$error":"#REF!"}},-1.9380000000000002,1.998,0.25,-1.2100000000000002,-0.1,9.7940000000000005,2.0000000000020002E-7,2.17778E-2,3.6444400000000002E-2]
[null,null,null,null,null,null,null,null,null,null,null,null,null,null,null,null,null,null,null,null,null,null,null,null,null,null,null,null,0,{"$f":"AVERAGE(#REF!)","v":{"$error":"#REF!"}},-1.1579999999999999,3.0579999999999998,0.97999999999999987,-0.56200000000000006,0.49400000000000005,10.424000000000001,8.2222000000000007E-3,-4.4888999999999998E-2,4.9555399999999993E-2]
[null,null,null,null,null,null,null,null,null,null,null,null,null,null,null,null,null,null,null,null,null,null,null,null,null,null,null,null,0,{"$f":"AVERAGE(#REF!)","v":{"$error":"#REF!"}},-1.8900000000000001,2.4739999999999993,-1.4919999999999998,-1.3359999999999999,-2.6000000000000013E-2,7.9699999999999989,-1.7555599999999998E-2,-3.110999999999997E-3,2.8444399999999998E-2]
[null,null,null,null,null,null,null,null,null,null,null,null,null,null,null,null,null,null,null,null,null,null,null,null,null,null,null,null,0,{"$f":"AVERAGE(#REF!)","v":{"$error":"#REF!"}},-1.0620000000000001,2.8560000000000003,3.0540000000000003,-0.53400000000000003,0.192,12.476000000000001,-2.8888000000000004E-3,-4.8888799999999996E-2,2.6666600000000002E-2]
[null,null,null,null,null,null,null,null,null,null,null,null,null,null,null,null,null,null,null,null,null,null,null,null,null,null,null,null,0,{"$f":"AVERAGE(#REF!)","v":{"$error":"#REF!"}},-2.3519999999999994,3.8899999999999997,-0.49800000000000005,-1.9439999999999997,0.87400000000000022,8.8180000000000014,-1.6444400000000005E-2,-1.2222400000000001E-2,4.3111200000000002E-2]
[null,null,null,null,null,null,null,null,null,null,null,null,null,null,null,null,null,null,null,null,null,null,null,null,null,null,null,null,0,{"$f":"AVERAGE(#REF!)","v":{"$error":"#REF!"}},-2.6420000000000003,3.9560000000000004,0.75399999999999989,-2.3980000000000006,0.71199999999999997,9.9960000000000004,-2.8888000000000004E-3,-8.4443999999999977E-3,4.57778E-2]
[null,null,null,null,null,null,null,null,null,null,null,null,null,null,null,null,null,null,null,null,null,null,null,null,null,null,null,null,0,{"$f":"AVERAGE(#REF!)","v":{"$error":"#REF!"}},-2.964,4.9139999999999997,1.9999999999998686E-3,-2.9539999999999997,0.754,8.879999999999999,0.11844439999999998,8.2222000000000024E-3,0.1093334]
[null,null,null,null,null,null,null,null,null,null,null,null,null,null,null,null,null,null,null,null,null,null,null,null,null,null,null,null,0,{"$f":"AVERAGE(#REF!)","v":{"$error":"#REF!"}},-1.7899999999999998,3.036,-1.0620000000000001,-1.966,0.8999999999999998,8.4999999999999982,4.1111200000000001E-2,-7.5556E-3,-2E-3]
[null,null,null,null,null,null,null,null,null,null,null,null,null,null,null,null,null,null,null,null,null,null,null,null,null,null,null,null,0,{"$f":"AVERAGE(#REF!)","v":{"$error":"#REF!"}},-2.7600000000000002,3.1659999999999995,-1.83,-3.012,0.71800000000000008,7.6559999999999988,4.2219999999999992E-3,1.8444400000000003E-2,2.4889000000000001E-2]
[null,null,null,null,null,null,null,null,null,null,null,null,null,null,null,null,null,null,null,null,null,null,null,null,null,null,null,null,0,{"$f":"AVERAGE(#REF!)","v":{"$error":"#REF!"}},-1.59,1.67,1.5,-1.6599999999999997,-0.372,9.0079999999999991,-9.7780000000000002E-3,4.3999999999999997E-2,-1.3777800000000002E-2]
[null,null,null,null,null,null,null,null,null,null,null,null,null,null,null,null,null,null,null,null,null,null,null,null,null,null,null,null,0,{"$f":"AVERAGE(#REF!)","v":{"$error":"#REF!"}},-2.4279999999999999,3.1219999999999999,-0.40800000000000003,-3.0020000000000002,0.68599999999999994,8.9939999999999998,-2.3555600000000003E-2,-1.8889E-2,-3.3332000000000001E-3]
[null,null,null,null,null,null,null,null,null,null,null,null,null,null,null,null,null,null,null,null,null,null,null,null,null,null,null,null,0,{"$f":"AVERAGE(#REF!)","v":{"$error":"#REF!"}},-1.4339999999999999,3.008,2.1819999999999995,-2.3380000000000001,0.57000000000000006,11.395999999999999,8.2219999999999984E-3,3.1109999999999983E-3,3.1110000000000005E-3]
[null,null,null,null,null,null,null,null,null,null,null,null,null,null,null,null,null,null,null,null,null,null,null,null,null,null,null,null,0,{"$f":"AVERAGE(#REF!)","v":{"$error":"#REF!"}},-2.5299999999999998,1.4179999999999999,-1.4180000000000001,-2.9840000000000004,-0.63400000000000001,8.1479999999999997,-2.2219999999999879E-4,2.7333200000000002E-2,-9.1112000000000016E-3]
[null,null,null,null,null,null,null,null,null,null,null,null,null,null,null,null,null,null,null,null,null,null,null,null,null,null,null,null,0,{"$f":"AVERAGE(#REF!)","v":{"$error":"#REF!"}},-0.20999999999999996,2.5640000000000001,1.782,-0.65400000000000003,0.59599999999999986,11.378000000000002,-1.1333399999999999E-2,-1.71112E-2,-1.0222199999999999E-2]
[null,null,null,null,null,null,null,null,null,null,null,null,null,null,null,null,null,null,null,null,null,null,null,null,null,null,null,null,0,{"$f":"AVERAGE(#REF!)","v":{"$error":"#REF!"}},-1.6200000000000003,2.6860000000000004,-0.6140000000000001,-2.0480000000000005,0.58399999999999996,8.9439999999999991,7.5556000000000009E-3,-3.1110000000000001E-3,1.5554E-3]
[null,null,null,null,null,null,null,null,null,null,null,null,null,null,null,null,null,null,null,null,null,null,null,null,null,null,null,null,0,{"$f":"AVERAGE(#REF!)","v":{"$error":"#REF!"}},-1.3640000000000001,1.216,1.4620000000000002,-1.736,-0.626,11.082000000000001,2.57778E-2,-9.1110000000000028E-3,-1.7780000000000001E-3]
[null,null,null,null,null,null,null,null,null,null,null,null,null,null,null,null,null,null,null,null,null,null,null,null,null,null,null,null,0,{"$f":"AVERAGE(#REF!)","v":{"$error":"#REF!"}},-1.738,2.29,-0.94399999999999995,-1.9939999999999998,0.30400000000000005,8.645999999999999,-2.0888800000000003E-2,-8.8879999999999797E-4,4.446000000000004E-4]
[null,null,null,null,null,null,null,null,null,null,null,null,null,null,null,null,null,null,null,null,null,null,null,null,null,null,null,null,0,{"$f":"AVERAGE(#REF!)","v":{"$error":"#REF!"}},-2.3579999999999997,2.1479999999999997,-2.21,-2.5279999999999996,-0.16800000000000004,7.3120000000000003,4.9777799999999997E-2,3.5110999999999989E-2,1.1555599999999997E-2]
[null,null,null,null,null,null,null,null,null,null,null,null,null,null,null,null,null,null,null,null,null,null,null,null,null,null,null,null,0,{"$f":"AVERAGE(#REF!)","v":{"$error":"#REF!"}},-1.3660000000000001,1.0819999999999999,1.0640000000000001,-1.464,-0.57199999999999995,10.724,5.7555800000000004E-2,-2.44446E-2,-1.0222200000000001E-2]
[null,null,null,null,null,null,null,null,null,null,null,null,null,null,null,null,null,null,null,null,null,null,null,null,null,null,null,null,0,{"$f":"AVERAGE(#REF!)","v":{"$error":"#REF!"}},-1.1619999999999997,-0.39800000000000002,-1.3260000000000001,-1.0620000000000001,-1.486,8.4160000000000004,-1.24444E-2,-1.1110999999999992E-2,-2.5333200000000007E-2]
[null,null,null,null,null,null,null,null,null,null,null,null,null,null,null,null,null,null,null,null,null,null,null,null,null,null,null,null,0,{"$f":"AVERAGE(#REF!)","v":{"$error":"#REF!"}},-2.0279999999999996,0.4,1.2240000000000002,-1.8219999999999998,-0.28200000000000008,11.001999999999999,2.0888800000000003E-2,-1.1555599999999999E-2,-2.6666800000000001E-2]
[null,null,null,null,null,null,null,null,null,null,null,null,null,null,null,null,null,null,null,null,null,null,null,null,null,null,null,null,0,{"$f":"AVERAGE(#REF!)","v":{"$error":"#REF!"}},-3.6219999999999999,0.47000000000000003,-0.43199999999999983,-3.1059999999999999,0.40400000000000008,9.3539999999999992,-9.3334000000000004E-3,-3.9111199999999999E-2,-6.2889E-2]
[null,null,null,null,null,null,null,null,null,null,null,null,null,null,null,null,null,null,null,null,null,null,null,null,null,null,null,null,0,{"$f":"AVERAGE(#REF!)","v":{"$error":"#REF!"}},-2.806,1.25,1.9799999999999998,-2.1439999999999997,0.46600000000000003,11.73,-9.8000000000000004E-2,-5.73334E-2,-4.7333199999999999E-2]
[null,null,null,null,null,null,null,null,null,null,null,null,null,null,null,null,null,null,null,null,null,null,null,null,null,null,null,null,0,{"$f":"AVERAGE(#REF!)","v":{"$error":"#REF!"}},-2.694,0.53,-0.52999999999999992,-1.984,0.72799999999999998,9.9379999999999988,-7.1109999999999975E-3,2.4888799999999996E-2,-3.2222399999999998E-2]
[null,null,null,null,null,null,null,null,null,null,null,null,null,null,null,null,null,null,null,null,null,null,null,null,null,null,null,null,0,{"$f":"AVERAGE(#REF!)","v":{"$error":"#REF!"}},-2.9180000000000001,1.0920000000000001,-0.55199999999999994,-2.8959999999999999,0.67200000000000004,9.3580000000000005,-2.3333199999999998E-2,1.35554E-2,-1.53332E-2]
[null,null,null,null,null,null,null,null,null,null,null,null,null,null,null,null,null,null,null,null,null,null,null,null,null,null,null,null,0,{"$f":"AVERAGE(#REF!)","v":{"$error":"#REF!"}},-1.6800000000000002,2.02,1.6679999999999999,-1.0160000000000002,-0.36399999999999999,11.148,1.24446E-2,-2.4444000000000028E-3,3.1999999999999994E-2]
[null,null,null,null,null,null,null,null,null,null,null,null,null,null,null,null,null,null,null,null,null,null,null,null,null,null,null,null,0,{"$f":"AVERAGE(#REF!)","v":{"$error":"#REF!"}},2.1040000000000001,2.7120000000000002,6.01,0.21199999999999997,0.36599999999999999,14.796000000000001,-1.82224E-2,-0.25111120000000003,2.8222199999999996E-2]
[null,null,null,null,null,null,null,null,null,null,null,null,null,null,null,null,null,null,null,null,null,null,null,null,null,null,null,null,0,{"$f":"AVERAGE(#REF!)","v":{"$error":"#REF!"}},-1.9019999999999999,2.7879999999999998,1.028,-1.4280000000000002,-0.44600000000000001,10.27,-4.9777800000000004E-2,-2.4441999999999997E-3,0.03]
[null,null,null,null,null,null,null,null,null,null,null,null,null,null,null,null,null,null,null,null,null,null,null,null,null,null,null,null,0,{"$f":"AVERAGE(#REF!)","v":{"$error":"#REF!"}},-1.8200000000000003,3.6840000000000002,7.5999999999999845E-2,-1.5719999999999998,0.62,9.379999999999999,7.5999999999999998E-2,1.6888799999999992E-2,4.9555399999999993E-2]
[null,null,null,null,null,null,null,null,null,null,null,null,null,null,null,null,null,null,null,null,null,null,null,null,null,null,null,null,0,{"$f":"AVERAGE(#REF!)","v":{"$error":"#REF!"}},-2.9180000000000001,3.4879999999999995,-0.33600000000000013,-2.81,0.21800000000000005,8.9079999999999995,-4.4440000000000034E-4,9.1333599999999987E-2,2.9110800000000003E-2]
[null,null,null,null,null,null,null,null,null,null,null,null,null,null,null,null,null,null,null,null,null,null,null,null,null,null,null,null,0,{"$f":"AVERAGE(#REF!)","v":{"$error":"#REF!"}},-2.0260000000000007,0.97000000000000031,-1.9159999999999999,-2.0999999999999996,-1.5880000000000001,7.5459999999999994,6.4666799999999997E-2,4.5999999999999999E-2,3.5111199999999995E-2]
[null,null,null,null,null,null,null,null,null,null,null,null,null,null,null,null,null,null,null,null,null,null,null,null,null,null,null,null,0,{"$f":"AVERAGE(#REF!)","v":{"$error":"#REF!"}},-0.93600000000000017,1.006,0.28600000000000014,-1.044,-0.78799999999999981,9.9220000000000006,8.7777799999999989E-2,1.0222200000000001E-2,-3.7778E-3]
[null,null,null,null,null,null,null,null,null,null,null,null,null,null,null,null,null,null,null,null,null,null,null,null,null,null,null,null,0,{"$f":"AVERAGE(#REF!)","v":{"$error":"#REF!"}},-2.0219999999999998,3.0979999999999999,-1.6679999999999999,-2.1059999999999999,0.27399999999999997,7.7159999999999993,4.8666399999999992E-2,7.3336E-3,2.6666600000000002E-2]
[null,null,null,null,null,null,null,null,null,null,null,null,null,null,null,null,null,null,null,null,null,null,null,null,null,null,null,null,0,{"$f":"AVERAGE(#REF!)","v":{"$error":"#REF!"}},-3.8639999999999999,3.9239999999999995,-3.3460000000000001,-3.9180000000000001,1.3299999999999998,6.1059999999999999,-1.73332E-2,4.8222399999999999E-2,9.7777999999999997E-3]
[null,null,null,null,null,null,null,null,null,null,null,null,null,null,null,null,null,null,null,null,null,null,null,null,null,null,null,null,0,{"$f":"AVERAGE(#REF!)","v":{"$error":"#REF!"}},-3.0339999999999998,2.4780000000000002,-0.36399999999999988,-3.0900000000000003,-2.4000000000000112E-2,9.1120000000000001,3.1778000000000001E-2,2.444400000000002E-3,-6.6668000000000005E-3]
[null,null,null,null,null,null,null,null,null,null,null,null,null,null,null,null,null,null,null,null,null,null,null,null,null,null,null,null,0,{"$f":"AVERAGE(#REF!)","v":{"$error":"#REF!"}},-2.7039999999999997,2.9039999999999999,0.4600000000000003,-2.7920000000000003,0.44800000000000006,9.9499999999999993,2.2224000000000002E-3,1.5110999999999999E-2,-1.3332000000000012E-3]
[null,null,null,null,null,null,null,null,null,null,null,null,null,null,null,null,null,null,null,null,null,null,null,null,null,null,null,null,0,{"$f":"AVERAGE(#REF!)","v":{"$error":"#REF!"}},-2.3679999999999999,2.5720000000000001,-1.9179999999999999,-2.5260000000000002,0.52600000000000002,7.6639999999999997,6.1777600000000009E-2,-1.7110999999999998E-2,1.7555399999999999E-2]
[null,null,null,null,null,null,null,null,null,null,null,null,null,null,null,null,null,null,null,null,null,null,null,null,null,null,null,null,0,{"$f":"AVERAGE(#REF!)","v":{"$error":"#REF!"}},-1.6160000000000001,1.044,1.1459999999999997,-1.5779999999999998,-0.11799999999999997,10.878,0.1104444,-2.7333399999999997E-2,-6.6680000000000038E-4]
[null,null,null,null,null,null,null,null,null,null,null,null,null,null,null,null,null,null,null,null,null,null,null,null,null,null,null,null,0,{"$f":"AVERAGE(#REF!)","v":{"$error":"#REF!"}},-2.8519999999999999,0.94000000000000006,4.8480000000000008,-2.6539999999999999,0.4840000000000001,14.639999999999997,6.2222000000000015E-3,-2.3111199999999998E-2,-6.0666599999999994E-2]
[null,null,null,null,null,null,null,null,null,null,null,null,null,null,null,null,null,null,null,null,null,null,null,null,null,null,null,null,0,{"$f":"AVERAGE(#REF!)","v":{"$error":"#REF!"}},-2.4219999999999997,1.4259999999999999,1.5699999999999998,-1.764,0.61199999999999999,11.318,1.31112E-2,-2.2888799999999997E-2,-3.6888999999999998E-2]
[null,null,null,null,null,null,null,null,null,null,null,null,null,null,null,null,null,null,null,null,null,null,null,null,null,null,null,null,0,{"$f":"AVERAGE(#REF!)","v":{"$error":"#REF!"}},-3.9340000000000002,1.704,2.46,-2.5019999999999998,1.242,12.674000000000001,-2.5333399999999999E-2,3.4666800000000005E-2,-1.5777800000000002E-2]
[null,null,null,null,null,null,null,null,null,null,null,null,null,null,null,null,null,null,null,null,null,null,null,null,null,null,null,null,{"$f":"(1609.34/3600)*Delta_Speed","v":0},{"$f":"AVERAGE(#REF!)","v":{"$error":"#REF!"}},-1.48,1.3900000000000001,1.85,-1.1100000000000001,-0.51800000000000002,11.214,8.8899999999999971E-4,-2.0666599999999997E-2,-3.3333399999999999E-2]
[null,null,null,null,null,null,null,null,null,null,null,null,null,null,null,null,null,null,null,null,null,null,null,null,null,null,null,null,0,{"$f":"AVERAGE(#REF!)","v":{"$error":"#REF!"}},-3.3120000000000003,0.46799999999999997,1.9999999999999928E-2,-1.75,-0.61,10.125999999999998,1.73332E-2,-2.0222400000000001E-2,1.3332000000000001E-3]
[null,null,null,null,null,null,null,null,null,null,null,null,null,null,null,null,null,null,null,null,null,null,null,null,null,null,null,null,0,{"$f":"AVERAGE(#REF!)","v":{"$error":"#REF!"}},-4.7559999999999993,2.1640000000000001,-2.8719999999999999,-2.3639999999999999,0.18200000000000008,8.42,-0.26377780000000001,4.4446000000000025E-3,-8.4444400000000003E-2]
[null,null,null,null,null,null,null,null,null,null,null,null,null,null,null,null,null,null,null,null,null,null,null,null,null,null,null,null,0,{"$f":"AVERAGE(#REF!)","v":{"$error":"#REF!"}},-2.4660000000000002,2.0919999999999996,-0.23799999999999993,-2.246,3.7999999999999992E-2,9.2059999999999995,0.16155560000000002,4.3333199999999995E-2,5.6666600000000011E-2]
[null,null,null,null,null,null,null,null,null,null,null,null,null,null,null,null,null,null,null,null,null,null,null,null,null,null,null,null,0,{"$f":"AVERAGE(#REF!)","v":{"$error":"#REF!"}},-4.6199999999999992,2.0439999999999996,0.98599999999999999,-3.47,0.78600000000000003,10.644,-4.1777800000000004E-2,-9.5111199999999993E-2,-1.6222E-2]
[null,null,null,null,null,null,null,null,null,null,null,null,null,null,null,null,null,null,null,null,null,null,null,null,null,null,null,null,0,{"$f":"AVERAGE(#REF!)","v":{"$error":"#REF!"}},-3.94,2.6360000000000001,2.0819999999999999,-2.9259999999999997,-0.28799999999999998,11.379999999999999,-2.2666800000000001E-2,-2.6444399999999996E-2,3.2666600000000004E-2]
[null,null,null,null,null,null,null,null,null,null,null,null,null,null,null,null,null,null,null,null,null,null,null,null,null,null,null,null,0,{"$f":"AVERAGE(#REF!)","v":{"$error":"#REF!"}},-3.7320000000000002,3.012,2.38,-2.8560000000000003,-0.434,11.518000000000001,8.8222200000000001E-2,8.4446000000000018E-3,8.5333400000000004E-2]
[null,null,null,null,null,null,null,null,null,null,null,null,null,null,null,null,null,null,null,null,null,null,null,null,null,null,null,null,0,{"$f":"AVERAGE(#REF!)","v":{"$error":"#REF!"}},-2.5420000000000003,3.8600000000000003,-0.76600000000000013,-1.732,0.11000000000000001,8.2520000000000007,7.5556E-3,1.8222200000000001E-2,7.22222E-2]
[null,null,null,null,null,null,null,null,null,null,null,null,null,null,null,null,null,null,null,null,null,null,null,null,null,null,null,null,0,{"$f":"AVERAGE(#REF!)","v":{"$error":"#REF!"}},-3.9279999999999999,3.3420000000000001,-0.12799999999999984,-3.3900000000000006,-0.15000000000000002,9.0139999999999993,2.0444200000000003E-2,-1.4666799999999999E-2,4.3333400000000001E-2]
[null,null,null,null,null,null,null,null,null,null,null,null,null,null,null,null,null,null,null,null,null,null,null,null,null,null,null,null,0,{"$f":"AVERAGE(#REF!)","v":{"$error":"#REF!"}},-4.7279999999999998,3.8180000000000001,-1.516,-4.4240000000000004,0.79200000000000004,7.8020000000000014,1.33332E-2,3.4222000000000009E-2,1.6E-2]
[null,null,null,null,null,null,null,null,null,null,null,null,null,null,null,null,null,null,null,null,null,null,null,null,null,null,null,null,0,{"$f":"AVERAGE(#REF!)","v":{"$error":"#REF!"}},-3.6520000000000001,3.0579999999999998,-1.722,-3.4279999999999995,0.15599999999999997,7.63,1.4222199999999999E-2,1.1333199999999998E-2,1.3110999999999998E-2]
[null,null,null,null,null,null,null,null,null,null,null,null,null,null,null,null,null,null,null,null,null,null,null,null,null,null,null,null,0,{"$f":"AVERAGE(#REF!)","v":{"$error":"#REF!"}},-3.5480000000000005,3.31,1.276,-3.2659999999999996,0.5199999999999998,10.665999999999999,1.1333199999999998E-2,4.1999999999999996E-2,6.8888000000000005E-3]
[null,null,null,null,null,null,null,null,null,null,null,null,null,null,null,null,null,null,null,null,null,null,null,null,null,null,null,null,0,{"$f":"AVERAGE(#REF!)","v":{"$error":"#REF!"}},-2.3420000000000001,2.7640000000000002,2.8679999999999994,-1.9780000000000002,2.0000000000000014E-2,12.27,1.4444600000000002E-2,-6.0444400000000009E-2,1.2E-2]
[null,null,null,null,null,null,null,null,null,null,null,null,null,null,null,null,null,null,null,null,null,null,null,null,null,null,null,null,0,{"$f":"AVERAGE(#REF!)","v":{"$error":"#REF!"}},-2.46,3.2600000000000002,0.21000000000000013,-2.0880000000000001,0.73399999999999987,9.6740000000000013,-5.7777999999999987E-3,-5.28888E-2,-1.7999999999999999E-2]
[null,null,null,null,null,null,null,null,null,null,null,null,null,null,null,null,null,null,null,null,null,null,null,null,null,null,null,null,0,{"$f":"AVERAGE(#REF!)","v":{"$error":"#REF!"}},-2.9680000000000004,2.7520000000000002,-1.1479999999999999,-2.5460000000000003,-0.09,8.2219999999999995,-2.8000000000000004E-2,-1.33334E-2,-4.4420000000000017E-4]
[null,null,null,null,null,null,null,null,null,null,null,null,null,null,null,null,null,null,null,null,null,null,null,null,null,null,null,null,0,{"$f":"AVERAGE(#REF!)","v":{"$error":"#REF!"}},-3.3860000000000001,3.1280000000000001,0.56400000000000006,-2.976,0.20599999999999996,9.91,3.7777999999999999E-2,-4.8888000000000004E-3,1.9333400000000001E-2]
[null,null,null,null,null,null,null,null,null,null,null,null,null,null,null,null,null,null,null,null,null,null,null,null,null,null,null,null,0,{"$f":"AVERAGE(#REF!)","v":{"$error":"#REF!"}},-2.0499999999999998,2.7040000000000002,5.800000000000001E-2,-1.6819999999999999,0.14000000000000001,9.5079999999999991,7.3777800000000004E-2,1.55554E-2,5.1112000000000006E-3]
[null,null,null,null,null,null,null,null,null,null,null,null,null,null,null,null,null,null,null,null,null,null,null,null,null,null,null,null,0,{"$f":"AVERAGE(#REF!)","v":{"$error":"#REF!"}},-3.4420000000000002,2.81,1.1019999999999999,-3.0100000000000002,0.57599999999999996,10.638,6.0888999999999992E-2,2.2220000000000005E-3,-1.4444400000000001E-2]
[null,null,null,null,null,null,null,null,null,null,null,null,null,null,null,null,null,null,null,null,null,null,null,null,null,null,null,null,0,{"$f":"AVERAGE(#REF!)","v":{"$error":"#REF!"}},-2.6959999999999997,-9.7999999999999948E-2,1.8199999999999998,-1.2979999999999998,0.41,11.51,2.2888800000000001E-2,-0.10977780000000001,-0.1959998]
[null,null,null,null,null,null,null,null,null,null,null,null,null,null,null,null,null,null,null,null,null,null,null,null,null,null,null,null,0,{"$f":"AVERAGE(#REF!)","v":{"$error":"#REF!"}},-2.4900000000000002,-2.7339999999999995,3.9579999999999997,0.27599999999999997,-1.6000000000000014E-2,12.545999999999999,0.16,-0.2208888,-0.27511120000000006]
[null,null,null,null,null,null,null,null,null,null,null,null,null,null,null,null,null,null,null,null,null,null,null,null,null,null,null,null,0,{"$f":"AVERAGE(#REF!)","v":{"$error":"#REF!"}},-3.5420000000000003,-3.6479999999999997,-1.0920000000000003,-1.8559999999999994,0.76799999999999979,10.304000000000002,0.126222,-0.16111120000000001,-0.21222219999999997]
[null,null,null,null,null,null,null,null,null,null,null,null,null,null,null,null,null,null,null,null,null,null,null,null,null,null,null,null,0,{"$f":"AVERAGE(#REF!)","v":{"$error":"#REF!"}},-0.86999999999999988,-5.008,3.7039999999999997,-0.71199999999999997,0.55000000000000004,11.046000000000001,-0.1279998,-1.8221999999999999E-2,-9.7778000000000004E-2]
[null,null,null,null,null,null,null,null,null,null,null,null,null,null,null,null,null,null,null,null,null,null,null,null,null,null,null,null,0,{"$f":"AVERAGE(#REF!)","v":{"$error":"#REF!"}},-0.39200000000000002,-6.6479999999999988,0.27199999999999991,1.1100000000000001,9.3999999999999861E-2,9.35,7.5110999999999997E-2,-4.3777799999999999E-2,-7.5999999999999998E-2]
[null,null,null,null,null,null,null,null,null,null,null,null,null,null,null,null,null,null,null,null,null,null,null,null,null,null,null,null,0,{"$f":"AVERAGE(#REF!)","v":{"$error":"#REF!"}},-3.1340000000000003,-2.8359999999999999,0.74,-2.3839999999999999,2.6000000000000023E-2,10.085999999999999,-4.5333200000000004E-2,-6.6680000000000179E-4,-9.1111999999999999E-3]
[null,null,null,null,null,null,null,null,null,null,null,null,null,null,null,null,null,null,null,null,null,null,null,null,null,null,null,null,0,{"$f":"AVERAGE(#REF!)","v":{"$error":"#REF!"}},-3.8579999999999997,-2.7079999999999997,-2.544,-3.1360000000000001,8.8000000000000106E-2,6.82,-3.3777600000000005E-2,2.1555600000000001E-2,-8.4446E-3]
[null,null,null,null,null,null,null,null,null,null,null,null,null,null,null,null,null,null,null,null,null,null,null,null,null,null,null,null,0,{"$f":"AVERAGE(#REF!)","v":{"$error":"#REF!"}},-2.9699999999999998,-2.8679999999999999,1.22,-2.2280000000000002,8.2000000000000031E-2,10.536000000000001,2.4446000000000008E-3,2E-3,-2.2221999999999997E-3]
[null,null,null,null,null,null,null,null,null,null,null,null,null,null,null,null,null,null,null,null,null,null,null,null,null,null,null,null,0,{"$f":"AVERAGE(#REF!)","v":{"$error":"#REF!"}},-2.91,-3.0579999999999998,2.3180000000000001,-2.2439999999999998,-3.9999999999999845E-3,11.61,2.9777599999999998E-2,-2.1555400000000002E-2,6.8888000000000005E-3]
[null,null,null,null,null,null,null,null,null,null,null,null,null,null,null,null,null,null,null,null,null,null,null,null,null,null,null,null,0,{"$f":"AVERAGE(#REF!)","v":{"$error":"#REF!"}},{"$f":"AVERAGE(Q18434:Q18438)","v":-2.8899999999999997},{"$f":"AVERAGE(R18434:R18438)","v":-2.8660000000000001},{"$f":"AVERAGE(S18434:S18438)","v":1.236},{"$f":"AVERAGE(T18434:T18438)","v":-2.2399999999999998},{"$f":"AVERAGE(U18434:U18438)","v":0.13600000000000001},{"$f":"AVERAGE(V18434:V18438)","v":10.546000000000001},{"$f":"AVERAGE(W18434:W18438)","v":2.1777999999999999E-2},{"$f":"AVERAGE(X18434:X18438)","v":2.3555799999999995E-2},{"$f":"AVERAGE(Y18434:Y18438)","v":5.3334000000000003E-3}]
[null,null,null,null,null,null,null,null,null,null,null,null,null,null,null,null,null,null,null,null,null,null,null,null,null,null,null,null,0,{"$f":"AVERAGE(#REF!)","v":{"$error":"#REF!"}},-3.2340000000000004,-2.6440000000000001,1.3359999999999999,-2.508,0.22599999999999998,10.678000000000001,1.19998E-2,-2.6888999999999996E-2,1.8222200000000001E-2]
[null,null,null,null,null,null,null,null,null,null,null,null,null,null,null,null,null,null,null,null,null,null,null,null,null,null,null,null,0,{"$f":"AVERAGE(#REF!)","v":{"$error":"#REF!"}},-3.1759999999999997,-3.306,-0.36,-2.3760000000000003,-0.45400000000000001,8.9819999999999993,-1.6000000000000004E-2,-1.2222000000000002E-2,8.000199999999999E-3]
[null,null,null,null,null,null,null,null,null,null,null,null,null,null,null,null,null,null,null,null,null,null,null,null,null,null,null,null,0,{"$f":"AVERAGE(#REF!)","v":{"$error":"#REF!"}},-3.2280000000000002,-3.3140000000000001,-0.78200000000000003,-2.262,-0.22999999999999998,8.4700000000000006,6.6666E-3,2.4444399999999998E-2,-1.0888799999999999E-2]
[null,null,null,null,null,null,null,null,null,null,null,null,null,null,null,null,null,null,null,null,null,null,null,null,null,null,null,null,0,{"$f":"AVERAGE(#REF!)","v":{"$error":"#REF!"}},-2.9340000000000002,-3.0219999999999998,0.30799999999999994,-1.9179999999999999,-0.19,9.6380000000000017,8.8889999999999993E-3,3.5333199999999995E-2,1.5111200000000002E-2]
[null,null,null,null,null,null,null,null,null,null,null,null,null,null,null,null,null,null,null,null,null,null,null,null,null,null,null,null,0,{"$f":"AVERAGE(#REF!)","v":{"$error":"#REF!"}},-2.4340000000000002,-2.0439999999999996,0.71800000000000008,-1.4940000000000002,-2.8000000000000004E-2,10.262,-8.9555400000000007E-2,4.8889999999999992E-3,1.5555400000000002E-2]
[null,null,null,null,null,null,null,null,null,null,null,null,null,null,null,null,null,null,null,null,null,null,null,null,null,null,null,null,0,{"$f":"AVERAGE(#REF!)","v":{"$error":"#REF!"}},-3.7540000000000004,-2.2879999999999994,-1.484,-2.5939999999999999,-0.57999999999999996,8.0960000000000001,-5.3334000000000003E-3,2.0222400000000001E-2,3.9999800000000009E-2]
[null,null,null,null,null,null,null,null,null,null,null,null,null,null,null,null,null,null,null,null,null,null,null,null,null,null,null,null,0,{"$f":"AVERAGE(#REF!)","v":{"$error":"#REF!"}},-4.0819999999999999,-1.9019999999999999,-2.1759999999999997,-3.1840000000000002,-0.49000000000000005,7.9120000000000008,2.2219999999999982E-4,-3.7778000000000035E-3,3.4000000000000002E-2]
[null,null,null,null,null,null,null,null,null,null,null,null,null,null,null,null,null,null,null,null,null,null,null,null,null,null,null,null,0,{"$f":"AVERAGE(#REF!)","v":{"$error":"#REF!"}},{"$f":"AVERAGE(Q18690:Q18694)","v":-2.5859999999999999},{"$f":"AVERAGE(R18690:R18694)","v":-1.9159999999999997},{"$f":"AVERAGE(S18690:S18694)","v":2.5679999999999996},{"$f":"AVERAGE(T18690:T18694)","v":-1.8620000000000001},{"$f":"AVERAGE(U18690:U18694)","v":-0.372},{"$f":"AVERAGE(V18690:V18694)","v":10.226000000000001},{"$f":"AVERAGE(W18690:W18694)","v":-6.8889000000000006E-2},{"$f":"AVERAGE(X18690:X18694)","v":-2.4441999999999979E-3},{"$f":"AVERAGE(Y18690:Y18694)","v":1.8889000000000003E-2}]
[null,null,null,null,null,null,null,null,null,null,null,null,null,null,null,null,null,null,null,null,null,null,null,null,null,null,null,null,0,{"$f":"AVERAGE(#REF!)","v":{"$error":"#REF!"}},-2.944,-1.6939999999999997,2.9720000000000004,-1.7939999999999998,0.19799999999999995,9.9439999999999991,1.3777800000000002E-2,1.4666599999999997E-2,8.4444000000000012E-3]
[null,null,null,null,null,null,null,null,null,null,null,null,null,null,null,null,null,null,null,null,null,null,null,null,null,null,null,null,0,{"$f":"AVERAGE(#REF!)","v":{"$error":"#REF!"}},-3.3359999999999999,-1.47,1.4040000000000001,-2.0519999999999996,0.19800000000000001,10.972,-0.35000020000000004,4.1110999999999995E-2,-0.13422240000000002]
[null,null,null,null,null,null,null,null,null,null,null,null,null,null,null,null,null,null,null,null,null,null,null,null,null,null,null,null,0,{"$f":"AVERAGE(#REF!)","v":{"$error":"#REF!"}},-4.0260000000000007,-1.798,-1.982,-2.8180000000000001,0.12000000000000002,7.5479999999999992,0.1986666,-2.5777600000000001E-2,7.6222399999999996E-2]
[null,null,null,null,null,null,null,null,null,null,null,null,null,null,null,null,null,null,null,null,null,null,null,null,null,null,null,null,0,{"$f":"AVERAGE(#REF!)","v":{"$error":"#REF!"}},-3.55,-3.1,1.69,-2.2600000000000002,0.8620000000000001,10.532,-1.0980002,-3.2666800000000003E-2,-0.56866660000000002]
[null,null,null,null,null,null,null,null,null,null,null,null,null,null,null,null,null,null,null,null,null,null,null,null,null,null,null,null,0,{"$f":"AVERAGE(#REF!)","v":{"$error":"#REF!"}},-3.8540000000000001,-2.06,1.038,-2.7159999999999997,0.17599999999999999,10.513999999999999,5.3777800000000001E-2,2.17778E-2,-6.6660000000000016E-4]
[null,null,null,null,null,null,null,null,null,null,null,null,null,null,null,null,null,null,null,null,null,null,null,null,null,null,null,null,0,{"$f":"AVERAGE(#REF!)","v":{"$error":"#REF!"}},-3.5480000000000005,-2.4219999999999997,0.52400000000000002,-2.2559999999999998,5.6000000000000008E-2,9.9060000000000006,0.62288900000000003,-5.466660000000001E-2,0.26133339999999999]
[null,null,null,null,null,null,null,null,null,null,null,null,null,null,null,null,null,null,null,null,null,null,null,null,null,null,null,null,0,{"$f":"AVERAGE(#REF!)","v":{"$error":"#REF!"}},-3.3780000000000001,-1.456,1.248,-2.0279999999999996,0.76400000000000001,10.696000000000002,0.48377780000000004,-5.8444399999999994E-2,1.3333600000000004E-2]
[null,null,null,null,null,null,null,null,null,null,null,null,null,null,null,null,null,null,null,null,null,null,null,null,null,null,null,null,0,{"$f":"AVERAGE(#REF!)","v":{"$error":"#REF!"}},-3.7679999999999998,-1.7880000000000003,-1.199999999999996E-2,-2.2599999999999998,0.28000000000000003,9.4499999999999993,7.5555999999999983E-3,8.4446E-3,1.1333399999999999E-2]
[null,null,null,null,null,null,null,null,null,null,null,null,null,null,null,null,null,null,null,null,null,null,null,null,null,null,null,null,0,{"$f":"AVERAGE(#REF!)","v":{"$error":"#REF!"}},-5.0579999999999998,-0.87600000000000011,2.3119999999999998,-3.0100000000000002,3.9079999999999999,10.613999999999999,2.4444599999999948E-2,-0.17577760000000001,-0.49866679999999997]
[null,null,null,null,null,null,null,null,null,null,null,null,null,null,null,null,null,null,null,null,null,null,null,null,null,null,null,null,0,{"$f":"AVERAGE(#REF!)","v":{"$error":"#REF!"}},-3.5620000000000003,-2.3660000000000005,2.87,-1.5779999999999998,0.38800000000000001,12.064000000000002,7.1777800000000003E-2,-5.3777999999999992E-2,-6.2666799999999995E-2]
[null,null,null,null,null,null,null,null,null,null,null,null,null,null,null,null,null,null,null,null,null,null,null,null,null,null,null,null,0,{"$f":"AVERAGE(#REF!)","v":{"$error":"#REF!"}},-4.1280000000000001,-2.3460000000000001,-0.59,-2.3380000000000001,-0.27799999999999997,8.8219999999999992,-6.4888799999999996E-2,3.2666600000000004E-2,-1.9555800000000002E-2]
[null,null,null,null,null,null,null,null,null,null,null,null,null,null,null,null,null,null,null,null,null,null,null,null,null,null,null,null,0,{"$f":"AVERAGE(#REF!)","v":{"$error":"#REF!"}},-3.6100000000000003,-2.8899999999999997,0.502,-2.9380000000000002,-8.2000000000000031E-2,8.3020000000000014,-6.0888800000000007E-2,4.1777800000000011E-2,-2.66664E-2]
[null,null,null,null,null,null,null,null,null,null,null,null,null,null,null,null,null,null,null,null,null,null,null,null,null,null,null,null,0,{"$f":"AVERAGE(#REF!)","v":{"$error":"#REF!"}},-3.5680000000000001,-3.6240000000000001,-1.8299999999999996,-1.238,0.10399999999999995,8.3180000000000014,-0.91422219999999998,1.5333399999999997E-2,-0.38022220000000001]
[null,null,null,null,null,null,null,null,null,null,null,null,null,null,null,null,null,null,null,null,null,null,null,null,null,null,null,null,0,{"$f":"AVERAGE(#REF!)","v":{"$error":"#REF!"}},-3.6619999999999999,-3.0219999999999998,-6.2000000000000076E-2,-1.544,4.2000000000000023E-2,12.032,0.10733319999999999,-1.7999999999999999E-2,1.7777599999999998E-2]
[null,null,null,null,null,null,null,null,null,null,null,null,null,null,null,null,null,null,null,null,null,null,null,null,null,null,null,null,0,{"$f":"AVERAGE(#REF!)","v":{"$error":"#REF!"}},-3.6360000000000001,-1.5720000000000001,0.62000000000000011,-2.3300000000000005,-0.38800000000000001,8.7679999999999989,-1.9111E-2,1.4888999999999999E-2,-1.9555400000000001E-2]
[null,null,null,null,null,null,null,null,null,null,null,null,null,null,null,null,null,null,null,null,null,null,null,null,null,null,null,null,0,{"$f":"AVERAGE(#REF!)","v":{"$error":"#REF!"}},-2.8240000000000003,-0.58200000000000007,-0.40200000000000014,-1.1039999999999999,0.748,9.1399999999999988,0.86044419999999988,-1.84444E-2,0.2226668]
[null,null,null,null,null,null,null,null,null,null,null,null,null,null,null,null,null,null,null,null,null,null,null,null,null,null,null,null,0,{"$f":"AVERAGE(#REF!)","v":{"$error":"#REF!"}},-3.5819999999999999,-2.496,-1.3080000000000003,-1.81,-0.22399999999999998,8.0599999999999987,-0.11955560000000001,2.53332E-2,-3.5333400000000001E-2]
[null,null,null,null,null,null,null,null,null,null,null,null,null,null,null,null,null,null,null,null,null,null,null,null,null,null,null,null,0,{"$f":"AVERAGE(#REF!)","v":{"$error":"#REF!"}},-4.0620000000000003,-2.2360000000000002,-6.6000000000000017E-2,-2.4080000000000004,-0.29799999999999999,9.3979999999999997,-3.7333400000000003E-2,-9.1109999999999993E-3,-1.9333400000000001E-2]
[null,null,null,null,null,null,null,null,null,null,null,null,null,null,null,null,null,null,null,null,null,null,null,null,null,null,null,null,0,{"$f":"AVERAGE(#REF!)","v":{"$error":"#REF!"}},-4.1760000000000002,-2.4780000000000002,-1.4239999999999999,-2.37,0.192,7.8259999999999987,-9.2444600000000002E-2,1.1109999999999981E-3,-9.1555800000000007E-2]
[null,null,null,null,null,null,null,null,null,null,null,null,null,null,null,null,null,null,null,null,null,null,null,null,null,null,null,null,0,{"$f":"AVERAGE(#REF!)","v":{"$error":"#REF!"}},-4.7060000000000004,-2.1380000000000003,-0.6180000000000001,-3.1279999999999997,-0.74399999999999999,8.9539999999999988,-7.1333400000000005E-2,9.1112000000000016E-3,2.2889E-2]
[null,null,null,null,null,null,null,null,null,null,null,null,null,null,null,null,null,null,null,null,null,null,null,null,null,null,null,null,0,{"$f":"AVERAGE(#REF!)","v":{"$error":"#REF!"}},-3.8919999999999995,-2.5460000000000003,2.6280000000000001,-2.0159999999999996,0.35,11.803999999999998,-6.8666599999999994E-2,-2.5777600000000001E-2,-9.8888999999999991E-2]
[null,null,null,null,null,null,null,null,null,null,null,null,null,null,null,null,null,null,null,null,null,null,null,null,null,null,null,null,0,{"$f":"AVERAGE(#REF!)","v":{"$error":"#REF!"}},-3.8600000000000003,-2.7240000000000002,0.40599999999999997,-1.9239999999999999,0.49000000000000005,9.4400000000000013,0.95888899999999988,-5.9777799999999992E-2,0.2828888]
[null,null,null,null,null,null,null,null,null,null,null,null,null,null,null,null,null,null,null,null,null,null,null,null,null,null,null,null,0,{"$f":"AVERAGE(#REF!)","v":{"$error":"#REF!"}},-3.05,-1.7399999999999998,1.2440000000000002,-1.238,3.999999999999981E-3,10.715999999999999,3.1777600000000003E-2,-2.2220000000000296E-4,7.5554000000000012E-3]
[null,null,null,null,null,null,null,null,null,null,null,null,null,null,null,null,null,null,null,null,null,null,null,null,null,null,null,null,0,{"$f":"AVERAGE(#REF!)","v":{"$error":"#REF!"}},-4.05,-1.6519999999999999,1.8699999999999999,-2.206,6.4000000000000015E-2,11.344000000000001,-8.6666E-3,-5.8889000000000004E-2,1.3333399999999999E-2]
[null,null,null,null,null,null,null,null,null,null,null,null,null,null,null,null,null,null,null,null,null,null,null,null,null,null,null,null,0,{"$f":"AVERAGE(#REF!)","v":{"$error":"#REF!"}},-4.1479999999999997,-2.0740000000000003,-7.3999999999999844E-2,-2.3380000000000001,-0.47199999999999998,9.4220000000000006,1.3111000000000001E-2,-1.5777799999999998E-2,2.1111399999999995E-2]
[null,null,null,null,null,null,null,null,null,null,null,null,null,null,null,null,null,null,null,null,null,null,null,null,null,null,null,null,0,{"$f":"AVERAGE(#REF!)","v":{"$error":"#REF!"}},-4.2960000000000003,-1.4120000000000001,1.5999999999999924E-2,-1.752,0.66799999999999993,10.146000000000001,1.5111400000000001E-2,1.8889E-2,2.2221999999999997E-3]
[null,null,null,null,null,null,null,null,null,null,null,null,null,null,null,null,null,null,null,null,null,null,null,null,null,null,null,null,0,{"$f":"AVERAGE(#REF!)","v":{"$error":"#REF!"}},-3.5179999999999998,-1.9880000000000002,0.94400000000000017,-1.1960000000000002,-0.70799999999999996,10.906000000000001,-2.99998E-2,1.8000200000000008E-2,2.2220000000000001E-4]
[null,null,null,null,null,null,null,null,null,null,null,null,null,null,null,null,null,null,null,null,null,null,null,null,null,null,null,null,0,{"$f":"AVERAGE(#REF!)","v":{"$error":"#REF!"}},-4.5699999999999994,-1.55,-0.54800000000000015,-2.4,0.34,8.8219999999999992,3.3333199999999993E-2,1.1111999999999984E-3,8.2223999999999995E-3]
[null,null,null,null,null,null,null,null,null,null,null,null,null,null,null,null,null,null,null,null,null,null,null,null,null,null,null,null,0,{"$f":"AVERAGE(#REF!)","v":{"$error":"#REF!"}},-4.9740000000000002,-2.1539999999999999,-1.0859999999999999,-2.8079999999999998,-0.21800000000000003,8.2739999999999991,-1.33332E-2,-1.86664E-2,-7.3331999999999998E-3]
[null,null,null,null,null,null,null,null,null,null,null,null,null,null,null,null,null,null,null,null,null,null,null,null,null,null,null,null,0,{"$f":"AVERAGE(#REF!)","v":{"$error":"#REF!"}},-4.6500000000000004,-0.77600000000000002,1.8199999999999998,-2.5019999999999998,1.1280000000000001,11.193999999999999,-1.2222399999999998E-2,1.7333400000000002E-2,-1.7778000000000002E-3]
[null,null,null,null,null,null,null,null,null,null,null,null,null,null,null,null,null,null,null,null,null,null,null,null,null,null,null,null,0,{"$f":"AVERAGE(#REF!)","v":{"$error":"#REF!"}},-1.9,-2.7320000000000002,1.6579999999999999,9.7999999999999907E-2,-1.0080000000000002,11.093999999999999,-4.2666599999999999E-2,-3.7333400000000003E-2,8.2224000000000012E-3]
[null,null,null,null,null,null,null,null,null,null,null,null,null,null,null,null,null,null,null,null,null,null,null,null,null,null,null,null,0,{"$f":"AVERAGE(#REF!)","v":{"$error":"#REF!"}},-3.8600000000000003,-0.72399999999999998,-0.83399999999999996,-1.9359999999999999,1.1839999999999999,8.58,-2.6663999999999993E-3,6.2224000000000003E-3,-7.1112000000000007E-3]
[null,null,null,null,null,null,null,null,null,null,null,null,null,null,null,null,null,null,null,null,null,null,null,null,null,null,null,null,0,{"$f":"AVERAGE(#REF!)","v":{"$error":"#REF!"}},-3.66,-2.6179999999999999,0.38399999999999979,-1.8380000000000003,-1.004,9.8820000000000014,-1.3777999999999995E-2,2.8888000000000026E-3,1.77778E-2]
[null,null,null,null,null,null,null,null,null,null,null,null,null,null,null,null,null,null,null,null,null,null,null,null,null,null,null,null,0,{"$f":"AVERAGE(#REF!)","v":{"$error":"#REF!"}},-3.59,-2.2960000000000003,0.74,-1.8740000000000001,-0.45400000000000001,10.209999999999999,-1.24446E-2,1.35554E-2,-1.3332000000000001E-3]
[null,null,null,null,null,null,null,null,null,null,null,null,null,null,null,null,null,null,null,null,null,null,null,null,null,null,null,null,0,{"$f":"AVERAGE(#REF!)","v":{"$error":"#REF!"}},-4.2900000000000009,-2.254,0.46800000000000008,-2.5579999999999998,-0.502,9.9520000000000017,1.5555599999999999E-2,-2.2219999999999741E-4,7.5556000000000009E-3]
[null,null,null,null,null,null,null,null,null,null,null,null,null,null,null,null,null,null,null,null,null,null,null,null,null,null,null,null,0,{"$f":"AVERAGE(#REF!)","v":{"$error":"#REF!"}},{"$f":"AVERAGE(Q19970:Q19974)","v":-3.7359999999999998},{"$f":"AVERAGE(R19970:R19974)","v":-2.5219999999999998},{"$f":"AVERAGE(S19970:S19974)","v":0.66600000000000015},{"$f":"AVERAGE(T19970:T19974)","v":-1.8719999999999999},{"$f":"AVERAGE(U19970:U19974)","v":-0.73199999999999998},{"$f":"AVERAGE(V19970:V19974)","v":10.120000000000001},{"$f":"AVERAGE(W19970:W19974)","v":-1.33334E-2},{"$f":"AVERAGE(X19970:X19974)","v":-3.3110999999999995E-2},{"$f":"AVERAGE(Y19970:Y19974)","v":4.8888000000000004E-3}]
[null,null,null,null,null,null,null,null,null,null,null,null,null,null,null,null,null,null,null,null,null,null,null,null,null,null,null,null,0,{"$f":"AVERAGE(#REF!)","v":{"$error":"#REF!"}},-4.9079999999999995,-0.66599999999999993,-2.0479999999999996,-2.8780000000000001,1.1719999999999999,7.3639999999999999,1.02224E-2,4.8222200000000007E-2,-1.7778000000000002E-3]
[null,null,null,null,null,null,null,null,null,null,null,null,null,null,null,null,null,null,null,null,null,null,null,null,null,null,null,null,0,{"$f":"AVERAGE(#REF!)","v":{"$error":"#REF!"}},{"$f":"AVERAGE(Q20034:Q20038)","v":-4.6019999999999994},{"$f":"AVERAGE(R20034:R20038)","v":-2.0019999999999998},{"$f":"AVERAGE(S20034:S20038)","v":0.24799999999999994},{"$f":"AVERAGE(T20034:T20038)","v":-2.41},{"$f":"AVERAGE(U20034:U20038)","v":-0.32599999999999996},{"$f":"AVERAGE(V20034:V20038)","v":9.65},{"$f":"AVERAGE(W20034:W20038)","v":-1.9997999999999986E-3},{"$f":"AVERAGE(X20034:X20038)","v":2.44446E-2},{"$f":"AVERAGE(Y20034:Y20038)","v":-8.8880000000000003E-4}]
[null,null,null,null,null,null,null,null,null,null,null,null,null,null,null,null,null,null,null,null,null,null,null,null,null,null,null,null,0,{"$f":"AVERAGE(#REF!)","v":{"$error":"#REF!"}},-5.32,-1.9600000000000002,2.5819999999999999,-2.8979999999999997,0.13799999999999998,11.844000000000001,9.4888799999999995E-2,-3.0000000000000006E-2,1.51112E-2]
[null,null,null,null,null,null,null,null,null,null,null,null,null,null,null,null,null,null,null,null,null,null,null,null,null,null,null,null,0,{"$f":"AVERAGE(#REF!)","v":{"$error":"#REF!"}},-3.4739999999999993,-2.38,-0.20800000000000002,-0.98000000000000009,0.41999999999999993,8.8460000000000001,0.22355540000000002,-2.1333400000000009E-2,2.6222000000000002E-2]
[null,null,null,null,null,null,null,null,null,null,null,null,null,null,null,null,null,null,null,null,null,null,null,null,null,null,null,null,0,{"$f":"AVERAGE(#REF!)","v":{"$error":"#REF!"}},-4.92,-4.5920000000000005,1.6960000000000002,-2.3940000000000001,3.400000000000003E-2,9.9599999999999991,1.4000199999999999E-2,-6.2444399999999997E-2,-7.7111200000000005E-2]
[null,null,null,null,null,null,null,null,null,null,null,null,null,null,null,null,null,null,null,null,null,null,null,null,null,null,null,null,0,{"$f":"AVERAGE(#REF!)","v":{"$error":"#REF!"}},-4.2700000000000005,-3.8319999999999999,2.4,-1.8280000000000001,1.018,10.556000000000001,-1.0000199999999999E-2,-3.2889000000000002E-2,-8.3999799999999986E-2]
[null,null,null,null,null,null,null,null,null,null,null,null,null,null,null,null,null,null,null,null,null,null,null,null,null,null,null,null,0,{"$f":"AVERAGE(#REF!)","v":{"$error":"#REF!"}},-3.8839999999999995,-3.7319999999999993,0.55999999999999994,-2.3140000000000001,-6.7999999999999991E-2,9.0400000000000009,-3.7333400000000003E-2,5.7778000000000013E-3,-8.8888000000000005E-3]
[null,null,null,null,null,null,null,null,null,null,null,null,null,null,null,null,null,null,null,null,null,null,null,null,null,null,null,null,0,{"$f":"AVERAGE(#REF!)","v":{"$error":"#REF!"}},{"$f":"AVERAGE(Q20226:Q20230)","v":-4.7039999999999997},{"$f":"AVERAGE(R20226:R20230)","v":-3.55},{"$f":"AVERAGE(S20226:S20230)","v":-1.6600000000000001},{"$f":"AVERAGE(T20226:T20230)","v":-1.9200000000000004},{"$f":"AVERAGE(U20226:U20230)","v":0.57000000000000006},{"$f":"AVERAGE(V20226:V20230)","v":9.5339999999999989},{"$f":"AVERAGE(W20226:W20230)","v":-1.5554000000000013E-3},{"$f":"AVERAGE(X20226:X20230)","v":8.8887999999999971E-3},{"$f":"AVERAGE(Y20226:Y20230)","v":-1.3332000000000001E-3}]
[null,null,null,null,null,null,null,null,null,null,null,null,null,null,null,null,null,null,null,null,null,null,null,null,null,null,null,null,0,{"$f":"AVERAGE(#REF!)","v":{"$error":"#REF!"}},-4.4020000000000001,-2.3840000000000003,0.99400000000000011,-2.6160000000000001,0.19800000000000001,6.3820000000000006,-4.844459999999999E-2,0.03,9.3334000000000004E-3]
[null,null,null,null,null,null,null,null,null,null,null,null,null,null,null,null,null,null,null,null,null,null,null,null,null,null,null,null,0,{"$f":"AVERAGE(#REF!)","v":{"$error":"#REF!"}},{"$f":"AVERAGE(Q20290:Q20294)","v":-4.6079999999999997},{"$f":"AVERAGE(R20290:R20294)","v":-2.0720000000000001},{"$f":"AVERAGE(S20290:S20294)","v":0.70799999999999996},{"$f":"AVERAGE(T20290:T20294)","v":-2.2199999999999998},{"$f":"AVERAGE(U20290:U20294)","v":3.3999999999999982E-2},{"$f":"AVERAGE(V20290:V20294)","v":9.6739999999999995},{"$f":"AVERAGE(W20290:W20294)","v":-2.4666799999999999E-2},{"$f":"AVERAGE(X20290:X20294)","v":-5.5555999999999991E-3},{"$f":"AVERAGE(Y20290:Y20294)","v":3.7333199999999997E-2}]
[null,null,null,null,null,null,null,null,null,null,null,null,null,null,null,null,null,null,null,null,null,null,null,null,null,null,null,null,0,{"$f":"AVERAGE(#REF!)","v":{"$error":"#REF!"}},-4.1980000000000004,-0.75,2.9680000000000004,-1.8919999999999999,-8.4000000000000005E-2,12.474,4.46668E-2,-5.3777800000000001E-2,0.11488880000000001]
[null,null,null,null,null,null,null,null,null,null,null,null,null,null,null,null,null,null,null,null,null,null,null,null,null,null,null,null,0,{"$f":"AVERAGE(#REF!)","v":{"$error":"#REF!"}},-5.2939999999999996,-1.044,2.8000000000000025E-2,-2.9660000000000002,-6.0000000000000053E-3,9.4959999999999987,0.1022222,4.4448000000000005E-3,9.8666600000000007E-2]
[null,null,null,null,null,null,null,null,null,null,null,null,null,null,null,null,null,null,null,null,null,null,null,null,null,null,null,null,0,{"$f":"AVERAGE(#REF!)","v":{"$error":"#REF!"}},-5.2039999999999988,-4.1859999999999999,-0.99,-2.8259999999999996,-2.964,8.4400000000000013,-2.97778E-2,2.4666799999999996E-2,3.5777599999999993E-2]
[null,null,null,null,null,null,null,null,null,null,null,null,null,null,null,null,null,null,null,null,null,null,null,null,null,null,null,null,0,{"$f":"AVERAGE(#REF!)","v":{"$error":"#REF!"}},-5.0020000000000007,-1.6259999999999999,-7.3999999999999982E-2,-2.6179999999999999,8.199999999999999E-2,9.2780000000000005,1.6889000000000001E-2,-3.333399999999999E-3,5.1110000000000001E-3]
[null,null,null,null,null,null,null,null,null,null,null,null,null,null,null,null,null,null,null,null,null,null,null,null,null,null,null,null,0,{"$f":"AVERAGE(#REF!)","v":{"$error":"#REF!"}},-6.1480000000000006,-2.254,-1.222,-3.8540000000000001,-0.36599999999999999,8.1159999999999997,-3.1108000000000012E-3,1.9777800000000002E-2,-3.6222199999999996E-2]
[null,null,null,null,null,null,null,null,null,null,null,null,null,null,null,null,null,null,null,null,null,null,null,null,null,null,null,null,0,{"$f":"AVERAGE(#REF!)","v":{"$error":"#REF!"}},-5.55,-1.7120000000000002,-7.000000000000009E-2,-3.3140000000000001,8.5999999999999938E-2,9.3000000000000007,-4.000000000000001E-3,6.889000000000001E-3,-3.7778E-3]
[null,null,null,null,null,null,null,null,null,null,null,null,null,null,null,null,null,null,null,null,null,null,null,null,null,null,null,null,0,{"$f":"AVERAGE(#REF!)","v":{"$error":"#REF!"}},-5.5119999999999996,-2.1059999999999999,-8.7999999999999967E-2,-3.3560000000000003,-0.47199999999999998,9.33,3.4889000000000003E-2,9.5555999999999992E-3,3.2222199999999999E-2]
[null,null,null,null,null,null,null,null,null,null,null,null,null,null,null,null,null,null,null,null,null,null,null,null,null,null,null,null,0,{"$f":"AVERAGE(#REF!)","v":{"$error":"#REF!"}},-6.3680000000000003,-1.3699999999999999,-0.26599999999999996,-4.2879999999999994,0.23399999999999999,9.1739999999999995,2.1777999999999999E-2,-5.7778000000000013E-3,2.99998E-2]
[null,null,null,null,null,null,null,null,null,null,null,null,null,null,null,null,null,null,null,null,null,null,null,null,null,null,null,null,0,{"$f":"AVERAGE(#REF!)","v":{"$error":"#REF!"}},-6.1879999999999997,-1.64,0.67799999999999994,-4.0939999999999994,0.1,10.096,-1.8666599999999998E-2,-5.5556000000000008E-3,-3.1333399999999997E-2]
[null,null,null,null,null,null,null,null,null,null,null,null,null,null,null,null,null,null,null,null,null,null,null,null,null,null,null,null,0,{"$f":"AVERAGE(#REF!)","v":{"$error":"#REF!"}},-5.6579999999999995,-1.9159999999999999,-0.57800000000000007,-3.6399999999999997,-0.09,8.8360000000000021,1.8444599999999998E-2,-2.2221999999999988E-3,8.8899999999999982E-4]
[null,null,null,null,null,null,null,null,null,null,null,null,null,null,null,null,null,null,null,null,null,null,null,null,null,null,null,null,0,{"$f":"AVERAGE(#REF!)","v":{"$error":"#REF!"}},-5.4079999999999995,-2.1579999999999999,-0.64399999999999991,-3.4140000000000001,-0.74600000000000011,8.8439999999999994,-4.7778000000000001E-2,5.1112000000000006E-3,-1.7555599999999998E-2]
[null,null,null,null,null,null,null,null,null,null,null,null,null,null,null,null,null,null,null,null,null,null,null,null,null,null,null,null,0,{"$f":"AVERAGE(#REF!)","v":{"$error":"#REF!"}},-3.028,-1.5640000000000001,0.38200000000000001,-1.1480000000000001,0.12599999999999997,9.854000000000001,3.9333400000000004E-2,-1.0888600000000002E-2,1.0666799999999999E-2]
[null,null,null,null,null,null,null,null,null,null,null,null,null,null,null,null,null,null,null,null,null,null,null,null,null,null,null,null,0,{"$f":"AVERAGE(#REF!)","v":{"$error":"#REF!"}},-2.8039999999999998,-2.0140000000000002,0.52600000000000002,-0.89799999999999991,-0.42200000000000004,10.001999999999999,-7.1113999999999986E-3,-2.2200000000000068E-4,0.10622240000000001]
[null,null,null,null,null,null,null,null,null,null,null,null,null,null,null,null,null,null,null,null,null,null,null,null,null,null,null,null,0,{"$f":"AVERAGE(#REF!)","v":{"$error":"#REF!"}},-2.8740000000000001,-1.6960000000000002,0.24399999999999994,-0.77200000000000002,-9.5999999999999946E-2,9.6840000000000011,-2.8887999999999995E-3,-5.7777999999999996E-3,1.1110999999999999E-2]
[null,null,null,null,null,null,null,null,null,null,null,null,null,null,null,null,null,null,null,null,null,null,null,null,null,null,null,null,0,{"$f":"AVERAGE(#REF!)","v":{"$error":"#REF!"}},-4.4119999999999999,-1.9179999999999999,0.13400000000000012,-2.5059999999999998,-0.246,9.6,-4.6888800000000001E-2,4.7111000000000007E-2,-3.3777800000000004E-2]
[null,null,null,null,null,null,null,null,null,null,null,null,null,null,null,null,null,null,null,null,null,null,null,null,null,null,null,null,0,{"$f":"AVERAGE(#REF!)","v":{"$error":"#REF!"}},-2.6079999999999997,-1.258,-0.27599999999999997,-0.26599999999999996,-0.13999999999999999,9.8979999999999997,1.9110999999999996E-2,2.5555400000000006E-2,1.0666399999999999E-2]
[null,null,null,null,null,null,null,null,null,null,null,null,null,null,null,null,null,null,null,null,null,null,null,null,null,null,null,null,0,{"$f":"AVERAGE(#REF!)","v":{"$error":"#REF!"}},-1.48,-1.4259999999999999,2.9,5.9999999999999611E-3,3.3999999999999996E-2,11.222,3.7555600000000008E-2,1.9555400000000001E-2,1.6444400000000001E-2]
[null,null,null,null,null,null,null,null,null,null,null,null,null,null,null,null,null,null,null,null,null,null,null,null,null,null,null,null,0,{"$f":"AVERAGE(#REF!)","v":{"$error":"#REF!"}},-2.3620000000000001,-1.1759999999999999,-0.12600000000000006,-1.1640000000000001,0.33800000000000002,9.8520000000000003,-1.7555599999999998E-2,1.0888999999999999E-2,8.8880000000000003E-4]
[null,null,null,null,null,null,null,null,null,null,null,null,null,null,null,null,null,null,null,null,null,null,null,null,null,null,null,null,0,{"$f":"AVERAGE(#REF!)","v":{"$error":"#REF!"}},-4.4139999999999997,-1.47,-1.9440000000000002,-2.556,-0.14199999999999999,7.5860000000000003,-4.9111000000000002E-2,-1.0666600000000002E-2,-5.5555999999999982E-3]
[null,null,null,null,null,null,null,null,null,null,null,null,null,null,null,null,null,null,null,null,null,null,null,null,null,null,null,null,0,{"$f":"AVERAGE(#REF!)","v":{"$error":"#REF!"}},-3.8880000000000003,-0.97,0.77,-1.9200000000000004,0.3,10.288,1.8222200000000001E-2,-3.3777799999999997E-2,1.4444400000000001E-2]
[null,null,null,null,null,null,null,null,null,null,null,null,null,null,null,null,null,null,null,null,null,null,null,null,null,null,null,null,0,{"$f":"AVERAGE(#REF!)","v":{"$error":"#REF!"}},-4.4340000000000002,-1.4819999999999998,0.59199999999999986,-2.3220000000000001,-0.24600000000000005,10.081999999999999,6.2220000000000001E-3,-2.1111000000000001E-2,2.4444399999999998E-2]
[null,null,null,null,null,null,null,null,null,null,null,null,null,null,null,null,null,null,null,null,null,null,null,null,null,null,null,null,0,{"$f":"AVERAGE(#REF!)","v":{"$error":"#REF!"}},-4.2439999999999998,-1.3440000000000001,1.2099999999999997,-1.8879999999999999,0.21199999999999997,10.596,2.4222199999999999E-2,1.35554E-2,1.1110000000000002E-3]
[null,null,null,null,null,null,null,null,null,null,null,null,null,null,null,null,null,null,null,null,null,null,null,null,null,null,null,null,0,{"$f":"AVERAGE(#REF!)","v":{"$error":"#REF!"}},-4.6879999999999997,-1.522,0,-2.3519999999999999,-0.18599999999999997,9.4260000000000002,-4.7111E-2,-6.6660000000000124E-4,-8.2222000000000007E-3]
[null,null,null,null,null,null,null,null,null,null,null,null,null,null,null,null,null,null,null,null,null,null,null,null,null,null,null,null,0,{"$f":"AVERAGE(#REF!)","v":{"$error":"#REF!"}},-3.9220000000000006,-0.9880000000000001,1.294,-1.7439999999999998,-0.32400000000000001,10.825999999999999,-0.12044440000000001,-1.7333400000000002E-2,6.0001999999999989E-3]
[null,null,null,null,null,null,null,null,null,null,null,null,null,null,null,null,null,null,null,null,null,null,null,null,null,null,null,null,0,{"$f":"AVERAGE(#REF!)","v":{"$error":"#REF!"}},-4.4120000000000008,-0.65800000000000003,-0.70199999999999996,-2.2519999999999998,-0.41799999999999998,8.8559999999999999,7.9997999999999996E-3,5.3333999999999994E-3,4.5110999999999998E-2]
[null,null,null,null,null,null,null,null,null,null,null,null,null,null,null,null,null,null,null,null,null,null,null,null,null,null,null,null,0,{"$f":"AVERAGE(#REF!)","v":{"$error":"#REF!"}},-4.5040000000000004,0.752,0.65000000000000013,-2.4339999999999997,0.57199999999999995,10.23,7.5555799999999992E-2,2.4443999999999998E-3,6.88888E-2]
[null,null,null,null,null,null,null,null,null,null,null,null,null,null,null,null,null,null,null,null,null,null,null,null,null,null,null,null,0,{"$f":"AVERAGE(#REF!)","v":{"$error":"#REF!"}},-4.6920000000000002,-0.13199999999999998,-2.9420000000000002,-2.6520000000000001,0.20600000000000002,6.6379999999999999,6.5111199999999994E-2,2.3778000000000001E-2,3.0666599999999999E-2]
[null,null,null,null,null,null,null,null,null,null,null,null,null,null,null,null,null,null,null,null,null,null,null,null,null,null,null,null,0,{"$f":"AVERAGE(#REF!)","v":{"$error":"#REF!"}},-4.6619999999999999,-0.34600000000000009,0.434,-2.464,0.13199999999999998,9.9760000000000009,-4.8889999999999992E-3,-1.5333400000000001E-2,5.3334000000000003E-3]
[null,null,null,null,null,null,null,null,null,null,null,null,null,null,null,null,null,null,null,null,null,null,null,null,null,null,null,null,0,{"$f":"AVERAGE(#REF!)","v":{"$error":"#REF!"}},-3.9420000000000002,-0.53200000000000003,2.7079999999999993,-1.6880000000000002,0.10199999999999998,12.228,1.8444599999999998E-2,1.13334E-2,-3.5555999999999999E-3]
[null,null,null,null,null,null,null,null,null,null,null,null,null,null,null,null,null,null,null,null,null,null,null,null,null,null,null,null,0,{"$f":"AVERAGE(#REF!)","v":{"$error":"#REF!"}},-4.7840000000000007,-0.67200000000000004,-1.1760000000000002,-2.3419999999999996,-0.22200000000000003,8.3079999999999998,3.4222000000000002E-2,-5.3333999999999994E-3,1.0222199999999997E-2]
[null,null,null,null,null,null,null,null,null,null,null,null,null,null,null,null,null,null,null,null,null,null,null,null,null,null,null,null,0,{"$f":"AVERAGE(#REF!)","v":{"$error":"#REF!"}},-5.048,-0.51,-2.984,-2.5119999999999996,0.10999999999999999,6.4640000000000004,8.0000000000000002E-3,5.3334000000000046E-3,-4.4440000000000001E-4]
[null,null,null,null,null,null,null,null,null,null,null,null,null,null,null,null,null,null,null,null,null,null,null,null,null,null,null,null,0,{"$f":"AVERAGE(#REF!)","v":{"$error":"#REF!"}},-3.8759999999999999,0.30999999999999994,2.0499999999999998,-1.3220000000000001,0.8620000000000001,11.497999999999999,-2.53332E-2,-4.5111200000000004E-2,-2.0000000000000005E-3]
[null,null,null,null,null,null,null,null,null,null,null,null,null,null,null,null,null,null,null,null,null,null,null,null,null,null,null,null,0,{"$f":"AVERAGE(#REF!)","v":{"$error":"#REF!"}},-5.4279999999999999,-0.6,-0.91200000000000048,-1.1559999999999999,-0.71199999999999997,7.4139999999999997,7.8666600000000003E-2,-5.6666799999999996E-2,2.46666E-2]
[null,null,null,null,null,null,null,null,null,null,null,null,null,null,null,null,null,null,null,null,null,null,null,null,null,null,null,null,0,{"$f":"AVERAGE(#REF!)","v":{"$error":"#REF!"}},-5.8879999999999999,-2.2299999999999995,0.96000000000000019,-3.9660000000000002,2.246,7.5400000000000009,0.31533320000000004,-5.8666799999999998E-2,-0.192]
[null,null,null,null,null,null,null,null,null,null,null,null,null,null,null,null,null,null,null,null,null,null,null,null,null,null,null,null,0,{"$f":"AVERAGE(#REF!)","v":{"$error":"#REF!"}},-4.9740000000000011,-3.044,3.1119999999999997,-2.7720000000000002,-0.66800000000000004,10.708,-0.43533319999999998,-6.7333599999999993E-2,-0.30599980000000004]
[null,null,null,null,null,null,null,null,null,null,null,null,null,null,null,null,null,null,null,null,null,null,null,null,null,null,null,null,0,{"$f":"AVERAGE(#REF!)","v":{"$error":"#REF!"}},-2.9619999999999997,-2.5979999999999999,2.4880000000000004,-2.5439999999999996,5.0000000000000024E-2,8.6260000000000012,-0.21577759999999996,4.6667999999999987E-3,-8.0222199999999994E-2]
[null,null,null,null,null,null,null,null,null,null,null,null,null,null,null,null,null,null,null,null,null,null,null,null,null,null,null,null,0,{"$f":"AVERAGE(#REF!)","v":{"$error":"#REF!"}},-6.2380000000000004,-1.85,-2.2080000000000002,-4.2080000000000002,-0.10200000000000002,7.2220000000000013,-9.200019999999999E-2,-3.55556E-2,-3.0889E-2]
[null,null,null,null,null,null,null,null,null,null,null,null,null,null,null,null,null,null,null,null,null,null,null,null,null,null,null,null,0,{"$f":"AVERAGE(#REF!)","v":{"$error":"#REF!"}},-5.4320000000000004,-1.4,-1.6460000000000001,-3.4079999999999999,0.10200000000000001,7.83,1.33334E-2,-9.9555599999999994E-2,1.7555599999999998E-2]
[null,null,null,null,null,null,null,null,null,null,null,null,null,null,null,null,null,null,null,null,null,null,null,null,null,null,null,null,0,{"$f":"AVERAGE(#REF!)","v":{"$error":"#REF!"}},-4.0220000000000002,-0.8640000000000001,3.1520000000000001,-1.6960000000000002,0.97399999999999998,12.496,-3.3332000000000023E-3,1.1111000000000001E-2,-9.5556000000000009E-3]
[null,null,null,null,null,null,null,null,null,null,null,null,null,null,null,null,null,null,null,null,null,null,null,null,null,null,null,null,0,{"$f":"AVERAGE(#REF!)","v":{"$error":"#REF!"}},-4.9820000000000002,-2.4160000000000004,0.30400000000000005,-2.37,-0.77,9.6080000000000005,-1.7776000000000001E-3,-2.3111000000000003E-2,6.8888000000000005E-3]
[null,null,null,null,null,null,null,null,null,null,null,null,null,null,null,null,null,null,null,null,null,null,null,null,null,null,null,null,0,{"$f":"AVERAGE(#REF!)","v":{"$error":"#REF!"}},-5.8680000000000003,-2.5160000000000005,-2.218,-2.8940000000000001,-0.312,6.8539999999999992,3.6888799999999999E-2,2.9333399999999999E-2,-1.3778000000000002E-2]
[null,null,null,null,null,null,null,null,null,null,null,null,null,null,null,null,null,null,null,null,null,null,null,null,null,null,null,null,0,{"$f":"AVERAGE(#REF!)","v":{"$error":"#REF!"}},{"$f":"AVERAGE(Q21762:Q21766)","v":-5.0179999999999989},{"$f":"AVERAGE(R21762:R21766)","v":-2.8759999999999999},{"$f":"AVERAGE(S21762:S21766)","v":1.028},{"$f":"AVERAGE(T21762:T21766)","v":-1.9979999999999998},{"$f":"AVERAGE(U21762:U21766)","v":0.11199999999999999},{"$f":"AVERAGE(V21762:V21766)","v":9.8559999999999999},{"$f":"AVERAGE(W21762:W21766)","v":7.3111000000000009E-2},{"$f":"AVERAGE(X21762:X21766)","v":-4.4666799999999993E-2},{"$f":"AVERAGE(Y21762:Y21766)","v":-3.3333399999999999E-2}]
[null,null,null,null,null,null,null,null,null,null,null,null,null,null,null,null,null,null,null,null,null,null,null,null,null,null,null,null,0,{"$f":"AVERAGE(#REF!)","v":{"$error":"#REF!"}},-2.972,-3.3160000000000003,4.8020000000000005,5.2000000000000025E-2,0.66,13.238,3.9777800000000002E-2,-4.6888799999999994E-2,-7.2444399999999992E-2]
[null,null,null,null,null,null,null,null,null,null,null,null,null,null,null,null,null,null,null,null,null,null,null,null,null,null,null,null,0,{"$f":"AVERAGE(#REF!)","v":{"$error":"#REF!"}},{"$f":"AVERAGE(Q21826:Q21830)","v":-4.9400000000000004},{"$f":"AVERAGE(R21826:R21830)","v":-3.4380000000000002},{"$f":"AVERAGE(S21826:S21830)","v":2.7120000000000002},{"$f":"AVERAGE(T21826:T21830)","v":-2.3420000000000001},{"$f":"AVERAGE(U21826:U21830)","v":0.56800000000000006},{"$f":"AVERAGE(V21826:V21830)","v":11.273999999999999},{"$f":"AVERAGE(W21826:W21830)","v":6.9333400000000017E-2},{"$f":"AVERAGE(X21826:X21830)","v":-3.5777800000000005E-2},{"$f":"AVERAGE(Y21826:Y21830)","v":-4.7111E-2}]
[null,null,null,null,null,null,null,null,null,null,null,null,null,null,null,null,null,null,null,null,null,null,null,null,null,null,null,null,0,{"$f":"AVERAGE(#REF!)","v":{"$error":"#REF!"}},-4.9560000000000004,-4.0340000000000007,0.83200000000000007,-2.4779999999999998,0.54600000000000004,9.129999999999999,9.3333399999999983E-2,-7.6666600000000001E-2,-3.31112E-2]
[null,null,null,null,null,null,null,null,null,null,null,null,null,null,null,null,null,null,null,null,null,null,null,null,null,null,null,null,0,{"$f":"AVERAGE(#REF!)","v":{"$error":"#REF!"}},-4.0939999999999994,-3.758,-2.5100000000000002,-2.3780000000000001,-0.74399999999999999,6.6240000000000006,-1.1651111999999999,7.8889000000000001E-2,-0.27844440000000004]
[null,null,null,null,null,null,null,null,null,null,null,null,null,null,null,null,null,null,null,null,null,null,null,null,null,null,null,null,0,{"$f":"AVERAGE(#REF!)","v":{"$error":"#REF!"}},-3.5700000000000003,-0.32999999999999996,4.742,-2.0260000000000002,-0.29799999999999993,14.422000000000001,-0.21644440000000001,-0.14177780000000001,0.30199999999999999]
[null,null,null,null,null,null,null,null,null,null,null,null,null,null,null,null,null,null,null,null,null,null,null,null,null,null,null,null,0,{"$f":"AVERAGE(#REF!)","v":{"$error":"#REF!"}},-4.0299999999999994,-4.3140000000000001,-4.9340000000000002,-2.4119999999999999,-0.59599999999999997,3.9420000000000002,-1.439111,0.1675556,-0.39088880000000004]
[null,null,null,null,null,null,null,null,null,null,null,null,null,null,null,null,null,null,null,null,null,null,null,null,null,null,null,null,0,{"$f":"AVERAGE(#REF!)","v":{"$error":"#REF!"}},-2.46,-1.3580000000000001,-2.2240000000000002,-0.61599999999999988,-1.1559999999999999,7.3860000000000001,0.6786665999999999,-0.18377760000000004,0.42022219999999999]
[null,null,null,null,null,null,null,null,null,null,null,null,null,null,null,null,null,null,null,null,null,null,null,null,null,null,null,null,0,{"$f":"AVERAGE(#REF!)","v":{"$error":"#REF!"}},-3.714,-2.9760000000000004,2.444,-2.1659999999999999,7.2000000000000008E-2,9.8439999999999994,3.7333400000000003E-2,-1.0221999999999998E-2,2.1555600000000001E-2]
[null,null,null,null,null,null,null,null,null,null,null,null,null,null,null,null,null,null,null,null,null,null,null,null,null,null,null,null,0,{"$f":"AVERAGE(#REF!)","v":{"$error":"#REF!"}},-3.944,-3.492,0.66199999999999992,-2.5259999999999998,-0.34599999999999997,8.5139999999999993,4.4444000000000003E-3,-2.8000000000000004E-2,-6.2224000000000003E-3]
[null,null,null,null,null,null,null,null,null,null,null,null,null,null,null,null,null,null,null,null,null,null,null,null,null,null,null,null,0,{"$f":"AVERAGE(#REF!)","v":{"$error":"#REF!"}},-4.516,-3.556,0.53200000000000003,-1.5680000000000001,-0.57200000000000006,9.8099999999999987,-4.2224000000000003E-3,1.8222200000000001E-2,-7.5556E-3]
[null,null,null,null,null,null,null,null,null,null,null,null,null,null,null,null,null,null,null,null,null,null,null,null,null,null,null,null,0,{"$f":"AVERAGE(#REF!)","v":{"$error":"#REF!"}},-3.6640000000000001,-3.6179999999999999,4.8600000000000003,-1.23,0.42199999999999999,9.5860000000000003,9.111000000000001E-3,-1.6666600000000004E-2,2.6668000000000004E-3]
[null,null,null,null,null,null,null,null,null,null,null,null,null,null,null,null,null,null,null,null,null,null,null,null,null,null,null,null,0,{"$f":"AVERAGE(#REF!)","v":{"$error":"#REF!"}},-4.1379999999999999,-2.8039999999999998,2.3620000000000001,-1.7740000000000002,0.64800000000000002,11.228,-4.4443999999999985E-3,-3.6444400000000002E-2,3.1112000000000002E-3]
[null,null,null,null,null,null,null,null,null,null,null,null,null,null,null,null,null,null,null,null,null,null,null,null,null,null,null,null,0,{"$f":"AVERAGE(#REF!)","v":{"$error":"#REF!"}},{"$f":"AVERAGE(Q22210:Q22214)","v":-3.6619999999999999},{"$f":"AVERAGE(R22210:R22214)","v":-2.5840000000000005},{"$f":"AVERAGE(S22210:S22214)","v":3.6660000000000004},{"$f":"AVERAGE(T22210:T22214)","v":-1.3779999999999999},{"$f":"AVERAGE(U22210:U22214)","v":0.90399999999999991},{"$f":"AVERAGE(V22210:V22214)","v":12.540000000000001},{"$f":"AVERAGE(W22210:W22214)","v":-5.3334000000000003E-3},{"$f":"AVERAGE(X22210:X22214)","v":3.7999999999999999E-2},{"$f":"AVERAGE(Y22210:Y22214)","v":-1.9333199999999998E-2}]
[null,null,null,null,null,null,null,null,null,null,null,null,null,null,null,null,null,null,null,null,null,null,null,null,null,null,null,null,0,{"$f":"AVERAGE(#REF!)","v":{"$error":"#REF!"}},-4.968,-3.0819999999999999,-0.29399999999999993,-2.766,0.13400000000000001,8.6959999999999997,2.5111000000000001E-2,6.6664000000000003E-3,1.7555600000000001E-2]
[null,null,null,null,null,null,null,null,null,null,null,null,null,null,null,null,null,null,null,null,null,null,null,null,null,null,null,null,0,{"$f":"AVERAGE(#REF!)","v":{"$error":"#REF!"}},-4.6519999999999992,-3.1459999999999999,0.19200000000000009,-2.5119999999999996,0.182,9.1580000000000013,-2.2222000000000001E-3,4.2888800000000005E-2,1.0444400000000001E-2]
[null,null,null,null,null,null,null,null,null,null,null,null,null,null,null,null,null,null,null,null,null,null,null,null,null,null,null,null,0,{"$f":"AVERAGE(#REF!)","v":{"$error":"#REF!"}},-5.1400000000000006,-3.1880000000000002,3.3619999999999997,-3.03,0.20200000000000012,12.315999999999999,-1.2222200000000003E-2,0.06,6.6666E-3]
[null,null,null,null,null,null,null,null,null,null,null,null,null,null,null,null,null,null,null,null,null,null,null,null,null,null,null,null,0,{"$f":"AVERAGE(#REF!)","v":{"$error":"#REF!"}},-3.5619999999999998,-3.1339999999999999,3.1019999999999999,-1.468,0.25,12.059999999999999,5.0666600000000006E-2,-5.1777799999999999E-2,9.7776000000000009E-3]
[null,null,null,null,null,null,null,null,null,null,null,null,null,null,null,null,null,null,null,null,null,null,null,null,null,null,null,null,0,{"$f":"AVERAGE(#REF!)","v":{"$error":"#REF!"}},-4.8439999999999994,-3.4,-0.93800000000000006,-2.85,-6.3999999999999987E-2,8.0579999999999981,2.2221999999999997E-3,2.3333400000000004E-2,1.1110999999999999E-2]
[null,null,null,null,null,null,null,null,null,null,null,null,null,null,null,null,null,null,null,null,null,null,null,null,null,null,null,null,0,{"$f":"AVERAGE(#REF!)","v":{"$error":"#REF!"}},-9.3219999999999992,-3.1640000000000001,-1.8780000000000001,-7.8579999999999997,0.23000000000000004,7.194,3.6666799999999999E-2,4.5999599999999995E-2,1.4888800000000002E-2]
[null,null,null,null,null,null,null,null,null,null,null,null,null,null,null,null,null,null,null,null,null,null,null,null,null,null,null,null,0,{"$f":"AVERAGE(#REF!)","v":{"$error":"#REF!"}},-11.84,-3.3359999999999999,-2.7359999999999998,-10.592000000000001,0.26399999999999996,6.2919999999999998,3.4888799999999998E-2,2.4222199999999999E-2,-2.6666600000000002E-2]
[null,null,null,null,null,null,null,null,null,null,null,null,null,null,null,null,null,null,null,null,null,null,null,null,null,null,null,null,0,{"$f":"AVERAGE(#REF!)","v":{"$error":"#REF!"}},-3.9899999999999998,-4.4219999999999988,0.92599999999999993,-2.3719999999999999,-0.66999999999999993,9.84,-0.1026664,-1.9997999999999999E-3,-0.21466679999999999]
[null,null,null,null,null,null,null,null,null,null,null,null,null,null,null,null,null,null,null,null,null,null,null,null,null,null,null,null,0,{"$f":"AVERAGE(#REF!)","v":{"$error":"#REF!"}},-9.0259999999999998,-2.992,-1.3399999999999999,-7.5659999999999998,0.24399999999999999,7.7879999999999994,-3.3111199999999993E-2,6.1555600000000002E-2,-1.15554E-2]
[null,null,null,null,null,null,null,null,null,null,null,null,null,null,null,null,null,null,null,null,null,null,null,null,null,null,null,null,0,{"$f":"AVERAGE(#REF!)","v":{"$error":"#REF!"}},-4.2419999999999991,-3.4020000000000001,1.38,-2.2020000000000004,-6.6000000000000017E-2,10.370000000000001,5.7778000000000005E-3,-3.5554000000000002E-3,2.2222000000000001E-3]
[null,null,null,null,null,null,null,null,null,null,null,null,null,null,null,null,null,null,null,null,null,null,null,null,null,null,null,null,0,{"$f":"AVERAGE(#REF!)","v":{"$error":"#REF!"}},-4.2279999999999998,-3.28,0.94800000000000006,-2.2879999999999994,-9.6000000000000002E-2,10.016,-1.8666800000000001E-2,-2.2240000000000004E-4,-2.8886000000000003E-3]
[null,null,null,null,null,null,null,null,null,null,null,null,null,null,null,null,null,null,null,null,null,null,null,null,null,null,null,null,0,{"$f":"AVERAGE(#REF!)","v":{"$error":"#REF!"}},-4.016,-3.274,1.0660000000000001,-2.0680000000000001,-9.1999999999999998E-2,10.134,1.0888800000000001E-2,-1.7780000000000005E-3,2.4441999999999997E-3]
[null,null,null,null,null,null,null,null,null,null,null,null,null,null,null,null,null,null,null,null,null,null,null,null,null,null,null,null,0,{"$f":"AVERAGE(#REF!)","v":{"$error":"#REF!"}},-3.3980000000000006,-3.0959999999999996,0.71399999999999997,-1.548,2.399999999999999E-2,9.8159999999999989,3.5555799999999999E-2,-1.0444200000000001E-2,9.5556000000000009E-3]
[null,null,null,null,null,null,null,null,null,null,null,null,null,null,null,null,null,null,null,null,null,null,null,null,null,null,null,null,0,{"$f":"AVERAGE(#REF!)","v":{"$error":"#REF!"}},-1.798,-3.7300000000000004,-0.61599999999999999,9.0000000000000038E-2,-0.56999999999999995,8.468,-1.7333399999999995E-2,-3.0222400000000003E-2,1.7555399999999999E-2]
[null,null,null,null,null,null,null,null,null,null,null,null,null,null,null,null,null,null,null,null,null,null,null,null,null,null,null,null,0,{"$f":"AVERAGE(#REF!)","v":{"$error":"#REF!"}},-2.2199999999999998,-3.9219999999999997,0.77200000000000002,-0.16599999999999998,-0.55600000000000005,9.7439999999999998,-3.3555600000000005E-2,2.64444E-2,-5.26668E-2]
[null,null,null,null,null,null,null,null,null,null,null,null,null,null,null,null,null,null,null,null,null,null,null,null,null,null,null,null,0,{"$f":"AVERAGE(#REF!)","v":{"$error":"#REF!"}},-5.17,-3.7240000000000002,-6.7999999999999797E-2,-3.5579999999999998,-0.55800000000000005,7.9539999999999988,-7.622219999999999E-2,1.8222200000000004E-2,-3.2888799999999996E-2]
[null,null,null,null,null,null,null,null,null,null,null,null,null,null,null,null,null,null,null,null,null,null,null,null,null,null,null,null,0,{"$f":"AVERAGE(#REF!)","v":{"$error":"#REF!"}},-3.0720000000000001,-2.81,0.59000000000000008,-1.0760000000000001,0.14200000000000002,9.2579999999999991,-2.8000199999999996E-2,-3.0888800000000001E-2,7.7777999999999996E-3]
[null,null,null,null,null,null,null,null,null,null,null,null,null,null,null,null,null,null,null,null,null,null,null,null,null,null,null,null,0,{"$f":"AVERAGE(#REF!)","v":{"$error":"#REF!"}},-3.1579999999999999,-3.4099999999999993,1.5399999999999998,-1.1459999999999999,-0.20399999999999996,9.6639999999999997,-1.9777999999999997E-2,1.0666600000000002E-2,4.4420000000000017E-4]
[null,null,null,null,null,null,null,null,null,null,null,null,null,null,null,null,null,null,null,null,null,null,null,null,null,null,null,null,0,{"$f":"AVERAGE(#REF!)","v":{"$error":"#REF!"}},-3.7560000000000002,-2.6,0.76200000000000012,-2.1559999999999997,0.55600000000000005,8.2240000000000002,3.04444E-2,-2.9555399999999999E-2,1.4444600000000002E-2]
[null,null,null,null,null,null,null,null,null,null,null,null,null,null,null,null,null,null,null,null,null,null,null,null,null,null,null,null,0,{"$f":"AVERAGE(#REF!)","v":{"$error":"#REF!"}},-2.65,-3.45,3.556,-0.33200000000000002,-0.48799999999999999,12.61,3.5110999999999996E-2,-1.5333400000000002E-2,1.4666600000000002E-2]
[null,null,null,null,null,null,null,null,null,null,null,null,null,null,null,null,null,null,null,null,null,null,null,null,null,null,null,null,0,{"$f":"AVERAGE(#REF!)","v":{"$error":"#REF!"}},-3.85,-2.9780000000000002,1.6960000000000002,-1.5539999999999998,6.599999999999992E-2,10.73,-1.1110000000000004E-3,1.5555999999999986E-3,1.06666E-2]
[null,null,null,null,null,null,null,null,null,null,null,null,null,null,null,null,null,null,null,null,null,null,null,null,null,null,null,null,0,{"$f":"AVERAGE(#REF!)","v":{"$error":"#REF!"}},-3.8920000000000003,-2.984,2.46,-1.698,0.312,11.65,-1.1555600000000001E-2,-1.2444200000000001E-2,2.2221999999999997E-3]
[null,null,null,null,null,null,null,null,null,null,null,null,null,null,null,null,null,null,null,null,null,null,null,null,null,null,null,null,0,{"$f":"AVERAGE(#REF!)","v":{"$error":"#REF!"}},-4.992,-2.8620000000000001,-0.442,-2.9060000000000001,0.21800000000000003,8.0879999999999992,1.73332E-2,2.2666800000000004E-2,1.6888800000000002E-2]
[null,null,null,null,null,null,null,null,null,null,null,null,null,null,null,null,null,null,null,null,null,null,null,null,null,null,null,null,0,{"$f":"AVERAGE(#REF!)","v":{"$error":"#REF!"}},-4.42,-3.0460000000000003,-6.1999999999999965E-2,-2.0659999999999998,0.10200000000000001,8.9160000000000004,-2.62224E-2,-6.4443999999999986E-3,-1.7777599999999998E-2]
[null,null,null,null,null,null,null,null,null,null,null,null,null,null,null,null,null,null,null,null,null,null,null,null,null,null,null,null,0,{"$f":"AVERAGE(#REF!)","v":{"$error":"#REF!"}},-4.2,-2.6659999999999999,-0.80999999999999994,-1.8480000000000001,0.30400000000000005,8.2219999999999995,-1.2222199999999999E-2,2.0889000000000001E-2,1.55558E-2]
[null,null,null,null,null,null,null,null,null,null,null,null,null,null,null,null,null,null,null,null,null,null,null,null,null,null,null,null,0,{"$f":"AVERAGE(#REF!)","v":{"$error":"#REF!"}},-4.8819999999999997,-2.8679999999999999,-0.6319999999999999,-2.508,0.248,8.35,4.9555399999999993E-2,1.6666400000000001E-2,5.3334000000000003E-3]
[null,null,null,null,null,null,null,null,null,null,null,null,null,null,null,null,null,null,null,null,null,null,null,null,null,null,null,null,0,{"$f":"AVERAGE(#REF!)","v":{"$error":"#REF!"}},-5.0959999999999992,-3.1520000000000001,-0.20400000000000001,-2.8419999999999996,0.17599999999999999,8.7379999999999995,2.2223999999999998E-3,-9.5555999999999992E-3,-2.0222200000000003E-2]
[null,null,null,null,null,null,null,null,null,null,null,null,null,null,null,null,null,null,null,null,null,null,null,null,null,null,null,null,0,{"$f":"AVERAGE(#REF!)","v":{"$error":"#REF!"}},-4.4540000000000006,-2.2060000000000004,2.0819999999999999,-2.3479999999999999,0.59199999999999997,11.242000000000001,-8.8889999999999993E-3,2.2223999999999994E-3,4.57778E-2]
[null,null,null,null,null,null,null,null,null,null,null,null,null,null,null,null,null,null,null,null,null,null,null,null,null,null,null,null,0,{"$f":"AVERAGE(#REF!)","v":{"$error":"#REF!"}},-5.2839999999999998,-3.1339999999999999,-0.318,-3.1100000000000003,-1.8000000000000016E-2,8.718,-8.8900000000000036E-4,1.11112E-2,-2.6000000000000002E-2]
[null,null,null,null,null,null,null,null,null,null,null,null,null,null,null,null,null,null,null,null,null,null,null,null,null,null,null,null,0,{"$f":"AVERAGE(#REF!)","v":{"$error":"#REF!"}},-4.4980000000000002,-1.6379999999999999,1.5060000000000002,-2.29,1.4239999999999999,10.546000000000001,-2.8888000000000026E-3,-2.7555600000000003E-2,-6.6668000000000005E-3]
[null,null,null,null,null,null,null,null,null,null,null,null,null,null,null,null,null,null,null,null,null,null,null,null,null,null,null,null,0,{"$f":"AVERAGE(#REF!)","v":{"$error":"#REF!"}},-4.5959999999999992,-3.3540000000000005,0.35000000000000009,-2.62,6.2000000000000013E-2,9.3199999999999985,-2.11112E-2,1.04444E-2,-5.0222000000000003E-2]
[null,null,null,null,null,null,null,null,null,null,null,null,null,null,null,null,null,null,null,null,null,null,null,null,null,null,null,null,0,{"$f":"AVERAGE(#REF!)","v":{"$error":"#REF!"}},-4.7439999999999998,-2.9119999999999999,0.11000000000000001,-3.012,0.47800000000000004,9.1359999999999992,-8.4444000000000012E-3,-1.17778E-2,-1.4444599999999998E-2]
[null,null,null,null,null,null,null,null,null,null,null,null,null,null,null,null,null,null,null,null,null,null,null,null,null,null,null,null,0,{"$f":"AVERAGE(#REF!)","v":{"$error":"#REF!"}},{"$f":"AVERAGE(Q23362:Q23366)","v":-5.3779999999999992},{"$f":"AVERAGE(R23362:R23366)","v":-3.4939999999999998},{"$f":"AVERAGE(S23362:S23366)","v":0.10199999999999995},{"$f":"AVERAGE(T23362:T23366)","v":-3.8599999999999994},{"$f":"AVERAGE(U23362:U23366)","v":6.7999999999999991E-2},{"$f":"AVERAGE(V23362:V23366)","v":9.11},{"$f":"AVERAGE(W23362:W23366)","v":5.1112000000000006E-3},{"$f":"AVERAGE(X23362:X23366)","v":4.6668000000000013E-3},{"$f":"AVERAGE(Y23362:Y23366)","v":-1.5110999999999999E-2}]
[null,null,null,null,null,null,null,null,null,null,null,null,null,null,null,null,null,null,null,null,null,null,null,null,null,null,null,null,0,{"$f":"AVERAGE(#REF!)","v":{"$error":"#REF!"}},-4.9640000000000004,-3.5819999999999999,6.8000000000000005E-2,-3.4840000000000004,1.0000000000000009E-2,9.0659999999999989,3.9999999999999992E-3,1.3334000000000006E-3,-2.0666400000000001E-2]
[null,null,null,null,null,null,null,null,null,null,null,null,null,null,null,null,null,null,null,null,null,null,null,null,null,null,null,null,0,{"$f":"AVERAGE(#REF!)","v":{"$error":"#REF!"}},-3.2920000000000003,-3.5780000000000003,1.3540000000000001,-1.6560000000000001,-0.14400000000000002,10.388,-1.3331999999999997E-3,-4.8888000000000004E-3,-4.82222E-2]
[null,null,null,null,null,null,null,null,null,null,null,null,null,null,null,null,null,null,null,null,null,null,null,null,null,null,null,null,0,{"$f":"AVERAGE(#REF!)","v":{"$error":"#REF!"}},-3.17,-3.4579999999999997,0.19000000000000009,-1.1460000000000001,0.09,8.8879999999999999,-7.1112000000000007E-3,-6.8889999999999993E-3,-1.9555599999999999E-2]
[null,null,null,null,null,null,null,null,null,null,null,null,null,null,null,null,null,null,null,null,null,null,null,null,null,null,null,null,0,{"$f":"AVERAGE(#REF!)","v":{"$error":"#REF!"}},-3.8840000000000003,-3.3159999999999998,4.7999999999999945E-2,-1.7399999999999998,-0.73799999999999988,10.092000000000001,3.1333199999999999E-2,-5.3332000000000006E-3,-1.4666800000000002E-2]
[null,null,null,null,null,null,null,null,null,null,null,null,null,null,null,null,null,null,null,null,null,null,null,null,null,null,null,null,0,{"$f":"AVERAGE(#REF!)","v":{"$error":"#REF!"}},-3.5599999999999996,-4.2799999999999994,2.0680000000000001,-2.0659999999999998,0.64799999999999991,9.3960000000000008,6.2220000000000001E-3,1.1555600000000003E-2,-3.4000000000000002E-2]
[null,null,null,null,null,null,null,null,null,null,null,null,null,null,null,null,null,null,null,null,null,null,null,null,null,null,null,null,0,{"$f":"AVERAGE(#REF!)","v":{"$error":"#REF!"}},-1.4020000000000001,-2.9240000000000004,0.62799999999999989,-0.15999999999999998,-0.19400000000000001,9.9580000000000002,-0.35000019999999998,3.4888800000000005E-2,2.8889999999999983E-3]
[null,null,null,null,null,null,null,null,null,null,null,null,null,null,null,null,null,null,null,null,null,null,null,null,null,null,null,null,0,{"$f":"AVERAGE(#REF!)","v":{"$error":"#REF!"}},-2.0580000000000003,1.5780000000000001,2.0339999999999998,0.25399999999999989,0.12600000000000006,11.447999999999999,3.5777800000000005E-2,-0.122,0.32644460000000003]
[null,null,null,null,null,null,null,null,null,null,null,null,null,null,null,null,null,null,null,null,null,null,null,null,null,null,null,null,0,{"$f":"AVERAGE(#REF!)","v":{"$error":"#REF!"}},-5.1059999999999999,0.37,-0.99399999999999999,-2.7159999999999997,-0.52200000000000002,8.4700000000000006,0.12644459999999999,-6.4888799999999996E-2,0.1180002]
[null,null,null,null,null,null,null,null,null,null,null,null,null,null,null,null,null,null,null,null,null,null,null,null,null,null,null,null,0,{"$f":"AVERAGE(#REF!)","v":{"$error":"#REF!"}},-3.8159999999999998,-7.7999999999999986E-2,1.3160000000000001,-1.196,-0.22399999999999998,10.766,1.2000199999999999E-2,1.3999999999999999E-2,-1.0000200000000001E-2]
[null,null,null,null,null,null,null,null,null,null,null,null,null,null,null,null,null,null,null,null,null,null,null,null,null,null,null,null,0,{"$f":"AVERAGE(#REF!)","v":{"$error":"#REF!"}},-4,0.29400000000000004,0.32999999999999996,-1.4319999999999999,0.23799999999999999,9.7880000000000003,6.6444599999999993E-2,-6.6665999999999974E-3,2.1333200000000004E-2]
[null,null,null,null,null,null,null,null,null,null,null,null,null,null,null,null,null,null,null,null,null,null,null,null,null,null,null,null,0,{"$f":"AVERAGE(#REF!)","v":{"$error":"#REF!"}},-4.3459999999999992,0.50800000000000001,0.72999999999999987,-1.9059999999999999,0.38400000000000001,10.222,-2.4889000000000001E-2,-3.7778E-3,7.7776E-3]
[null,null,null,null,null,null,null,null,null,null,null,null,null,null,null,null,null,null,null,null,null,null,null,null,null,null,null,null,0,{"$f":"AVERAGE(#REF!)","v":{"$error":"#REF!"}},-5.5920000000000005,0.55999999999999994,1.3800000000000001,-3.1799999999999997,0.438,10.88,3.02224E-2,1.4222199999999999E-2,1.1109999999999994E-3]
[null,null,null,null,null,null,null,null,null,null,null,null,null,null,null,null,null,null,null,null,null,null,null,null,null,null,null,null,0,{"$f":"AVERAGE(#REF!)","v":{"$error":"#REF!"}},-5.0059999999999993,-0.20600000000000002,0.70600000000000018,-2.5980000000000003,-0.16600000000000001,10.208,3.0888800000000004E-2,-2.5555600000000001E-2,-8.8899999999999982E-4]
[null,null,null,null,null,null,null,null,null,null,null,null,null,null,null,null,null,null,null,null,null,null,null,null,null,null,null,null,0,{"$f":"AVERAGE(#REF!)","v":{"$error":"#REF!"}},-4.8339999999999996,0.12800000000000003,0.69,-2.3719999999999999,0.27199999999999996,10.176,-1.33334E-2,1.8666599999999998E-2,-2.1111399999999999E-2]
[null,null,null,null,null,null,null,null,null,null,null,null,null,null,null,null,null,null,null,null,null,null,null,null,null,null,null,null,0,{"$f":"AVERAGE(#REF!)","v":{"$error":"#REF!"}},-5.6459999999999999,0.312,-0.69199999999999995,-3.0979999999999999,5.0000000000000024E-2,8.7680000000000007,-3.3111199999999993E-2,-5.9998000000000022E-3,3.1112000000000002E-3]
[null,null,null,null,null,null,null,null,null,null,null,null,null,null,null,null,null,null,null,null,null,null,null,null,null,null,null,null,0,{"$f":"AVERAGE(#REF!)","v":{"$error":"#REF!"}},-5.4459999999999997,-0.12399999999999997,2.6000000000000023E-2,-2.6520000000000001,-0.69600000000000006,9.402000000000001,-1.5110999999999999E-2,-3.7777600000000001E-2,2.13332E-2]
[null,null,null,null,null,null,null,null,null,null,null,null,null,null,null,null,null,null,null,null,null,null,null,null,null,null,null,null,0,{"$f":"AVERAGE(#REF!)","v":{"$error":"#REF!"}},-5.3980000000000006,1.456,0.69599999999999995,-2.5339999999999998,0.48,10.02,-4.9333399999999993E-2,7.1109999999999993E-3,3.0666599999999999E-2]
[null,null,null,null,null,null,null,null,null,null,null,null,null,null,null,null,null,null,null,null,null,null,null,null,null,null,null,null,0,{"$f":"AVERAGE(#REF!)","v":{"$error":"#REF!"}},-5.5860000000000003,1.3460000000000001,0.60199999999999998,-2.7160000000000002,-0.36599999999999999,9.8140000000000018,-3.9333399999999998E-2,-1.8666599999999998E-2,5.4000199999999998E-2]
[null,null,null,null,null,null,null,null,null,null,null,null,null,null,null,null,null,null,null,null,null,null,null,null,null,null,null,null,0,{"$f":"AVERAGE(#REF!)","v":{"$error":"#REF!"}},-5.1379999999999999,2.3960000000000004,2.504,-2.37,0.55400000000000005,11.728000000000002,3.5111400000000001E-2,4.0002000000000024E-3,6.6666599999999993E-2]
[null,null,null,null,null,null,null,null,null,null,null,null,null,null,null,null,null,null,null,null,null,null,null,null,null,null,null,null,0,{"$f":"AVERAGE(#REF!)","v":{"$error":"#REF!"}},-4.62,2.4780000000000002,9.1999999999999998E-2,-2.0960000000000001,0.21200000000000002,9.2900000000000009,3.6000199999999996E-2,-1.2666800000000001E-2,5.1333000000000004E-2]
[null,null,null,null,null,null,null,null,null,null,null,null,null,null,null,null,null,null,null,null,null,null,null,null,null,null,null,null,0,{"$f":"AVERAGE(#REF!)","v":{"$error":"#REF!"}},-4.8019999999999996,2.1840000000000002,0.57200000000000006,-2.35,-0.128,9.7720000000000002,-3.3333399999999999E-2,3.5556000000000003E-3,2.6888800000000001E-2]
[null,null,null,null,null,null,null,null,null,null,null,null,null,null,null,null,null,null,null,null,null,null,null,null,null,null,null,null,0,{"$f":"AVERAGE(#REF!)","v":{"$error":"#REF!"}},-4.758,3.3,-4.3999999999999949E-2,-2.476,0.92000000000000015,9.1859999999999999,-1.9333400000000001E-2,2.0888799999999999E-2,6.889000000000001E-3]
[null,null,null,null,null,null,null,null,null,null,null,null,null,null,null,null,null,null,null,null,null,null,null,null,null,null,null,null,0,{"$f":"AVERAGE(#REF!)","v":{"$error":"#REF!"}},-3.9140000000000001,2.3840000000000003,3.1180000000000003,-1.6600000000000001,-5.9999999999999169E-3,12.354000000000001,3.6666600000000008E-2,5.5554000000000003E-3,4.24444E-2]
[null,null,null,null,null,null,null,null,null,null,null,null,null,null,null,null,null,null,null,null,null,null,null,null,null,null,null,null,0,{"$f":"AVERAGE(#REF!)","v":{"$error":"#REF!"}},-6.7179999999999991,2.1739999999999999,-1.0539999999999998,-4.258,0.14599999999999999,8.8820000000000014,2.8888999999999998E-2,-1.4222000000000002E-2,-4.844459999999999E-2]
[null,null,null,null,null,null,null,null,null,null,null,null,null,null,null,null,null,null,null,null,null,null,null,null,null,null,null,null,0,{"$f":"AVERAGE(#REF!)","v":{"$error":"#REF!"}},-6.226,1.8079999999999998,2.1999999999999999E-2,-4.2720000000000002,0.25600000000000001,9.64,5.1333200000000002E-2,4.4443999999999994E-3,-1.5777800000000002E-2]
[null,null,null,null,null,null,null,null,null,null,null,null,null,null,null,null,null,null,null,null,null,null,null,null,null,null,null,null,0,{"$f":"AVERAGE(#REF!)","v":{"$error":"#REF!"}},-5.28,1.0299999999999998,-0.26200000000000001,-2.1920000000000002,-7.7999999999999986E-2,9.5699999999999985,5.97776E-2,-1.2000199999999999E-2,1.13332E-2]
[null,null,null,null,null,null,null,null,null,null,null,null,null,null,null,null,null,null,null,null,null,null,null,null,null,null,null,null,0,{"$f":"AVERAGE(#REF!)","v":{"$error":"#REF!"}},-2.4340000000000002,0.16599999999999998,0,-0.54200000000000004,0.18000000000000002,11.330000000000002,-1.64446E-2,3.7111399999999996E-2,-7.9777799999999996E-2]
[null,null,null,null,null,null,null,null,null,null,null,null,null,null,null,null,null,null,null,null,null,null,null,null,null,null,null,null,0,{"$f":"AVERAGE(#REF!)","v":{"$error":"#REF!"}},-3.714,1.032,0.26999999999999996,-1.399999999999999E-2,0.30599999999999994,10.516,-8.5333400000000004E-2,7.3331999999999998E-3,1.2889000000000001E-2]
[null,null,null,null,null,null,null,null,null,null,null,null,null,null,null,null,null,null,null,null,null,null,null,null,null,null,null,null,0,{"$f":"AVERAGE(#REF!)","v":{"$error":"#REF!"}},1.238,5.3820000000000006,2.1859999999999999,3.3540000000000001,-0.96399999999999986,10.005999999999998,0.5833335999999999,-0.2071112,0.53911100000000001]
[null,null,null,null,null,null,null,null,null,null,null,null,null,null,null,null,null,null,null,null,null,null,null,null,null,null,null,null,0,{"$f":"AVERAGE(#REF!)","v":{"$error":"#REF!"}},-1.224,2.6160000000000001,1.999999999999824E-3,0.34600000000000003,0.29599999999999993,9.3940000000000001,1.0444200000000001E-2,-0.12355560000000002,1.2888800000000001E-2]
[null,null,null,null,null,null,null,null,null,null,null,null,null,null,null,null,null,null,null,null,null,null,null,null,null,null,null,null,0,{"$f":"AVERAGE(#REF!)","v":{"$error":"#REF!"}},-4.9800000000000004,1.7439999999999998,1.1199999999999999,-3.0739999999999998,-0.60600000000000009,10.444000000000001,-0.12044440000000001,8.8889999999999993E-3,-3.2888999999999995E-2]
[null,null,null,null,null,null,null,null,null,null,null,null,null,null,null,null,null,null,null,null,null,null,null,null,null,null,null,null,0,{"$f":"AVERAGE(#REF!)","v":{"$error":"#REF!"}},-5.4360000000000008,3.1320000000000001,-0.9740000000000002,-3.59,0.58000000000000007,8.3060000000000009,4.4443999999999994E-3,4.6667999999999996E-3,1.2888800000000001E-2]
[null,null,null,null,null,null,null,null,null,null,null,null,null,null,null,null,null,null,null,null,null,null,null,null,null,null,null,null,0,{"$f":"AVERAGE(#REF!)","v":{"$error":"#REF!"}},-4.4419999999999993,2.4260000000000002,0.48799999999999999,-2.6539999999999999,-3.0000000000000006E-2,9.8059999999999992,3.0222200000000005E-2,-4.4459999999999986E-4,1.22224E-2]
[null,null,null,null,null,null,null,null,null,null,null,null,null,null,null,null,null,null,null,null,null,null,null,null,null,null,null,null,0,{"$f":"AVERAGE(#REF!)","v":{"$error":"#REF!"}},-4.3420000000000005,2.9279999999999999,1.6600000000000001,-2.5979999999999999,0.54400000000000004,11.006,1.8889000000000003E-2,2.7333400000000001E-2,-8.8880000000000035E-4]
[null,null,null,null,null,null,null,null,null,null,null,null,null,null,null,null,null,null,null,null,null,null,null,null,null,null,null,null,0,{"$f":"AVERAGE(#REF!)","v":{"$error":"#REF!"}},-5.15,2.8760000000000003,-1.6359999999999999,-3.4340000000000002,0.63800000000000001,7.7459999999999996,1.33332E-2,6.4446000000000035E-3,-2.8890000000000001E-3]
[null,null,null,null,null,null,null,null,null,null,null,null,null,null,null,null,null,null,null,null,null,null,null,null,null,null,null,null,0,{"$f":"AVERAGE(#REF!)","v":{"$error":"#REF!"}},-5.3420000000000005,2.4419999999999997,-1.6559999999999995,-3.6260000000000003,0.16999999999999998,7.7219999999999995,3.77778E-2,5.777800000000001E-2,9.5554000000000004E-3]
[null,null,null,null,null,null,null,null,null,null,null,null,null,null,null,null,null,null,null,null,null,null,null,null,null,null,null,null,0,{"$f":"AVERAGE(#REF!)","v":{"$error":"#REF!"}},-4.67,2.496,0.10999999999999996,-2.8879999999999999,8.4000000000000033E-2,9.4379999999999988,1.33334E-2,-1.4666599999999997E-2,1.71112E-2]
[null,null,null,null,null,null,null,null,null,null,null,null,null,null,null,null,null,null,null,null,null,null,null,null,null,null,null,null,0,{"$f":"AVERAGE(#REF!)","v":{"$error":"#REF!"}},-5.3599999999999994,2.0219999999999998,-0.29000000000000009,-3.5620000000000003,-0.47200000000000009,9.016,-2.97778E-2,4.4441999999999997E-3,2.2221999999999997E-3]
[null,null,null,null,null,null,null,null,null,null,null,null,null,null,null,null,null,null,null,null,null,null,null,null,null,null,null,null,0,{"$f":"AVERAGE(#REF!)","v":{"$error":"#REF!"}},{"$f":"AVERAGE(Q24706:Q24710)","v":-4.6100000000000003},{"$f":"AVERAGE(R24706:R24710)","v":2.6640000000000001},{"$f":"AVERAGE(S24706:S24710)","v":-0.66799999999999993},{"$f":"AVERAGE(T24706:T24710)","v":-2.8220000000000005},{"$f":"AVERAGE(U24706:U24710)","v":0.35},{"$f":"AVERAGE(V24706:V24710)","v":8.6900000000000013},{"$f":"AVERAGE(W24706:W24710)","v":-1.17778E-2},{"$f":"AVERAGE(X24706:X24710)","v":-5.7777999999999996E-3},{"$f":"AVERAGE(Y24706:Y24710)","v":-1.2E-2}]
[null,null,null,null,null,null,null,null,null,null,null,null,null,null,null,null,null,null,null,null,null,null,null,null,null,null,null,null,0,{"$f":"AVERAGE(#REF!)","v":{"$error":"#REF!"}},-4.806,2.81,-1.1059999999999999,-3.032,0.376,8.2200000000000006,-2.04446E-2,2.9111200000000004E-2,-2.2224000000000007E-3]
[null,null,null,null,null,null,null,null,null,null,null,null,null,null,null,null,null,null,null,null,null,null,null,null,null,null,null,null,0,{"$f":"AVERAGE(#REF!)","v":{"$error":"#REF!"}},-4.8019999999999996,2.0019999999999998,1.306,-3.008,-0.64200000000000002,10.571999999999999,-8.6667999999999988E-3,-8.8880000000000003E-4,1.8666599999999998E-2]
[null,null,null,null,null,null,null,null,null,null,null,null,null,null,null,null,null,null,null,null,null,null,null,null,null,null,null,null,0,{"$f":"AVERAGE(#REF!)","v":{"$error":"#REF!"}},-4.4680000000000009,2.3980000000000001,-0.94800000000000006,-2.6840000000000002,-0.158,8.3420000000000023,3.5999799999999998E-2,2.7111200000000009E-2,3.7555799999999993E-2]
[null,null,null,null,null,null,null,null,null,null,null,null,null,null,null,null,null,null,null,null,null,null,null,null,null,null,null,null,0,{"$f":"AVERAGE(#REF!)","v":{"$error":"#REF!"}},-3.8860000000000001,2.3780000000000001,-0.63000000000000012,-2.0539999999999998,-0.31199999999999994,8.6140000000000008,-1.7111000000000001E-2,1.5777600000000003E-2,1.9777800000000002E-2]
[null,null,null,null,null,null,null,null,null,null,null,null,null,null,null,null,null,null,null,null,null,null,null,null,null,null,null,null,0,{"$f":"AVERAGE(#REF!)","v":{"$error":"#REF!"}},{"$f":"AVERAGE(Q24898:Q24902)","v":-5.2480000000000002},{"$f":"AVERAGE(R24898:R24902)","v":2.3600000000000003},{"$f":"AVERAGE(S24898:S24902)","v":-1.5700000000000003},{"$f":"AVERAGE(T24898:T24902)","v":-1.9939999999999998},{"$f":"AVERAGE(U24898:U24902)","v":0.20400000000000001},{"$f":"AVERAGE(V24898:V24902)","v":10.442},{"$f":"AVERAGE(W24898:W24902)","v":-6.2222200000000005E-2},{"$f":"AVERAGE(X24898:X24902)","v":-4.0000000000000036E-3},{"$f":"AVERAGE(Y24898:Y24902)","v":-1.8444200000000001E-2}]
[null,null,null,null,null,null,null,null,null,null,null,null,null,null,null,null,null,null,null,null,null,null,null,null,null,null,null,null,0,{"$f":"AVERAGE(#REF!)","v":{"$error":"#REF!"}},-4.0720000000000001,3.1060000000000003,1.5719999999999996,-2.4060000000000001,9.6000000000000002E-2,10.274000000000001,3.8222199999999998E-2,-4.8000200000000007E-2,1.9777800000000002E-2]
[null,null,null,null,null,null,null,null,null,null,null,null,null,null,null,null,null,null,null,null,null,null,null,null,null,null,null,null,0,{"$f":"AVERAGE(#REF!)","v":{"$error":"#REF!"}},-3.0220000000000002,2.1320000000000001,0.86,-3.7320000000000002,0.33199999999999996,6.6859999999999999,1.84444E-2,4.222199999999998E-3,-1.6222199999999999E-2]
[null,null,null,null,null,null,null,null,null,null,null,null,null,null,null,null,null,null,null,null,null,null,null,null,null,null,null,null,0,{"$f":"AVERAGE(#REF!)","v":{"$error":"#REF!"}},-5.4099999999999993,1.9899999999999998,-1.8379999999999999,-1.8440000000000001,6.0000000000000012E-2,12.16,-1.4222000000000002E-2,-5.555800000000004E-3,-7.3334000000000012E-3]
[null,null,null,null,null,null,null,null,null,null,null,null,null,null,null,null,null,null,null,null,null,null,null,null,null,null,null,null,0,{"$f":"AVERAGE(#REF!)","v":{"$error":"#REF!"}},-5.8660000000000005,2.556,-3.5479999999999996,-1.504,0.29799999999999999,12.08,-1.9555599999999999E-2,9.7780000000000002E-3,1.3334000000000002E-3]
[null,null,null,null,null,null,null,null,null,null,null,null,null,null,null,null,null,null,null,null,null,null,null,null,null,null,null,null,0,{"$f":"AVERAGE(#REF!)","v":{"$error":"#REF!"}},-2.62,2.5379999999999998,3.5720000000000001,-0.79600000000000004,-1.9999999999999853E-3,12.866,1.8444200000000001E-2,-2.1555400000000002E-2,-1.9999999999985308E-7]
[null,null,null,null,null,null,null,null,null,null,null,null,null,null,null,null,null,null,null,null,null,null,null,null,null,null,null,null,0,{"$f":"AVERAGE(#REF!)","v":{"$error":"#REF!"}},-4.1219999999999999,2.65,-1.0640000000000001,-2.2540000000000004,0.16800000000000001,8.23,8.6666E-3,8.0000000000000019E-3,-4.4440000000000001E-4]
[null,null,null,null,null,null,null,null,null,null,null,null,null,null,null,null,null,null,null,null,null,null,null,null,null,null,null,null,0,{"$f":"AVERAGE(#REF!)","v":{"$error":"#REF!"}},-4.4660000000000002,2.1800000000000006,-1.4319999999999999,-2.4319999999999999,-0.23599999999999999,7.8420000000000005,6.000000000000001E-3,-2.7333599999999996E-2,4.4440000000000001E-4]
[null,null,null,null,null,null,null,null,null,null,null,null,null,null,null,null,null,null,null,null,null,null,null,null,null,null,null,null,0,{"$f":"AVERAGE(#REF!)","v":{"$error":"#REF!"}},{"$f":"AVERAGE(Q25154:Q25158)","v":-3.9740000000000002},{"$f":"AVERAGE(R25154:R25158)","v":2.0579999999999998},{"$f":"AVERAGE(S25154:S25158)","v":0.76200000000000012},{"$f":"AVERAGE(T25154:T25158)","v":-1.8859999999999999},{"$f":"AVERAGE(U25154:U25158)","v":-0.33199999999999996},{"$f":"AVERAGE(V25154:V25158)","v":10.034000000000001},{"$f":"AVERAGE(W25154:W25158)","v":1.2E-2},{"$f":"AVERAGE(X25154:X25158)","v":-4.2221999999999997E-3},{"$f":"AVERAGE(Y25154:Y25158)","v":4.6668000000000005E-3}]
[null,null,null,null,null,null,null,null,null,null,null,null,null,null,null,null,null,null,null,null,null,null,null,null,null,null,null,null,0,{"$f":"AVERAGE(#REF!)","v":{"$error":"#REF!"}},-4.1920000000000002,2.8899999999999997,2.504,-1.9120000000000001,0.37,11.7,-2.0000000000000009E-3,3.1111400000000001E-2,6.2221999999999998E-3]
[null,null,null,null,null,null,null,null,null,null,null,null,null,null,null,null,null,null,null,null,null,null,null,null,null,null,null,null,0,{"$f":"AVERAGE(#REF!)","v":{"$error":"#REF!"}},-5.0039999999999996,2.766,-0.27399999999999991,-2.66,0.22000000000000003,8.8960000000000008,-3.5553999999999994E-3,4.5111200000000004E-2,4.666599999999999E-3]
[null,null,null,null,null,null,null,null,null,null,null,null,null,null,null,null,null,null,null,null,null,null,null,null,null,null,null,null,0,{"$f":"AVERAGE(#REF!)","v":{"$error":"#REF!"}},-5.07,2.1160000000000001,1.4,-2.6659999999999999,-0.30999999999999994,10.585999999999999,-3.0666599999999999E-2,-4.7333199999999999E-2,-2.1777800000000003E-2]
[null,null,null,null,null,null,null,null,null,null,null,null,null,null,null,null,null,null,null,null,null,null,null,null,null,null,null,null,0,{"$f":"AVERAGE(#REF!)","v":{"$error":"#REF!"}},-5.0759999999999996,2.0959999999999996,-0.63800000000000001,-2.62,-0.4,8.5179999999999989,1.3334000000000006E-3,1.2E-2,-9.5556000000000009E-3]
[null,null,null,null,null,null,null,null,null,null,null,null,null,null,null,null,null,null,null,null,null,null,null,null,null,null,null,null,0,{"$f":"AVERAGE(#REF!)","v":{"$error":"#REF!"}},-4.8739999999999997,2.3940000000000001,-0.71199999999999974,-2.4279999999999999,-0.12400000000000004,8.4359999999999999,3.4888600000000006E-2,-3.4666600000000006E-2,1.22224E-2]
[null,null,null,null,null,null,null,null,null,null,null,null,null,null,null,null,null,null,null,null,null,null,null,null,null,null,null,null,0,{"$f":"AVERAGE(#REF!)","v":{"$error":"#REF!"}},-4.8820000000000006,2.4259999999999997,-0.54400000000000015,-2.4379999999999997,-5.6000000000000029E-2,8.6119999999999983,-4.7333199999999999E-2,3.5556000000000034E-3,-2.44446E-2]
[null,null,null,null,null,null,null,null,null,null,null,null,null,null,null,null,null,null,null,null,null,null,null,null,null,null,null,null,0,{"$f":"AVERAGE(#REF!)","v":{"$error":"#REF!"}},-4.7679999999999998,1.9899999999999998,-0.89200000000000002,-2.3839999999999999,-0.57200000000000006,8.26,2.7777799999999998E-2,3.4222200000000001E-2,1.0888800000000001E-2]
[null,null,null,null,null,null,null,null,null,null,null,null,null,null,null,null,null,null,null,null,null,null,null,null,null,null,null,null,0,{"$f":"AVERAGE(#REF!)","v":{"$error":"#REF!"}},-4.8579999999999997,2.3319999999999999,2.6619999999999999,-2.4059999999999997,-0.23800000000000007,11.797999999999998,-4.02222E-2,2.7999799999999998E-2,-3.1110000000000005E-3]
[null,null,null,null,null,null,null,null,null,null,null,null,null,null,null,null,null,null,null,null,null,null,null,null,null,null,null,null,0,{"$f":"AVERAGE(#REF!)","v":{"$error":"#REF!"}},-5.532,3.254,-1.2299999999999998,-3.1740000000000004,0.92600000000000016,7.9940000000000015,-3.3334000000000059E-3,7.111000000000001E-3,5.75554E-2]
[null,null,null,null,null,null,null,null,null,null,null,null,null,null,null,null,null,null,null,null,null,null,null,null,null,null,null,null,0,{"$f":"AVERAGE(#REF!)","v":{"$error":"#REF!"}},-5.952,2.6020000000000003,-0.14199999999999999,-3.7159999999999997,0.47599999999999998,9.1620000000000008,6.3999999999999987E-2,-1.4222199999999999E-2,2.2222200000000001E-2]
[null,null,null,null,null,null,null,null,null,null,null,null,null,null,null,null,null,null,null,null,null,null,null,null,null,null,null,null,0,{"$f":"AVERAGE(#REF!)","v":{"$error":"#REF!"}},-6.6239999999999997,2.6840000000000002,2.0000000000000063E-2,-4.3159999999999998,0.37000000000000005,9.2579999999999991,-0.34777779999999997,3.8444199999999998E-2,-0.21355560000000001]
[null,null,null,null,null,null,null,null,null,null,null,null,null,null,null,null,null,null,null,null,null,null,null,null,null,null,null,null,0,{"$f":"AVERAGE(#REF!)","v":{"$error":"#REF!"}},6.1579999999999995,3.4139999999999993,5.5179999999999998,0.53,0.16600000000000001,10.388,0.31422220000000001,2.2888800000000001E-2,-1.8000000000000006E-2]
[null,null,null,null,null,null,null,null,null,null,null,null,null,null,null,null,null,null,null,null,null,null,null,null,null,null,null,null,0,{"$f":"AVERAGE(#REF!)","v":{"$error":"#REF!"}},4.6779999999999999,2.746,2.3440000000000003,-1.1179999999999999,-0.77400000000000002,10.007999999999999,-0.24311099999999999,5.2222000000000005E-2,-4.3333199999999995E-2]
[null,null,null,null,null,null,null,null,null,null,null,null,null,null,null,null,null,null,null,null,null,null,null,null,null,null,null,null,0,{"$f":"AVERAGE(#REF!)","v":{"$error":"#REF!"}},4.17,2.86,3.0520000000000005,-1.988,0.19400000000000001,10.6,-2.0000000000000005E-3,-2.2220000000000017E-4,-3.3332000000000006E-3]
[null,null,null,null,null,null,null,null,null,null,null,null,null,null,null,null,null,null,null,null,null,null,null,null,null,null,null,null,0,{"$f":"AVERAGE(#REF!)","v":{"$error":"#REF!"}},3.4400000000000004,2.6739999999999999,4.5640000000000001,-2.1359999999999997,-0.39799999999999996,12.016,3.5333400000000001E-2,3.2444600000000004E-2,1.2E-2]
[null,null,null,null,null,null,null,null,null,null,null,null,null,null,null,null,null,null,null,null,null,null,null,null,null,null,null,null,0,{"$f":"AVERAGE(#REF!)","v":{"$error":"#REF!"}},2.3600000000000003,4.1779999999999999,2.9460000000000002,-3.222,0.8859999999999999,10.295999999999999,1.24446E-2,-2.0888800000000003E-2,1.0889000000000001E-2]
[null,null,null,null,null,null,null,null,null,null,null,null,null,null,null,null,null,null,null,null,null,null,null,null,null,null,null,null,0,{"$f":"AVERAGE(#REF!)","v":{"$error":"#REF!"}},3.9060000000000001,3.6700000000000004,2.532,-1.64,0.43600000000000005,9.9359999999999999,-7.7778000000000014E-3,1.0889000000000005E-2,-1.04444E-2]
[null,null,null,null,null,null,null,null,null,null,null,null,null,null,null,null,null,null,null,null,null,null,null,null,null,null,null,null,0,{"$f":"AVERAGE(#REF!)","v":{"$error":"#REF!"}},2.8740000000000001,2.8180000000000001,2.04,-2.6320000000000001,-0.48199999999999993,9.4400000000000013,-2.15558E-2,-2.1999999999999999E-2,3.7776000000000003E-3]
[null,null,null,null,null,null,null,null,null,null,null,null,null,null,null,null,null,null,null,null,null,null,null,null,null,null,null,null,0,{"$f":"AVERAGE(#REF!)","v":{"$error":"#REF!"}},2.242,3.5219999999999998,2.7519999999999998,-3.3880000000000003,0.13599999999999998,10.022,-2.11112E-2,-8.6668000000000005E-3,-4.6668000000000005E-3]
[null,null,null,null,null,null,null,null,null,null,null,null,null,null,null,null,null,null,null,null,null,null,null,null,null,null,null,null,0,{"$f":"AVERAGE(#REF!)","v":{"$error":"#REF!"}},4.5999999999999999E-2,3.9539999999999997,1.448,-5.7840000000000007,0.626,8.5879999999999992,2.4000200000000003E-2,4.5777799999999993E-2,1.77778E-2]
[null,null,null,null,null,null,null,null,null,null,null,null,null,null,null,null,null,null,null,null,null,null,null,null,null,null,null,null,0,{"$f":"AVERAGE(#REF!)","v":{"$error":"#REF!"}},1.8639999999999997,3.3200000000000003,1.39,-3.7439999999999998,1.0640000000000001,9.1039999999999992,0.21044459999999998,-8.0444600000000005E-2,-0.20177780000000003]
[null,null,null,null,null,null,null,null,null,null,null,null,null,null,null,null,null,null,null,null,null,null,null,null,null,null,null,null,0,{"$f":"AVERAGE(#REF!)","v":{"$error":"#REF!"}},0.57400000000000007,3.6859999999999999,1.506,-3.9859999999999998,1.06,9.7760000000000016,0.1168892,-0.12600020000000001,-0.49644460000000007]
[null,null,null,null,null,null,null,null,null,null,null,null,null,null,null,null,null,null,null,null,null,null,null,null,null,null,null,null,0,{"$f":"AVERAGE(#REF!)","v":{"$error":"#REF!"}},-1.268,3.9139999999999993,0.84399999999999975,-1.6459999999999997,0.35399999999999998,9.9699999999999989,8.5999999999999993E-2,-4.4222200000000003E-2,-0.17755559999999998]
[null,null,null,null,null,null,null,null,null,null,null,null,null,null,null,null,null,null,null,null,null,null,null,null,null,null,null,null,0,{"$f":"AVERAGE(#REF!)","v":{"$error":"#REF!"}},-2.8860000000000001,2.87,-1.254,-2.1259999999999999,-0.34,8.3859999999999992,4.8000000000000001E-2,-2.9555600000000005E-2,-0.27488900000000005]
[null,null,null,null,null,null,null,null,null,null,null,null,null,null,null,null,null,null,null,null,null,null,null,null,null,null,null,null,0,{"$f":"AVERAGE(#REF!)","v":{"$error":"#REF!"}},-5.5679999999999996,2.5020000000000002,-0.30200000000000005,-3.5700000000000003,-1.4000000000000004E-2,10.056000000000001,-3.1111199999999999E-2,3.3555600000000005E-2,4.8888000000000004E-3]
[null,null,null,null,null,null,null,null,null,null,null,null,null,null,null,null,null,null,null,null,null,null,null,null,null,null,null,null,0,{"$f":"AVERAGE(#REF!)","v":{"$error":"#REF!"}},-4.7060000000000004,2.8359999999999999,0.6100000000000001,-2.98,4.0000000000000148E-3,9.8360000000000003,-2.7333400000000001E-2,-7.5555600000000014E-2,-0.10866679999999999]
[null,null,null,null,null,null,null,null,null,null,null,null,null,null,null,null,null,null,null,null,null,null,null,null,null,null,null,null,0,{"$f":"AVERAGE(#REF!)","v":{"$error":"#REF!"}},-5.22,2.5840000000000001,0.54200000000000004,-3.1579999999999999,-0.55999999999999994,9.6059999999999999,3.6666600000000001E-2,-4.6668000000000005E-3,2.0000199999999999E-2]
[null,null,null,null,null,null,null,null,null,null,null,null,null,null,null,null,null,null,null,null,null,null,null,null,null,null,null,null,0,{"$f":"AVERAGE(#REF!)","v":{"$error":"#REF!"}},-0.64799999999999991,0.39600000000000002,-3.2000000000000001E-2,-1.956,0.122,9.6760000000000002,7.7777999999999996E-3,8.8880000000000003E-4,5.1110000000000001E-3]
[null,null,null,null,null,null,null,null,null,null,null,null,null,null,null,null,null,null,null,null,null,null,null,null,null,null,null,null,0,{"$f":"AVERAGE(#REF!)","v":{"$error":"#REF!"}},-0.12999999999999998,0.21800000000000003,3.2000000000000015E-2,-1.7779999999999998,0.36599999999999994,9.6919999999999984,-3.6222199999999996E-2,2.6665999999999999E-3,-9.5554000000000004E-3]
[null,null,null,null,null,null,null,null,null,null,null,null,null,null,null,null,null,null,null,null,null,null,null,null,null,null,null,null,0,{"$f":"AVERAGE(#REF!)","v":{"$error":"#REF!"}},-0.11200000000000002,-1.9999999999999992E-3,0.16599999999999998,-2.0539999999999998,-1.51,9.66,-2.2220000000000001E-4,-4.4440000000000001E-4,-1.111E-3]
[null,null,null,null,null,null,null,null,null,null,null,null,null,null,null,null,null,null,null,null,null,null,null,null,null,null,null,null,0,{"$f":"AVERAGE(#REF!)","v":{"$error":"#REF!"}},-0.17800000000000002,-0.13999999999999999,-0.16999999999999998,-2.2279999999999998,-1.8859999999999999,9.25,-9.0444399999999994E-2,3.1778000000000001E-2,-2.8444400000000002E-2]
[null,null,null,null,null,null,null,null,null,null,null,null,null,null,null,null,null,null,null,null,null,null,null,null,null,null,null,null,0,{"$f":"AVERAGE(#REF!)","v":{"$error":"#REF!"}},-6.4000000000000001E-2,3.3999999999999996E-2,0.16200000000000001,-2.1719999999999997,-1.7920000000000003,9.5620000000000012,6.6680000000000005E-4,-1.7776000000000001E-3,4.4440000000000001E-4]
[null,null,null,null,null,null,null,null,null,null,null,null,null,null,null,null,null,null,null,null,null,null,null,null,null,null,null,null,0,{"$f":"AVERAGE(#REF!)","v":{"$error":"#REF!"}},-0.06,2.8000000000000004E-2,0.14199999999999999,-2.1659999999999999,-1.764,9.5459999999999994,-6.6680000000000005E-4,-2.222E-3,0]
[null,null,null,null,null,null,null,null,null,null,null,null,null,null,null,null,null,null,null,null,null,null,null,null,null,null,null,null,0,{"$f":"AVERAGE(#REF!)","v":{"$error":"#REF!"}},-4.6000000000000006E-2,-6.0000000000000001E-3,0.15,-2.16,-1.7920000000000003,9.5560000000000009,1.9998000000000004E-3,-8.8880000000000003E-4,2.2220000000000001E-4]
[null,null,null,null,null,null,null,null,null,null,null,null,null,null,null,null,null,null,null,null,null,null,null,null,null,null,null,null,0,{"$f":"AVERAGE(#REF!)","v":{"$error":"#REF!"}},-5.2000000000000005E-2,-3.9999999999999992E-3,0.14200000000000002,-2.16,-1.786,9.5520000000000014,8.8880000000000003E-4,1.3332000000000001E-3,-4.4440000000000001E-4]
[null,null,null,null,null,null,null,null,null,null,null,null,null,null,null,null,null,null,null,null,null,null,null,null,null,null,null,null,0,{"$f":"AVERAGE(#REF!)","v":{"$error":"#REF!"}},-3.7999999999999999E-2,2.9999999999999992E-2,0.24399999999999994,-2.2639999999999998,-1.7560000000000002,9.5039999999999996,2.2199999999999998E-4,5.3334000000000003E-3,8.8900000000000003E-4]
[null,null,null,null,null,null,null,null,null,null,null,null,null,null,null,null,null,null,null,null,null,null,null,null,null,null,null,null,0,{"$f":"AVERAGE(#REF!)","v":{"$error":"#REF!"}},-0.27800000000000002,-4.3999999999999997E-2,-0.1,-2.3420000000000001,-1.89,9.322000000000001,-7.111000000000001E-3,-7.3332000000000007E-3,6.6660000000000005E-4]
[null,null,null,null,null,null,null,null,null,null,null,null,null,null,null,null,null,null,null,null,null,null,null,null,null,null,null,null,0,{"$f":"AVERAGE(#REF!)","v":{"$error":"#REF!"}},-0.152,6.4000000000000015E-2,0.18600000000000003,-2.2519999999999998,-1.982,9.541999999999998,1.1777999999999999E-2,2.1333200000000004E-2,2.0000000000000005E-3]
[null,null,null,null,null,null,null,null,null,null,null,null,null,null,null,null,null,null,null,null,null,null,null,null,null,null,null,null,0,{"$f":"AVERAGE(#REF!)","v":{"$error":"#REF!"}},4.8000000000000008E-2,-4.8000000000000022E-2,0.23399999999999999,-2.1479999999999997,-2.0700000000000003,9.5679999999999996,-7.4222200000000016E-2,1.7777799999999996E-2,-5.7777999999999996E-3]
[null,null,null,null,null,null,null,null,null,null,null,null,null,null,null,null,null,null,null,null,null,null,null,null,null,null,null,null,0,{"$f":"AVERAGE(#REF!)","v":{"$error":"#REF!"}},-0.182,0.314,1.3080000000000001,-2.38,-1.6679999999999999,10.656000000000001,0.11022220000000001,-2.9333399999999999E-2,0.12200019999999998]
[null,null,null,null,null,null,null,null,null,null,null,null,null,null,null,null,null,null,null,null,null,null,null,null,null,null,null,null,0,{"$f":"AVERAGE(#REF!)","v":{"$error":"#REF!"}},{"$error":"#DIV/0!"},{"$error":"#DIV/0!"},{"$error":"#DIV/0!"},{"$error":"#DIV/0!"},{"$error":"#DIV/0!"},{"$error":"#DIV/0!"},{"$error":"#DIV/0!"},{"$error":"#DIV/0!"},{"$error":"#DIV/0!"}]
[null,null,null,null,null,null,null,null,null,null,null,null,null,null,null,null,null,null,null,null,null,null,null,null,null,null,null,null,0,{"$f":"AVERAGE(#REF!)","v":{"$error":"#REF!"}},{"$error":"#DIV/0!"},{"$error":"#DIV/0!"},{"$error":"#DIV/0!"},{"$error":"#DIV/0!"},{"$error":"#DIV/0!"},{"$error":"#DIV/0!"},{"$error":"#DIV/0!"},{"$error":"#DIV/0!"},{"$error":"#DIV/0!"}]
[null,null,null,null,null,null,null,null,null,null,null,null,null,null,null,null,null,null,null,null,null,null,null,null,null,null,null,null,0,{"$f":"AVERAGE(#REF!)","v":{"$error":"#REF!"}},{"$error":"#DIV/0!"},{"$error":"#DIV/0!"},{"$error":"#DIV/0!"},{"$error":"#DIV/0!"},{"$error":"#DIV/0!"},{"$error":"#DIV/0!"},{"$error":"#DIV/0!"},{"$error":"#DIV/0!"},{"$error":"#DIV/0!"}]
[null,null,null,null,null,null,null,null,null,null,null,null,null,null,null,null,null,null,null,null,null,null,null,null,null,null,null,null,0,{"$f":"AVERAGE(#REF!)","v":{"$error":"#REF!"}},{"$f":"AVERAGE(Q26690:Q26694)","v":{"$error":"#DIV/0!"}},{"$f":"AVERAGE(R26690:R26694)","v":{"$error":"#DIV/0!"}},{"$f":"AVERAGE(S26690:S26694)","v":{"$error":"#DIV/0!"}},{"$f":"AVERAGE(T26690:T26694)","v":{"$error":"#DIV/0!"}},{"$f":"AVERAGE(U26690:U26694)","v":{"$error":"#DIV/0!"}},{"$f":"AVERAGE(V26690:V26694)","v":{"$error":"#DIV/0!"}},{"$f":"AVERAGE(W26690:W26694)","v":{"$error":"#DIV/0!"}},{"$f":"AVERAGE(X26690:X26694)","v":{"$error":"#DIV/0!"}},{"$f":"AVERAGE(Y26690:Y26694)","v":{"$error":"#DIV/0!"}}]
[null,null,null,null,null,null,null,null,null,null,null,null,null,null,null,null,null,null,null,null,null,null,null,null,null,null,null,null,0,{"$f":"AVERAGE(#REF!)","v":{"$error":"#REF!"}},{"$error":"#DIV/0!"},{"$error":"#DIV/0!"},{"$error":"#DIV/0!"},{"$error":"#DIV/0!"},{"$error":"#DIV/0!"},{"$error":"#DIV/0!"},{"$error":"#DIV/0!"},{"$error":"#DIV/0!"},{"$error":"#DIV/0!"}]
[null,null,null,null,null,null,null,null,null,null,null,null,null,null,null,null,null,null,null,null,null,null,null,null,null,null,null,null,0,{"$f":"AVERAGE(#REF!)","v":{"$error":"#REF!"}},{"$error":"#DIV/0!"},{"$error":"#DIV/0!"},{"$error":"#DIV/0!"},{"$error":"#DIV/0!"},{"$error":"#DIV/0!"},{"$error":"#DIV/0!"},{"$error":"#DIV/0!"},{"$error":"#DIV/0!"},{"$error":"#DIV/0!"}]
[null,null,null,null,null,null,null,null,null,null,null,null,null,null,null,null,null,null,null,null,null,null,null,null,null,null,null,null,0,{"$f":"AVERAGE(#REF!)","v":{"$error":"#REF!"}},{"$error":"#DIV/0!"},{"$error":"#DIV/0!"},{"$error":"#DIV/0!"},{"$error":"#DIV/0!"},{"$error":"#DIV/0!"},{"$error":"#DIV/0!"},{"$error":"#DIV/0!"},{"$error":"#DIV/0!"},{"$error":"#DIV/0!"}]
[null,null,null,null,null,null,null,null,null,null,null,null,null,null,null,null,null,null,null,null,null,null,null,null,null,null,null,null,0,{"$f":"AVERAGE(#REF!)","v":{"$error":"#REF!"}},{"$error":"#DIV/0!"},{"$error":"#DIV/0!"},{"$error":"#DIV/0!"},{"$error":"#DIV/0!"},{"$error":"#DIV/0!"},{"$error":"#DIV/0!"},{"$error":"#DIV/0!"},{"$error":"#DIV/0!"},{"$error":"#DIV/0!"}]
[null,null,null,null,null,null,null,null,null,null,null,null,null,null,null,null,null,null,null,null,null,null,null,null,null,null,null,null,0,{"$f":"AVERAGE(#REF!)","v":{"$error":"#REF!"}},{"$error":"#DIV/0!"},{"$error":"#DIV/0!"},{"$error":"#DIV/0!"},{"$error":"#DIV/0!"},{"$error":"#DIV/0!"},{"$error":"#DIV/0!"},{"$error":"#DIV/0!"},{"$error":"#DIV/0!"},{"$error":"#DIV/0!"}]
[null,null,null,null,null,null,null,null,null,null,null,null,null,null,null,null,null,null,null,null,null,null,null,null,null,null,null,null,0,{"$f":"AVERAGE(#REF!)","v":{"$error":"#REF!"}},{"$error":"#DIV/0!"},{"$error":"#DIV/0!"},{"$error":"#DIV/0!"},{"$error":"#DIV/0!"},{"$error":"#DIV/0!"},{"$error":"#DIV/0!"},{"$error":"#DIV/0!"},{"$error":"#DIV/0!"},{"$error":"#DIV/0!"}]
[null,null,null,null,null,null,null,null,null,null,null,null,null,null,null,null,null,null,null,null,null,null,null,null,null,null,null,null,0,{"$f":"AVERAGE(#REF!)","v":{"$error":"#REF!"}},{"$error":"#DIV/0!"},{"$error":"#DIV/0!"},{"$error":"#DIV/0!"},{"$error":"#DIV/0!"},{"$error":"#DIV/0!"},{"$error":"#DIV/0!"},{"$error":"#DIV/0!"},{"$error":"#DIV/0!"},{"$error":"#DIV/0!"}]
[null,null,null,null,null,null,null,null,null,null,null,null,null,null,null,null,null,null,null,null,null,null,null,null,null,null,null,null,0,{"$f":"AVERAGE(#REF!)","v":{"$error":"#REF!"}},{"$error":"#DIV/0!"},{"$error":"#DIV/0!"},{"$error":"#DIV/0!"},{"$error":"#DIV/0!"},{"$error":"#DIV/0!"},{"$error":"#DIV/0!"},{"$error":"#DIV/0!"},{"$error":"#DIV/0!"},{"$error":"#DIV/0!"}]
[null,null,null,null,null,null,null,null,null,null,null,null,null,null,null,null,null,null,null,null,null,null,null,null,null,null,null,null,0,{"$f":"AVERAGE(#REF!)","v":{"$error":"#REF!"}},{"$error":"#DIV/0!"},{"$error":"#DIV/0!"},{"$error":"#DIV/0!"},{"$error":"#DIV/0!"},{"$error":"#DIV/0!"},{"$error":"#DIV/0!"},{"$error":"#DIV/0!"},{"$error":"#DIV/0!"},{"$error":"#DIV/0!"}]
[null,null,null,null,null,null,null,null,null,null,null,null,null,null,null,null,null,null,null,null,null,null,null,null,null,null,null,null,0,{"$f":"AVERAGE(#REF!)","v":{"$error":"#REF!"}},{"$error":"#DIV/0!"},{"$error":"#DIV/0!"},{"$error":"#DIV/0!"},{"$error":"#DIV/0!"},{"$error":"#DIV/0!"},{"$error":"#DIV/0!"},{"$error":"#DIV/0!"},{"$error":"#DIV/0!"},{"$error":"#DIV/0!"}]
[null,null,null,null,null,null,null,null,null,null,null,null,null,null,null,null,null,null,null,null,null,null,null,null,null,null,null,null,0,{"$f":"AVERAGE(#REF!)","v":{"$error":"#REF!"}},{"$error":"#DIV/0!"},{"$error":"#DIV/0!"},{"$error":"#DIV/0!"},{"$error":"#DIV/0!"},{"$error":"#DIV/0!"},{"$error":"#DIV/0!"},{"$error":"#DIV/0!"},{"$error":"#DIV/0!"},{"$error":"#DIV/0!"}]
[null,null,null,null,null,null,null,null,null,null,null,null,null,null,null,null,null,null,null,null,null,null,null,null,null,null,null,null,0,{"$f":"AVERAGE(#REF!)","v":{"$error":"#REF!"}},{"$error":"#DIV/0!"},{"$error":"#DIV/0!"},{"$error":"#DIV/0!"},{"$error":"#DIV/0!"},{"$error":"#DIV/0!"},{"$error":"#DIV/0!"},{"$error":"#DIV/0!"},{"$error":"#DIV/0!"},{"$error":"#DIV/0!"}]
[null,null,null,null,null,null,null,null,null,null,null,null,null,null,null,null,null,null,null,null,null,null,null,null,null,null,null,null,0,{"$f":"AVERAGE(#REF!)","v":{"$error":"#REF!"}},{"$error":"#DIV/0!"},{"$error":"#DIV/0!"},{"$error":"#DIV/0!"},{"$error":"#DIV/0!"},{"$error":"#DIV/0!"},{"$error":"#DIV/0!"},{"$error":"#DIV/0!"},{"$error":"#DIV/0!"},{"$error":"#DIV/0!"}]
[null,null,null,null,null,null,null,null,null,null,null,null,null,null,null,null,null,null,null,null,null,null,null,null,null,null,null,null,0,{"$f":"AVERAGE(#REF!)","v":{"$error":"#REF!"}},{"$error":"#DIV/0!"},{"$error":"#DIV/0!"},{"$error":"#DIV/0!"},{"$error":"#DIV/0!"},{"$error":"#DIV/0!"},{"$error":"#DIV/0!"},{"$error":"#DIV/0!"},{"$error":"#DIV/0!"},{"$error":"#DIV/0!"}]
[null,null,null,null,null,null,null,null,null,null,null,null,null,null,null,null,null,null,null,null,null,null,null,null,null,null,null,null,0,{"$f":"AVERAGE(#REF!)","v":{"$error":"#REF!"}},{"$error":"#DIV/0!"},{"$error":"#DIV/0!"},{"$error":"#DIV/0!"},{"$error":"#DIV/0!"},{"$error":"#DIV/0!"},{"$error":"#DIV/0!"},{"$error":"#DIV/0!"},{"$error":"#DIV/0!"},{"$error":"#DIV/0!"}]
[null,null,null,null,null,null,null,null,null,null,null,null,null,null,null,null,null,null,null,null,null,null,null,null,null,null,null,null,0,{"$f":"AVERAGE(#REF!)","v":{"$error":"#REF!"}},{"$error":"#DIV/0!"},{"$error":"#DIV/0!"},{"$error":"#DIV/0!"},{"$error":"#DIV/0!"},{"$error":"#DIV/0!"},{"$error":"#DIV/0!"},{"$error":"#DIV/0!"},{"$error":"#DIV/0!"},{"$error":"#DIV/0!"}]
[null,null,null,null,null,null,null,null,null,null,null,null,null,null,null,null,null,null,null,null,null,null,null,null,null,null,null,null,0,{"$f":"AVERAGE(#REF!)","v":{"$error":"#REF!"}},{"$error":"#DIV/0!"},{"$error":"#DIV/0!"},{"$error":"#DIV/0!"},{"$error":"#DIV/0!"},{"$error":"#DIV/0!"},{"$error":"#DIV/0!"},{"$error":"#DIV/0!"},{"$error":"#DIV/0!"},{"$error":"#DIV/0!"}]
[null,null,null,null,null,null,null,null,null,null,null,null,null,null,null,null,null,null,null,null,null,null,null,null,null,null,null,null,0,{"$f":"AVERAGE(#REF!)","v":{"$error":"#REF!"}},{"$error":"#DIV/0!"},{"$error":"#DIV/0!"},{"$error":"#DIV/0!"},{"$error":"#DIV/0!"},{"$error":"#DIV/0!"},{"$error":"#DIV/0!"},{"$error":"#DIV/0!"},{"$error":"#DIV/0!"},{"$error":"#DIV/0!"}]
[null,null,null,null,null,null,null,null,null,null,null,null,null,null,null,null,null,null,null,null,null,null,null,null,null,null,null,null,0,{"$f":"AVERAGE(#REF!)","v":{"$error":"#REF!"}},{"$error":"#DIV/0!"},{"$error":"#DIV/0!"},{"$error":"#DIV/0!"},{"$error":"#DIV/0!"},{"$error":"#DIV/0!"},{"$error":"#DIV/0!"},{"$error":"#DIV/0!"},{"$error":"#DIV/0!"},{"$error":"#DIV/0!"}]
[null,null,null,null,null,null,null,null,null,null,null,null,null,null,null,null,null,null,null,null,null,null,null,null,null,null,null,null,0,{"$f":"AVERAGE(#REF!)","v":{"$error":"#REF!"}},{"$error":"#DIV/0!"},{"$error":"#DIV/0!"},{"$error":"#DIV/0!"},{"$error":"#DIV/0!"},{"$error":"#DIV/0!"},{"$error":"#DIV/0!"},{"$error":"#DIV/0!"},{"$error":"#DIV/0!"},{"$error":"#DIV/0!"}]
[null,null,null,null,null,null,null,null,null,null,null,null,null,null,null,null,null,null,null,null,null,null,null,null,null,null,null,null,0,{"$f":"AVERAGE(#REF!)","v":{"$error":"#REF!"}},{"$error":"#DIV/0!"},{"$error":"#DIV/0!"},{"$error":"#DIV/0!"},{"$error":"#DIV/0!"},{"$error":"#DIV/0!"},{"$error":"#DIV/0!"},{"$error":"#DIV/0!"},{"$error":"#DIV/0!"},{"$error":"#DIV/0!"}]
[null,null,null,null,null,null,null,null,null,null,null,null,null,null,null,null,null,null,null,null,null,null,null,null,null,null,null,null,0,{"$f":"AVERAGE(#REF!)","v":{"$error":"#REF!"}},{"$error":"#DIV/0!"},{"$error":"#DIV/0!"},{"$error":"#DIV/0!"},{"$error":"#DIV/0!"},{"$error":"#DIV/0!"},{"$error":"#DIV/0!"},{"$error":"#DIV/0!"},{"$error":"#DIV/0!"},{"$error":"#DIV/0!"}]
[null,null,null,null,null,null,null,null,null,null,null,null,null,null,null,null,null,null,null,null,null,null,null,null,null,null,null,null,0,{"$f":"AVERAGE(#REF!)","v":{"$error":"#REF!"}},{"$error":"#DIV/0!"},{"$error":"#DIV/0!"},{"$error":"#DIV/0!"},{"$error":"#DIV/0!"},{"$error":"#DIV/0!"},{"$error":"#DIV/0!"},{"$error":"#DIV/0!"},{"$error":"#DIV/0!"},{"$error":"#DIV/0!"}]
[null,null,null,null,null,null,null,null,null,null,null,null,null,null,null,null,null,null,null,null,null,null,null,null,null,null,null,null,{"$f":"(1609.34/3600)*Delta_Speed","v":0},{"$f":"AVERAGE(#REF!)","v":{"$error":"#REF!"}},{"$error":"#DIV/0!"},{"$error":"#DIV/0!"},{"$error":"#DIV/0!"},{"$error":"#DIV/0!"},{"$error":"#DIV/0!"},{"$error":"#DIV/0!"},{"$error":"#DIV/0!"},{"$error":"#DIV/0!"},{"$error":"#DIV/0!"}]
[null,null,null,null,null,null,null,null,null,null,null,null,null,null,null,null,null,null,null,null,null,null,null,null,null,null,null,null,0,{"$f":"AVERAGE(#REF!)","v":{"$error":"#REF!"}},{"$error":"#DIV/0!"},{"$error":"#DIV/0!"},{"$error":"#DIV/0!"},{"$error":"#DIV/0!"},{"$error":"#DIV/0!"},{"$error":"#DIV/0!"},{"$error":"#DIV/0!"},{"$error":"#DIV/0!"},{"$error":"#DIV/0!"}]
[null,null,null,null,null,null,null,null,null,null,null,null,null,null,null,null,null,null,null,null,null,null,null,null,null,null,null,null,0,{"$f":"AVERAGE(#REF!)","v":{"$error":"#REF!"}},{"$error":"#DIV/0!"},{"$error":"#DIV/0!"},{"$error":"#DIV/0!"},{"$error":"#DIV/0!"},{"$error":"#DIV/0!"},{"$error":"#DIV/0!"},{"$error":"#DIV/0!"},{"$error":"#DIV/0!"},{"$error":"#DIV/0!"}]
[null,null,null,null,null,null,null,null,null,null,null,null,null,null,null,null,null,null,null,null,null,null,null,null,null,null,null,null,0,{"$f":"AVERAGE(#REF!)","v":{"$error":"#REF!"}},{"$error":"#DIV/0!"},{"$error":"#DIV/0!"},{"$error":"#DIV/0!"},{"$error":"#DIV/0!"},{"$error":"#DIV/0!"},{"$error":"#DIV/0!"},{"$error":"#DIV/0!"},{"$error":"#DIV/0!"},{"$error":"#DIV/0!"}]
[null,null,null,null,null,null,null,null,null,null,null,null,null,null,null,null,null,null,null,null,null,null,null,null,null,null,null,null,0,{"$f":"AVERAGE(#REF!)","v":{"$error":"#REF!"}},{"$error":"#DIV/0!"},{"$error":"#DIV/0!"},{"$error":"#DIV/0!"},{"$error":"#DIV/0!"},{"$error":"#DIV/0!"},{"$error":"#DIV/0!"},{"$error":"#DIV/0!"},{"$error":"#DIV/0!"},{"$error":"#DIV/0!"}]
[null,null,null,null,null,null,null,null,null,null,null,null,null,null,null,null,null,null,null,null,null,null,null,null,null,null,null,null,0,{"$f":"AVERAGE(#REF!)","v":{"$error":"#REF!"}},{"$error":"#DIV/0!"},{"$error":"#DIV/0!"},{"$error":"#DIV/0!"},{"$error":"#DIV/0!"},{"$error":"#DIV/0!"},{"$error":"#DIV/0!"},{"$error":"#DIV/0!"},{"$error":"#DIV/0!"},{"$error":"#DIV/0!"}]
[null,null,null,null,null,null,null,null,null,null,null,null,null,null,null,null,null,null,null,null,null,null,null,null,null,null,null,null,0,{"$f":"AVERAGE(#REF!)","v":{"$error":"#REF!"}},{"$error":"#DIV/0!"},{"$error":"#DIV/0!"},{"$error":"#DIV/0!"},{"$error":"#DIV/0!"},{"$error":"#DIV/0!"},{"$error":"#DIV/0!"},{"$error":"#DIV/0!"},{"$error":"#DIV/0!"},{"$error":"#DIV/0!"}]
[null,null,null,null,null,null,null,null,null,null,null,null,null,null,null,null,null,null,null,null,null,null,null,null,null,null,null,null,0,{"$f":"AVERAGE(#REF!)","v":{"$error":"#REF!"}},{"$error":"#DIV/0!"},{"$error":"#DIV/0!"},{"$error":"#DIV/0!"},{"$error":"#DIV/0!"},{"$error":"#DIV/0!"},{"$error":"#DIV/0!"},{"$error":"#DIV/0!"},{"$error":"#DIV/0!"},{"$error":"#DIV/0!"}]
[null,null,null,null,null,null,null,null,null,null,null,null,null,null,null,null,null,null,null,null,null,null,null,null,null,null,null,null,0,{"$f":"AVERAGE(#REF!)","v":{"$error":"#REF!"}},{"$error":"#DIV/0!"},{"$error":"#DIV/0!"},{"$error":"#DIV/0!"},{"$error":"#DIV/0!"},{"$error":"#DIV/0!"},{"$error":"#DIV/0!"},{"$error":"#DIV/0!"},{"$error":"#DIV/0!"},{"$error":"#DIV/0!"}]
[null,null,null,null,null,null,null,null,null,null,null,null,null,null,null,null,null,null,null,null,null,null,null,null,null,null,null,null,0,{"$f":"AVERAGE(#REF!)","v":{"$error":"#REF!"}},{"$error":"#DIV/0!"},{"$error":"#DIV/0!"},{"$error":"#DIV/0!"},{"$error":"#DIV/0!"},{"$error":"#DIV/0!"},{"$error":"#DIV/0!"},{"$error":"#DIV/0!"},{"$error":"#DIV/0!"},{"$error":"#DIV/0!"}]
[null,null,null,null,null,null,null,null,null,null,null,null,null,null,null,null,null,null,null,null,null,null,null,null,null,null,null,null,0,{"$f":"AVERAGE(#REF!)","v":{"$error":"#REF!"}},{"$error":"#DIV/0!"},{"$error":"#DIV/0!"},{"$error":"#DIV/0!"},{"$error":"#DIV/0!"},{"$error":"#DIV/0!"},{"$error":"#DIV/0!"},{"$error":"#DIV/0!"},{"$error":"#DIV/0!"},{"$error":"#DIV/0!"}]
[null,null,null,null,null,null,null,null,null,null,null,null,null,null,null,null,null,null,null,null,null,null,null,null,null,null,null,null,0,{"$f":"AVERAGE(#REF!)","v":{"$error":"#REF!"}},{"$error":"#DIV/0!"},{"$error":"#DIV/0!"},{"$error":"#DIV/0!"},{"$error":"#DIV/0!"},{"$error":"#DIV/0!"},{"$error":"#DIV/0!"},{"$error":"#DIV/0!"},{"$error":"#DIV/0!"},{"$error":"#DIV/0!"}]
[null,null,null,null,null,null,null,null,null,null,null,null,null,null,null,null,null,null,null,null,null,null,null,null,null,null,null,null,0,{"$f":"AVERAGE(#REF!)","v":{"$error":"#REF!"}},{"$error":"#DIV/0!"},{"$error":"#DIV/0!"},{"$error":"#DIV/0!"},{"$error":"#DIV/0!"},{"$error":"#DIV/0!"},{"$error":"#DIV/0!"},{"$error":"#DIV/0!"},{"$error":"#DIV/0!"},{"$error":"#DIV/0!"}]
[null,null,null,null,null,null,null,null,null,null,null,null,null,null,null,null,null,null,null,null,null,null,null,null,null,null,null,null,0,{"$f":"AVERAGE(#REF!)","v":{"$error":"#REF!"}},{"$error":"#DIV/0!"},{"$error":"#DIV/0!"},{"$error":"#DIV/0!"},{"$error":"#DIV/0!"},{"$error":"#DIV/0!"},{"$error":"#DIV/0!"},{"$error":"#DIV/0!"},{"$error":"#DIV/0!"},{"$error":"#DIV/0!"}]
[null,null,null,null,null,null,null,null,null,null,null,null,null,null,null,null,null,null,null,null,null,null,null,null,null,null,null,null,0,{"$f":"AVERAGE(#REF!)","v":{"$error":"#REF!"}},{"$error":"#DIV/0!"},{"$error":"#DIV/0!"},{"$error":"#DIV/0!"},{"$error":"#DIV/0!"},{"$error":"#DIV/0!"},{"$error":"#DIV/0!"},{"$error":"#DIV/0!"},{"$error":"#DIV/0!"},{"$error":"#DIV/0!"}]
[null,null,null,null,null,null,null,null,null,null,null,null,null,null,null,null,null,null,null,null,null,null,null,null,null,null,null,null,0,{"$f":"AVERAGE(#REF!)","v":{"$error":"#REF!"}},{"$error":"#DIV/0!"},{"$error":"#DIV/0!"},{"$error":"#DIV/0!"},{"$error":"#DIV/0!"},{"$error":"#DIV/0!"},{"$error":"#DIV/0!"},{"$error":"#DIV/0!"},{"$error":"#DIV/0!"},{"$error":"#DIV/0!"}]
[null,null,null,null,null,null,null,null,null,null,null,null,null,null,null,null,null,null,null,null,null,null,null,null,null,null,null,null,0,{"$f":"AVERAGE(#REF!)","v":{"$error":"#REF!"}},{"$error":"#DIV/0!"},{"$error":"#DIV/0!"},{"$error":"#DIV/0!"},{"$error":"#DIV/0!"},{"$error":"#DIV/0!"},{"$error":"#DIV/0!"},{"$error":"#DIV/0!"},{"$error":"#DIV/0!"},{"$error":"#DIV/0!"}]
[null,null,null,null,null,null,null,null,null,null,null,null,null,null,null,null,null,null,null,null,null,null,null,null,null,null,null,null,0,{"$f":"AVERAGE(#REF!)","v":{"$error":"#REF!"}},{"$error":"#DIV/0!"},{"$error":"#DIV/0!"},{"$error":"#DIV/0!"},{"$error":"#DIV/0!"},{"$error":"#DIV/0!"},{"$error":"#DIV/0!"},{"$error":"#DIV/0!"},{"$error":"#DIV/0!"},{"$error":"#DIV/0!"}]
[null,null,null,null,null,null,null,null,null,null,null,null,null,null,null,null,null,null,null,null,null,null,null,null,null,null,null,null,0,{"$f":"AVERAGE(#REF!)","v":{"$error":"#REF!"}},{"$error":"#DIV/0!"},{"$error":"#DIV/0!"},{"$error":"#DIV/0!"},{"$error":"#DIV/0!"},{"$error":"#DIV/0!"},{"$error":"#DIV/0!"},{"$error":"#DIV/0!"},{"$error":"#DIV/0!"},{"$error":"#DIV/0!"}]
[null,null,null,null,null,null,null,null,null,null,null,null,null,null,null,null,null,null,null,null,null,null,null,null,null,null,null,null,0,{"$f":"AVERAGE(#REF!)","v":{"$error":"#REF!"}},{"$error":"#DIV/0!"},{"$error":"#DIV/0!"},{"$error":"#DIV/0!"},{"$error":"#DIV/0!"},{"$error":"#DIV/0!"},{"$error":"#DIV/0!"},{"$error":"#DIV/0!"},{"$error":"#DIV/0!"},{"$error":"#DIV/0!"}]
[null,null,null,null,null,null,null,null,null,null,null,null,null,null,null,null,null,null,null,null,null,null,null,null,null,null,null,null,0,{"$f":"AVERAGE(#REF!)","v":{"$error":"#REF!"}},{"$error":"#DIV/0!"},{"$error":"#DIV/0!"},{"$error":"#DIV/0!"},{"$error":"#DIV/0!"},{"$error":"#DIV/0!"},{"$error":"#DIV/0!"},{"$error":"#DIV/0!"},{"$error":"#DIV/0!"},{"$error":"#DIV/0!"}]
[null,null,null,null,null,null,null,null,null,null,null,null,null,null,null,null,null,null,null,null,null,null,null,null,null,null,null,null,0,{"$f":"AVERAGE(#REF!)","v":{"$error":"#REF!"}},{"$error":"#DIV/0!"},{"$error":"#DIV/0!"},{"$error":"#DIV/0!"},{"$error":"#DIV/0!"},{"$error":"#DIV/0!"},{"$error":"#DIV/0!"},{"$error":"#DIV/0!"},{"$error":"#DIV/0!"},{"$error":"#DIV/0!"}]
[null,null,null,null,null,null,null,null,null,null,null,null,null,null,null,null,null,null,null,null,null,null,null,null,null,null,null,null,0,{"$f":"AVERAGE(#REF!)","v":{"$error":"#REF!"}},{"$error":"#DIV/0!"},{"$error":"#DIV/0!"},{"$error":"#DIV/0!"},{"$error":"#DIV/0!"},{"$error":"#DIV/0!"},{"$error":"#DIV/0!"},{"$error":"#DIV/0!"},{"$error":"#DIV/0!"},{"$error":"#DIV/0!"}]
[null,null,null,null,null,null,null,null,null,null,null,null,null,null,null,null,null,null,null,null,null,null,null,null,null,null,null,null,0,{"$f":"AVERAGE(#REF!)","v":{"$error":"#REF!"}},{"$error":"#DIV/0!"},{"$error":"#DIV/0!"},{"$error":"#DIV/0!"},{"$error":"#DIV/0!"},{"$error":"#DIV/0!"},{"$error":"#DIV/0!"},{"$error":"#DIV/0!"},{"$error":"#DIV/0!"},{"$error":"#DIV/0!"}]
[null,null,null,null,null,null,null,null,null,null,null,null,null,null,null,null,null,null,null,null,null,null,null,null,null,null,null,null,0,{"$f":"AVERAGE(#REF!)","v":{"$error":"#REF!"}},{"$error":"#DIV/0!"},{"$error":"#DIV/0!"},{"$error":"#DIV/0!"},{"$error":"#DIV/0!"},{"$error":"#DIV/0!"},{"$error":"#DIV/0!"},{"$error":"#DIV/0!"},{"$error":"#DIV/0!"},{"$error":"#DIV/0!"}]
[null,null,null,null,null,null,null,null,null,null,null,null,null,null,null,null,null,null,null,null,null,null,null,null,null,null,null,null,0,{"$f":"AVERAGE(#REF!)","v":{"$error":"#REF!"}},{"$error":"#DIV/0!"},{"$error":"#DIV/0!"},{"$error":"#DIV/0!"},{"$error":"#DIV/0!"},{"$error":"#DIV/0!"},{"$error":"#DIV/0!"},{"$error":"#DIV/0!"},{"$error":"#DIV/0!"},{"$error":"#DIV/0!"}]
[null,null,null,null,null,null,null,null,null,null,null,null,null,null,null,null,null,null,null,null,null,null,null,null,null,null,null,null,0,{"$f":"AVERAGE(#REF!)","v":{"$error":"#REF!"}},{"$error":"#DIV/0!"},{"$error":"#DIV/0!"},{"$error":"#DIV/0!"},{"$error":"#DIV/0!"},{"$error":"#DIV/0!"},{"$error":"#DIV/0!"},{"$error":"#DIV/0!"},{"$error":"#DIV/0!"},{"$error":"#DIV/0!"}]
[null,null,null,null,null,null,null,null,null,null,null,null,null,null,null,null,null,null,null,null,null,null,null,null,null,null,null,null,0,{"$f":"AVERAGE(#REF!)","v":{"$error":"#REF!"}},{"$error":"#DIV/0!"},{"$error":"#DIV/0!"},{"$error":"#DIV/0!"},{"$error":"#DIV/0!"},{"$error":"#DIV/0!"},{"$error":"#DIV/0!"},{"$error":"#DIV/0!"},{"$error":"#DIV/0!"},{"$error":"#DIV/0!"}]
[null,null,null,null,null,null,null,null,null,null,null,null,null,null,null,null,null,null,null,null,null,null,null,null,null,null,null,null,0,{"$f":"AVERAGE(#REF!)","v":{"$error":"#REF!"}},{"$error":"#DIV/0!"},{"$error":"#DIV/0!"},{"$error":"#DIV/0!"},{"$error":"#DIV/0!"},{"$error":"#DIV/0!"},{"$error":"#DIV/0!"},{"$error":"#DIV/0!"},{"$error":"#DIV/0!"},{"$error":"#DIV/0!"}]
[null,null,null,null,null,null,null,null,null,null,null,null,null,null,null,null,null,null,null,null,null,null,null,null,null,null,null,null,0,{"$f":"AVERAGE(#REF!)","v":{"$error":"#REF!"}},{"$error":"#DIV/0!"},{"$error":"#DIV/0!"},{"$error":"#DIV/0!"},{"$error":"#DIV/0!"},{"$error":"#DIV/0!"},{"$error":"#DIV/0!"},{"$error":"#DIV/0!"},{"$error":"#DIV/0!"},{"$error":"#DIV/0!"}]
[null,null,null,null,null,null,null,null,null,null,null,null,null,null,null,null,null,null,null,null,null,null,null,null,null,null,null,null,0,{"$f":"AVERAGE(#REF!)","v":{"$error":"#REF!"}},{"$error":"#DIV/0!"},{"$error":"#DIV/0!"},{"$error":"#DIV/0!"},{"$error":"#DIV/0!"},{"$error":"#DIV/0!"},{"$error":"#DIV/0!"},{"$error":"#DIV/0!"},{"$error":"#DIV/0!"},{"$error":"#DIV/0!"}]
[null,null,null,null,null,null,null,null,null,null,null,null,null,null,null,null,null,null,null,null,null,null,null,null,null,null,null,null,0,{"$f":"AVERAGE(#REF!)","v":{"$error":"#REF!"}},{"$error":"#DIV/0!"},{"$error":"#DIV/0!"},{"$error":"#DIV/0!"},{"$error":"#DIV/0!"},{"$error":"#DIV/0!"},{"$error":"#DIV/0!"},{"$error":"#DIV/0!"},{"$error":"#DIV/0!"},{"$error":"#DIV/0!"}]
[null,null,null,null,null,null,null,null,null,null,null,null,null,null,null,null,null,null,null,null,null,null,null,null,null,null,null,null,0,{"$f":"AVERAGE(#REF!)","v":{"$error":"#REF!"}},{"$error":"#DIV/0!"},{"$error":"#DIV/0!"},{"$error":"#DIV/0!"},{"$error":"#DIV/0!"},{"$error":"#DIV/0!"},{"$error":"#DIV/0!"},{"$error":"#DIV/0!"},{"$error":"#DIV/0!"},{"$error":"#DIV/0!"}]
[null,null,null,null,null,null,null,null,null,null,null,null,null,null,null,null,null,null,null,null,null,null,null,null,null,null,null,null,0,{"$f":"AVERAGE(#REF!)","v":{"$error":"#REF!"}},{"$error":"#DIV/0!"},{"$error":"#DIV/0!"},{"$error":"#DIV/0!"},{"$error":"#DIV/0!"},{"$error":"#DIV/0!"},{"$error":"#DIV/0!"},{"$error":"#DIV/0!"},{"$error":"#DIV/0!"},{"$error":"#DIV/0!"}]
[null,null,null,null,null,null,null,null,null,null,null,null,null,null,null,null,null,null,null,null,null,null,null,null,null,null,null,null,0,{"$f":"AVERAGE(#REF!)","v":{"$error":"#REF!"}},{"$error":"#DIV/0!"},{"$error":"#DIV/0!"},{"$error":"#DIV/0!"},{"$error":"#DIV/0!"},{"$error":"#DIV/0!"},{"$error":"#DIV/0!"},{"$error":"#DIV/0!"},{"$error":"#DIV/0!"},{"$error":"#DIV/0!"}]
[null,null,null,null,null,null,null,null,null,null,null,null,null,null,null,null,null,null,null,null,null,null,null,null,null,null,null,null,0,{"$f":"AVERAGE(#REF!)","v":{"$error":"#REF!"}},{"$error":"#DIV/0!"},{"$error":"#DIV/0!"},{"$error":"#DIV/0!"},{"$error":"#DIV/0!"},{"$error":"#DIV/0!"},{"$error":"#DIV/0!"},{"$error":"#DIV/0!"},{"$error":"#DIV/0!"},{"$error":"#DIV/0!"}]
[null,null,null,null,null,null,null,null,null,null,null,null,null,null,null,null,null,null,null,null,null,null,null,null,null,null,null,null,0,{"$f":"AVERAGE(#REF!)","v":{"$error":"#REF!"}},{"$error":"#DIV/0!"},{"$error":"#DIV/0!"},{"$error":"#DIV/0!"},{"$error":"#DIV/0!"},{"$error":"#DIV/0!"},{"$error":"#DIV/0!"},{"$error":"#DIV/0!"},{"$error":"#DIV/0!"},{"$error":"#DIV/0!"}]
[null,null,null,null,null,null,null,null,null,null,null,null,null,null,null,null,null,null,null,null,null,null,null,null,null,null,null,null,0,{"$f":"AVERAGE(#REF!)","v":{"$error":"#REF!"}},{"$error":"#DIV/0!"},{"$error":"#DIV/0!"},{"$error":"#DIV/0!"},{"$error":"#DIV/0!"},{"$error":"#DIV/0!"},{"$error":"#DIV/0!"},{"$error":"#DIV/0!"},{"$error":"#DIV/0!"},{"$error":"#DIV/0!"}]
[null,null,null,null,null,null,null,null,null,null,null,null,null,null,null,null,null,null,null,null,null,null,null,null,null,null,null,null,0,{"$f":"AVERAGE(#REF!)","v":{"$error":"#REF!"}},{"$error":"#DIV/0!"},{"$error":"#DIV/0!"},{"$error":"#DIV/0!"},{"$error":"#DIV/0!"},{"$error":"#DIV/0!"},{"$error":"#DIV/0!"},{"$error":"#DIV/0!"},{"$error":"#DIV/0!"},{"$error":"#DIV/0!"}]
[null,null,null,null,null,null,null,null,null,null,null,null,null,null,null,null,null,null,null,null,null,null,null,null,null,null,null,null,0,{"$f":"AVERAGE(#REF!)","v":{"$error":"#REF!"}},{"$error":"#DIV/0!"},{"$error":"#DIV/0!"},{"$error":"#DIV/0!"},{"$error":"#DIV/0!"},{"$error":"#DIV/0!"},{"$error":"#DIV/0!"},{"$error":"#DIV/0!"},{"$error":"#DIV/0!"},{"$error":"#DIV/0!"}]
[null,null,null,null,null,null,null,null,null,null,null,null,null,null,null,null,null,null,null,null,null,null,null,null,null,null,null,null,0,{"$f":"AVERAGE(#REF!)","v":{"$error":"#REF!"}},{"$error":"#DIV/0!"},{"$error":"#DIV/0!"},{"$error":"#DIV/0!"},{"$error":"#DIV/0!"},{"$error":"#DIV/0!"},{"$error":"#DIV/0!"},{"$error":"#DIV/0!"},{"$error":"#DIV/0!"},{"$error":"#DIV/0!"}]
[null,null,null,null,null,null,null,null,null,null,null,null,null,null,null,null,null,null,null,null,null,null,null,null,null,null,null,null,0,{"$f":"AVERAGE(#REF!)","v":{"$error":"#REF!"}},{"$error":"#DIV/0!"},{"$error":"#DIV/0!"},{"$error":"#DIV/0!"},{"$error":"#DIV/0!"},{"$error":"#DIV/0!"},{"$error":"#DIV/0!"},{"$error":"#DIV/0!"},{"$error":"#DIV/0!"},{"$error":"#DIV/0!"}]
[null,null,null,null,null,null,null,null,null,null,null,null,null,null,null,null,null,null,null,null,null,null,null,null,null,null,null,null,0,{"$f":"AVERAGE(#REF!)","v":{"$error":"#REF!"}},{"$error":"#DIV/0!"},{"$error":"#DIV/0!"},{"$error":"#DIV/0!"},{"$error":"#DIV/0!"},{"$error":"#DIV/0!"},{"$error":"#DIV/0!"},{"$error":"#DIV/0!"},{"$error":"#DIV/0!"},{"$error":"#DIV/0!"}]
[null,null,null,null,null,null,null,null,null,null,null,null,null,null,null,null,null,null,null,null,null,null,null,null,null,null,null,null,0,{"$f":"AVERAGE(#REF!)","v":{"$error":"#REF!"}},{"$error":"#DIV/0!"},{"$error":"#DIV/0!"},{"$error":"#DIV/0!"},{"$error":"#DIV/0!"},{"$error":"#DIV/0!"},{"$error":"#DIV/0!"},{"$error":"#DIV/0!"},{"$error":"#DIV/0!"},{"$error":"#DIV/0!"}]
[null,null,null,null,null,null,null,null,null,null,null,null,null,null,null,null,null,null,null,null,null,null,null,null,null,null,null,null,0,{"$f":"AVERAGE(#REF!)","v":{"$error":"#REF!"}},{"$error":"#DIV/0!"},{"$error":"#DIV/0!"},{"$error":"#DIV/0!"},{"$error":"#DIV/0!"},{"$error":"#DIV/0!"},{"$error":"#DIV/0!"},{"$error":"#DIV/0!"},{"$error":"#DIV/0!"},{"$error":"#DIV/0!"}]
[null,null,null,null,null,null,null,null,null,null,null,null,null,null,null,null,null,null,null,null,null,null,null,null,null,null,null,null,0,{"$f":"AVERAGE(#REF!)","v":{"$error":"#REF!"}},{"$error":"#DIV/0!"},{"$error":"#DIV/0!"},{"$error":"#DIV/0!"},{"$error":"#DIV/0!"},{"$error":"#DIV/0!"},{"$error":"#DIV/0!"},{"$error":"#DIV/0!"},{"$error":"#DIV/0!"},{"$error":"#DIV/0!"}]
[null,null,null,null,null,null,null,null,null,null,null,null,null,null,null,null,null,null,null,null,null,null,null,null,null,null,null,null,0,{"$f":"AVERAGE(#REF!)","v":{"$error":"#REF!"}},{"$error":"#DIV/0!"},{"$error":"#DIV/0!"},{"$error":"#DIV/0!"},{"$error":"#DIV/0!"},{"$error":"#DIV/0!"},{"$error":"#DIV/0!"},{"$error":"#DIV/0!"},{"$error":"#DIV/0!"},{"$error":"#DIV/0!"}]
[null,null,null,null,null,null,null,null,null,null,null,null,null,null,null,null,null,null,null,null,null,null,null,null,null,null,null,null,0,{"$f":"AVERAGE(#REF!)","v":{"$error":"#REF!"}},{"$error":"#DIV/0!"},{"$error":"#DIV/0!"},{"$error":"#DIV/0!"},{"$error":"#DIV/0!"},{"$error":"#DIV/0!"},{"$error":"#DIV/0!"},{"$error":"#DIV/0!"},{"$error":"#DIV/0!"},{"$error":"#DIV/0!"}]
[null,null,null,null,null,null,null,null,null,null,null,null,null,null,null,null,null,null,null,null,null,null,null,null,null,null,null,null,0,{"$f":"AVERAGE(#REF!)","v":{"$error":"#REF!"}},{"$error":"#DIV/0!"},{"$error":"#DIV/0!"},{"$error":"#DIV/0!"},{"$error":"#DIV/0!"},{"$error":"#DIV/0!"},{"$error":"#DIV/0!"},{"$error":"#DIV/0!"},{"$error":"#DIV/0!"},{"$error":"#DIV/0!"}]
[null,null,null,null,null,null,null,null,null,null,null,null,null,null,null,null,null,null,null,null,null,null,null,null,null,null,null,null,0,{"$f":"AVERAGE(#REF!)","v":{"$error":"#REF!"}},{"$error":"#DIV/0!"},{"$error":"#DIV/0!"},{"$error":"#DIV/0!"},{"$error":"#DIV/0!"},{"$error":"#DIV/0!"},{"$error":"#DIV/0!"},{"$error":"#DIV/0!"},{"$error":"#DIV/0!"},{"$error":"#DIV/0!"}]
[null,null,null,null,null,null,null,null,null,null,null,null,null,null,null,null,null,null,null,null,null,null,null,null,null,null,null,null,0,{"$f":"AVERAGE(#REF!)","v":{"$error":"#REF!"}},{"$error":"#DIV/0!"},{"$error":"#DIV/0!"},{"$error":"#DIV/0!"},{"$error":"#DIV/0!"},{"$error":"#DIV/0!"},{"$error":"#DIV/0!"},{"$error":"#DIV/0!"},{"$error":"#DIV/0!"},{"$error":"#DIV/0!"}]
[null,null,null,null,null,null,null,null,null,null,null,null,null,null,null,null,null,null,null,null,null,null,null,null,null,null,null,null,0,{"$f":"AVERAGE(#REF!)","v":{"$error":"#REF!"}},{"$error":"#DIV/0!"},{"$error":"#DIV/0!"},{"$error":"#DIV/0!"},{"$error":"#DIV/0!"},{"$error":"#DIV/0!"},{"$error":"#DIV/0!"},{"$error":"#DIV/0!"},{"$error":"#DIV/0!"},{"$error":"#DIV/0!"}]
[null,null,null,null,null,null,null,null,null,null,null,null,null,null,null,null,null,null,null,null,null,null,null,null,null,null,null,null,0,{"$f":"AVERAGE(#REF!)","v":{"$error":"#REF!"}},{"$error":"#DIV/0!"},{"$error":"#DIV/0!"},{"$error":"#DIV/0!"},{"$error":"#DIV/0!"},{"$error":"#DIV/0!"},{"$error":"#DIV/0!"},{"$error":"#DIV/0!"},{"$error":"#DIV/0!"},{"$error":"#DIV/0!"}]
[null,null,null,null,null,null,null,null,null,null,null,null,null,null,null,null,null,null,null,null,null,null,null,null,null,null,null,null,0,{"$f":"AVERAGE(#REF!)","v":{"$error":"#REF!"}},{"$error":"#DIV/0!"},{"$error":"#DIV/0!"},{"$error":"#DIV/0!"},{"$error":"#DIV/0!"},{"$error":"#DIV/0!"},{"$error":"#DIV/0!"},{"$error":"#DIV/0!"},{"$error":"#DIV/0!"},{"$error":"#DIV/0!"}]
[null,null,null,null,null,null,null,null,null,null,null,null,null,null,null,null,null,null,null,null,null,null,null,null,null,null,null,null,0,{"$f":"AVERAGE(#REF!)","v":{"$error":"#REF!"}},{"$error":"#DIV/0!"},{"$error":"#DIV/0!"},{"$error":"#DIV/0!"},{"$error":"#DIV/0!"},{"$error":"#DIV/0!"},{"$error":"#DIV/0!"},{"$error":"#DIV/0!"},{"$error":"#DIV/0!"},{"$error":"#DIV/0!"}]
[null,null,null,null,null,null,null,null,null,null,null,null,null,null,null,null,null,null,null,null,null,null,null,null,null,null,null,null,0,{"$f":"AVERAGE(#REF!)","v":{"$error":"#REF!"}},{"$error":"#DIV/0!"},{"$error":"#DIV/0!"},{"$error":"#DIV/0!"},{"$error":"#DIV/0!"},{"$error":"#DIV/0!"},{"$error":"#DIV/0!"},{"$error":"#DIV/0!"},{"$error":"#DIV/0!"},{"$error":"#DIV/0!"}]
[null,null,null,null,null,null,null,null,null,null,null,null,null,null,null,null,null,null,null,null,null,null,null,null,null,null,null,null,0,{"$f":"AVERAGE(#REF!)","v":{"$error":"#REF!"}},{"$error":"#DIV/0!"},{"$error":"#DIV/0!"},{"$error":"#DIV/0!"},{"$error":"#DIV/0!"},{"$error":"#DIV/0!"},{"$error":"#DIV/0!"},{"$error":"#DIV/0!"},{"$error":"#DIV/0!"},{"$error":"#DIV/0!"}]
[null,null,null,null,null,null,null,null,null,null,null,null,null,null,null,null,null,null,null,null,null,null,null,null,null,null,null,null,0,{"$f":"AVERAGE(#REF!)","v":{"$error":"#REF!"}},{"$error":"#DIV/0!"},{"$error":"#DIV/0!"},{"$error":"#DIV/0!"},{"$error":"#DIV/0!"},{"$error":"#DIV/0!"},{"$error":"#DIV/0!"},{"$error":"#DIV/0!"},{"$error":"#DIV/0!"},{"$error":"#DIV/0!"}]
[null,null,null,null,null,null,null,null,null,null,null,null,null,null,null,null,null,null,null,null,null,null,null,null,null,null,null,null,0,{"$f":"AVERAGE(#REF!)","v":{"$error":"#REF!"}},{"$error":"#DIV/0!"},{"$error":"#DIV/0!"},{"$error":"#DIV/0!"},{"$error":"#DIV/0!"},{"$error":"#DIV/0!"},{"$error":"#DIV/0!"},{"$error":"#DIV/0!"},{"$error":"#DIV/0!"},{"$error":"#DIV/0!"}]
[null,null,null,null,null,null,null,null,null,null,null,null,null,null,null,null,null,null,null,null,null,null,null,null,null,null,null,null,0,{"$f":"AVERAGE(#REF!)","v":{"$error":"#REF!"}},{"$error":"#DIV/0!"},{"$error":"#DIV/0!"},{"$error":"#DIV/0!"},{"$error":"#DIV/0!"},{"$error":"#DIV/0!"},{"$error":"#DIV/0!"},{"$error":"#DIV/0!"},{"$error":"#DIV/0!"},{"$error":"#DIV/0!"}]
[null,null,null,null,null,null,null,null,null,null,null,null,null,null,null,null,null,null,null,null,null,null,null,null,null,null,null,null,0,{"$f":"AVERAGE(#REF!)","v":{"$error":"#REF!"}},{"$error":"#DIV/0!"},{"$error":"#DIV/0!"},{"$error":"#DIV/0!"},{"$error":"#DIV/0!"},{"$error":"#DIV/0!"},{"$error":"#DIV/0!"},{"$error":"#DIV/0!"},{"$error":"#DIV/0!"},{"$error":"#DIV/0!"}]
[null,null,null,null,null,null,null,null,null,null,null,null,null,null,null,null,null,null,null,null,null,null,null,null,null,null,null,null,0,{"$f":"AVERAGE(#REF!)","v":{"$error":"#REF!"}},{"$error":"#DIV/0!"},{"$error":"#DIV/0!"},{"$error":"#DIV/0!"},{"$error":"#DIV/0!"},{"$error":"#DIV/0!"},{"$error":"#DIV/0!"},{"$error":"#DIV/0!"},{"$error":"#DIV/0!"},{"$error":"#DIV/0!"}]
[null,null,null,null,null,null,null,null,null,null,null,null,null,null,null,null,null,null,null,null,null,null,null,null,null,null,null,null,0,{"$f":"AVERAGE(#REF!)","v":{"$error":"#REF!"}},{"$error":"#DIV/0!"},{"$error":"#DIV/0!"},{"$error":"#DIV/0!"},{"$error":"#DIV/0!"},{"$error":"#DIV/0!"},{"$error":"#DIV/0!"},{"$error":"#DIV/0!"},{"$error":"#DIV/0!"},{"$error":"#DIV/0!"}]
[null,null,null,null,null,null,null,null,null,null,null,null,null,null,null,null,null,null,null,null,null,null,null,null,null,null,null,null,0,{"$f":"AVERAGE(#REF!)","v":{"$error":"#REF!"}},{"$error":"#DIV/0!"},{"$error":"#DIV/0!"},{"$error":"#DIV/0!"},{"$error":"#DIV/0!"},{"$error":"#DIV/0!"},{"$error":"#DIV/0!"},{"$error":"#DIV/0!"},{"$error":"#DIV/0!"},{"$error":"#DIV/0!"}]
[null,null,null,null,null,null,null,null,null,null,null,null,null,null,null,null,null,null,null,null,null,null,null,null,null,null,null,null,0,{"$f":"AVERAGE(#REF!)","v":{"$error":"#REF!"}},{"$error":"#DIV/0!"},{"$error":"#DIV/0!"},{"$error":"#DIV/0!"},{"$error":"#DIV/0!"},{"$error":"#DIV/0!"},{"$error":"#DIV/0!"},{"$error":"#DIV/0!"},{"$error":"#DIV/0!"},{"$error":"#DIV/0!"}]
[null,null,null,null,null,null,null,null,null,null,null,null,null,null,null,null,null,null,null,null,null,null,null,null,null,null,null,null,0,{"$f":"AVERAGE(#REF!)","v":{"$error":"#REF!"}},{"$error":"#DIV/0!"},{"$error":"#DIV/0!"},{"$error":"#DIV/0!"},{"$error":"#DIV/0!"},{"$error":"#DIV/0!"},{"$error":"#DIV/0!"},{"$error":"#DIV/0!"},{"$error":"#DIV/0!"},{"$error":"#DIV/0!"}]
[null,null,null,null,null,null,null,null,null,null,null,null,null,null,null,null,null,null,null,null,null,null,null,null,null,null,null,null,0,{"$f":"AVERAGE(#REF!)","v":{"$error":"#REF!"}},{"$error":"#DIV/0!"},{"$error":"#DIV/0!"},{"$error":"#DIV/0!"},{"$error":"#DIV/0!"},{"$error":"#DIV/0!"},{"$error":"#DIV/0!"},{"$error":"#DIV/0!"},{"$error":"#DIV/0!"},{"$error":"#DIV/0!"}]
[null,null,null,null,null,null,null,null,null,null,null,null,null,null,null,null,null,null,null,null,null,null,null,null,null,null,null,null,0,{"$f":"AVERAGE(#REF!)","v":{"$error":"#REF!"}},{"$error":"#DIV/0!"},{"$error":"#DIV/0!"},{"$error":"#DIV/0!"},{"$error":"#DIV/0!"},{"$error":"#DIV/0!"},{"$error":"#DIV/0!"},{"$error":"#DIV/0!"},{"$error":"#DIV/0!"},{"$error":"#DIV/0!"}]
[null,null,null,null,null,null,null,null,null,null,null,null,null,null,null,null,null,null,null,null,null,null,null,null,null,null,null,null,0,{"$f":"AVERAGE(#REF!)","v":{"$error":"#REF!"}},{"$error":"#DIV/0!"},{"$error":"#DIV/0!"},{"$error":"#DIV/0!"},{"$error":"#DIV/0!"},{"$error":"#DIV/0!"},{"$error":"#DIV/0!"},{"$error":"#DIV/0!"},{"$error":"#DIV/0!"},{"$error":"#DIV/0!"}]
[null,null,null,null,null,null,null,null,null,null,null,null,null,null,null,null,null,null,null,null,null,null,null,null,null,null,null,null,0,{"$f":"AVERAGE(#REF!)","v":{"$error":"#REF!"}},{"$error":"#DIV/0!"},{"$error":"#DIV/0!"},{"$error":"#DIV/0!"},{"$error":"#DIV/0!"},{"$error":"#DIV/0!"},{"$error":"#DIV/0!"},{"$error":"#DIV/0!"},{"$error":"#DIV/0!"},{"$error":"#DIV/0!"}]
[null,null,null,null,null,null,null,null,null,null,null,null,null,null,null,null,null,null,null,null,null,null,null,null,null,null,null,null,0,{"$f":"AVERAGE(#REF!)","v":{"$error":"#REF!"}},{"$error":"#DIV/0!"},{"$error":"#DIV/0!"},{"$error":"#DIV/0!"},{"$error":"#DIV/0!"},{"$error":"#DIV/0!"},{"$error":"#DIV/0!"},{"$error":"#DIV/0!"},{"$error":"#DIV/0!"},{"$error":"#DIV/0!"}]
[null,null,null,null,null,null,null,null,null,null,null,null,null,null,null,null,null,null,null,null,null,null,null,null,null,null,null,null,0,{"$f":"AVERAGE(#REF!)","v":{"$error":"#REF!"}},{"$error":"#DIV/0!"},{"$error":"#DIV/0!"},{"$error":"#DIV/0!"},{"$error":"#DIV/0!"},{"$error":"#DIV/0!"},{"$error":"#DIV/0!"},{"$error":"#DIV/0!"},{"$error":"#DIV/0!"},{"$error":"#DIV/0!"}]
[null,null,null,null,null,null,null,null,null,null,null,null,null,null,null,null,null,null,null,null,null,null,null,null,null,null,null,null,0,{"$f":"AVERAGE(#REF!)","v":{"$error":"#REF!"}},{"$error":"#DIV/0!"},{"$error":"#DIV/0!"},{"$error":"#DIV/0!"},{"$error":"#DIV/0!"},{"$error":"#DIV/0!"},{"$error":"#DIV/0!"},{"$error":"#DIV/0!"},{"$error":"#DIV/0!"},{"$error":"#DIV/0!"}]
[null,null,null,null,null,null,null,null,null,null,null,null,null,null,null,null,null,null,null,null,null,null,null,null,null,null,null,null,0,{"$f":"AVERAGE(#REF!)","v":{"$error":"#REF!"}},{"$error":"#DIV/0!"},{"$error":"#DIV/0!"},{"$error":"#DIV/0!"},{"$error":"#DIV/0!"},{"$error":"#DIV/0!"},{"$error":"#DIV/0!"},{"$error":"#DIV/0!"},{"$error":"#DIV/0!"},{"$error":"#DIV/0!"}]
[null,null,null,null,null,null,null,null,null,null,null,null,null,null,null,null,null,null,null,null,null,null,null,null,null,null,null,null,0,{"$f":"AVERAGE(#REF!)","v":{"$error":"#REF!"}},{"$error":"#DIV/0!"},{"$error":"#DIV/0!"},{"$error":"#DIV/0!"},{"$error":"#DIV/0!"},{"$error":"#DIV/0!"},{"$error":"#DIV/0!"},{"$error":"#DIV/0!"},{"$error":"#DIV/0!"},{"$error":"#DIV/0!"}]
[null,null,null,null,null,null,null,null,null,null,null,null,null,null,null,null,null,null,null,null,null,null,null,null,null,null,null,null,0,{"$f":"AVERAGE(#REF!)","v":{"$error":"#REF!"}},{"$error":"#DIV/0!"},{"$error":"#DIV/0!"},{"$error":"#DIV/0!"},{"$error":"#DIV/0!"},{"$error":"#DIV/0!"},{"$error":"#DIV/0!"},{"$error":"#DIV/0!"},{"$error":"#DIV/0!"},{"$error":"#DIV/0!"}]
[null,null,null,null,null,null,null,null,null,null,null,null,null,null,null,null,null,null,null,null,null,null,null,null,null,null,null,null,0,{"$f":"AVERAGE(#REF!)","v":{"$error":"#REF!"}},{"$error":"#DIV/0!"},{"$error":"#DIV/0!"},{"$error":"#DIV/0!"},{"$error":"#DIV/0!"},{"$error":"#DIV/0!"},{"$error":"#DIV/0!"},{"$error":"#DIV/0!"},{"$error":"#DIV/0!"},{"$error":"#DIV/0!"}]
[null,null,null,null,null,null,null,null,null,null,null,null,null,null,null,null,null,null,null,null,null,null,null,null,null,null,null,null,0,{"$f":"AVERAGE(#REF!)","v":{"$error":"#REF!"}},{"$error":"#DIV/0!"},{"$error":"#DIV/0!"},{"$error":"#DIV/0!"},{"$error":"#DIV/0!"},{"$error":"#DIV/0!"},{"$error":"#DIV/0!"},{"$error":"#DIV/0!"},{"$error":"#DIV/0!"},{"$error":"#DIV/0!"}]
[null,null,null,null,null,null,null,null,null,null,null,null,null,null,null,null,null,null,null,null,null,null,null,null,null,null,null,null,0,{"$f":"AVERAGE(#REF!)","v":{"$error":"#REF!"}},{"$error":"#DIV/0!"},{"$error":"#DIV/0!"},{"$error":"#DIV/0!"},{"$error":"#DIV/0!"},{"$error":"#DIV/0!"},{"$error":"#DIV/0!"},{"$error":"#DIV/0!"},{"$error":"#DIV/0!"},{"$error":"#DIV/0!"}]
[null,null,null,null,null,null,null,null,null,null,null,null,null,null,null,null,null,null,null,null,null,null,null,null,null,null,null,null,0,{"$f":"AVERAGE(#REF!)","v":{"$error":"#REF!"}},{"$error":"#DIV/0!"},{"$error":"#DIV/0!"},{"$error":"#DIV/0!"},{"$error":"#DIV/0!"},{"$error":"#DIV/0!"},{"$error":"#DIV/0!"},{"$error":"#DIV/0!"},{"$error":"#DIV/0!"},{"$error":"#DIV/0!"}]
[null,null,null,null,null,null,null,null,null,null,null,null,null,null,null,null,null,null,null,null,null,null,null,null,null,null,null,null,0,{"$f":"AVERAGE(#REF!)","v":{"$error":"#REF!"}},{"$error":"#DIV/0!"},{"$error":"#DIV/0!"},{"$error":"#DIV/0!"},{"$error":"#DIV/0!"},{"$error":"#DIV/0!"},{"$error":"#DIV/0!"},{"$error":"#DIV/0!"},{"$error":"#DIV/0!"},{"$error":"#DIV/0!"}]
[null,null,null,null,null,null,null,null,null,null,null,null,null,null,null,null,null,null,null,null,null,null,null,null,null,null,null,null,0,{"$f":"AVERAGE(#REF!)","v":{"$error":"#REF!"}},{"$error":"#DIV/0!"},{"$error":"#DIV/0!"},{"$error":"#DIV/0!"},{"$error":"#DIV/0!"},{"$error":"#DIV/0!"},{"$error":"#DIV/0!"},{"$error":"#DIV/0!"},{"$error":"#DIV/0!"},{"$error":"#DIV/0!"}]
[null,null,null,null,null,null,null,null,null,null,null,null,null,null,null,null,null,null,null,null,null,null,null,null,null,null,null,null,0,{"$f":"AVERAGE(#REF!)","v":{"$error":"#REF!"}},{"$error":"#DIV/0!"},{"$error":"#DIV/0!"},{"$error":"#DIV/0!"},{"$error":"#DIV/0!"},{"$error":"#DIV/0!"},{"$error":"#DIV/0!"},{"$error":"#DIV/0!"},{"$error":"#DIV/0!"},{"$error":"#DIV/0!"}]
[null,null,null,null,null,null,null,null,null,null,null,null,null,null,null,null,null,null,null,null,null,null,null,null,null,null,null,null,0,{"$f":"AVERAGE(#REF!)","v":{"$error":"#REF!"}},{"$error":"#DIV/0!"},{"$error":"#DIV/0!"},{"$error":"#DIV/0!"},{"$error":"#DIV/0!"},{"$error":"#DIV/0!"},{"$error":"#DIV/0!"},{"$error":"#DIV/0!"},{"$error":"#DIV/0!"},{"$error":"#DIV/0!"}]
[null,null,null,null,null,null,null,null,null,null,null,null,null,null,null,null,null,null,null,null,null,null,null,null,null,null,null,null,0,{"$f":"AVERAGE(#REF!)","v":{"$error":"#REF!"}},{"$error":"#DIV/0!"},{"$error":"#DIV/0!"},{"$error":"#DIV/0!"},{"$error":"#DIV/0!"},{"$error":"#DIV/0!"},{"$error":"#DIV/0!"},{"$error":"#DIV/0!"},{"$error":"#DIV/0!"},{"$error":"#DIV/0!"}]
[null,null,null,null,null,null,null,null,null,null,null,null,null,null,null,null,null,null,null,null,null,null,null,null,null,null,null,null,0,{"$f":"AVERAGE(#REF!)","v":{"$error":"#REF!"}},{"$error":"#DIV/0!"},{"$error":"#DIV/0!"},{"$error":"#DIV/0!"},{"$error":"#DIV/0!"},{"$error":"#DIV/0!"},{"$error":"#DIV/0!"},{"$error":"#DIV/0!"},{"$error":"#DIV/0!"},{"$error":"#DIV/0!"}]
[null,null,null,null,null,null,null,null,null,null,null,null,null,null,null,null,null,null,null,null,null,null,null,null,null,null,null,null,0,{"$f":"AVERAGE(#REF!)","v":{"$error":"#REF!"}},{"$error":"#DIV/0!"},{"$error":"#DIV/0!"},{"$error":"#DIV/0!"},{"$error":"#DIV/0!"},{"$error":"#DIV/0!"},{"$error":"#DIV/0!"},{"$error":"#DIV/0!"},{"$error":"#DIV/0!"},{"$error":"#DIV/0!"}]
[null,null,null,null,null,null,null,null,null,null,null,null,null,null,null,null,null,null,null,null,null,null,null,null,null,null,null,null,0,{"$f":"AVERAGE(#REF!)","v":{"$error":"#REF!"}},{"$error":"#DIV/0!"},{"$error":"#DIV/0!"},{"$error":"#DIV/0!"},{"$error":"#DIV/0!"},{"$error":"#DIV/0!"},{"$error":"#DIV/0!"},{"$error":"#DIV/0!"},{"$error":"#DIV/0!"},{"$error":"#DIV/0!"}]
[null,null,null,null,null,null,null,null,null,null,null,null,null,null,null,null,null,null,null,null,null,null,null,null,null,null,null,null,0,{"$f":"AVERAGE(#REF!)","v":{"$error":"#REF!"}},{"$error":"#DIV/0!"},{"$error":"#DIV/0!"},{"$error":"#DIV/0!"},{"$error":"#DIV/0!"},{"$error":"#DIV/0!"},{"$error":"#DIV/0!"},{"$error":"#DIV/0!"},{"$error":"#DIV/0!"},{"$error":"#DIV/0!"}]
[null,null,null,null,null,null,null,null,null,null,null,null,null,null,null,null,null,null,null,null,null,null,null,null,null,null,null,null,0,{"$f":"AVERAGE(#REF!)","v":{"$error":"#REF!"}},{"$error":"#DIV/0!"},{"$error":"#DIV/0!"},{"$error":"#DIV/0!"},{"$error":"#DIV/0!"},{"$error":"#DIV/0!"},{"$error":"#DIV/0!"},{"$error":"#DIV/0!"},{"$error":"#DIV/0!"},{"$error":"#DIV/0!"}]
[null,null,null,null,null,null,null,null,null,null,null,null,null,null,null,null,null,null,null,null,null,null,null,null,null,null,null,null,0,{"$f":"AVERAGE(#REF!)","v":{"$error":"#REF!"}},{"$error":"#DIV/0!"},{"$error":"#DIV/0!"},{"$error":"#DIV/0!"},{"$error":"#DIV/0!"},{"$error":"#DIV/0!"},{"$error":"#DIV/0!"},{"$error":"#DIV/0!"},{"$error":"#DIV/0!"},{"$error":"#DIV/0!"}]
[null,null,null,null,null,null,null,null,null,null,null,null,null,null,null,null,null,null,null,null,null,null,null,null,null,null,null,null,0,{"$f":"AVERAGE(#REF!)","v":{"$error":"#REF!"}},{"$error":"#DIV/0!"},{"$error":"#DIV/0!"},{"$error":"#DIV/0!"},{"$error":"#DIV/0!"},{"$error":"#DIV/0!"},{"$error":"#DIV/0!"},{"$error":"#DIV/0!"},{"$error":"#DIV/0!"},{"$error":"#DIV/0!"}]
[null,null,null,null,null,null,null,null,null,null,null,null,null,null,null,null,null,null,null,null,null,null,null,null,null,null,null,null,0,{"$f":"AVERAGE(#REF!)","v":{"$error":"#REF!"}},{"$error":"#DIV/0!"},{"$error":"#DIV/0!"},{"$error":"#DIV/0!"},{"$error":"#DIV/0!"},{"$error":"#DIV/0!"},{"$error":"#DIV/0!"},{"$error":"#DIV/0!"},{"$error":"#DIV/0!"},{"$error":"#DIV/0!"}]
[null,null,null,null,null,null,null,null,null,null,null,null,null,null,null,null,null,null,null,null,null,null,null,null,null,null,null,null,0,{"$f":"AVERAGE(#REF!)","v":{"$error":"#REF!"}},{"$error":"#DIV/0!"},{"$error":"#DIV/0!"},{"$error":"#DIV/0!"},{"$error":"#DIV/0!"},{"$error":"#DIV/0!"},{"$error":"#DIV/0!"},{"$error":"#DIV/0!"},{"$error":"#DIV/0!"},{"$error":"#DIV/0!"}]
[null,null,null,null,null,null,null,null,null,null,null,null,null,null,null,null,null,null,null,null,null,null,null,null,null,null,null,null,0,{"$f":"AVERAGE(#REF!)","v":{"$error":"#REF!"}},{"$error":"#DIV/0!"},{"$error":"#DIV/0!"},{"$error":"#DIV/0!"},{"$error":"#DIV/0!"},{"$error":"#DIV/0!"},{"$error":"#DIV/0!"},{"$error":"#DIV/0!"},{"$error":"#DIV/0!"},{"$error":"#DIV/0!"}]
[null,null,null,null,null,null,null,null,null,null,null,null,null,null,null,null,null,null,null,null,null,null,null,null,null,null,null,null,0,{"$f":"AVERAGE(#REF!)","v":{"$error":"#REF!"}},{"$error":"#DIV/0!"},{"$error":"#DIV/0!"},{"$error":"#DIV/0!"},{"$error":"#DIV/0!"},{"$error":"#DIV/0!"},{"$error":"#DIV/0!"},{"$error":"#DIV/0!"},{"$error":"#DIV/0!"},{"$error":"#DIV/0!"}]
[null,null,null,null,null,null,null,null,null,null,null,null,null,null,null,null,null,null,null,null,null,null,null,null,null,null,null,null,0,{"$f":"AVERAGE(#REF!)","v":{"$error":"#REF!"}},{"$error":"#DIV/0!"},{"$error":"#DIV/0!"},{"$error":"#DIV/0!"},{"$error":"#DIV/0!"},{"$error":"#DIV/0!"},{"$error":"#DIV/0!"},{"$error":"#DIV/0!"},{"$error":"#DIV/0!"},{"$error":"#DIV/0!"}]
[null,null,null,null,null,null,null,null,null,null,null,null,null,null,null,null,null,null,null,null,null,null,null,null,null,null,null,null,0,{"$f":"AVERAGE(#REF!)","v":{"$error":"#REF!"}},{"$error":"#DIV/0!"},{"$error":"#DIV/0!"},{"$error":"#DIV/0!"},{"$error":"#DIV/0!"},{"$error":"#DIV/0!"},{"$error":"#DIV/0!"},{"$error":"#DIV/0!"},{"$error":"#DIV/0!"},{"$error":"#DIV/0!"}]
[null,null,null,null,null,null,null,null,null,null,null,null,null,null,null,null,null,null,null,null,null,null,null,null,null,null,null,null,0,{"$f":"AVERAGE(#REF!)","v":{"$error":"#REF!"}},{"$error":"#DIV/0!"},{"$error":"#DIV/0!"},{"$error":"#DIV/0!"},{"$error":"#DIV/0!"},{"$error":"#DIV/0!"},{"$error":"#DIV/0!"},{"$error":"#DIV/0!"},{"$error":"#DIV/0!"},{"$error":"#DIV/0!"}]
[null,null,null,null,null,null,null,null,null,null,null,null,null,null,null,null,null,null,null,null,null,null,null,null,null,null,null,null,0,{"$f":"AVERAGE(#REF!)","v":{"$error":"#REF!"}},{"$error":"#DIV/0!"},{"$error":"#DIV/0!"},{"$error":"#DIV/0!"},{"$error":"#DIV/0!"},{"$error":"#DIV/0!"},{"$error":"#DIV/0!"},{"$error":"#DIV/0!"},{"$error":"#DIV/0!"},{"$error":"#DIV/0!"}]
[null,null,null,null,null,null,null,null,null,null,null,null,null,null,null,null,null,null,null,null,null,null,null,null,null,null,null,null,0,{"$f":"AVERAGE(#REF!)","v":{"$error":"#REF!"}},{"$error":"#DIV/0!"},{"$error":"#DIV/0!"},{"$error":"#DIV/0!"},{"$error":"#DIV/0!"},{"$error":"#DIV/0!"},{"$error":"#DIV/0!"},{"$error":"#DIV/0!"},{"$error":"#DIV/0!"},{"$error":"#DIV/0!"}]
[null,null,null,null,null,null,null,null,null,null,null,null,null,null,null,null,null,null,null,null,null,null,null,null,null,null,null,null,0,{"$f":"AVERAGE(#REF!)","v":{"$error":"#REF!"}},{"$error":"#DIV/0!"},{"$error":"#DIV/0!"},{"$error":"#DIV/0!"},{"$error":"#DIV/0!"},{"$error":"#DIV/0!"},{"$error":"#DIV/0!"},{"$error":"#DIV/0!"},{"$error":"#DIV/0!"},{"$error":"#DIV/0!"}]
[null,null,null,null,null,null,null,null,null,null,null,null,null,null,null,null,null,null,null,null,null,null,null,null,null,null,null,null,0,{"$f":"AVERAGE(#REF!)","v":{"$error":"#REF!"}},{"$error":"#DIV/0!"},{"$error":"#DIV/0!"},{"$error":"#DIV/0!"},{"$error":"#DIV/0!"},{"$error":"#DIV/0!"},{"$error":"#DIV/0!"},{"$error":"#DIV/0!"},{"$error":"#DIV/0!"},{"$error":"#DIV/0!"}]
[null,null,null,null,null,null,null,null,null,null,null,null,null,null,null,null,null,null,null,null,null,null,null,null,null,null,null,null,0,{"$f":"AVERAGE(#REF!)","v":{"$error":"#REF!"}},{"$error":"#DIV/0!"},{"$error":"#DIV/0!"},{"$error":"#DIV/0!"},{"$error":"#DIV/0!"},{"$error":"#DIV/0!"},{"$error":"#DIV/0!"},{"$error":"#DIV/0!"},{"$error":"#DIV/0!"},{"$error":"#DIV/0!"}]
[null,null,null,null,null,null,null,null,null,null,null,null,null,null,null,null,null,null,null,null,null,null,null,null,null,null,null,null,0,{"$f":"AVERAGE(#REF!)","v":{"$error":"#REF!"}},{"$error":"#DIV/0!"},{"$error":"#DIV/0!"},{"$error":"#DIV/0!"},{"$error":"#DIV/0!"},{"$error":"#DIV/0!"},{"$error":"#DIV/0!"},{"$error":"#DIV/0!"},{"$error":"#DIV/0!"},{"$error":"#DIV/0!"}]
[null,null,null,null,null,null,null,null,null,null,null,null,null,null,null,null,null,null,null,null,null,null,null,null,null,null,null,null,0,{"$f":"AVERAGE(#REF!)","v":{"$error":"#REF!"}},{"$error":"#DIV/0!"},{"$error":"#DIV/0!"},{"$error":"#DIV/0!"},{"$error":"#DIV/0!"},{"$error":"#DIV/0!"},{"$error":"#DIV/0!"},{"$error":"#DIV/0!"},{"$error":"#DIV/0!"},{"$error":"#DIV/0!"}]
[null,null,null,null,null,null,null,null,null,null,null,null,null,null,null,null,null,null,null,null,null,null,null,null,null,null,null,null,0,{"$f":"AVERAGE(#REF!)","v":{"$error":"#REF!"}},{"$error":"#DIV/0!"},{"$error":"#DIV/0!"},{"$error":"#DIV/0!"},{"$error":"#DIV/0!"},{"$error":"#DIV/0!"},{"$error":"#DIV/0!"},{"$error":"#DIV/0!"},{"$error":"#DIV/0!"},{"$error":"#DIV/0!"}]
[null,null,null,null,null,null,null,null,null,null,null,null,null,null,null,null,null,null,null,null,null,null,null,null,null,null,null,null,0,{"$f":"AVERAGE(#REF!)","v":{"$error":"#REF!"}},{"$error":"#DIV/0!"},{"$error":"#DIV/0!"},{"$error":"#DIV/0!"},{"$error":"#DIV/0!"},{"$error":"#DIV/0!"},{"$error":"#DIV/0!"},{"$error":"#DIV/0!"},{"$error":"#DIV/0!"},{"$error":"#DIV/0!"}]
[null,null,null,null,null,null,null,null,null,null,null,null,null,null,null,null,null,null,null,null,null,null,null,null,null,null,null,null,0,{"$f":"AVERAGE(#REF!)","v":{"$error":"#REF!"}},{"$error":"#DIV/0!"},{"$error":"#DIV/0!"},{"$error":"#DIV/0!"},{"$error":"#DIV/0!"},{"$error":"#DIV/0!"},{"$error":"#DIV/0!"},{"$error":"#DIV/0!"},{"$error":"#DIV/0!"},{"$error":"#DIV/0!"}]
[null,null,null,null,null,null,null,null,null,null,null,null,null,null,null,null,null,null,null,null,null,null,null,null,null,null,null,null,0,{"$f":"AVERAGE(#REF!)","v":{"$error":"#REF!"}},{"$error":"#DIV/0!"},{"$error":"#DIV/0!"},{"$error":"#DIV/0!"},{"$error":"#DIV/0!"},{"$error":"#DIV/0!"},{"$error":"#DIV/0!"},{"$error":"#DIV/0!"},{"$error":"#DIV/0!"},{"$error":"#DIV/0!"}]
[null,null,null,null,null,null,null,null,null,null,null,null,null,null,null,null,null,null,null,null,null,null,null,null,null,null,null,null,0,{"$f":"AVERAGE(#REF!)","v":{"$error":"#REF!"}},{"$error":"#DIV/0!"},{"$error":"#DIV/0!"},{"$error":"#DIV/0!"},{"$error":"#DIV/0!"},{"$error":"#DIV/0!"},{"$error":"#DIV/0!"},{"$error":"#DIV/0!"},{"$error":"#DIV/0!"},{"$error":"#DIV/0!"}]
[null,null,null,null,null,null,null,null,null,null,null,null,null,null,null,null,null,null,null,null,null,null,null,null,null,null,null,null,0,{"$f":"AVERAGE(#REF!)","v":{"$error":"#REF!"}},{"$error":"#DIV/0!"},{"$error":"#DIV/0!"},{"$error":"#DIV/0!"},{"$error":"#DIV/0!"},{"$error":"#DIV/0!"},{"$error":"#DIV/0!"},{"$error":"#DIV/0!"},{"$error":"#DIV/0!"},{"$error":"#DIV/0!"}]
[null,null,null,null,null,null,null,null,null,null,null,null,null,null,null,null,null,null,null,null,null,null,null,null,null,null,null,null,0,{"$f":"AVERAGE(#REF!)","v":{"$error":"#REF!"}},{"$error":"#DIV/0!"},{"$error":"#DIV/0!"},{"$error":"#DIV/0!"},{"$error":"#DIV/0!"},{"$error":"#DIV/0!"},{"$error":"#DIV/0!"},{"$error":"#DIV/0!"},{"$error":"#DIV/0!"},{"$error":"#DIV/0!"}]
[null,null,null,null,null,null,null,null,null,null,null,null,null,null,null,null,null,null,null,null,null,null,null,null,null,null,null,null,0,{"$f":"AVERAGE(#REF!)","v":{"$error":"#REF!"}},{"$error":"#DIV/0!"},{"$error":"#DIV/0!"},{"$error":"#DIV/0!"},{"$error":"#DIV/0!"},{"$error":"#DIV/0!"},{"$error":"#DIV/0!"},{"$error":"#DIV/0!"},{"$error":"#DIV/0!"},{"$error":"#DIV/0!"}]
[null,null,null,null,null,null,null,null,null,null,null,null,null,null,null,null,null,null,null,null,null,null,null,null,null,null,null,null,0,{"$f":"AVERAGE(#REF!)","v":{"$error":"#REF!"}},{"$error":"#DIV/0!"},{"$error":"#DIV/0!"},{"$error":"#DIV/0!"},{"$error":"#DIV/0!"},{"$error":"#DIV/0!"},{"$error":"#DIV/0!"},{"$error":"#DIV/0!"},{"$error":"#DIV/0!"},{"$error":"#DIV/0!"}]
[null,null,null,null,null,null,null,null,null,null,null,null,null,null,null,null,null,null,null,null,null,null,null,null,null,null,null,null,0,{"$f":"AVERAGE(#REF!)","v":{"$error":"#REF!"}},{"$error":"#DIV/0!"},{"$error":"#DIV/0!"},{"$error":"#DIV/0!"},{"$error":"#DIV/0!"},{"$error":"#DIV/0!"},{"$error":"#DIV/0!"},{"$error":"#DIV/0!"},{"$error":"#DIV/0!"},{"$error":"#DIV/0!"}]
[null,null,null,null,null,null,null,null,null,null,null,null,null,null,null,null,null,null,null,null,null,null,null,null,null,null,null,null,0,{"$f":"AVERAGE(#REF!)","v":{"$error":"#REF!"}},{"$error":"#DIV/0!"},{"$error":"#DIV/0!"},{"$error":"#DIV/0!"},{"$error":"#DIV/0!"},{"$error":"#DIV/0!"},{"$error":"#DIV/0!"},{"$error":"#DIV/0!"},{"$error":"#DIV/0!"},{"$error":"#DIV/0!"}]
[null,null,null,null,null,null,null,null,null,null,null,null,null,null,null,null,null,null,null,null,null,null,null,null,null,null,null,null,0,{"$f":"AVERAGE(#REF!)","v":{"$error":"#REF!"}},{"$error":"#DIV/0!"},{"$error":"#DIV/0!"},{"$error":"#DIV/0!"},{"$error":"#DIV/0!"},{"$error":"#DIV/0!"},{"$error":"#DIV/0!"},{"$error":"#DIV/0!"},{"$error":"#DIV/0!"},{"$error":"#DIV/0!"}]
[null,null,null,null,null,null,null,null,null,null,null,null,null,null,null,null,null,null,null,null,null,null,null,null,null,null,null,null,0,{"$f":"AVERAGE(#REF!)","v":{"$error":"#REF!"}},{"$error":"#DIV/0!"},{"$error":"#DIV/0!"},{"$error":"#DIV/0!"},{"$error":"#DIV/0!"},{"$error":"#DIV/0!"},{"$error":"#DIV/0!"},{"$error":"#DIV/0!"},{"$error":"#DIV/0!"},{"$error":"#DIV/0!"}]
[null,null,null,null,null,null,null,null,null,null,null,null,null,null,null,null,null,null,null,null,null,null,null,null,null,null,null,null,0,{"$f":"AVERAGE(#REF!)","v":{"$error":"#REF!"}},{"$error":"#DIV/0!"},{"$error":"#DIV/0!"},{"$error":"#DIV/0!"},{"$error":"#DIV/0!"},{"$error":"#DIV/0!"},{"$error":"#DIV/0!"},{"$error":"#DIV/0!"},{"$error":"#DIV/0!"},{"$error":"#DIV/0!"}]
[null,null,null,null,null,null,null,null,null,null,null,null,null,null,null,null,null,null,null,null,null,null,null,null,null,null,null,null,0,{"$f":"AVERAGE(#REF!)","v":{"$error":"#REF!"}},{"$error":"#DIV/0!"},{"$error":"#DIV/0!"},{"$error":"#DIV/0!"},{"$error":"#DIV/0!"},{"$error":"#DIV/0!"},{"$error":"#DIV/0!"},{"$error":"#DIV/0!"},{"$error":"#DIV/0!"},{"$error":"#DIV/0!"}]
[null,null,null,null,null,null,null,null,null,null,null,null,null,null,null,null,null,null,null,null,null,null,null,null,null,null,null,null,0,{"$f":"AVERAGE(#REF!)","v":{"$error":"#REF!"}},{"$error":"#DIV/0!"},{"$error":"#DIV/0!"},{"$error":"#DIV/0!"},{"$error":"#DIV/0!"},{"$error":"#DIV/0!"},{"$error":"#DIV/0!"},{"$error":"#DIV/0!"},{"$error":"#DIV/0!"},{"$error":"#DIV/0!"}]
[null,null,null,null,null,null,null,null,null,null,null,null,null,null,null,null,null,null,null,null,null,null,null,null,null,null,null,null,0,{"$f":"AVERAGE(#REF!)","v":{"$error":"#REF!"}},{"$error":"#DIV/0!"},{"$error":"#DIV/0!"},{"$error":"#DIV/0!"},{"$error":"#DIV/0!"},{"$error":"#DIV/0!"},{"$error":"#DIV/0!"},{"$error":"#DIV/0!"},{"$error":"#DIV/0!"},{"$error":"#DIV/0!"}]
[null,null,null,null,null,null,null,null,null,null,null,null,null,null,null,null,null,null,null,null,null,null,null,null,null,null,null,null,0,{"$f":"AVERAGE(#REF!)","v":{"$error":"#REF!"}},{"$error":"#DIV/0!"},{"$error":"#DIV/0!"},{"$error":"#DIV/0!"},{"$error":"#DIV/0!"},{"$error":"#DIV/0!"},{"$error":"#DIV/0!"},{"$error":"#DIV/0!"},{"$error":"#DIV/0!"},{"$error":"#DIV/0!"}]
[null,null,null,null,null,null,null,null,null,null,null,null,null,null,null,null,null,null,null,null,null,null,null,null,null,null,null,null,0,{"$f":"AVERAGE(#REF!)","v":{"$error":"#REF!"}},{"$error":"#DIV/0!"},{"$error":"#DIV/0!"},{"$error":"#DIV/0!"},{"$error":"#DIV/0!"},{"$error":"#DIV/0!"},{"$error":"#DIV/0!"},{"$error":"#DIV/0!"},{"$error":"#DIV/0!"},{"$error":"#DIV/0!"}]
[null,null,null,null,null,null,null,null,null,null,null,null,null,null,null,null,null,null,null,null,null,null,null,null,null,null,null,null,0,{"$f":"AVERAGE(#REF!)","v":{"$error":"#REF!"}},{"$error":"#DIV/0!"},{"$error":"#DIV/0!"},{"$error":"#DIV/0!"},{"$error":"#DIV/0!"},{"$error":"#DIV/0!"},{"$error":"#DIV/0!"},{"$error":"#DIV/0!"},{"$error":"#DIV/0!"},{"$error":"#DIV/0!"}]
[null,null,null,null,null,null,null,null,null,null,null,null,null,null,null,null,null,null,null,null,null,null,null,null,null,null,null,null,0,{"$f":"AVERAGE(#REF!)","v":{"$error":"#REF!"}},{"$error":"#DIV/0!"},{"$error":"#DIV/0!"},{"$error":"#DIV/0!"},{"$error":"#DIV/0!"},{"$error":"#DIV/0!"},{"$error":"#DIV/0!"},{"$error":"#DIV/0!"},{"$error":"#DIV/0!"},{"$error":"#DIV/0!"}]
[null,null,null,null,null,null,null,null,null,null,null,null,null,null,null,null,null,null,null,null,null,null,null,null,null,null,null,null,0,{"$f":"AVERAGE(#REF!)","v":{"$error":"#REF!"}},{"$error":"#DIV/0!"},{"$error":"#DIV/0!"},{"$error":"#DIV/0!"},{"$error":"#DIV/0!"},{"$error":"#DIV/0!"},{"$error":"#DIV/0!"},{"$error":"#DIV/0!"},{"$error":"#DIV/0!"},{"$error":"#DIV/0!"}]
[null,null,null,null,null,null,null,null,null,null,null,null,null,null,null,null,null,null,null,null,null,null,null,null,null,null,null,null,0,{"$f":"AVERAGE(#REF!)","v":{"$error":"#REF!"}},{"$error":"#DIV/0!"},{"$error":"#DIV/0!"},{"$error":"#DIV/0!"},{"$error":"#DIV/0!"},{"$error":"#DIV/0!"},{"$error":"#DIV/0!"},{"$error":"#DIV/0!"},{"$error":"#DIV/0!"},{"$error":"#DIV/0!"}]
[null,null,null,null,null,null,null,null,null,null,null,null,null,null,null,null,null,null,null,null,null,null,null,null,null,null,null,null,0,{"$f":"AVERAGE(#REF!)","v":{"$error":"#REF!"}},{"$error":"#DIV/0!"},{"$error":"#DIV/0!"},{"$error":"#DIV/0!"},{"$error":"#DIV/0!"},{"$error":"#DIV/0!"},{"$error":"#DIV/0!"},{"$error":"#DIV/0!"},{"$error":"#DIV/0!"},{"$error":"#DIV/0!"}]
[null,null,null,null,null,null,null,null,null,null,null,null,null,null,null,null,null,null,null,null,null,null,null,null,null,null,null,null,0,{"$f":"AVERAGE(#REF!)","v":{"$error":"#REF!"}},{"$error":"#DIV/0!"},{"$error":"#DIV/0!"},{"$error":"#DIV/0!"},{"$error":"#DIV/0!"},{"$error":"#DIV/0!"},{"$error":"#DIV/0!"},{"$error":"#DIV/0!"},{"$error":"#DIV/0!"},{"$error":"#DIV/0!"}]
[null,null,null,null,null,null,null,null,null,null,null,null,null,null,null,null,null,null,null,null,null,null,null,null,null,null,null,null,0,{"$f":"AVERAGE(#REF!)","v":{"$error":"#REF!"}},{"$error":"#DIV/0!"},{"$error":"#DIV/0!"},{"$error":"#DIV/0!"},{"$error":"#DIV/0!"},{"$error":"#DIV/0!"},{"$error":"#DIV/0!"},{"$error":"#DIV/0!"},{"$error":"#DIV/0!"},{"$error":"#DIV/0!"}]
[null,null,null,null,null,null,null,null,null,null,null,null,null,null,null,null,null,null,null,null,null,null,null,null,null,null,null,null,0,{"$f":"AVERAGE(#REF!)","v":{"$error":"#REF!"}},{"$error":"#DIV/0!"},{"$error":"#DIV/0!"},{"$error":"#DIV/0!"},{"$error":"#DIV/0!"},{"$error":"#DIV/0!"},{"$error":"#DIV/0!"},{"$error":"#DIV/0!"},{"$error":"#DIV/0!"},{"$error":"#DIV/0!"}]
[null,null,null,null,null,null,null,null,null,null,null,null,null,null,null,null,null,null,null,null,null,null,null,null,null,null,null,null,0,{"$f":"AVERAGE(#REF!)","v":{"$error":"#REF!"}},{"$error":"#DIV/0!"},{"$error":"#DIV/0!"},{"$error":"#DIV/0!"},{"$error":"#DIV/0!"},{"$error":"#DIV/0!"},{"$error":"#DIV/0!"},{"$error":"#DIV/0!"},{"$error":"#DIV/0!"},{"$error":"#DIV/0!"}]
[null,null,null,null,null,null,null,null,null,null,null,null,null,null,null,null,null,null,null,null,null,null,null,null,null,null,null,null,0,{"$f":"AVERAGE(#REF!)","v":{"$error":"#REF!"}},{"$error":"#DIV/0!"},{"$error":"#DIV/0!"},{"$error":"#DIV/0!"},{"$error":"#DIV/0!"},{"$error":"#DIV/0!"},{"$error":"#DIV/0!"},{"$error":"#DIV/0!"},{"$error":"#DIV/0!"},{"$error":"#DIV/0!"}]
[null,null,null,null,null,null,null,null,null,null,null,null,null,null,null,null,null,null,null,null,null,null,null,null,null,null,null,null,0,{"$f":"AVERAGE(#REF!)","v":{"$error":"#REF!"}},{"$error":"#DIV/0!"},{"$error":"#DIV/0!"},{"$error":"#DIV/0!"},{"$error":"#DIV/0!"},{"$error":"#DIV/0!"},{"$error":"#DIV/0!"},{"$error":"#DIV/0!"},{"$error":"#DIV/0!"},{"$error":"#DIV/0!"}]
[null,null,null,null,null,null,null,null,null,null,null,null,null,null,null,null,null,null,null,null,null,null,null,null,null,null,null,null,0,{"$f":"AVERAGE(#REF!)","v":{"$error":"#REF!"}},{"$error":"#DIV/0!"},{"$error":"#DIV/0!"},{"$error":"#DIV/0!"},{"$error":"#DIV/0!"},{"$error":"#DIV/0!"},{"$error":"#DIV/0!"},{"$error":"#DIV/0!"},{"$error":"#DIV/0!"},{"$error":"#DIV/0!"}]
[null,null,null,null,null,null,null,null,null,null,null,null,null,null,null,null,null,null,null,null,null,null,null,null,null,null,null,null,0,{"$f":"AVERAGE(#REF!)","v":{"$error":"#REF!"}},{"$error":"#DIV/0!"},{"$error":"#DIV/0!"},{"$error":"#DIV/0!"},{"$error":"#DIV/0!"},{"$error":"#DIV/0!"},{"$error":"#DIV/0!"},{"$error":"#DIV/0!"},{"$error":"#DIV/0!"},{"$error":"#DIV/0!"}]
[null,null,null,null,null,null,null,null,null,null,null,null,null,null,null,null,null,null,null,null,null,null,null,null,null,null,null,null,0,{"$f":"AVERAGE(#REF!)","v":{"$error":"#REF!"}},{"$error":"#DIV/0!"},{"$error":"#DIV/0!"},{"$error":"#DIV/0!"},{"$error":"#DIV/0!"},{"$error":"#DIV/0!"},{"$error":"#DIV/0!"},{"$error":"#DIV/0!"},{"$error":"#DIV/0!"},{"$error":"#DIV/0!"}]
[null,null,null,null,null,null,null,null,null,null,null,null,null,null,null,null,null,null,null,null,null,null,null,null,null,null,null,null,0,{"$f":"AVERAGE(#REF!)","v":{"$error":"#REF!"}},{"$error":"#DIV/0!"},{"$error":"#DIV/0!"},{"$error":"#DIV/0!"},{"$error":"#DIV/0!"},{"$error":"#DIV/0!"},{"$error":"#DIV/0!"},{"$error":"#DIV/0!"},{"$error":"#DIV/0!"},{"$error":"#DIV/0!"}]
[null,null,null,null,null,null,null,null,null,null,null,null,null,null,null,null,null,null,null,null,null,null,null,null,null,null,null,null,0,{"$f":"AVERAGE(#REF!)","v":{"$error":"#REF!"}},{"$error":"#DIV/0!"},{"$error":"#DIV/0!"},{"$error":"#DIV/0!"},{"$error":"#DIV/0!"},{"$error":"#DIV/0!"},{"$error":"#DIV/0!"},{"$error":"#DIV/0!"},{"$error":"#DIV/0!"},{"$error":"#DIV/0!"}]
[null,null,null,null,null,null,null,null,null,null,null,null,null,null,null,null,null,null,null,null,null,null,null,null,null,null,null,null,0,{"$f":"AVERAGE(#REF!)","v":{"$error":"#REF!"}},{"$error":"#DIV/0!"},{"$error":"#DIV/0!"},{"$error":"#DIV/0!"},{"$error":"#DIV/0!"},{"$error":"#DIV/0!"},{"$error":"#DIV/0!"},{"$error":"#DIV/0!"},{"$error":"#DIV/0!"},{"$error":"#DIV/0!"}]
[null,null,null,null,null,null,null,null,null,null,null,null,null,null,null,null,null,null,null,null,null,null,null,null,null,null,null,null,0,{"$f":"AVERAGE(#REF!)","v":{"$error":"#REF!"}},{"$error":"#DIV/0!"},{"$error":"#DIV/0!"},{"$error":"#DIV/0!"},{"$error":"#DIV/0!"},{"$error":"#DIV/0!"},{"$error":"#DIV/0!"},{"$error":"#DIV/0!"},{"$error":"#DIV/0!"},{"$error":"#DIV/0!"}]
[null,null,null,null,null,null,null,null,null,null,null,null,null,null,null,null,null,null,null,null,null,null,null,null,null,null,null,null,0,{"$f":"AVERAGE(#REF!)","v":{"$error":"#REF!"}},{"$error":"#DIV/0!"},{"$error":"#DIV/0!"},{"$error":"#DIV/0!"},{"$error":"#DIV/0!"},{"$error":"#DIV/0!"},{"$error":"#DIV/0!"},{"$error":"#DIV/0!"},{"$error":"#DIV/0!"},{"$error":"#DIV/0!"}]
[null,null,null,null,null,null,null,null,null,null,null,null,null,null,null,null,null,null,null,null,null,null,null,null,null,null,null,null,0,{"$f":"AVERAGE(#REF!)","v":{"$error":"#REF!"}},{"$error":"#DIV/0!"},{"$error":"#DIV/0!"},{"$error":"#DIV/0!"},{"$error":"#DIV/0!"},{"$error":"#DIV/0!"},{"$error":"#DIV/0!"},{"$error":"#DIV/0!"},{"$error":"#DIV/0!"},{"$error":"#DIV/0!"}]
[null,null,null,null,null,null,null,null,null,null,null,null,null,null,null,null,null,null,null,null,null,null,null,null,null,null,null,null,0,{"$f":"AVERAGE(#REF!)","v":{"$error":"#REF!"}},{"$error":"#DIV/0!"},{"$error":"#DIV/0!"},{"$error":"#DIV/0!"},{"$error":"#DIV/0!"},{"$error":"#DIV/0!"},{"$error":"#DIV/0!"},{"$error":"#DIV/0!"},{"$error":"#DIV/0!"},{"$error":"#DIV/0!"}]
[null,null,null,null,null,null,null,null,null,null,null,null,null,null,null,null,null,null,null,null,null,null,null,null,null,null,null,null,0,{"$f":"AVERAGE(#REF!)","v":{"$error":"#REF!"}},{"$error":"#DIV/0!"},{"$error":"#DIV/0!"},{"$error":"#DIV/0!"},{"$error":"#DIV/0!"},{"$error":"#DIV/0!"},{"$error":"#DIV/0!"},{"$error":"#DIV/0!"},{"$error":"#DIV/0!"},{"$error":"#DIV/0!"}]
[null,null,null,null,null,null,null,null,null,null,null,null,null,null,null,null,null,null,null,null,null,null,null,null,null,null,null,null,0,{"$f":"AVERAGE(#REF!)","v":{"$error":"#REF!"}},{"$error":"#DIV/0!"},{"$error":"#DIV/0!"},{"$error":"#DIV/0!"},{"$error":"#DIV/0!"},{"$error":"#DIV/0!"},{"$error":"#DIV/0!"},{"$error":"#DIV/0!"},{"$error":"#DIV/0!"},{"$error":"#DIV/0!"}]
[null,null,null,null,null,null,null,null,null,null,null,null,null,null,null,null,null,null,null,null,null,null,null,null,null,null,null,null,0,{"$f":"AVERAGE(#REF!)","v":{"$error":"#REF!"}},{"$error":"#DIV/0!"},{"$error":"#DIV/0!"},{"$error":"#DIV/0!"},{"$error":"#DIV/0!"},{"$error":"#DIV/0!"},{"$error":"#DIV/0!"},{"$error":"#DIV/0!"},{"$error":"#DIV/0!"},{"$error":"#DIV/0!"}]
[null,null,null,null,null,null,null,null,null,null,null,null,null,null,null,null,null,null,null,null,null,null,null,null,null,null,null,null,0,{"$f":"AVERAGE(#REF!)","v":{"$error":"#REF!"}},{"$error":"#DIV/0!"},{"$error":"#DIV/0!"},{"$error":"#DIV/0!"},{"$error":"#DIV/0!"},{"$error":"#DIV/0!"},{"$error":"#DIV/0!"},{"$error":"#DIV/0!"},{"$error":"#DIV/0!"},{"$error":"#DIV/0!"}]
[null,null,null,null,null,null,null,null,null,null,null,null,null,null,null,null,null,null,null,null,null,null,null,null,null,null,null,null,0,{"$f":"AVERAGE(#REF!)","v":{"$error":"#REF!"}},{"$error":"#DIV/0!"},{"$error":"#DIV/0!"},{"$error":"#DIV/0!"},{"$error":"#DIV/0!"},{"$error":"#DIV/0!"},{"$error":"#DIV/0!"},{"$error":"#DIV/0!"},{"$error":"#DIV/0!"},{"$error":"#DIV/0!"}]
[null,null,null,null,null,null,null,null,null,null,null,null,null,null,null,null,null,null,null,null,null,null,null,null,null,null,null,null,0,{"$f":"AVERAGE(#REF!)","v":{"$error":"#REF!"}},{"$error":"#DIV/0!"},{"$error":"#DIV/0!"},{"$error":"#DIV/0!"},{"$error":"#DIV/0!"},{"$error":"#DIV/0!"},{"$error":"#DIV/0!"},{"$error":"#DIV/0!"},{"$error":"#DIV/0!"},{"$error":"#DIV/0!"}]
[null,null,null,null,null,null,null,null,null,null,null,null,null,null,null,null,null,null,null,null,null,null,null,null,null,null,null,null,0,{"$f":"AVERAGE(#REF!)","v":{"$error":"#REF!"}},{"$error":"#DIV/0!"},{"$error":"#DIV/0!"},{"$error":"#DIV/0!"},{"$error":"#DIV/0!"},{"$error":"#DIV/0!"},{"$error":"#DIV/0!"},{"$error":"#DIV/0!"},{"$error":"#DIV/0!"},{"$error":"#DIV/0!"}]
[null,null,null,null,null,null,null,null,null,null,null,null,null,null,null,null,null,null,null,null,null,null,null,null,null,null,null,null,0,{"$f":"AVERAGE(#REF!)","v":{"$error":"#REF!"}},{"$error":"#DIV/0!"},{"$error":"#DIV/0!"},{"$error":"#DIV/0!"},{"$error":"#DIV/0!"},{"$error":"#DIV/0!"},{"$error":"#DIV/0!"},{"$error":"#DIV/0!"},{"$error":"#DIV/0!"},{"$error":"#DIV/0!"}]
[null,null,null,null,null,null,null,null,null,null,null,null,null,null,null,null,null,null,null,null,null,null,null,null,null,null,null,null,0,{"$f":"AVERAGE(#REF!)","v":{"$error":"#REF!"}},{"$error":"#DIV/0!"},{"$error":"#DIV/0!"},{"$error":"#DIV/0!"},{"$error":"#DIV/0!"},{"$error":"#DIV/0!"},{"$error":"#DIV/0!"},{"$error":"#DIV/0!"},{"$error":"#DIV/0!"},{"$error":"#DIV/0!"}]
[null,null,null,null,null,null,null,null,null,null,null,null,null,null,null,null,null,null,null,null,null,null,null,null,null,null,null,null,0,{"$f":"AVERAGE(#REF!)","v":{"$error":"#REF!"}},{"$error":"#DIV/0!"},{"$error":"#DIV/0!"},{"$error":"#DIV/0!"},{"$error":"#DIV/0!"},{"$error":"#DIV/0!"},{"$error":"#DIV/0!"},{"$error":"#DIV/0!"},{"$error":"#DIV/0!"},{"$error":"#DIV/0!"}]
[null,null,null,null,null,null,null,null,null,null,null,null,null,null,null,null,null,null,null,null,null,null,null,null,null,null,null,null,0,{"$f":"AVERAGE(#REF!)","v":{"$error":"#REF!"}},{"$error":"#DIV/0!"},{"$error":"#DIV/0!"},{"$error":"#DIV/0!"},{"$error":"#DIV/0!"},{"$error":"#DIV/0!"},{"$error":"#DIV/0!"},{"$error":"#DIV/0!"},{"$error":"#DIV/0!"},{"$error":"#DIV/0!"}]
[null,null,null,null,null,null,null,null,null,null,null,null,null,null,null,null,null,null,null,null,null,null,null,null,null,null,null,null,0,{"$f":"AVERAGE(#REF!)","v":{"$error":"#REF!"}},{"$error":"#DIV/0!"},{"$error":"#DIV/0!"},{"$error":"#DIV/0!"},{"$error":"#DIV/0!"},{"$error":"#DIV/0!"},{"$error":"#DIV/0!"},{"$error":"#DIV/0!"},{"$error":"#DIV/0!"},{"$error":"#DIV/0!"}]
[null,null,null,null,null,null,null,null,null,null,null,null,null,null,null,null,null,null,null,null,null,null,null,null,null,null,null,null,0,{"$f":"AVERAGE(#REF!)","v":{"$error":"#REF!"}},{"$error":"#DIV/0!"},{"$error":"#DIV/0!"},{"$error":"#DIV/0!"},{"$error":"#DIV/0!"},{"$error":"#DIV/0!"},{"$error":"#DIV/0!"},{"$error":"#DIV/0!"},{"$error":"#DIV/0!"},{"$error":"#DIV/0!"}]
[null,null,null,null,null,null,null,null,null,null,null,null,null,null,null,null,null,null,null,null,null,null,null,null,null,null,null,null,0,{"$f":"AVERAGE(#REF!)","v":{"$error":"#REF!"}},{"$error":"#DIV/0!"},{"$error":"#DIV/0!"},{"$error":"#DIV/0!"},{"$error":"#DIV/0!"},{"$error":"#DIV/0!"},{"$error":"#DIV/0!"},{"$error":"#DIV/0!"},{"$error":"#DIV/0!"},{"$error":"#DIV/0!"}]
[null,null,null,null,null,null,null,null,null,null,null,null,null,null,null,null,null,null,null,null,null,null,null,null,null,null,null,null,0,{"$f":"AVERAGE(#REF!)","v":{"$error":"#REF!"}},{"$error":"#DIV/0!"},{"$error":"#DIV/0!"},{"$error":"#DIV/0!"},{"$error":"#DIV/0!"},{"$error":"#DIV/0!"},{"$error":"#DIV/0!"},{"$error":"#DIV/0!"},{"$error":"#DIV/0!"},{"$error":"#DIV/0!"}]
[null,null,null,null,null,null,null,null,null,null,null,null,null,null,null,null,null,null,null,null,null,null,null,null,null,null,null,null,0,{"$f":"AVERAGE(#REF!)","v":{"$error":"#REF!"}},{"$error":"#DIV/0!"},{"$error":"#DIV/0!"},{"$error":"#DIV/0!"},{"$error":"#DIV/0!"},{"$error":"#DIV/0!"},{"$error":"#DIV/0!"},{"$error":"#DIV/0!"},{"$error":"#DIV/0!"},{"$error":"#DIV/0!"}]
[null,null,null,null,null,null,null,null,null,null,null,null,null,null,null,null,null,null,null,null,null,null,null,null,null,null,null,null,0,{"$f":"AVERAGE(#REF!)","v":{"$error":"#REF!"}},{"$error":"#DIV/0!"},{"$error":"#DIV/0!"},{"$error":"#DIV/0!"},{"$error":"#DIV/0!"},{"$error":"#DIV/0!"},{"$error":"#DIV/0!"},{"$error":"#DIV/0!"},{"$error":"#DIV/0!"},{"$error":"#DIV/0!"}]
[null,null,null,null,null,null,null,null,null,null,null,null,null,null,null,null,null,null,null,null,null,null,null,null,null,null,null,null,0,{"$f":"AVERAGE(#REF!)","v":{"$error":"#REF!"}},{"$error":"#DIV/0!"},{"$error":"#DIV/0!"},{"$error":"#DIV/0!"},{"$error":"#DIV/0!"},{"$error":"#DIV/0!"},{"$error":"#DIV/0!"},{"$error":"#DIV/0!"},{"$error":"#DIV/0!"},{"$error":"#DIV/0!"}]
[null,null,null,null,null,null,null,null,null,null,null,null,null,null,null,null,null,null,null,null,null,null,null,null,null,null,null,null,0,{"$f":"AVERAGE(#REF!)","v":{"$error":"#REF!"}},{"$error":"#DIV/0!"},{"$error":"#DIV/0!"},{"$error":"#DIV/0!"},{"$error":"#DIV/0!"},{"$error":"#DIV/0!"},{"$error":"#DIV/0!"},{"$error":"#DIV/0!"},{"$error":"#DIV/0!"},{"$error":"#DIV/0!"}]
[null,null,null,null,null,null,null,null,null,null,null,null,null,null,null,null,null,null,null,null,null,null,null,null,null,null,null,null,0,{"$f":"AVERAGE(#REF!)","v":{"$error":"#REF!"}},{"$error":"#DIV/0!"},{"$error":"#DIV/0!"},{"$error":"#DIV/0!"},{"$error":"#DIV/0!"},{"$error":"#DIV/0!"},{"$error":"#DIV/0!"},{"$error":"#DIV/0!"},{"$error":"#DIV/0!"},{"$error":"#DIV/0!"}]
[null,null,null,null,null,null,null,null,null,null,null,null,null,null,null,null,null,null,null,null,null,null,null,null,null,null,null,null,0,{"$f":"AVERAGE(#REF!)","v":{"$error":"#REF!"}},{"$error":"#DIV/0!"},{"$error":"#DIV/0!"},{"$error":"#DIV/0!"},{"$error":"#DIV/0!"},{"$error":"#DIV/0!"},{"$error":"#DIV/0!"},{"$error":"#DIV/0!"},{"$error":"#DIV/0!"},{"$error":"#DIV/0!"}]
[null,null,null,null,null,null,null,null,null,null,null,null,null,null,null,null,null,null,null,null,null,null,null,null,null,null,null,null,0,{"$f":"AVERAGE(#REF!)","v":{"$error":"#REF!"}},{"$error":"#DIV/0!"},{"$error":"#DIV/0!"},{"$error":"#DIV/0!"},{"$error":"#DIV/0!"},{"$error":"#DIV/0!"},{"$error":"#DIV/0!"},{"$error":"#DIV/0!"},{"$error":"#DIV/0!"},{"$error":"#DIV/0!"}]
[null,null,null,null,null,null,null,null,null,null,null,null,null,null,null,null,null,null,null,null,null,null,null,null,null,null,null,null,0,{"$f":"AVERAGE(#REF!)","v":{"$error":"#REF!"}},{"$error":"#DIV/0!"},{"$error":"#DIV/0!"},{"$error":"#DIV/0!"},{"$error":"#DIV/0!"},{"$error":"#DIV/0!"},{"$error":"#DIV/0!"},{"$error":"#DIV/0!"},{"$error":"#DIV/0!"},{"$error":"#DIV/0!"}]
[null,null,null,null,null,null,null,null,null,null,null,null,null,null,null,null,null,null,null,null,null,null,null,null,null,null,null,null,0,{"$f":"AVERAGE(#REF!)","v":{"$error":"#REF!"}},{"$error":"#DIV/0!"},{"$error":"#DIV/0!"},{"$error":"#DIV/0!"},{"$error":"#DIV/0!"},{"$error":"#DIV/0!"},{"$error":"#DIV/0!"},{"$error":"#DIV/0!"},{"$error":"#DIV/0!"},{"$error":"#DIV/0!"}]
[null,null,null,null,null,null,null,null,null,null,null,null,null,null,null,null,null,null,null,null,null,null,null,null,null,null,null,null,0,{"$f":"AVERAGE(#REF!)","v":{"$error":"#REF!"}},{"$error":"#DIV/0!"},{"$error":"#DIV/0!"},{"$error":"#DIV/0!"},{"$error":"#DIV/0!"},{"$error":"#DIV/0!"},{"$error":"#DIV/0!"},{"$error":"#DIV/0!"},{"$error":"#DIV/0!"},{"$error":"#DIV/0!"}]
[null,null,null,null,null,null,null,null,null,null,null,null,null,null,null,null,null,null,null,null,null,null,null,null,null,null,null,null,0,{"$f":"AVERAGE(#REF!)","v":{"$error":"#REF!"}},{"$error":"#DIV/0!"},{"$error":"#DIV/0!"},{"$error":"#DIV/0!"},{"$error":"#DIV/0!"},{"$error":"#DIV/0!"},{"$error":"#DIV/0!"},{"$error":"#DIV/0!"},{"$error":"#DIV/0!"},{"$error":"#DIV/0!"}]
[null,null,null,null,null,null,null,null,null,null,null,null,null,null,null,null,null,null,null,null,null,null,null,null,null,null,null,null,0,{"$f":"AVERAGE(#REF!)","v":{"$error":"#REF!"}},{"$error":"#DIV/0!"},{"$error":"#DIV/0!"},{"$error":"#DIV/0!"},{"$error":"#DIV/0!"},{"$error":"#DIV/0!"},{"$error":"#DIV/0!"},{"$error":"#DIV/0!"},{"$error":"#DIV/0!"},{"$error":"#DIV/0!"}]
[null,null,null,null,null,null,null,null,null,null,null,null,null,null,null,null,null,null,null,null,null,null,null,null,null,null,null,null,0,{"$f":"AVERAGE(#REF!)","v":{"$error":"#REF!"}},{"$error":"#DIV/0!"},{"$error":"#DIV/0!"},{"$error":"#DIV/0!"},{"$error":"#DIV/0!"},{"$error":"#DIV/0!"},{"$error":"#DIV/0!"},{"$error":"#DIV/0!"},{"$error":"#DIV/0!"},{"$error":"#DIV/0!"}]
[null,null,null,null,null,null,null,null,null,null,null,null,null,null,null,null,null,null,null,null,null,null,null,null,null,null,null,null,0,{"$f":"AVERAGE(#REF!)","v":{"$error":"#REF!"}},{"$error":"#DIV/0!"},{"$error":"#DIV/0!"},{"$error":"#DIV/0!"},{"$error":"#DIV/0!"},{"$error":"#DIV/0!"},{"$error":"#DIV/0!"},{"$error":"#DIV/0!"},{"$error":"#DIV/0!"},{"$error":"#DIV/0!"}]
[null,null,null,null,null,null,null,null,null,null,null,null,null,null,null,null,null,null,null,null,null,null,null,null,null,null,null,null,0,{"$f":"AVERAGE(#REF!)","v":{"$error":"#REF!"}},{"$error":"#DIV/0!"},{"$error":"#DIV/0!"},{"$error":"#DIV/0!"},{"$error":"#DIV/0!"},{"$error":"#DIV/0!"},{"$error":"#DIV/0!"},{"$error":"#DIV/0!"},{"$error":"#DIV/0!"},{"$error":"#DIV/0!"}]
[null,null,null,null,null,null,null,null,null,null,null,null,null,null,null,null,null,null,null,null,null,null,null,null,null,null,null,null,0,{"$f":"AVERAGE(#REF!)","v":{"$error":"#REF!"}},{"$error":"#DIV/0!"},{"$error":"#DIV/0!"},{"$error":"#DIV/0!"},{"$error":"#DIV/0!"},{"$error":"#DIV/0!"},{"$error":"#DIV/0!"},{"$error":"#DIV/0!"},{"$error":"#DIV/0!"},{"$error":"#DIV/0!"}]
[null,null,null,null,null,null,null,null,null,null,null,null,null,null,null,null,null,null,null,null,null,null,null,null,null,null,null,null,0,{"$f":"AVERAGE(#REF!)","v":{"$error":"#REF!"}},{"$error":"#DIV/0!"},{"$error":"#DIV/0!"},{"$error":"#DIV/0!"},{"$error":"#DIV/0!"},{"$error":"#DIV/0!"},{"$error":"#DIV/0!"},{"$error":"#DIV/0!"},{"$error":"#DIV/0!"},{"$error":"#DIV/0!"}]
[null,null,null,null,null,null,null,null,null,null,null,null,null,null,null,null,null,null,null,null,null,null,null,null,null,null,null,null,0,{"$f":"AVERAGE(#REF!)","v":{"$error":"#REF!"}},{"$error":"#DIV/0!"},{"$error":"#DIV/0!"},{"$error":"#DIV/0!"},{"$error":"#DIV/0!"},{"$error":"#DIV/0!"},{"$error":"#DIV/0!"},{"$error":"#DIV/0!"},{"$error":"#DIV/0!"},{"$error":"#DIV/0!"}]
[null,null,null,null,null,null,null,null,null,null,null,null,null,null,null,null,null,null,null,null,null,null,null,null,null,null,null,null,0,{"$f":"AVERAGE(#REF!)","v":{"$error":"#REF!"}},{"$error":"#DIV/0!"},{"$error":"#DIV/0!"},{"$error":"#DIV/0!"},{"$error":"#DIV/0!"},{"$error":"#DIV/0!"},{"$error":"#DIV/0!"},{"$error":"#DIV/0!"},{"$error":"#DIV/0!"},{"$error":"#DIV/0!"}]
[null,null,null,null,null,null,null,null,null,null,null,null,null,null,null,null,null,null,null,null,null,null,null,null,null,null,null,null,0,{"$f":"AVERAGE(#REF!)","v":{"$error":"#REF!"}},{"$error":"#DIV/0!"},{"$error":"#DIV/0!"},{"$error":"#DIV/0!"},{"$error":"#DIV/0!"},{"$error":"#DIV/0!"},{"$error":"#DIV/0!"},{"$error":"#DIV/0!"},{"$error":"#DIV/0!"},{"$error":"#DIV/0!"}]
[null,null,null,null,null,null,null,null,null,null,null,null,null,null,null,null,null,null,null,null,null,null,null,null,null,null,null,null,0,{"$f":"AVERAGE(#REF!)","v":{"$error":"#REF!"}},{"$error":"#DIV/0!"},{"$error":"#DIV/0!"},{"$error":"#DIV/0!"},{"$error":"#DIV/0!"},{"$error":"#DIV/0!"},{"$error":"#DIV/0!"},{"$error":"#DIV/0!"},{"$error":"#DIV/0!"},{"$error":"#DIV/0!"}]
[null,null,null,null,null,null,null,null,null,null,null,null,null,null,null,null,null,null,null,null,null,null,null,null,null,null,null,null,0,{"$f":"AVERAGE(#REF!)","v":{"$error":"#REF!"}},{"$error":"#DIV/0!"},{"$error":"#DIV/0!"},{"$error":"#DIV/0!"},{"$error":"#DIV/0!"},{"$error":"#DIV/0!"},{"$error":"#DIV/0!"},{"$error":"#DIV/0!"},{"$error":"#DIV/0!"},{"$error":"#DIV/0!"}]
[null,null,null,null,null,null,null,null,null,null,null,null,null,null,null,null,null,null,null,null,null,null,null,null,null,null,null,null,0,{"$f":"AVERAGE(#REF!)","v":{"$error":"#REF!"}},{"$error":"#DIV/0!"},{"$error":"#DIV/0!"},{"$error":"#DIV/0!"},{"$error":"#DIV/0!"},{"$error":"#DIV/0!"},{"$error":"#DIV/0!"},{"$error":"#DIV/0!"},{"$error":"#DIV/0!"},{"$error":"#DIV/0!"}]
[null,null,null,null,null,null,null,null,null,null,null,null,null,null,null,null,null,null,null,null,null,null,null,null,null,null,null,null,0,{"$f":"AVERAGE(#REF!)","v":{"$error":"#REF!"}},{"$error":"#DIV/0!"},{"$error":"#DIV/0!"},{"$error":"#DIV/0!"},{"$error":"#DIV/0!"},{"$error":"#DIV/0!"},{"$error":"#DIV/0!"},{"$error":"#DIV/0!"},{"$error":"#DIV/0!"},{"$error":"#DIV/0!"}]
[null,null,null,null,null,null,null,null,null,null,null,null,null,null,null,null,null,null,null,null,null,null,null,null,null,null,null,null,0,{"$f":"AVERAGE(#REF!)","v":{"$error":"#REF!"}},{"$error":"#DIV/0!"},{"$error":"#DIV/0!"},{"$error":"#DIV/0!"},{"$error":"#DIV/0!"},{"$error":"#DIV/0!"},{"$error":"#DIV/0!"},{"$error":"#DIV/0!"},{"$error":"#DIV/0!"},{"$error":"#DIV/0!"}]
[null,null,null,null,null,null,null,null,null,null,null,null,null,null,null,null,null,null,null,null,null,null,null,null,null,null,null,null,0,{"$f":"AVERAGE(#REF!)","v":{"$error":"#REF!"}},{"$error":"#DIV/0!"},{"$error":"#DIV/0!"},{"$error":"#DIV/0!"},{"$error":"#DIV/0!"},{"$error":"#DIV/0!"},{"$error":"#DIV/0!"},{"$error":"#DIV/0!"},{"$error":"#DIV/0!"},{"$error":"#DIV/0!"}]
[null,null,null,null,null,null,null,null,null,null,null,null,null,null,null,null,null,null,null,null,null,null,null,null,null,null,null,null,0,{"$f":"AVERAGE(#REF!)","v":{"$error":"#REF!"}},{"$error":"#DIV/0!"},{"$error":"#DIV/0!"},{"$error":"#DIV/0!"},{"$error":"#DIV/0!"},{"$error":"#DIV/0!"},{"$error":"#DIV/0!"},{"$error":"#DIV/0!"},{"$error":"#DIV/0!"},{"$error":"#DIV/0!"}]
[null,null,null,null,null,null,null,null,null,null,null,null,null,null,null,null,null,null,null,null,null,null,null,null,null,null,null,null,0,{"$f":"AVERAGE(#REF!)","v":{"$error":"#REF!"}},{"$error":"#DIV/0!"},{"$error":"#DIV/0!"},{"$error":"#DIV/0!"},{"$error":"#DIV/0!"},{"$error":"#DIV/0!"},{"$error":"#DIV/0!"},{"$error":"#DIV/0!"},{"$error":"#DIV/0!"},{"$error":"#DIV/0!"}]
[null,null,null,null,null,null,null,null,null,null,null,null,null,null,null,null,null,null,null,null,null,null,null,null,null,null,null,null,0,{"$f":"AVERAGE(#REF!)","v":{"$error":"#REF!"}},{"$error":"#DIV/0!"},{"$error":"#DIV/0!"},{"$error":"#DIV/0!"},{"$error":"#DIV/0!"},{"$error":"#DIV/0!"},{"$error":"#DIV/0!"},{"$error":"#DIV/0!"},{"$error":"#DIV/0!"},{"$error":"#DIV/0!"}]
[null,null,null,null,null,null,null,null,null,null,null,null,null,null,null,null,null,null,null,null,null,null,null,null,null,null,null,null,0,{"$f":"AVERAGE(#REF!)","v":{"$error":"#REF!"}},{"$error":"#DIV/0!"},{"$error":"#DIV/0!"},{"$error":"#DIV/0!"},{"$error":"#DIV/0!"},{"$error":"#DIV/0!"},{"$error":"#DIV/0!"},{"$error":"#DIV/0!"},{"$error":"#DIV/0!"},{"$error":"#DIV/0!"}]
[null,null,null,null,null,null,null,null,null,null,null,null,null,null,null,null,null,null,null,null,null,null,null,null,null,null,null,null,0,{"$f":"AVERAGE(#REF!)","v":{"$error":"#REF!"}},{"$error":"#DIV/0!"},{"$error":"#DIV/0!"},{"$error":"#DIV/0!"},{"$error":"#DIV/0!"},{"$error":"#DIV/0!"},{"$error":"#DIV/0!"},{"$error":"#DIV/0!"},{"$error":"#DIV/0!"},{"$error":"#DIV/0!"}]
[null,null,null,null,null,null,null,null,null,null,null,null,null,null,null,null,null,null,null,null,null,null,null,null,null,null,null,null,0,{"$f":"AVERAGE(#REF!)","v":{"$error":"#REF!"}},{"$error":"#DIV/0!"},{"$error":"#DIV/0!"},{"$error":"#DIV/0!"},{"$error":"#DIV/0!"},{"$error":"#DIV/0!"},{"$error":"#DIV/0!"},{"$error":"#DIV/0!"},{"$error":"#DIV/0!"},{"$error":"#DIV/0!"}]
[null,null,null,null,null,null,null,null,null,null,null,null,null,null,null,null,null,null,null,null,null,null,null,null,null,null,null,null,0,{"$f":"AVERAGE(#REF!)","v":{"$error":"#REF!"}},{"$error":"#DIV/0!"},{"$error":"#DIV/0!"},{"$error":"#DIV/0!"},{"$error":"#DIV/0!"},{"$error":"#DIV/0!"},{"$error":"#DIV/0!"},{"$error":"#DIV/0!"},{"$error":"#DIV/0!"},{"$error":"#DIV/0!"}]
[null,null,null,null,null,null,null,null,null,null,null,null,null,null,null,null,null,null,null,null,null,null,null,null,null,null,null,null,0,{"$f":"AVERAGE(#REF!)","v":{"$error":"#REF!"}},{"$error":"#DIV/0!"},{"$error":"#DIV/0!"},{"$error":"#DIV/0!"},{"$error":"#DIV/0!"},{"$error":"#DIV/0!"},{"$error":"#DIV/0!"},{"$error":"#DIV/0!"},{"$error":"#DIV/0!"},{"$error":"#DIV/0!"}]
[null,null,null,null,null,null,null,null,null,null,null,null,null,null,null,null,null,null,null,null,null,null,null,null,null,null,null,null,0,{"$f":"AVERAGE(#REF!)","v":{"$error":"#REF!"}},{"$error":"#DIV/0!"},{"$error":"#DIV/0!"},{"$error":"#DIV/0!"},{"$error":"#DIV/0!"},{"$error":"#DIV/0!"},{"$error":"#DIV/0!"},{"$error":"#DIV/0!"},{"$error":"#DIV/0!"},{"$error":"#DIV/0!"}]
[null,null,null,null,null,null,null,null,null,null,null,null,null,null,null,null,null,null,null,null,null,null,null,null,null,null,null,null,0,{"$f":"AVERAGE(#REF!)","v":{"$error":"#REF!"}},{"$error":"#DIV/0!"},{"$error":"#DIV/0!"},{"$error":"#DIV/0!"},{"$error":"#DIV/0!"},{"$error":"#DIV/0!"},{"$error":"#DIV/0!"},{"$error":"#DIV/0!"},{"$error":"#DIV/0!"},{"$error":"#DIV/0!"}]
[null,null,null,null,null,null,null,null,null,null,null,null,null,null,null,null,null,null,null,null,null,null,null,null,null,null,null,null,0,{"$f":"AVERAGE(#REF!)","v":{"$error":"#REF!"}},{"$error":"#DIV/0!"},{"$error":"#DIV/0!"},{"$error":"#DIV/0!"},{"$error":"#DIV/0!"},{"$error":"#DIV/0!"},{"$error":"#DIV/0!"},{"$error":"#DIV/0!"},{"$error":"#DIV/0!"},{"$error":"#DIV/0!"}]
[null,null,null,null,null,null,null,null,null,null,null,null,null,null,null,null,null,null,null,null,null,null,null,null,null,null,null,null,0,{"$f":"AVERAGE(#REF!)","v":{"$error":"#REF!"}},{"$error":"#DIV/0!"},{"$error":"#DIV/0!"},{"$error":"#DIV/0!"},{"$error":"#DIV/0!"},{"$error":"#DIV/0!"},{"$error":"#DIV/0!"},{"$error":"#DIV/0!"},{"$error":"#DIV/0!"},{"$error":"#DIV/0!"}]
[null,null,null,null,null,null,null,null,null,null,null,null,null,null,null,null,null,null,null,null,null,null,null,null,null,null,null,null,0,{"$f":"AVERAGE(#REF!)","v":{"$error":"#REF!"}},{"$error":"#DIV/0!"},{"$error":"#DIV/0!"},{"$error":"#DIV/0!"},{"$error":"#DIV/0!"},{"$error":"#DIV/0!"},{"$error":"#DIV/0!"},{"$error":"#DIV/0!"},{"$error":"#DIV/0!"},{"$error":"#DIV/0!"}]
[null,null,null,null,null,null,null,null,null,null,null,null,null,null,null,null,null,null,null,null,null,null,null,null,null,null,null,null,0,{"$f":"AVERAGE(#REF!)","v":{"$error":"#REF!"}},{"$error":"#DIV/0!"},{"$error":"#DIV/0!"},{"$error":"#DIV/0!"},{"$error":"#DIV/0!"},{"$error":"#DIV/0!"},{"$error":"#DIV/0!"},{"$error":"#DIV/0!"},{"$error":"#DIV/0!"},{"$error":"#DIV/0!"}]
[null,null,null,null,null,null,null,null,null,null,null,null,null,null,null,null,null,null,null,null,null,null,null,null,null,null,null,null,0,{"$f":"AVERAGE(#REF!)","v":{"$error":"#REF!"}},{"$error":"#DIV/0!"},{"$error":"#DIV/0!"},{"$error":"#DIV/0!"},{"$error":"#DIV/0!"},{"$error":"#DIV/0!"},{"$error":"#DIV/0!"},{"$error":"#DIV/0!"},{"$error":"#DIV/0!"},{"$error":"#DIV/0!"}]
[null,null,null,null,null,null,null,null,null,null,null,null,null,null,null,null,null,null,null,null,null,null,null,null,null,null,null,null,0,{"$f":"AVERAGE(#REF!)","v":{"$error":"#REF!"}},{"$error":"#DIV/0!"},{"$error":"#DIV/0!"},{"$error":"#DIV/0!"},{"$error":"#DIV/0!"},{"$error":"#DIV/0!"},{"$error":"#DIV/0!"},{"$error":"#DIV/0!"},{"$error":"#DIV/0!"},{"$error":"#DIV/0!"}]
[null,null,null,null,null,null,null,null,null,null,null,null,null,null,null,null,null,null,null,null,null,null,null,null,null,null,null,null,0,{"$f":"AVERAGE(#REF!)","v":{"$error":"#REF!"}},{"$error":"#DIV/0!"},{"$error":"#DIV/0!"},{"$error":"#DIV/0!"},{"$error":"#DIV/0!"},{"$error":"#DIV/0!"},{"$error":"#DIV/0!"},{"$error":"#DIV/0!"},{"$error":"#DIV/0!"},{"$error":"#DIV/0!"}]
[null,null,null,null,null,null,null,null,null,null,null,null,null,null,null,null,null,null,null,null,null,null,null,null,null,null,null,null,0,{"$f":"AVERAGE(#REF!)","v":{"$error":"#REF!"}},{"$error":"#DIV/0!"},{"$error":"#DIV/0!"},{"$error":"#DIV/0!"},{"$error":"#DIV/0!"},{"$error":"#DIV/0!"},{"$error":"#DIV/0!"},{"$error":"#DIV/0!"},{"$error":"#DIV/0!"},{"$error":"#DIV/0!"}]
[null,null,null,null,null,null,null,null,null,null,null,null,null,null,null,null,null,null,null,null,null,null,null,null,null,null,null,null,0,{"$f":"AVERAGE(#REF!)","v":{"$error":"#REF!"}},{"$error":"#DIV/0!"},{"$error":"#DIV/0!"},{"$error":"#DIV/0!"},{"$error":"#DIV/0!"},{"$error":"#DIV/0!"},{"$error":"#DIV/0!"},{"$error":"#DIV/0!"},{"$error":"#DIV/0!"},{"$error":"#DIV/0!"}]
[null,null,null,null,null,null,null,null,null,null,null,null,null,null,null,null,null,null,null,null,null,null,null,null,null,null,null,null,0,{"$f":"AVERAGE(#REF!)","v":{"$error":"#REF!"}},{"$error":"#DIV/0!"},{"$error":"#DIV/0!"},{"$error":"#DIV/0!"},{"$error":"#DIV/0!"},{"$error":"#DIV/0!"},{"$error":"#DIV/0!"},{"$error":"#DIV/0!"},{"$error":"#DIV/0!"},{"$error":"#DIV/0!"}]
[null,null,null,null,null,null,null,null,null,null,null,null,null,null,null,null,null,null,null,null,null,null,null,null,null,null,null,null,0,{"$f":"AVERAGE(#REF!)","v":{"$error":"#REF!"}},{"$error":"#DIV/0!"},{"$error":"#DIV/0!"},{"$error":"#DIV/0!"},{"$error":"#DIV/0!"},{"$error":"#DIV/0!"},{"$error":"#DIV/0!"},{"$error":"#DIV/0!"},{"$error":"#DIV/0!"},{"$error":"#DIV/0!"}]
[null,null,null,null,null,null,null,null,null,null,null,null,null,null,null,null,null,null,null,null,null,null,null,null,null,null,null,null,0,{"$f":"AVERAGE(#REF!)","v":{"$error":"#REF!"}},{"$error":"#DIV/0!"},{"$error":"#DIV/0!"},{"$error":"#DIV/0!"},{"$error":"#DIV/0!"},{"$error":"#DIV/0!"},{"$error":"#DIV/0!"},{"$error":"#DIV/0!"},{"$error":"#DIV/0!"},{"$error":"#DIV/0!"}]
[null,null,null,null,null,null,null,null,null,null,null,null,null,null,null,null,null,null,null,null,null,null,null,null,null,null,null,null,0,{"$f":"AVERAGE(#REF!)","v":{"$error":"#REF!"}},{"$error":"#DIV/0!"},{"$error":"#DIV/0!"},{"$error":"#DIV/0!"},{"$error":"#DIV/0!"},{"$error":"#DIV/0!"},{"$error":"#DIV/0!"},{"$error":"#DIV/0!"},{"$error":"#DIV/0!"},{"$error":"#DIV/0!"}]
[null,null,null,null,null,null,null,null,null,null,null,null,null,null,null,null,null,null,null,null,null,null,null,null,null,null,null,null,0,{"$f":"AVERAGE(#REF!)","v":{"$error":"#REF!"}},{"$error":"#DIV/0!"},{"$error":"#DIV/0!"},{"$error":"#DIV/0!"},{"$error":"#DIV/0!"},{"$error":"#DIV/0!"},{"$error":"#DIV/0!"},{"$error":"#DIV/0!"},{"$error":"#DIV/0!"},{"$error":"#DIV/0!"}]
[null,null,null,null,null,null,null,null,null,null,null,null,null,null,null,null,null,null,null,null,null,null,null,null,null,null,null,null,0,{"$f":"AVERAGE(#REF!)","v":{"$error":"#REF!"}},{"$error":"#DIV/0!"},{"$error":"#DIV/0!"},{"$error":"#DIV/0!"},{"$error":"#DIV/0!"},{"$error":"#DIV/0!"},{"$error":"#DIV/0!"},{"$error":"#DIV/0!"},{"$error":"#DIV/0!"},{"$error":"#DIV/0!"}]
[null,null,null,null,null,null,null,null,null,null,null,null,null,null,null,null,null,null,null,null,null,null,null,null,null,null,null,null,0,{"$f":"AVERAGE(#REF!)","v":{"$error":"#REF!"}},{"$error":"#DIV/0!"},{"$error":"#DIV/0!"},{"$error":"#DIV/0!"},{"$error":"#DIV/0!"},{"$error":"#DIV/0!"},{"$error":"#DIV/0!"},{"$error":"#DIV/0!"},{"$error":"#DIV/0!"},{"$error":"#DIV/0!"}]
[null,null,null,null,null,null,null,null,null,null,null,null,null,null,null,null,null,null,null,null,null,null,null,null,null,null,null,null,0,{"$f":"AVERAGE(#REF!)","v":{"$error":"#REF!"}},{"$error":"#DIV/0!"},{"$error":"#DIV/0!"},{"$error":"#DIV/0!"},{"$error":"#DIV/0!"},{"$error":"#DIV/0!"},{"$error":"#DIV/0!"},{"$error":"#DIV/0!"},{"$error":"#DIV/0!"},{"$error":"#DIV/0!"}]
[null,null,null,null,null,null,null,null,null,null,null,null,null,null,null,null,null,null,null,null,null,null,null,null,null,null,null,null,0,{"$f":"AVERAGE(#REF!)","v":{"$error":"#REF!"}},{"$error":"#DIV/0!"},{"$error":"#DIV/0!"},{"$error":"#DIV/0!"},{"$error":"#DIV/0!"},{"$error":"#DIV/0!"},{"$error":"#DIV/0!"},{"$error":"#DIV/0!"},{"$error":"#DIV/0!"},{"$error":"#DIV/0!"}]
[null,null,null,null,null,null,null,null,null,null,null,null,null,null,null,null,null,null,null,null,null,null,null,null,null,null,null,null,0,{"$f":"AVERAGE(#REF!)","v":{"$error":"#REF!"}},{"$error":"#DIV/0!"},{"$error":"#DIV/0!"},{"$error":"#DIV/0!"},{"$error":"#DIV/0!"},{"$error":"#DIV/0!"},{"$error":"#DIV/0!"},{"$error":"#DIV/0!"},{"$error":"#DIV/0!"},{"$error":"#DIV/0!"}]
[null,null,null,null,null,null,null,null,null,null,null,null,null,null,null,null,null,null,null,null,null,null,null,null,null,null,null,null,0,{"$f":"AVERAGE(#REF!)","v":{"$error":"#REF!"}},{"$error":"#DIV/0!"},{"$error":"#DIV/0!"},{"$error":"#DIV/0!"},{"$error":"#DIV/0!"},{"$error":"#DIV/0!"},{"$error":"#DIV/0!"},{"$error":"#DIV/0!"},{"$error":"#DIV/0!"},{"$error":"#DIV/0!"}]
[null,null,null,null,null,null,null,null,null,null,null,null,null,null,null,null,null,null,null,null,null,null,null,null,null,null,null,null,0,{"$f":"AVERAGE(#REF!)","v":{"$error":"#REF!"}},{"$error":"#DIV/0!"},{"$error":"#DIV/0!"},{"$error":"#DIV/0!"},{"$error":"#DIV/0!"},{"$error":"#DIV/0!"},{"$error":"#DIV/0!"},{"$error":"#DIV/0!"},{"$error":"#DIV/0!"},{"$error":"#DIV/0!"}]
[null,null,null,null,null,null,null,null,null,null,null,null,null,null,null,null,null,null,null,null,null,null,null,null,null,null,null,null,0,{"$f":"AVERAGE(#REF!)","v":{"$error":"#REF!"}},{"$error":"#DIV/0!"},{"$error":"#DIV/0!"},{"$error":"#DIV/0!"},{"$error":"#DIV/0!"},{"$error":"#DIV/0!"},{"$error":"#DIV/0!"},{"$error":"#DIV/0!"},{"$error":"#DIV/0!"},{"$error":"#DIV/0!"}]
[null,null,null,null,null,null,null,null,null,null,null,null,null,null,null,null,null,null,null,null,null,null,null,null,null,null,null,null,0,{"$f":"AVERAGE(#REF!)","v":{"$error":"#REF!"}},{"$error":"#DIV/0!"},{"$error":"#DIV/0!"},{"$error":"#DIV/0!"},{"$error":"#DIV/0!"},{"$error":"#DIV/0!"},{"$error":"#DIV/0!"},{"$error":"#DIV/0!"},{"$error":"#DIV/0!"},{"$error":"#DIV/0!"}]
[null,null,null,null,null,null,null,null,null,null,null,null,null,null,null,null,null,null,null,null,null,null,null,null,null,null,null,null,0,{"$f":"AVERAGE(#REF!)","v":{"$error":"#REF!"}},{"$error":"#DIV/0!"},{"$error":"#DIV/0!"},{"$error":"#DIV/0!"},{"$error":"#DIV/0!"},{"$error":"#DIV/0!"},{"$error":"#DIV/0!"},{"$error":"#DIV/0!"},{"$error":"#DIV/0!"},{"$error":"#DIV/0!"}]
[null,null,null,null,null,null,null,null,null,null,null,null,null,null,null,null,null,null,null,null,null,null,null,null,null,null,null,null,0,{"$f":"AVERAGE(#REF!)","v":{"$error":"#REF!"}},{"$error":"#DIV/0!"},{"$error":"#DIV/0!"},{"$error":"#DIV/0!"},{"$error":"#DIV/0!"},{"$error":"#DIV/0!"},{"$error":"#DIV/0!"},{"$error":"#DIV/0!"},{"$error":"#DIV/0!"},{"$error":"#DIV/0!"}]
[null,null,null,null,null,null,null,null,null,null,null,null,null,null,null,null,null,null,null,null,null,null,null,null,null,null,null,null,0,{"$f":"AVERAGE(#REF!)","v":{"$error":"#REF!"}},{"$error":"#DIV/0!"},{"$error":"#DIV/0!"},{"$error":"#DIV/0!"},{"$error":"#DIV/0!"},{"$error":"#DIV/0!"},{"$error":"#DIV/0!"},{"$error":"#DIV/0!"},{"$error":"#DIV/0!"},{"$error":"#DIV/0!"}]
[null,null,null,null,null,null,null,null,null,null,null,null,null,null,null,null,null,null,null,null,null,null,null,null,null,null,null,null,0,{"$f":"AVERAGE(#REF!)","v":{"$error":"#REF!"}},{"$error":"#DIV/0!"},{"$error":"#DIV/0!"},{"$error":"#DIV/0!"},{"$error":"#DIV/0!"},{"$error":"#DIV/0!"},{"$error":"#DIV/0!"},{"$error":"#DIV/0!"},{"$error":"#DIV/0!"},{"$error":"#DIV/0!"}]
[null,null,null,null,null,null,null,null,null,null,null,null,null,null,null,null,null,null,null,null,null,null,null,null,null,null,null,null,0,{"$f":"AVERAGE(#REF!)","v":{"$error":"#REF!"}},{"$error":"#DIV/0!"},{"$error":"#DIV/0!"},{"$error":"#DIV/0!"},{"$error":"#DIV/0!"},{"$error":"#DIV/0!"},{"$error":"#DIV/0!"},{"$error":"#DIV/0!"},{"$error":"#DIV/0!"},{"$error":"#DIV/0!"}]
[null,null,null,null,null,null,null,null,null,null,null,null,null,null,null,null,null,null,null,null,null,null,null,null,null,null,null,null,0,{"$f":"AVERAGE(#REF!)","v":{"$error":"#REF!"}},{"$error":"#DIV/0!"},{"$error":"#DIV/0!"},{"$error":"#DIV/0!"},{"$error":"#DIV/0!"},{"$error":"#DIV/0!"},{"$error":"#DIV/0!"},{"$error":"#DIV/0!"},{"$error":"#DIV/0!"},{"$error":"#DIV/0!"}]
[null,null,null,null,null,null,null,null,null,null,null,null,null,null,null,null,null,null,null,null,null,null,null,null,null,null,null,null,0,{"$f":"AVERAGE(#REF!)","v":{"$error":"#REF!"}},{"$error":"#DIV/0!"},{"$error":"#DIV/0!"},{"$error":"#DIV/0!"},{"$error":"#DIV/0!"},{"$error":"#DIV/0!"},{"$error":"#DIV/0!"},{"$error":"#DIV/0!"},{"$error":"#DIV/0!"},{"$error":"#DIV/0!"}]
[null,null,null,null,null,null,null,null,null,null,null,null,null,null,null,null,null,null,null,null,null,null,null,null,null,null,null,null,0,{"$f":"AVERAGE(#REF!)","v":{"$error":"#REF!"}},{"$error":"#DIV/0!"},{"$error":"#DIV/0!"},{"$error":"#DIV/0!"},{"$error":"#DIV/0!"},{"$error":"#DIV/0!"},{"$error":"#DIV/0!"},{"$error":"#DIV/0!"},{"$error":"#DIV/0!"},{"$error":"#DIV/0!"}]
[null,null,null,null,null,null,null,null,null,null,null,null,null,null,null,null,null,null,null,null,null,null,null,null,null,null,null,null,0,{"$f":"AVERAGE(#REF!)","v":{"$error":"#REF!"}},{"$error":"#DIV/0!"},{"$error":"#DIV/0!"},{"$error":"#DIV/0!"},{"$error":"#DIV/0!"},{"$error":"#DIV/0!"},{"$error":"#DIV/0!"},{"$error":"#DIV/0!"},{"$error":"#DIV/0!"},{"$error":"#DIV/0!"}]
[null,null,null,null,null,null,null,null,null,null,null,null,null,null,null,null,null,null,null,null,null,null,null,null,null,null,null,null,0,{"$f":"AVERAGE(#REF!)","v":{"$error":"#REF!"}},{"$error":"#DIV/0!"},{"$error":"#DIV/0!"},{"$error":"#DIV/0!"},{"$error":"#DIV/0!"},{"$error":"#DIV/0!"},{"$error":"#DIV/0!"},{"$error":"#DIV/0!"},{"$error":"#DIV/0!"},{"$error":"#DIV/0!"}]
[null,null,null,null,null,null,null,null,null,null,null,null,null,null,null,null,null,null,null,null,null,null,null,null,null,null,null,null,0,{"$f":"AVERAGE(#REF!)","v":{"$error":"#REF!"}},{"$error":"#DIV/0!"},{"$error":"#DIV/0!"},{"$error":"#DIV/0!"},{"$error":"#DIV/0!"},{"$error":"#DIV/0!"},{"$error":"#DIV/0!"},{"$error":"#DIV/0!"},{"$error":"#DIV/0!"},{"$error":"#DIV/0!"}]
[null,null,null,null,null,null,null,null,null,null,null,null,null,null,null,null,null,null,null,null,null,null,null,null,null,null,null,null,0,{"$f":"AVERAGE(#REF!)","v":{"$error":"#REF!"}},{"$error":"#DIV/0!"},{"$error":"#DIV/0!"},{"$error":"#DIV/0!"},{"$error":"#DIV/0!"},{"$error":"#DIV/0!"},{"$error":"#DIV/0!"},{"$error":"#DIV/0!"},{"$error":"#DIV/0!"},{"$error":"#DIV/0!"}]
[null,null,null,null,null,null,null,null,null,null,null,null,null,null,null,null,null,null,null,null,null,null,null,null,null,null,null,null,0,{"$f":"AVERAGE(#REF!)","v":{"$error":"#REF!"}},{"$error":"#DIV/0!"},{"$error":"#DIV/0!"},{"$error":"#DIV/0!"},{"$error":"#DIV/0!"},{"$error":"#DIV/0!"},{"$error":"#DIV/0!"},{"$error":"#DIV/0!"},{"$error":"#DIV/0!"},{"$error":"#DIV/0!"}]
[null,null,null,null,null,null,null,null,null,null,null,null,null,null,null,null,null,null,null,null,null,null,null,null,null,null,null,null,0,{"$f":"AVERAGE(#REF!)","v":{"$error":"#REF!"}},{"$error":"#DIV/0!"},{"$error":"#DIV/0!"},{"$error":"#DIV/0!"},{"$error":"#DIV/0!"},{"$error":"#DIV/0!"},{"$error":"#DIV/0!"},{"$error":"#DIV/0!"},{"$error":"#DIV/0!"},{"$error":"#DIV/0!"}]
[null,null,null,null,null,null,null,null,null,null,null,null,null,null,null,null,null,null,null,null,null,null,null,null,null,null,null,null,0,{"$f":"AVERAGE(#REF!)","v":{"$error":"#REF!"}},{"$error":"#DIV/0!"},{"$error":"#DIV/0!"},{"$error":"#DIV/0!"},{"$error":"#DIV/0!"},{"$error":"#DIV/0!"},{"$error":"#DIV/0!"},{"$error":"#DIV/0!"},{"$error":"#DIV/0!"},{"$error":"#DIV/0!"}]
[null,null,null,null,null,null,null,null,null,null,null,null,null,null,null,null,null,null,null,null,null,null,null,null,null,null,null,null,0,{"$f":"AVERAGE(#REF!)","v":{"$error":"#REF!"}},{"$error":"#DIV/0!"},{"$error":"#DIV/0!"},{"$error":"#DIV/0!"},{"$error":"#DIV/0!"},{"$error":"#DIV/0!"},{"$error":"#DIV/0!"},{"$error":"#DIV/0!"},{"$error":"#DIV/0!"},{"$error":"#DIV/0!"}]
[null,null,null,null,null,null,null,null,null,null,null,null,null,null,null,null,null,null,null,null,null,null,null,null,null,null,null,null,0,{"$f":"AVERAGE(#REF!)","v":{"$error":"#REF!"}},{"$error":"#DIV/0!"},{"$error":"#DIV/0!"},{"$error":"#DIV/0!"},{"$error":"#DIV/0!"},{"$error":"#DIV/0!"},{"$error":"#DIV/0!"},{"$error":"#DIV/0!"},{"$error":"#DIV/0!"},{"$error":"#DIV/0!"}]
[null,null,null,null,null,null,null,null,null,null,null,null,null,null,null,null,null,null,null,null,null,null,null,null,null,null,null,null,0,{"$f":"AVERAGE(#REF!)","v":{"$error":"#REF!"}},{"$error":"#DIV/0!"},{"$error":"#DIV/0!"},{"$error":"#DIV/0!"},{"$error":"#DIV/0!"},{"$error":"#DIV/0!"},{"$error":"#DIV/0!"},{"$error":"#DIV/0!"},{"$error":"#DIV/0!"},{"$error":"#DIV/0!"}]
[null,null,null,null,null,null,null,null,null,null,null,null,null,null,null,null,null,null,null,null,null,null,null,null,null,null,null,null,0,{"$f":"AVERAGE(#REF!)","v":{"$error":"#REF!"}},{"$error":"#DIV/0!"},{"$error":"#DIV/0!"},{"$error":"#DIV/0!"},{"$error":"#DIV/0!"},{"$error":"#DIV/0!"},{"$error":"#DIV/0!"},{"$error":"#DIV/0!"},{"$error":"#DIV/0!"},{"$error":"#DIV/0!"}]
[null,null,null,null,null,null,null,null,null,null,null,null,null,null,null,null,null,null,null,null,null,null,null,null,null,null,null,null,0,{"$f":"AVERAGE(#REF!)","v":{"$error":"#REF!"}},{"$error":"#DIV/0!"},{"$error":"#DIV/0!"},{"$error":"#DIV/0!"},{"$error":"#DIV/0!"},{"$error":"#DIV/0!"},{"$error":"#DIV/0!"},{"$error":"#DIV/0!"},{"$error":"#DIV/0!"},{"$error":"#DIV/0!"}]
[null,null,null,null,null,null,null,null,null,null,null,null,null,null,null,null,null,null,null,null,null,null,null,null,null,null,null,null,0,{"$f":"AVERAGE(#REF!)","v":{"$error":"#REF!"}},{"$error":"#DIV/0!"},{"$error":"#DIV/0!"},{"$error":"#DIV/0!"},{"$error":"#DIV/0!"},{"$error":"#DIV/0!"},{"$error":"#DIV/0!"},{"$error":"#DIV/0!"},{"$error":"#DIV/0!"},{"$error":"#DIV/0!"}]
[null,null,null,null,null,null,null,null,null,null,null,null,null,null,null,null,null,null,null,null,null,null,null,null,null,null,null,null,0,{"$f":"AVERAGE(#REF!)","v":{"$error":"#REF!"}},{"$error":"#DIV/0!"},{"$error":"#DIV/0!"},{"$error":"#DIV/0!"},{"$error":"#DIV/0!"},{"$error":"#DIV/0!"},{"$error":"#DIV/0!"},{"$error":"#DIV/0!"},{"$error":"#DIV/0!"},{"$error":"#DIV/0!"}]
[null,null,null,null,null,null,null,null,null,null,null,null,null,null,null,null,null,null,null,null,null,null,null,null,null,null,null,null,0,{"$f":"AVERAGE(#REF!)","v":{"$error":"#REF!"}},{"$error":"#DIV/0!"},{"$error":"#DIV/0!"},{"$error":"#DIV/0!"},{"$error":"#DIV/0!"},{"$error":"#DIV/0!"},{"$error":"#DIV/0!"},{"$error":"#DIV/0!"},{"$error":"#DIV/0!"},{"$error":"#DIV/0!"}]
[null,null,null,null,null,null,null,null,null,null,null,null,null,null,null,null,null,null,null,null,null,null,null,null,null,null,null,null,0,{"$f":"AVERAGE(#REF!)","v":{"$error":"#REF!"}},{"$error":"#DIV/0!"},{"$error":"#DIV/0!"},{"$error":"#DIV/0!"},{"$error":"#DIV/0!"},{"$error":"#DIV/0!"},{"$error":"#DIV/0!"},{"$error":"#DIV/0!"},{"$error":"#DIV/0!"},{"$error":"#DIV/0!"}]
[null,null,null,null,null,null,null,null,null,null,null,null,null,null,null,null,null,null,null,null,null,null,null,null,null,null,null,null,0,{"$f":"AVERAGE(#REF!)","v":{"$error":"#REF!"}},{"$error":"#DIV/0!"},{"$error":"#DIV/0!"},{"$error":"#DIV/0!"},{"$error":"#DIV/0!"},{"$error":"#DIV/0!"},{"$error":"#DIV/0!"},{"$error":"#DIV/0!"},{"$error":"#DIV/0!"},{"$error":"#DIV/0!"}]
[null,null,null,null,null,null,null,null,null,null,null,null,null,null,null,null,null,null,null,null,null,null,null,null,null,null,null,null,0,{"$f":"AVERAGE(#REF!)","v":{"$error":"#REF!"}},{"$error":"#DIV/0!"},{"$error":"#DIV/0!"},{"$error":"#DIV/0!"},{"$error":"#DIV/0!"},{"$error":"#DIV/0!"},{"$error":"#DIV/0!"},{"$error":"#DIV/0!"},{"$error":"#DIV/0!"},{"$error":"#DIV/0!"}]
[null,null,null,null,null,null,null,null,null,null,null,null,null,null,null,null,null,null,null,null,null,null,null,null,null,null,null,null,0,{"$f":"AVERAGE(#REF!)","v":{"$error":"#REF!"}},{"$error":"#DIV/0!"},{"$error":"#DIV/0!"},{"$error":"#DIV/0!"},{"$error":"#DIV/0!"},{"$error":"#DIV/0!"},{"$error":"#DIV/0!"},{"$error":"#DIV/0!"},{"$error":"#DIV/0!"},{"$error":"#DIV/0!"}]
[null,null,null,null,null,null,null,null,null,null,null,null,null,null,null,null,null,null,null,null,null,null,null,null,null,null,null,null,0,{"$f":"AVERAGE(#REF!)","v":{"$error":"#REF!"}},{"$error":"#DIV/0!"},{"$error":"#DIV/0!"},{"$error":"#DIV/0!"},{"$error":"#DIV/0!"},{"$error":"#DIV/0!"},{"$error":"#DIV/0!"},{"$error":"#DIV/0!"},{"$error":"#DIV/0!"},{"$error":"#DIV/0!"}]
[null,null,null,null,null,null,null,null,null,null,null,null,null,null,null,null,null,null,null,null,null,null,null,null,null,null,null,null,0,{"$f":"AVERAGE(#REF!)","v":{"$error":"#REF!"}},{"$error":"#DIV/0!"},{"$error":"#DIV/0!"},{"$error":"#DIV/0!"},{"$error":"#DIV/0!"},{"$error":"#DIV/0!"},{"$error":"#DIV/0!"},{"$error":"#DIV/0!"},{"$error":"#DIV/0!"},{"$error":"#DIV/0!"}]
[null,null,null,null,null,null,null,null,null,null,null,null,null,null,null,null,null,null,null,null,null,null,null,null,null,null,null,null,0,{"$f":"AVERAGE(#REF!)","v":{"$error":"#REF!"}},{"$error":"#DIV/0!"},{"$error":"#DIV/0!"},{"$error":"#DIV/0!"},{"$error":"#DIV/0!"},{"$error":"#DIV/0!"},{"$error":"#DIV/0!"},{"$error":"#DIV/0!"},{"$error":"#DIV/0!"},{"$error":"#DIV/0!"}]
[null,null,null,null,null,null,null,null,null,null,null,null,null,null,null,null,null,null,null,null,null,null,null,null,null,null,null,null,0,{"$f":"AVERAGE(#REF!)","v":{"$error":"#REF!"}},{"$error":"#DIV/0!"},{"$error":"#DIV/0!"},{"$error":"#DIV/0!"},{"$error":"#DIV/0!"},{"$error":"#DIV/0!"},{"$error":"#DIV/0!"},{"$error":"#DIV/0!"},{"$error":"#DIV/0!"},{"$error":"#DIV/0!"}]
[null,null,null,null,null,null,null,null,null,null,null,null,null,null,null,null,null,null,null,null,null,null,null,null,null,null,null,null,0,{"$f":"AVERAGE(#REF!)","v":{"$error":"#REF!"}},{"$error":"#DIV/0!"},{"$error":"#DIV/0!"},{"$error":"#DIV/0!"},{"$error":"#DIV/0!"},{"$error":"#DIV/0!"},{"$error":"#DIV/0!"},{"$error":"#DIV/0!"},{"$error":"#DIV/0!"},{"$error":"#DIV/0!"}]
[null,null,null,null,null,null,null,null,null,null,null,null,null,null,null,null,null,null,null,null,null,null,null,null,null,null,null,null,0,{"$f":"AVERAGE(#REF!)","v":{"$error":"#REF!"}},{"$error":"#DIV/0!"},{"$error":"#DIV/0!"},{"$error":"#DIV/0!"},{"$error":"#DIV/0!"},{"$error":"#DIV/0!"},{"$error":"#DIV/0!"},{"$error":"#DIV/0!"},{"$error":"#DIV/0!"},{"$error":"#DIV/0!"}]
[null,null,null,null,null,null,null,null,null,null,null,null,null,null,null,null,null,null,null,null,null,null,null,null,null,null,null,null,0,{"$f":"AVERAGE(#REF!)","v":{"$error":"#REF!"}},{"$error":"#DIV/0!"},{"$error":"#DIV/0!"},{"$error":"#DIV/0!"},{"$error":"#DIV/0!"},{"$error":"#DIV/0!"},{"$error":"#DIV/0!"},{"$error":"#DIV/0!"},{"$error":"#DIV/0!"},{"$error":"#DIV/0!"}]
[null,null,null,null,null,null,null,null,null,null,null,null,null,null,null,null,null,null,null,null,null,null,null,null,null,null,null,null,0,{"$f":"AVERAGE(#REF!)","v":{"$error":"#REF!"}},{"$error":"#DIV/0!"},{"$error":"#DIV/0!"},{"$error":"#DIV/0!"},{"$error":"#DIV/0!"},{"$error":"#DIV/0!"},{"$error":"#DIV/0!"},{"$error":"#DIV/0!"},{"$error":"#DIV/0!"},{"$error":"#DIV/0!"}]
[null,null,null,null,null,null,null,null,null,null,null,null,null,null,null,null,null,null,null,null,null,null,null,null,null,null,null,null,0,{"$f":"AVERAGE(#REF!)","v":{"$error":"#REF!"}},{"$error":"#DIV/0!"},{"$error":"#DIV/0!"},{"$error":"#DIV/0!"},{"$error":"#DIV/0!"},{"$error":"#DIV/0!"},{"$error":"#DIV/0!"},{"$error":"#DIV/0!"},{"$error":"#DIV/0!"},{"$error":"#DIV/0!"}]
[null,null,null,null,null,null,null,null,null,null,null,null,null,null,null,null,null,null,null,null,null,null,null,null,null,null,null,null,0,{"$f":"AVERAGE(#REF!)","v":{"$error":"#REF!"}},{"$error":"#DIV/0!"},{"$error":"#DIV/0!"},{"$error":"#DIV/0!"},{"$error":"#DIV/0!"},{"$error":"#DIV/0!"},{"$error":"#DIV/0!"},{"$error":"#DIV/0!"},{"$error":"#DIV/0!"},{"$error":"#DIV/0!"}]
[null,null,null,null,null,null,null,null,null,null,null,null,null,null,null,null,null,null,null,null,null,null,null,null,null,null,null,null,0,{"$f":"AVERAGE(#REF!)","v":{"$error":"#REF!"}},{"$error":"#DIV/0!"},{"$error":"#DIV/0!"},{"$error":"#DIV/0!"},{"$error":"#DIV/0!"},{"$error":"#DIV/0!"},{"$error":"#DIV/0!"},{"$error":"#DIV/0!"},{"$error":"#DIV/0!"},{"$error":"#DIV/0!"}]
[null,null,null,null,null,null,null,null,null,null,null,null,null,null,null,null,null,null,null,null,null,null,null,null,null,null,null,null,0,{"$f":"AVERAGE(#REF!)","v":{"$error":"#REF!"}},{"$error":"#DIV/0!"},{"$error":"#DIV/0!"},{"$error":"#DIV/0!"},{"$error":"#DIV/0!"},{"$error":"#DIV/0!"},{"$error":"#DIV/0!"},{"$error":"#DIV/0!"},{"$error":"#DIV/0!"},{"$error":"#DIV/0!"}]
[null,null,null,null,null,null,null,null,null,null,null,null,null,null,null,null,null,null,null,null,null,null,null,null,null,null,null,null,0,{"$f":"AVERAGE(#REF!)","v":{"$error":"#REF!"}},{"$error":"#DIV/0!"},{"$error":"#DIV/0!"},{"$error":"#DIV/0!"},{"$error":"#DIV/0!"},{"$error":"#DIV/0!"},{"$error":"#DIV/0!"},{"$error":"#DIV/0!"},{"$error":"#DIV/0!"},{"$error":"#DIV/0!"}]
[null,null,null,null,null,null,null,null,null,null,null,null,null,null,null,null,null,null,null,null,null,null,null,null,null,null,null,null,0,{"$f":"AVERAGE(#REF!)","v":{"$error":"#REF!"}},{"$error":"#DIV/0!"},{"$error":"#DIV/0!"},{"$error":"#DIV/0!"},{"$error":"#DIV/0!"},{"$error":"#DIV/0!"},{"$error":"#DIV/0!"},{"$error":"#DIV/0!"},{"$error":"#DIV/0!"},{"$error":"#DIV/0!"}]
[null,null,null,null,null,null,null,null,null,null,null,null,null,null,null,null,null,null,null,null,null,null,null,null,null,null,null,null,0,{"$f":"AVERAGE(#REF!)","v":{"$error":"#REF!"}},{"$error":"#DIV/0!"},{"$error":"#DIV/0!"},{"$error":"#DIV/0!"},{"$error":"#DIV/0!"},{"$error":"#DIV/0!"},{"$error":"#DIV/0!"},{"$error":"#DIV/0!"},{"$error":"#DIV/0!"},{"$error":"#DIV/0!"}]
[null,null,null,null,null,null,null,null,null,null,null,null,null,null,null,null,null,null,null,null,null,null,null,null,null,null,null,null,0,{"$f":"AVERAGE(#REF!)","v":{"$error":"#REF!"}},{"$error":"#DIV/0!"},{"$error":"#DIV/0!"},{"$error":"#DIV/0!"},{"$error":"#DIV/0!"},{"$error":"#DIV/0!"},{"$error":"#DIV/0!"},{"$error":"#DIV/0!"},{"$error":"#DIV/0!"},{"$error":"#DIV/0!"}]
[null,null,null,null,null,null,null,null,null,null,null,null,null,null,null,null,null,null,null,null,null,null,null,null,null,null,null,null,{"$f":"(1609.34/3600)*Delta_Speed","v":0},{"$f":"AVERAGE(#REF!)","v":{"$error":"#REF!"}},{"$error":"#DIV/0!"},{"$error":"#DIV/0!"},{"$error":"#DIV/0!"},{"$error":"#DIV/0!"},{"$error":"#DIV/0!"},{"$error":"#DIV/0!"},{"$error":"#DIV/0!"},{"$error":"#DIV/0!"},{"$error":"#DIV/0!"}]
[null,null,null,null,null,null,null,null,null,null,null,null,null,null,null,null,null,null,null,null,null,null,null,null,null,null,null,null,0,{"$f":"AVERAGE(#REF!)","v":{"$error":"#REF!"}},{"$error":"#DIV/0!"},{"$error":"#DIV/0!"},{"$error":"#DIV/0!"},{"$error":"#DIV/0!"},{"$error":"#DIV/0!"},{"$error":"#DIV/0!"},{"$error":"#DIV/0!"},{"$error":"#DIV/0!"},{"$error":"#DIV/0!"}]
[null,null,null,null,null,null,null,null,null,null,null,null,null,null,null,null,null,null,null,null,null,null,null,null,null,null,null,null,0,{"$f":"AVERAGE(#REF!)","v":{"$error":"#REF!"}},{"$error":"#DIV/0!"},{"$error":"#DIV/0!"},{"$error":"#DIV/0!"},{"$error":"#DIV/0!"},{"$error":"#DIV/0!"},{"$error":"#DIV/0!"},{"$error":"#DIV/0!"},{"$error":"#DIV/0!"},{"$error":"#DIV/0!"}]
[null,null,null,null,null,null,null,null,null,null,null,null,null,null,null,null,null,null,null,null,null,null,null,null,null,null,null,null,0,{"$f":"AVERAGE(#REF!)","v":{"$error":"#REF!"}},{"$error":"#DIV/0!"},{"$error":"#DIV/0!"},{"$error":"#DIV/0!"},{"$error":"#DIV/0!"},{"$error":"#DIV/0!"},{"$error":"#DIV/0!"},{"$error":"#DIV/0!"},{"$error":"#DIV/0!"},{"$error":"#DIV/0!"}]
[null,null,null,null,null,null,null,null,null,null,null,null,null,null,null,null,null,null,null,null,null,null,null,null,null,null,null,null,0,{"$f":"AVERAGE(#REF!)","v":{"$error":"#REF!"}},{"$f":"AVERAGE(Q35778:Q35782)","v":{"$error":"#DIV/0!"}},{"$f":"AVERAGE(R35778:R35782)","v":{"$error":"#DIV/0!"}},{"$f":"AVERAGE(S35778:S35782)","v":{"$error":"#DIV/0!"}},{"$f":"AVERAGE(T35778:T35782)","v":{"$error":"#DIV/0!"}},{"$f":"AVERAGE(U35778:U35782)","v":{"$error":"#DIV/0!"}},{"$f":"AVERAGE(V35778:V35782)","v":{"$error":"#DIV/0!"}},{"$f":"AVERAGE(W35778:W35782)","v":{"$error":"#DIV/0!"}},{"$f":"AVERAGE(X35778:X35782)","v":{"$error":"#DIV/0!"}},{"$f":"AVERAGE(Y35778:Y35782)","v":{"$error":"#DIV/0!"}}]
[null,null,null,null,null,null,null,null,null,null,null,null,null,null,null,null,null,null,null,null,null,null,null,null,null,null,null,null,0,{"$f":"AVERAGE(#REF!)","v":{"$error":"#REF!"}},{"$error":"#DIV/0!"},{"$error":"#DIV/0!"},{"$error":"#DIV/0!"},{"$error":"#DIV/0!"},{"$error":"#DIV/0!"},{"$error":"#DIV/0!"},{"$error":"#DIV/0!"},{"$error":"#DIV/0!"},{"$error":"#DIV/0!"}]
[null,null,null,null,null,null,null,null,null,null,null,null,null,null,null,null,null,null,null,null,null,null,null,null,null,null,null,null,0,{"$f":"AVERAGE(#REF!)","v":{"$error":"#REF!"}},{"$error":"#DIV/0!"},{"$error":"#DIV/0!"},{"$error":"#DIV/0!"},{"$error":"#DIV/0!"},{"$error":"#DIV/0!"},{"$error":"#DIV/0!"},{"$error":"#DIV/0!"},{"$error":"#DIV/0!"},{"$error":"#DIV/0!"}]
[null,null,null,null,null,null,null,null,null,null,null,null,null,null,null,null,null,null,null,null,null,null,null,null,null,null,null,null,0,{"$f":"AVERAGE(#REF!)","v":{"$error":"#REF!"}},{"$error":"#DIV/0!"},{"$error":"#DIV/0!"},{"$error":"#DIV/0!"},{"$error":"#DIV/0!"},{"$error":"#DIV/0!"},{"$error":"#DIV/0!"},{"$error":"#DIV/0!"},{"$error":"#DIV/0!"},{"$error":"#DIV/0!"}]
[null,null,null,null,null,null,null,null,null,null,null,null,null,null,null,null,null,null,null,null,null,null,null,null,null,null,null,null,0,{"$f":"AVERAGE(#REF!)","v":{"$error":"#REF!"}},{"$error":"#DIV/0!"},{"$error":"#DIV/0!"},{"$error":"#DIV/0!"},{"$error":"#DIV/0!"},{"$error":"#DIV/0!"},{"$error":"#DIV/0!"},{"$error":"#DIV/0!"},{"$error":"#DIV/0!"},{"$error":"#DIV/0!"}]
[null,null,null,null,null,null,null,null,null,null,null,null,null,null,null,null,null,null,null,null,null,null,null,null,null,null,null,null,0,{"$f":"AVERAGE(#REF!)","v":{"$error":"#REF!"}},{"$error":"#DIV/0!"},{"$error":"#DIV/0!"},{"$error":"#DIV/0!"},{"$error":"#DIV/0!"},{"$error":"#DIV/0!"},{"$error":"#DIV/0!"},{"$error":"#DIV/0!"},{"$error":"#DIV/0!"},{"$error":"#DIV/0!"}]
[null,null,null,null,null,null,null,null,null,null,null,null,null,null,null,null,null,null,null,null,null,null,null,null,null,null,null,null,0,{"$f":"AVERAGE(#REF!)","v":{"$error":"#REF!"}},{"$error":"#DIV/0!"},{"$error":"#DIV/0!"},{"$error":"#DIV/0!"},{"$error":"#DIV/0!"},{"$error":"#DIV/0!"},{"$error":"#DIV/0!"},{"$error":"#DIV/0!"},{"$error":"#DIV/0!"},{"$error":"#DIV/0!"}]
[null,null,null,null,null,null,null,null,null,null,null,null,null,null,null,null,null,null,null,null,null,null,null,null,null,null,null,null,0,{"$f":"AVERAGE(#REF!)","v":{"$error":"#REF!"}},{"$error":"#DIV/0!"},{"$error":"#DIV/0!"},{"$error":"#DIV/0!"},{"$error":"#DIV/0!"},{"$error":"#DIV/0!"},{"$error":"#DIV/0!"},{"$error":"#DIV/0!"},{"$error":"#DIV/0!"},{"$error":"#DIV/0!"}]
[null,null,null,null,null,null,null,null,null,null,null,null,null,null,null,null,null,null,null,null,null,null,null,null,null,null,null,null,0,{"$f":"AVERAGE(#REF!)","v":{"$error":"#REF!"}},{"$error":"#DIV/0!"},{"$error":"#DIV/0!"},{"$error":"#DIV/0!"},{"$error":"#DIV/0!"},{"$error":"#DIV/0!"},{"$error":"#DIV/0!"},{"$error":"#DIV/0!"},{"$error":"#DIV/0!"},{"$error":"#DIV/0!"}]
[null,null,null,null,null,null,null,null,null,null,null,null,null,null,null,null,null,null,null,null,null,null,null,null,null,null,null,null,0,{"$f":"AVERAGE(#REF!)","v":{"$error":"#REF!"}},{"$error":"#DIV/0!"},{"$error":"#DIV/0!"},{"$error":"#DIV/0!"},{"$error":"#DIV/0!"},{"$error":"#DIV/0!"},{"$error":"#DIV/0!"},{"$error":"#DIV/0!"},{"$error":"#DIV/0!"},{"$error":"#DIV/0!"}]
[null,null,null,null,null,null,null,null,null,null,null,null,null,null,null,null,null,null,null,null,null,null,null,null,null,null,null,null,0,{"$f":"AVERAGE(#REF!)","v":{"$error":"#REF!"}},{"$error":"#DIV/0!"},{"$error":"#DIV/0!"},{"$error":"#DIV/0!"},{"$error":"#DIV/0!"},{"$error":"#DIV/0!"},{"$error":"#DIV/0!"},{"$error":"#DIV/0!"},{"$error":"#DIV/0!"},{"$error":"#DIV/0!"}]
[null,null,null,null,null,null,null,null,null,null,null,null,null,null,null,null,null,null,null,null,null,null,null,null,null,null,null,null,0,{"$f":"AVERAGE(#REF!)","v":{"$error":"#REF!"}},{"$error":"#DIV/0!"},{"$error":"#DIV/0!"},{"$error":"#DIV/0!"},{"$error":"#DIV/0!"},{"$error":"#DIV/0!"},{"$error":"#DIV/0!"},{"$error":"#DIV/0!"},{"$error":"#DIV/0!"},{"$error":"#DIV/0!"}]
[null,null,null,null,null,null,null,null,null,null,null,null,null,null,null,null,null,null,null,null,null,null,null,null,null,null,null,null,0,{"$f":"AVERAGE(#REF!)","v":{"$error":"#REF!"}},{"$error":"#DIV/0!"},{"$error":"#DIV/0!"},{"$error":"#DIV/0!"},{"$error":"#DIV/0!"},{"$error":"#DIV/0!"},{"$error":"#DIV/0!"},{"$error":"#DIV/0!"},{"$error":"#DIV/0!"},{"$error":"#DIV/0!"}]
[null,null,null,null,null,null,null,null,null,null,null,null,null,null,null,null,null,null,null,null,null,null,null,null,null,null,null,null,0,{"$f":"AVERAGE(#REF!)","v":{"$error":"#REF!"}},{"$error":"#DIV/0!"},{"$error":"#DIV/0!"},{"$error":"#DIV/0!"},{"$error":"#DIV/0!"},{"$error":"#DIV/0!"},{"$error":"#DIV/0!"},{"$error":"#DIV/0!"},{"$error":"#DIV/0!"},{"$error":"#DIV/0!"}]
[null,null,null,null,null,null,null,null,null,null,null,null,null,null,null,null,null,null,null,null,null,null,null,null,null,null,null,null,0,{"$f":"AVERAGE(#REF!)","v":{"$error":"#REF!"}},{"$error":"#DIV/0!"},{"$error":"#DIV/0!"},{"$error":"#DIV/0!"},{"$error":"#DIV/0!"},{"$error":"#DIV/0!"},{"$error":"#DIV/0!"},{"$error":"#DIV/0!"},{"$error":"#DIV/0!"},{"$error":"#DIV/0!"}]
[null,null,null,null,null,null,null,null,null,null,null,null,null,null,null,null,null,null,null,null,null,null,null,null,null,null,null,null,0,{"$f":"AVERAGE(#REF!)","v":{"$error":"#REF!"}},{"$error":"#DIV/0!"},{"$error":"#DIV/0!"},{"$error":"#DIV/0!"},{"$error":"#DIV/0!"},{"$error":"#DIV/0!"},{"$error":"#DIV/0!"},{"$error":"#DIV/0!"},{"$error":"#DIV/0!"},{"$error":"#DIV/0!"}]
[null,null,null,null,null,null,null,null,null,null,null,null,null,null,null,null,null,null,null,null,null,null,null,null,null,null,null,null,0,{"$f":"AVERAGE(#REF!)","v":{"$error":"#REF!"}},{"$error":"#DIV/0!"},{"$error":"#DIV/0!"},{"$error":"#DIV/0!"},{"$error":"#DIV/0!"},{"$error":"#DIV/0!"},{"$error":"#DIV/0!"},{"$error":"#DIV/0!"},{"$error":"#DIV/0!"},{"$error":"#DIV/0!"}]
[null,null,null,null,null,null,null,null,null,null,null,null,null,null,null,null,null,null,null,null,null,null,null,null,null,null,null,null,0,{"$f":"AVERAGE(#REF!)","v":{"$error":"#REF!"}},{"$error":"#DIV/0!"},{"$error":"#DIV/0!"},{"$error":"#DIV/0!"},{"$error":"#DIV/0!"},{"$error":"#DIV/0!"},{"$error":"#DIV/0!"},{"$error":"#DIV/0!"},{"$error":"#DIV/0!"},{"$error":"#DIV/0!"}]
[null,null,null,null,null,null,null,null,null,null,null,null,null,null,null,null,null,null,null,null,null,null,null,null,null,null,null,null,0,{"$f":"AVERAGE(#REF!)","v":{"$error":"#REF!"}},{"$error":"#DIV/0!"},{"$error":"#DIV/0!"},{"$error":"#DIV/0!"},{"$error":"#DIV/0!"},{"$error":"#DIV/0!"},{"$error":"#DIV/0!"},{"$error":"#DIV/0!"},{"$error":"#DIV/0!"},{"$error":"#DIV/0!"}]
[null,null,null,null,null,null,null,null,null,null,null,null,null,null,null,null,null,null,null,null,null,null,null,null,null,null,null,null,0,{"$f":"AVERAGE(#REF!)","v":{"$error":"#REF!"}},{"$error":"#DIV/0!"},{"$error":"#DIV/0!"},{"$error":"#DIV/0!"},{"$error":"#DIV/0!"},{"$error":"#DIV/0!"},{"$error":"#DIV/0!"},{"$error":"#DIV/0!"},{"$error":"#DIV/0!"},{"$error":"#DIV/0!"}]
[null,null,null,null,null,null,null,null,null,null,null,null,null,null,null,null,null,null,null,null,null,null,null,null,null,null,null,null,0,{"$f":"AVERAGE(#REF!)","v":{"$error":"#REF!"}},{"$error":"#DIV/0!"},{"$error":"#DIV/0!"},{"$error":"#DIV/0!"},{"$error":"#DIV/0!"},{"$error":"#DIV/0!"},{"$error":"#DIV/0!"},{"$error":"#DIV/0!"},{"$error":"#DIV/0!"},{"$error":"#DIV/0!"}]
[null,null,null,null,null,null,null,null,null,null,null,null,null,null,null,null,null,null,null,null,null,null,null,null,null,null,null,null,0,{"$f":"AVERAGE(#REF!)","v":{"$error":"#REF!"}},{"$error":"#DIV/0!"},{"$error":"#DIV/0!"},{"$error":"#DIV/0!"},{"$error":"#DIV/0!"},{"$error":"#DIV/0!"},{"$error":"#DIV/0!"},{"$error":"#DIV/0!"},{"$error":"#DIV/0!"},{"$error":"#DIV/0!"}]
[null,null,null,null,null,null,null,null,null,null,null,null,null,null,null,null,null,null,null,null,null,null,null,null,null,null,null,null,0,{"$f":"AVERAGE(#REF!)","v":{"$error":"#REF!"}},{"$error":"#DIV/0!"},{"$error":"#DIV/0!"},{"$error":"#DIV/0!"},{"$error":"#DIV/0!"},{"$error":"#DIV/0!"},{"$error":"#DIV/0!"},{"$error":"#DIV/0!"},{"$error":"#DIV/0!"},{"$error":"#DIV/0!"}]
[null,null,null,null,null,null,null,null,null,null,null,null,null,null,null,null,null,null,null,null,null,null,null,null,null,null,null,null,0,{"$f":"AVERAGE(#REF!)","v":{"$error":"#REF!"}},{"$error":"#DIV/0!"},{"$error":"#DIV/0!"},{"$error":"#DIV/0!"},{"$error":"#DIV/0!"},{"$error":"#DIV/0!"},{"$error":"#DIV/0!"},{"$error":"#DIV/0!"},{"$error":"#DIV/0!"},{"$error":"#DIV/0!"}]
[null,null,null,null,null,null,null,null,null,null,null,null,null,null,null,null,null,null,null,null,null,null,null,null,null,null,null,null,0,{"$f":"AVERAGE(#REF!)","v":{"$error":"#REF!"}},{"$error":"#DIV/0!"},{"$error":"#DIV/0!"},{"$error":"#DIV/0!"},{"$error":"#DIV/0!"},{"$error":"#DIV/0!"},{"$error":"#DIV/0!"},{"$error":"#DIV/0!"},{"$error":"#DIV/0!"},{"$error":"#DIV/0!"}]
[null,null,null,null,null,null,null,null,null,null,null,null,null,null,null,null,null,null,null,null,null,null,null,null,null,null,null,null,0,{"$f":"AVERAGE(#REF!)","v":{"$error":"#REF!"}},{"$error":"#DIV/0!"},{"$error":"#DIV/0!"},{"$error":"#DIV/0!"},{"$error":"#DIV/0!"},{"$error":"#DIV/0!"},{"$error":"#DIV/0!"},{"$error":"#DIV/0!"},{"$error":"#DIV/0!"},{"$error":"#DIV/0!"}]
[null,null,null,null,null,null,null,null,null,null,null,null,null,null,null,null,null,null,null,null,null,null,null,null,null,null,null,null,0,{"$f":"AVERAGE(#REF!)","v":{"$error":"#REF!"}},{"$error":"#DIV/0!"},{"$error":"#DIV/0!"},{"$error":"#DIV/0!"},{"$error":"#DIV/0!"},{"$error":"#DIV/0!"},{"$error":"#DIV/0!"},{"$error":"#DIV/0!"},{"$error":"#DIV/0!"},{"$error":"#DIV/0!"}]
[null,null,null,null,null,null,null,null,null,null,null,null,null,null,null,null,null,null,null,null,null,null,null,null,null,null,null,null,0,{"$f":"AVERAGE(#REF!)","v":{"$error":"#REF!"}},{"$error":"#DIV/0!"},{"$error":"#DIV/0!"},{"$error":"#DIV/0!"},{"$error":"#DIV/0!"},{"$error":"#DIV/0!"},{"$error":"#DIV/0!"},{"$error":"#DIV/0!"},{"$error":"#DIV/0!"},{"$error":"#DIV/0!"}]
[null,null,null,null,null,null,null,null,null,null,null,null,null,null,null,null,null,null,null,null,null,null,null,null,null,null,null,null,0,{"$f":"AVERAGE(#REF!)","v":{"$error":"#REF!"}},{"$error":"#DIV/0!"},{"$error":"#DIV/0!"},{"$error":"#DIV/0!"},{"$error":"#DIV/0!"},{"$error":"#DIV/0!"},{"$error":"#DIV/0!"},{"$error":"#DIV/0!"},{"$error":"#DIV/0!"},{"$error":"#DIV/0!"}]
[null,null,null,null,null,null,null,null,null,null,null,null,null,null,null,null,null,null,null,null,null,null,null,null,null,null,null,null,0,{"$f":"AVERAGE(#REF!)","v":{"$error":"#REF!"}},{"$error":"#DIV/0!"},{"$error":"#DIV/0!"},{"$error":"#DIV/0!"},{"$error":"#DIV/0!"},{"$error":"#DIV/0!"},{"$error":"#DIV/0!"},{"$error":"#DIV/0!"},{"$error":"#DIV/0!"},{"$error":"#DIV/0!"}]
[null,null,null,null,null,null,null,null,null,null,null,null,null,null,null,null,null,null,null,null,null,null,null,null,null,null,null,null,0,{"$f":"AVERAGE(#REF!)","v":{"$error":"#REF!"}},{"$error":"#DIV/0!"},{"$error":"#DIV/0!"},{"$error":"#DIV/0!"},{"$error":"#DIV/0!"},{"$error":"#DIV/0!"},{"$error":"#DIV/0!"},{"$error":"#DIV/0!"},{"$error":"#DIV/0!"},{"$error":"#DIV/0!"}]
[null,null,null,null,null,null,null,null,null,null,null,null,null,null,null,null,null,null,null,null,null,null,null,null,null,null,null,null,0,{"$f":"AVERAGE(#REF!)","v":{"$error":"#REF!"}},{"$error":"#DIV/0!"},{"$error":"#DIV/0!"},{"$error":"#DIV/0!"},{"$error":"#DIV/0!"},{"$error":"#DIV/0!"},{"$error":"#DIV/0!"},{"$error":"#DIV/0!"},{"$error":"#DIV/0!"},{"$error":"#DIV/0!"}]
[null,null,null,null,null,null,null,null,null,null,null,null,null,null,null,null,null,null,null,null,null,null,null,null,null,null,null,null,0,{"$f":"AVERAGE(#REF!)","v":{"$error":"#REF!"}},{"$error":"#DIV/0!"},{"$error":"#DIV/0!"},{"$error":"#DIV/0!"},{"$error":"#DIV/0!"},{"$error":"#DIV/0!"},{"$error":"#DIV/0!"},{"$error":"#DIV/0!"},{"$error":"#DIV/0!"},{"$error":"#DIV/0!"}]
[null,null,null,null,null,null,null,null,null,null,null,null,null,null,null,null,null,null,null,null,null,null,null,null,null,null,null,null,0,{"$f":"AVERAGE(#REF!)","v":{"$error":"#REF!"}},{"$error":"#DIV/0!"},{"$error":"#DIV/0!"},{"$error":"#DIV/0!"},{"$error":"#DIV/0!"},{"$error":"#DIV/0!"},{"$error":"#DIV/0!"},{"$error":"#DIV/0!"},{"$error":"#DIV/0!"},{"$error":"#DIV/0!"}]
[null,null,null,null,null,null,null,null,null,null,null,null,null,null,null,null,null,null,null,null,null,null,null,null,null,null,null,null,0,{"$f":"AVERAGE(#REF!)","v":{"$error":"#REF!"}},{"$error":"#DIV/0!"},{"$error":"#DIV/0!"},{"$error":"#DIV/0!"},{"$error":"#DIV/0!"},{"$error":"#DIV/0!"},{"$error":"#DIV/0!"},{"$error":"#DIV/0!"},{"$error":"#DIV/0!"},{"$error":"#DIV/0!"}]
[null,null,null,null,null,null,null,null,null,null,null,null,null,null,null,null,null,null,null,null,null,null,null,null,null,null,null,null,0,{"$f":"AVERAGE(#REF!)","v":{"$error":"#REF!"}},{"$error":"#DIV/0!"},{"$error":"#DIV/0!"},{"$error":"#DIV/0!"},{"$error":"#DIV/0!"},{"$error":"#DIV/0!"},{"$error":"#DIV/0!"},{"$error":"#DIV/0!"},{"$error":"#DIV/0!"},{"$error":"#DIV/0!"}]
[null,null,null,null,null,null,null,null,null,null,null,null,null,null,null,null,null,null,null,null,null,null,null,null,null,null,null,null,0,{"$f":"AVERAGE(#REF!)","v":{"$error":"#REF!"}},{"$error":"#DIV/0!"},{"$error":"#DIV/0!"},{"$error":"#DIV/0!"},{"$error":"#DIV/0!"},{"$error":"#DIV/0!"},{"$error":"#DIV/0!"},{"$error":"#DIV/0!"},{"$error":"#DIV/0!"},{"$error":"#DIV/0!"}]
[null,null,null,null,null,null,null,null,null,null,null,null,null,null,null,null,null,null,null,null,null,null,null,null,null,null,null,null,0,{"$f":"AVERAGE(#REF!)","v":{"$error":"#REF!"}},{"$error":"#DIV/0!"},{"$error":"#DIV/0!"},{"$error":"#DIV/0!"},{"$error":"#DIV/0!"},{"$error":"#DIV/0!"},{"$error":"#DIV/0!"},{"$error":"#DIV/0!"},{"$error":"#DIV/0!"},{"$error":"#DIV/0!"}]
[null,null,null,null,null,null,null,null,null,null,null,null,null,null,null,null,null,null,null,null,null,null,null,null,null,null,null,null,0,{"$f":"AVERAGE(#REF!)","v":{"$error":"#REF!"}},{"$error":"#DIV/0!"},{"$error":"#DIV/0!"},{"$error":"#DIV/0!"},{"$error":"#DIV/0!"},{"$error":"#DIV/0!"},{"$error":"#DIV/0!"},{"$error":"#DIV/0!"},{"$error":"#DIV/0!"},{"$error":"#DIV/0!"}]
[null,null,null,null,null,null,null,null,null,null,null,null,null,null,null,null,null,null,null,null,null,null,null,null,null,null,null,null,0,{"$f":"AVERAGE(#REF!)","v":{"$error":"#REF!"}},{"$error":"#DIV/0!"},{"$error":"#DIV/0!"},{"$error":"#DIV/0!"},{"$error":"#DIV/0!"},{"$error":"#DIV/0!"},{"$error":"#DIV/0!"},{"$error":"#DIV/0!"},{"$error":"#DIV/0!"},{"$error":"#DIV/0!"}]
[null,null,null,null,null,null,null,null,null,null,null,null,null,null,null,null,null,null,null,null,null,null,null,null,null,null,null,null,0,{"$f":"AVERAGE(#REF!)","v":{"$error":"#REF!"}},{"$error":"#DIV/0!"},{"$error":"#DIV/0!"},{"$error":"#DIV/0!"},{"$error":"#DIV/0!"},{"$error":"#DIV/0!"},{"$error":"#DIV/0!"},{"$error":"#DIV/0!"},{"$error":"#DIV/0!"},{"$error":"#DIV/0!"}]
[null,null,null,null,null,null,null,null,null,null,null,null,null,null,null,null,null,null,null,null,null,null,null,null,null,null,null,null,0,{"$f":"AVERAGE(#REF!)","v":{"$error":"#REF!"}},{"$error":"#DIV/0!"},{"$error":"#DIV/0!"},{"$error":"#DIV/0!"},{"$error":"#DIV/0!"},{"$error":"#DIV/0!"},{"$error":"#DIV/0!"},{"$error":"#DIV/0!"},{"$error":"#DIV/0!"},{"$error":"#DIV/0!"}]
[null,null,null,null,null,null,null,null,null,null,null,null,null,null,null,null,null,null,null,null,null,null,null,null,null,null,null,null,0,{"$f":"AVERAGE(#REF!)","v":{"$error":"#REF!"}},{"$error":"#DIV/0!"},{"$error":"#DIV/0!"},{"$error":"#DIV/0!"},{"$error":"#DIV/0!"},{"$error":"#DIV/0!"},{"$error":"#DIV/0!"},{"$error":"#DIV/0!"},{"$error":"#DIV/0!"},{"$error":"#DIV/0!"}]
[null,null,null,null,null,null,null,null,null,null,null,null,null,null,null,null,null,null,null,null,null,null,null,null,null,null,null,null,0,{"$f":"AVERAGE(#REF!)","v":{"$error":"#REF!"}},{"$error":"#DIV/0!"},{"$error":"#DIV/0!"},{"$error":"#DIV/0!"},{"$error":"#DIV/0!"},{"$error":"#DIV/0!"},{"$error":"#DIV/0!"},{"$error":"#DIV/0!"},{"$error":"#DIV/0!"},{"$error":"#DIV/0!"}]
[null,null,null,null,null,null,null,null,null,null,null,null,null,null,null,null,null,null,null,null,null,null,null,null,null,null,null,null,0,{"$f":"AVERAGE(#REF!)","v":{"$error":"#REF!"}},{"$error":"#DIV/0!"},{"$error":"#DIV/0!"},{"$error":"#DIV/0!"},{"$error":"#DIV/0!"},{"$error":"#DIV/0!"},{"$error":"#DIV/0!"},{"$error":"#DIV/0!"},{"$error":"#DIV/0!"},{"$error":"#DIV/0!"}]
[null,null,null,null,null,null,null,null,null,null,null,null,null,null,null,null,null,null,null,null,null,null,null,null,null,null,null,null,0,{"$f":"AVERAGE(#REF!)","v":{"$error":"#REF!"}},{"$error":"#DIV/0!"},{"$error":"#DIV/0!"},{"$error":"#DIV/0!"},{"$error":"#DIV/0!"},{"$error":"#DIV/0!"},{"$error":"#DIV/0!"},{"$error":"#DIV/0!"},{"$error":"#DIV/0!"},{"$error":"#DIV/0!"}]
[null,null,null,null,null,null,null,null,null,null,null,null,null,null,null,null,null,null,null,null,null,null,null,null,null,null,null,null,0,{"$f":"AVERAGE(#REF!)","v":{"$error":"#REF!"}},{"$error":"#DIV/0!"},{"$error":"#DIV/0!"},{"$error":"#DIV/0!"},{"$error":"#DIV/0!"},{"$error":"#DIV/0!"},{"$error":"#DIV/0!"},{"$error":"#DIV/0!"},{"$error":"#DIV/0!"},{"$error":"#DIV/0!"}]
[null,null,null,null,null,null,null,null,null,null,null,null,null,null,null,null,null,null,null,null,null,null,null,null,null,null,null,null,0,{"$f":"AVERAGE(#REF!)","v":{"$error":"#REF!"}},{"$error":"#DIV/0!"},{"$error":"#DIV/0!"},{"$error":"#DIV/0!"},{"$error":"#DIV/0!"},{"$error":"#DIV/0!"},{"$error":"#DIV/0!"},{"$error":"#DIV/0!"},{"$error":"#DIV/0!"},{"$error":"#DIV/0!"}]
[null,null,null,null,null,null,null,null,null,null,null,null,null,null,null,null,null,null,null,null,null,null,null,null,null,null,null,null,0,{"$f":"AVERAGE(#REF!)","v":{"$error":"#REF!"}},{"$error":"#DIV/0!"},{"$error":"#DIV/0!"},{"$error":"#DIV/0!"},{"$error":"#DIV/0!"},{"$error":"#DIV/0!"},{"$error":"#DIV/0!"},{"$error":"#DIV/0!"},{"$error":"#DIV/0!"},{"$error":"#DIV/0!"}]
[null,null,null,null,null,null,null,null,null,null,null,null,null,null,null,null,null,null,null,null,null,null,null,null,null,null,null,null,0,{"$f":"AVERAGE(#REF!)","v":{"$error":"#REF!"}},{"$error":"#DIV/0!"},{"$error":"#DIV/0!"},{"$error":"#DIV/0!"},{"$error":"#DIV/0!"},{"$error":"#DIV/0!"},{"$error":"#DIV/0!"},{"$error":"#DIV/0!"},{"$error":"#DIV/0!"},{"$error":"#DIV/0!"}]
[null,null,null,null,null,null,null,null,null,null,null,null,null,null,null,null,null,null,null,null,null,null,null,null,null,null,null,null,0,{"$f":"AVERAGE(#REF!)","v":{"$error":"#REF!"}},{"$error":"#DIV/0!"},{"$error":"#DIV/0!"},{"$error":"#DIV/0!"},{"$error":"#DIV/0!"},{"$error":"#DIV/0!"},{"$error":"#DIV/0!"},{"$error":"#DIV/0!"},{"$error":"#DIV/0!"},{"$error":"#DIV/0!"}]
[null,null,null,null,null,null,null,null,null,null,null,null,null,null,null,null,null,null,null,null,null,null,null,null,null,null,null,null,0,{"$f":"AVERAGE(#REF!)","v":{"$error":"#REF!"}},{"$error":"#DIV/0!"},{"$error":"#DIV/0!"},{"$error":"#DIV/0!"},{"$error":"#DIV/0!"},{"$error":"#DIV/0!"},{"$error":"#DIV/0!"},{"$error":"#DIV/0!"},{"$error":"#DIV/0!"},{"$error":"#DIV/0!"}]
[null,null,null,null,null,null,null,null,null,null,null,null,null,null,null,null,null,null,null,null,null,null,null,null,null,null,null,null,0,{"$f":"AVERAGE(#REF!)","v":{"$error":"#REF!"}},{"$error":"#DIV/0!"},{"$error":"#DIV/0!"},{"$error":"#DIV/0!"},{"$error":"#DIV/0!"},{"$error":"#DIV/0!"},{"$error":"#DIV/0!"},{"$error":"#DIV/0!"},{"$error":"#DIV/0!"},{"$error":"#DIV/0!"}]
[null,null,null,null,null,null,null,null,null,null,null,null,null,null,null,null,null,null,null,null,null,null,null,null,null,null,null,null,0,{"$f":"AVERAGE(#REF!)","v":{"$error":"#REF!"}},{"$error":"#DIV/0!"},{"$error":"#DIV/0!"},{"$error":"#DIV/0!"},{"$error":"#DIV/0!"},{"$error":"#DIV/0!"},{"$error":"#DIV/0!"},{"$error":"#DIV/0!"},{"$error":"#DIV/0!"},{"$error":"#DIV/0!"}]
[null,null,null,null,null,null,null,null,null,null,null,null,null,null,null,null,null,null,null,null,null,null,null,null,null,null,null,null,0,{"$f":"AVERAGE(#REF!)","v":{"$error":"#REF!"}},{"$error":"#DIV/0!"},{"$error":"#DIV/0!"},{"$error":"#DIV/0!"},{"$error":"#DIV/0!"},{"$error":"#DIV/0!"},{"$error":"#DIV/0!"},{"$error":"#DIV/0!"},{"$error":"#DIV/0!"},{"$error":"#DIV/0!"}]
[null,null,null,null,null,null,null,null,null,null,null,null,null,null,null,null,null,null,null,null,null,null,null,null,null,null,null,null,0,{"$f":"AVERAGE(#REF!)","v":{"$error":"#REF!"}},{"$error":"#DIV/0!"},{"$error":"#DIV/0!"},{"$error":"#DIV/0!"},{"$error":"#DIV/0!"},{"$error":"#DIV/0!"},{"$error":"#DIV/0!"},{"$error":"#DIV/0!"},{"$error":"#DIV/0!"},{"$error":"#DIV/0!"}]
[null,null,null,null,null,null,null,null,null,null,null,null,null,null,null,null,null,null,null,null,null,null,null,null,null,null,null,null,0,{"$f":"AVERAGE(#REF!)","v":{"$error":"#REF!"}},{"$error":"#DIV/0!"},{"$error":"#DIV/0!"},{"$error":"#DIV/0!"},{"$error":"#DIV/0!"},{"$error":"#DIV/0!"},{"$error":"#DIV/0!"},{"$error":"#DIV/0!"},{"$error":"#DIV/0!"},{"$error":"#DIV/0!"}]
[null,null,null,null,null,null,null,null,null,null,null,null,null,null,null,null,null,null,null,null,null,null,null,null,null,null,null,null,0,{"$f":"AVERAGE(#REF!)","v":{"$error":"#REF!"}},{"$error":"#DIV/0!"},{"$error":"#DIV/0!"},{"$error":"#DIV/0!"},{"$error":"#DIV/0!"},{"$error":"#DIV/0!"},{"$error":"#DIV/0!"},{"$error":"#DIV/0!"},{"$error":"#DIV/0!"},{"$error":"#DIV/0!"}]
[null,null,null,null,null,null,null,null,null,null,null,null,null,null,null,null,null,null,null,null,null,null,null,null,null,null,null,null,0,{"$f":"AVERAGE(#REF!)","v":{"$error":"#REF!"}},{"$error":"#DIV/0!"},{"$error":"#DIV/0!"},{"$error":"#DIV/0!"},{"$error":"#DIV/0!"},{"$error":"#DIV/0!"},{"$error":"#DIV/0!"},{"$error":"#DIV/0!"},{"$error":"#DIV/0!"},{"$error":"#DIV/0!"}]
[null,null,null,null,null,null,null,null,null,null,null,null,null,null,null,null,null,null,null,null,null,null,null,null,null,null,null,null,0,{"$f":"AVERAGE(#REF!)","v":{"$error":"#REF!"}},{"$error":"#DIV/0!"},{"$error":"#DIV/0!"},{"$error":"#DIV/0!"},{"$error":"#DIV/0!"},{"$error":"#DIV/0!"},{"$error":"#DIV/0!"},{"$error":"#DIV/0!"},{"$error":"#DIV/0!"},{"$error":"#DIV/0!"}]
[null,null,null,null,null,null,null,null,null,null,null,null,null,null,null,null,null,null,null,null,null,null,null,null,null,null,null,null,{"$f":"(1609.34/3600)*Delta_Speed","v":0},{"$f":"AVERAGE(#REF!)","v":{"$error":"#REF!"}},{"$error":"#DIV/0!"},{"$error":"#DIV/0!"},{"$error":"#DIV/0!"},{"$error":"#DIV/0!"},{"$error":"#DIV/0!"},{"$error":"#DIV/0!"},{"$error":"#DIV/0!"},{"$error":"#DIV/0!"},{"$error":"#DIV/0!"}]
[null,null,null,null,null,null,null,null,null,null,null,null,null,null,null,null,null,null,null,null,null,null,null,null,null,null,null,null,0,{"$f":"AVERAGE(#REF!)","v":{"$error":"#REF!"}},{"$error":"#DIV/0!"},{"$error":"#DIV/0!"},{"$error":"#DIV/0!"},{"$error":"#DIV/0!"},{"$error":"#DIV/0!"},{"$error":"#DIV/0!"},{"$error":"#DIV/0!"},{"$error":"#DIV/0!"},{"$error":"#DIV/0!"}]
[null,null,null,null,null,null,null,null,null,null,null,null,null,null,null,null,null,null,null,null,null,null,null,null,null,null,null,null,0,{"$f":"AVERAGE(#REF!)","v":{"$error":"#REF!"}},{"$error":"#DIV/0!"},{"$error":"#DIV/0!"},{"$error":"#DIV/0!"},{"$error":"#DIV/0!"},{"$error":"#DIV/0!"},{"$error":"#DIV/0!"},{"$error":"#DIV/0!"},{"$error":"#DIV/0!"},{"$error":"#DIV/0!"}]
[null,null,null,null,null,null,null,null,null,null,null,null,null,null,null,null,null,null,null,null,null,null,null,null,null,null,null,null,0,{"$f":"AVERAGE(#REF!)","v":{"$error":"#REF!"}},{"$error":"#DIV/0!"},{"$error":"#DIV/0!"},{"$error":"#DIV/0!"},{"$error":"#DIV/0!"},{"$error":"#DIV/0!"},{"$error":"#DIV/0!"},{"$error":"#DIV/0!"},{"$error":"#DIV/0!"},{"$error":"#DIV/0!"}]
[null,null,null,null,null,null,null,null,null,null,null,null,null,null,null,null,null,null,null,null,null,null,null,null,null,null,null,null,0,{"$f":"AVERAGE(#REF!)","v":{"$error":"#REF!"}},{"$f":"AVERAGE(Q35842:Q35846)","v":{"$error":"#DIV/0!"}},{"$f":"AVERAGE(R35842:R35846)","v":{"$error":"#DIV/0!"}},{"$f":"AVERAGE(S35842:S35846)","v":{"$error":"#DIV/0!"}},{"$f":"AVERAGE(T35842:T35846)","v":{"$error":"#DIV/0!"}},{"$f":"AVERAGE(U35842:U35846)","v":{"$error":"#DIV/0!"}},{"$f":"AVERAGE(V35842:V35846)","v":{"$error":"#DIV/0!"}},{"$f":"AVERAGE(W35842:W35846)","v":{"$error":"#DIV/0!"}},{"$f":"AVERAGE(X35842:X35846)","v":{"$error":"#DIV/0!"}},{"$f":"AVERAGE(Y35842:Y35846)","v":{"$error":"#DIV/0!"}}]
[null,null,null,null,null,null,null,null,null,null,null,null,null,null,null,null,null,null,null,null,null,null,null,null,null,null,null,null,0,{"$f":"AVERAGE(#REF!)","v":{"$error":"#REF!"}},{"$error":"#DIV/0!"},{"$error":"#DIV/0!"},{"$error":"#DIV/0!"},{"$error":"#DIV/0!"},{"$error":"#DIV/0!"},{"$error":"#DIV/0!"},{"$error":"#DIV/0!"},{"$error":"#DIV/0!"},{"$error":"#DIV/0!"}]
[null,null,null,null,null,null,null,null,null,null,null,null,null,null,null,null,null,null,null,null,null,null,null,null,null,null,null,null,0,{"$f":"AVERAGE(#REF!)","v":{"$error":"#REF!"}},{"$error":"#DIV/0!"},{"$error":"#DIV/0!"},{"$error":"#DIV/0!"},{"$error":"#DIV/0!"},{"$error":"#DIV/0!"},{"$error":"#DIV/0!"},{"$error":"#DIV/0!"},{"$error":"#DIV/0!"},{"$error":"#DIV/0!"}]
[null,null,null,null,null,null,null,null,null,null,null,null,null,null,null,null,null,null,null,null,null,null,null,null,null,null,null,null,0,{"$f":"AVERAGE(#REF!)","v":{"$error":"#REF!"}},{"$error":"#DIV/0!"},{"$error":"#DIV/0!"},{"$error":"#DIV/0!"},{"$error":"#DIV/0!"},{"$error":"#DIV/0!"},{"$error":"#DIV/0!"},{"$error":"#DIV/0!"},{"$error":"#DIV/0!"},{"$error":"#DIV/0!"}]
[null,null,null,null,null,null,null,null,null,null,null,null,null,null,null,null,null,null,null,null,null,null,null,null,null,null,null,null,0,{"$f":"AVERAGE(#REF!)","v":{"$error":"#REF!"}},{"$error":"#DIV/0!"},{"$error":"#DIV/0!"},{"$error":"#DIV/0!"},{"$error":"#DIV/0!"},{"$error":"#DIV/0!"},{"$error":"#DIV/0!"},{"$error":"#DIV/0!"},{"$error":"#DIV/0!"},{"$error":"#DIV/0!"}]
[null,null,null,null,null,null,null,null,null,null,null,null,null,null,null,null,null,null,null,null,null,null,null,null,null,null,null,null,0,{"$f":"AVERAGE(#REF!)","v":{"$error":"#REF!"}},{"$error":"#DIV/0!"},{"$error":"#DIV/0!"},{"$error":"#DIV/0!"},{"$error":"#DIV/0!"},{"$error":"#DIV/0!"},{"$error":"#DIV/0!"},{"$error":"#DIV/0!"},{"$error":"#DIV/0!"},{"$error":"#DIV/0!"}]
[null,null,null,null,null,null,null,null,null,null,null,null,null,null,null,null,null,null,null,null,null,null,null,null,null,null,null,null,0,{"$f":"AVERAGE(#REF!)","v":{"$error":"#REF!"}},{"$error":"#DIV/0!"},{"$error":"#DIV/0!"},{"$error":"#DIV/0!"},{"$error":"#DIV/0!"},{"$error":"#DIV/0!"},{"$error":"#DIV/0!"},{"$error":"#DIV/0!"},{"$error":"#DIV/0!"},{"$error":"#DIV/0!"}]
[null,null,null,null,null,null,null,null,null,null,null,null,null,null,null,null,null,null,null,null,null,null,null,null,null,null,null,null,0,{"$f":"AVERAGE(#REF!)","v":{"$error":"#REF!"}},{"$error":"#DIV/0!"},{"$error":"#DIV/0!"},{"$error":"#DIV/0!"},{"$error":"#DIV/0!"},{"$error":"#DIV/0!"},{"$error":"#DIV/0!"},{"$error":"#DIV/0!"},{"$error":"#DIV/0!"},{"$error":"#DIV/0!"}]
[null,null,null,null,null,null,null,null,null,null,null,null,null,null,null,null,null,null,null,null,null,null,null,null,null,null,null,null,0,{"$f":"AVERAGE(#REF!)","v":{"$error":"#REF!"}},{"$error":"#DIV/0!"},{"$error":"#DIV/0!"},{"$error":"#DIV/0!"},{"$error":"#DIV/0!"},{"$error":"#DIV/0!"},{"$error":"#DIV/0!"},{"$error":"#DIV/0!"},{"$error":"#DIV/0!"},{"$error":"#DIV/0!"}]
[null,null,null,null,null,null,null,null,null,null,null,null,null,null,null,null,null,null,null,null,null,null,null,null,null,null,null,null,0,{"$f":"AVERAGE(#REF!)","v":{"$error":"#REF!"}},{"$error":"#DIV/0!"},{"$error":"#DIV/0!"},{"$error":"#DIV/0!"},{"$error":"#DIV/0!"},{"$error":"#DIV/0!"},{"$error":"#DIV/0!"},{"$error":"#DIV/0!"},{"$error":"#DIV/0!"},{"$error":"#DIV/0!"}]
[null,null,null,null,null,null,null,null,null,null,null,null,null,null,null,null,null,null,null,null,null,null,null,null,null,null,null,null,0,{"$f":"AVERAGE(#REF!)","v":{"$error":"#REF!"}},{"$error":"#DIV/0!"},{"$error":"#DIV/0!"},{"$error":"#DIV/0!"},{"$error":"#DIV/0!"},{"$error":"#DIV/0!"},{"$error":"#DIV/0!"},{"$error":"#DIV/0!"},{"$error":"#DIV/0!"},{"$error":"#DIV/0!"}]
[null,null,null,null,null,null,null,null,null,null,null,null,null,null,null,null,null,null,null,null,null,null,null,null,null,null,null,null,0,{"$f":"AVERAGE(#REF!)","v":{"$error":"#REF!"}},{"$error":"#DIV/0!"},{"$error":"#DIV/0!"},{"$error":"#DIV/0!"},{"$error":"#DIV/0!"},{"$error":"#DIV/0!"},{"$error":"#DIV/0!"},{"$error":"#DIV/0!"},{"$error":"#DIV/0!"},{"$error":"#DIV/0!"}]
[null,null,null,null,null,null,null,null,null,null,null,null,null,null,null,null,null,null,null,null,null,null,null,null,null,null,null,null,0,{"$f":"AVERAGE(#REF!)","v":{"$error":"#REF!"}},{"$error":"#DIV/0!"},{"$error":"#DIV/0!"},{"$error":"#DIV/0!"},{"$error":"#DIV/0!"},{"$error":"#DIV/0!"},{"$error":"#DIV/0!"},{"$error":"#DIV/0!"},{"$error":"#DIV/0!"},{"$error":"#DIV/0!"}]
[null,null,null,null,null,null,null,null,null,null,null,null,null,null,null,null,null,null,null,null,null,null,null,null,null,null,null,null,0,{"$f":"AVERAGE(#REF!)","v":{"$error":"#REF!"}},{"$error":"#DIV/0!"},{"$error":"#DIV/0!"},{"$error":"#DIV/0!"},{"$error":"#DIV/0!"},{"$error":"#DIV/0!"},{"$error":"#DIV/0!"},{"$error":"#DIV/0!"},{"$error":"#DIV/0!"},{"$error":"#DIV/0!"}]
[null,null,null,null,null,null,null,null,null,null,null,null,null,null,null,null,null,null,null,null,null,null,null,null,null,null,null,null,0,{"$f":"AVERAGE(#REF!)","v":{"$error":"#REF!"}},{"$error":"#DIV/0!"},{"$error":"#DIV/0!"},{"$error":"#DIV/0!"},{"$error":"#DIV/0!"},{"$error":"#DIV/0!"},{"$error":"#DIV/0!"},{"$error":"#DIV/0!"},{"$error":"#DIV/0!"},{"$error":"#DIV/0!"}]
[null,null,null,null,null,null,null,null,null,null,null,null,null,null,null,null,null,null,null,null,null,null,null,null,null,null,null,null,0,{"$f":"AVERAGE(#REF!)","v":{"$error":"#REF!"}},{"$error":"#DIV/0!"},{"$error":"#DIV/0!"},{"$error":"#DIV/0!"},{"$error":"#DIV/0!"},{"$error":"#DIV/0!"},{"$error":"#DIV/0!"},{"$error":"#DIV/0!"},{"$error":"#DIV/0!"},{"$error":"#DIV/0!"}]
[null,null,null,null,null,null,null,null,null,null,null,null,null,null,null,null,null,null,null,null,null,null,null,null,null,null,null,null,0,{"$f":"AVERAGE(#REF!)","v":{"$error":"#REF!"}},{"$error":"#DIV/0!"},{"$error":"#DIV/0!"},{"$error":"#DIV/0!"},{"$error":"#DIV/0!"},{"$error":"#DIV/0!"},{"$error":"#DIV/0!"},{"$error":"#DIV/0!"},{"$error":"#DIV/0!"},{"$error":"#DIV/0!"}]
[null,null,null,null,null,null,null,null,null,null,null,null,null,null,null,null,null,null,null,null,null,null,null,null,null,null,null,null,0,{"$f":"AVERAGE(#REF!)","v":{"$error":"#REF!"}},{"$error":"#DIV/0!"},{"$error":"#DIV/0!"},{"$error":"#DIV/0!"},{"$error":"#DIV/0!"},{"$error":"#DIV/0!"},{"$error":"#DIV/0!"},{"$error":"#DIV/0!"},{"$error":"#DIV/0!"},{"$error":"#DIV/0!"}]
[null,null,null,null,null,null,null,null,null,null,null,null,null,null,null,null,null,null,null,null,null,null,null,null,null,null,null,null,0,{"$f":"AVERAGE(#REF!)","v":{"$error":"#REF!"}},{"$error":"#DIV/0!"},{"$error":"#DIV/0!"},{"$error":"#DIV/0!"},{"$error":"#DIV/0!"},{"$error":"#DIV/0!"},{"$error":"#DIV/0!"},{"$error":"#DIV/0!"},{"$error":"#DIV/0!"},{"$error":"#DIV/0!"}]
[null,null,null,null,null,null,null,null,null,null,null,null,null,null,null,null,null,null,null,null,null,null,null,null,null,null,null,null,0,{"$f":"AVERAGE(#REF!)","v":{"$error":"#REF!"}},{"$error":"#DIV/0!"},{"$error":"#DIV/0!"},{"$error":"#DIV/0!"},{"$error":"#DIV/0!"},{"$error":"#DIV/0!"},{"$error":"#DIV/0!"},{"$error":"#DIV/0!"},{"$error":"#DIV/0!"},{"$error":"#DIV/0!"}]
[null,null,null,null,null,null,null,null,null,null,null,null,null,null,null,null,null,null,null,null,null,null,null,null,null,null,null,null,0,{"$f":"AVERAGE(#REF!)","v":{"$error":"#REF!"}},{"$error":"#DIV/0!"},{"$error":"#DIV/0!"},{"$error":"#DIV/0!"},{"$error":"#DIV/0!"},{"$error":"#DIV/0!"},{"$error":"#DIV/0!"},{"$error":"#DIV/0!"},{"$error":"#DIV/0!"},{"$error":"#DIV/0!"}]
[null,null,null,null,null,null,null,null,null,null,null,null,null,null,null,null,null,null,null,null,null,null,null,null,null,null,null,null,0,{"$f":"AVERAGE(#REF!)","v":{"$error":"#REF!"}},{"$error":"#DIV/0!"},{"$error":"#DIV/0!"},{"$error":"#DIV/0!"},{"$error":"#DIV/0!"},{"$error":"#DIV/0!"},{"$error":"#DIV/0!"},{"$error":"#DIV/0!"},{"$error":"#DIV/0!"},{"$error":"#DIV/0!"}]
[null,null,null,null,null,null,null,null,null,null,null,null,null,null,null,null,null,null,null,null,null,null,null,null,null,null,null,null,0,{"$f":"AVERAGE(#REF!)","v":{"$error":"#REF!"}},{"$error":"#DIV/0!"},{"$error":"#DIV/0!"},{"$error":"#DIV/0!"},{"$error":"#DIV/0!"},{"$error":"#DIV/0!"},{"$error":"#DIV/0!"},{"$error":"#DIV/0!"},{"$error":"#DIV/0!"},{"$error":"#DIV/0!"}]
[null,null,null,null,null,null,null,null,null,null,null,null,null,null,null,null,null,null,null,null,null,null,null,null,null,null,null,null,0,{"$f":"AVERAGE(#REF!)","v":{"$error":"#REF!"}},{"$error":"#DIV/0!"},{"$error":"#DIV/0!"},{"$error":"#DIV/0!"},{"$error":"#DIV/0!"},{"$error":"#DIV/0!"},{"$error":"#DIV/0!"},{"$error":"#DIV/0!"},{"$error":"#DIV/0!"},{"$error":"#DIV/0!"}]
[null,null,null,null,null,null,null,null,null,null,null,null,null,null,null,null,null,null,null,null,null,null,null,null,null,null,null,null,0,{"$f":"AVERAGE(#REF!)","v":{"$error":"#REF!"}},{"$error":"#DIV/0!"},{"$error":"#DIV/0!"},{"$error":"#DIV/0!"},{"$error":"#DIV/0!"},{"$error":"#DIV/0!"},{"$error":"#DIV/0!"},{"$error":"#DIV/0!"},{"$error":"#DIV/0!"},{"$error":"#DIV/0!"}]
[null,null,null,null,null,null,null,null,null,null,null,null,null,null,null,null,null,null,null,null,null,null,null,null,null,null,null,null,0,{"$f":"AVERAGE(#REF!)","v":{"$error":"#REF!"}},{"$error":"#DIV/0!"},{"$error":"#DIV/0!"},{"$error":"#DIV/0!"},{"$error":"#DIV/0!"},{"$error":"#DIV/0!"},{"$error":"#DIV/0!"},{"$error":"#DIV/0!"},{"$error":"#DIV/0!"},{"$error":"#DIV/0!"}]
[null,null,null,null,null,null,null,null,null,null,null,null,null,null,null,null,null,null,null,null,null,null,null,null,null,null,null,null,0,{"$f":"AVERAGE(#REF!)","v":{"$error":"#REF!"}},{"$error":"#DIV/0!"},{"$error":"#DIV/0!"},{"$error":"#DIV/0!"},{"$error":"#DIV/0!"},{"$error":"#DIV/0!"},{"$error":"#DIV/0!"},{"$error":"#DIV/0!"},{"$error":"#DIV/0!"},{"$error":"#DIV/0!"}]
[null,null,null,null,null,null,null,null,null,null,null,null,null,null,null,null,null,null,null,null,null,null,null,null,null,null,null,null,0,{"$f":"AVERAGE(#REF!)","v":{"$error":"#REF!"}},{"$error":"#DIV/0!"},{"$error":"#DIV/0!"},{"$error":"#DIV/0!"},{"$error":"#DIV/0!"},{"$error":"#DIV/0!"},{"$error":"#DIV/0!"},{"$error":"#DIV/0!"},{"$error":"#DIV/0!"},{"$error":"#DIV/0!"}]
[null,null,null,null,null,null,null,null,null,null,null,null,null,null,null,null,null,null,null,null,null,null,null,null,null,null,null,null,0,{"$f":"AVERAGE(#REF!)","v":{"$error":"#REF!"}},{"$error":"#DIV/0!"},{"$error":"#DIV/0!"},{"$error":"#DIV/0!"},{"$error":"#DIV/0!"},{"$error":"#DIV/0!"},{"$error":"#DIV/0!"},{"$error":"#DIV/0!"},{"$error":"#DIV/0!"},{"$error":"#DIV/0!"}]
[null,null,null,null,null,null,null,null,null,null,null,null,null,null,null,null,null,null,null,null,null,null,null,null,null,null,null,null,0,{"$f":"AVERAGE(#REF!)","v":{"$error":"#REF!"}},{"$error":"#DIV/0!"},{"$error":"#DIV/0!"},{"$error":"#DIV/0!"},{"$error":"#DIV/0!"},{"$error":"#DIV/0!"},{"$error":"#DIV/0!"},{"$error":"#DIV/0!"},{"$error":"#DIV/0!"},{"$error":"#DIV/0!"}]
[null,null,null,null,null,null,null,null,null,null,null,null,null,null,null,null,null,null,null,null,null,null,null,null,null,null,null,null,0,{"$f":"AVERAGE(#REF!)","v":{"$error":"#REF!"}},{"$error":"#DIV/0!"},{"$error":"#DIV/0!"},{"$error":"#DIV/0!"},{"$error":"#DIV/0!"},{"$error":"#DIV/0!"},{"$error":"#DIV/0!"},{"$error":"#DIV/0!"},{"$error":"#DIV/0!"},{"$error":"#DIV/0!"}]
[null,null,null,null,null,null,null,null,null,null,null,null,null,null,null,null,null,null,null,null,null,null,null,null,null,null,null,null,0,{"$f":"AVERAGE(#REF!)","v":{"$error":"#REF!"}},{"$error":"#DIV/0!"},{"$error":"#DIV/0!"},{"$error":"#DIV/0!"},{"$error":"#DIV/0!"},{"$error":"#DIV/0!"},{"$error":"#DIV/0!"},{"$error":"#DIV/0!"},{"$error":"#DIV/0!"},{"$error":"#DIV/0!"}]
[null,null,null,null,null,null,null,null,null,null,null,null,null,null,null,null,null,null,null,null,null,null,null,null,null,null,null,null,0,{"$f":"AVERAGE(#REF!)","v":{"$error":"#REF!"}},{"$error":"#DIV/0!"},{"$error":"#DIV/0!"},{"$error":"#DIV/0!"},{"$error":"#DIV/0!"},{"$error":"#DIV/0!"},{"$error":"#DIV/0!"},{"$error":"#DIV/0!"},{"$error":"#DIV/0!"},{"$error":"#DIV/0!"}]
[null,null,null,null,null,null,null,null,null,null,null,null,null,null,null,null,null,null,null,null,null,null,null,null,null,null,null,null,0,{"$f":"AVERAGE(#REF!)","v":{"$error":"#REF!"}},{"$error":"#DIV/0!"},{"$error":"#DIV/0!"},{"$error":"#DIV/0!"},{"$error":"#DIV/0!"},{"$error":"#DIV/0!"},{"$error":"#DIV/0!"},{"$error":"#DIV/0!"},{"$error":"#DIV/0!"},{"$error":"#DIV/0!"}]
[null,null,null,null,null,null,null,null,null,null,null,null,null,null,null,null,null,null,null,null,null,null,null,null,null,null,null,null,0,{"$f":"AVERAGE(#REF!)","v":{"$error":"#REF!"}},{"$error":"#DIV/0!"},{"$error":"#DIV/0!"},{"$error":"#DIV/0!"},{"$error":"#DIV/0!"},{"$error":"#DIV/0!"},{"$error":"#DIV/0!"},{"$error":"#DIV/0!"},{"$error":"#DIV/0!"},{"$error":"#DIV/0!"}]
[null,null,null,null,null,null,null,null,null,null,null,null,null,null,null,null,null,null,null,null,null,null,null,null,null,null,null,null,0,{"$f":"AVERAGE(#REF!)","v":{"$error":"#REF!"}},{"$error":"#DIV/0!"},{"$error":"#DIV/0!"},{"$error":"#DIV/0!"},{"$error":"#DIV/0!"},{"$error":"#DIV/0!"},{"$error":"#DIV/0!"},{"$error":"#DIV/0!"},{"$error":"#DIV/0!"},{"$error":"#DIV/0!"}]
[null,null,null,null,null,null,null,null,null,null,null,null,null,null,null,null,null,null,null,null,null,null,null,null,null,null,null,null,0,{"$f":"AVERAGE(#REF!)","v":{"$error":"#REF!"}},{"$error":"#DIV/0!"},{"$error":"#DIV/0!"},{"$error":"#DIV/0!"},{"$error":"#DIV/0!"},{"$error":"#DIV/0!"},{"$error":"#DIV/0!"},{"$error":"#DIV/0!"},{"$error":"#DIV/0!"},{"$error":"#DIV/0!"}]
[null,null,null,null,null,null,null,null,null,null,null,null,null,null,null,null,null,null,null,null,null,null,null,null,null,null,null,null,0,{"$f":"AVERAGE(#REF!)","v":{"$error":"#REF!"}},{"$error":"#DIV/0!"},{"$error":"#DIV/0!"},{"$error":"#DIV/0!"},{"$error":"#DIV/0!"},{"$error":"#DIV/0!"},{"$error":"#DIV/0!"},{"$error":"#DIV/0!"},{"$error":"#DIV/0!"},{"$error":"#DIV/0!"}]
[null,null,null,null,null,null,null,null,null,null,null,null,null,null,null,null,null,null,null,null,null,null,null,null,null,null,null,null,0,{"$f":"AVERAGE(#REF!)","v":{"$error":"#REF!"}},{"$error":"#DIV/0!"},{"$error":"#DIV/0!"},{"$error":"#DIV/0!"},{"$error":"#DIV/0!"},{"$error":"#DIV/0!"},{"$error":"#DIV/0!"},{"$error":"#DIV/0!"},{"$error":"#DIV/0!"},{"$error":"#DIV/0!"}]
[null,null,null,null,null,null,null,null,null,null,null,null,null,null,null,null,null,null,null,null,null,null,null,null,null,null,null,null,0,{"$f":"AVERAGE(#REF!)","v":{"$error":"#REF!"}},{"$error":"#DIV/0!"},{"$error":"#DIV/0!"},{"$error":"#DIV/0!"},{"$error":"#DIV/0!"},{"$error":"#DIV/0!"},{"$error":"#DIV/0!"},{"$error":"#DIV/0!"},{"$error":"#DIV/0!"},{"$error":"#DIV/0!"}]
[null,null,null,null,null,null,null,null,null,null,null,null,null,null,null,null,null,null,null,null,null,null,null,null,null,null,null,null,0,{"$f":"AVERAGE(#REF!)","v":{"$error":"#REF!"}},{"$error":"#DIV/0!"},{"$error":"#DIV/0!"},{"$error":"#DIV/0!"},{"$error":"#DIV/0!"},{"$error":"#DIV/0!"},{"$error":"#DIV/0!"},{"$error":"#DIV/0!"},{"$error":"#DIV/0!"},{"$error":"#DIV/0!"}]
[null,null,null,null,null,null,null,null,null,null,null,null,null,null,null,null,null,null,null,null,null,null,null,null,null,null,null,null,0,{"$f":"AVERAGE(#REF!)","v":{"$error":"#REF!"}},{"$error":"#DIV/0!"},{"$error":"#DIV/0!"},{"$error":"#DIV/0!"},{"$error":"#DIV/0!"},{"$error":"#DIV/0!"},{"$error":"#DIV/0!"},{"$error":"#DIV/0!"},{"$error":"#DIV/0!"},{"$error":"#DIV/0!"}]
[null,null,null,null,null,null,null,null,null,null,null,null,null,null,null,null,null,null,null,null,null,null,null,null,null,null,null,null,0,{"$f":"AVERAGE(#REF!)","v":{"$error":"#REF!"}},{"$error":"#DIV/0!"},{"$error":"#DIV/0!"},{"$error":"#DIV/0!"},{"$error":"#DIV/0!"},{"$error":"#DIV/0!"},{"$error":"#DIV/0!"},{"$error":"#DIV/0!"},{"$error":"#DIV/0!"},{"$error":"#DIV/0!"}]
[null,null,null,null,null,null,null,null,null,null,null,null,null,null,null,null,null,null,null,null,null,null,null,null,null,null,null,null,0,{"$f":"AVERAGE(#REF!)","v":{"$error":"#REF!"}},{"$error":"#DIV/0!"},{"$error":"#DIV/0!"},{"$error":"#DIV/0!"},{"$error":"#DIV/0!"},{"$error":"#DIV/0!"},{"$error":"#DIV/0!"},{"$error":"#DIV/0!"},{"$error":"#DIV/0!"},{"$error":"#DIV/0!"}]
[null,null,null,null,null,null,null,null,null,null,null,null,null,null,null,null,null,null,null,null,null,null,null,null,null,null,null,null,0,{"$f":"AVERAGE(#REF!)","v":{"$error":"#REF!"}},{"$error":"#DIV/0!"},{"$error":"#DIV/0!"},{"$error":"#DIV/0!"},{"$error":"#DIV/0!"},{"$error":"#DIV/0!"},{"$error":"#DIV/0!"},{"$error":"#DIV/0!"},{"$error":"#DIV/0!"},{"$error":"#DIV/0!"}]
[null,null,null,null,null,null,null,null,null,null,null,null,null,null,null,null,null,null,null,null,null,null,null,null,null,null,null,null,0,{"$f":"AVERAGE(#REF!)","v":{"$error":"#REF!"}},{"$error":"#DIV/0!"},{"$error":"#DIV/0!"},{"$error":"#DIV/0!"},{"$error":"#DIV/0!"},{"$error":"#DIV/0!"},{"$error":"#DIV/0!"},{"$error":"#DIV/0!"},{"$error":"#DIV/0!"},{"$error":"#DIV/0!"}]
[null,null,null,null,null,null,null,null,null,null,null,null,null,null,null,null,null,null,null,null,null,null,null,null,null,null,null,null,0,{"$f":"AVERAGE(#REF!)","v":{"$error":"#REF!"}},{"$error":"#DIV/0!"},{"$error":"#DIV/0!"},{"$error":"#DIV/0!"},{"$error":"#DIV/0!"},{"$error":"#DIV/0!"},{"$error":"#DIV/0!"},{"$error":"#DIV/0!"},{"$error":"#DIV/0!"},{"$error":"#DIV/0!"}]
[null,null,null,null,null,null,null,null,null,null,null,null,null,null,null,null,null,null,null,null,null,null,null,null,null,null,null,null,0,{"$f":"AVERAGE(#REF!)","v":{"$error":"#REF!"}},{"$error":"#DIV/0!"},{"$error":"#DIV/0!"},{"$error":"#DIV/0!"},{"$error":"#DIV/0!"},{"$error":"#DIV/0!"},{"$error":"#DIV/0!"},{"$error":"#DIV/0!"},{"$error":"#DIV/0!"},{"$error":"#DIV/0!"}]
[null,null,null,null,null,null,null,null,null,null,null,null,null,null,null,null,null,null,null,null,null,null,null,null,null,null,null,null,0,{"$f":"AVERAGE(#REF!)","v":{"$error":"#REF!"}},{"$error":"#DIV/0!"},{"$error":"#DIV/0!"},{"$error":"#DIV/0!"},{"$error":"#DIV/0!"},{"$error":"#DIV/0!"},{"$error":"#DIV/0!"},{"$error":"#DIV/0!"},{"$error":"#DIV/0!"},{"$error":"#DIV/0!"}]
[null,null,null,null,null,null,null,null,null,null,null,null,null,null,null,null,null,null,null,null,null,null,null,null,null,null,null,null,0,{"$f":"AVERAGE(#REF!)","v":{"$error":"#REF!"}},{"$error":"#DIV/0!"},{"$error":"#DIV/0!"},{"$error":"#DIV/0!"},{"$error":"#DIV/0!"},{"$error":"#DIV/0!"},{"$error":"#DIV/0!"},{"$error":"#DIV/0!"},{"$error":"#DIV/0!"},{"$error":"#DIV/0!"}]
[null,null,null,null,null,null,null,null,null,null,null,null,null,null,null,null,null,null,null,null,null,null,null,null,null,null,null,null,0,{"$f":"AVERAGE(#REF!)","v":{"$error":"#REF!"}},{"$error":"#DIV/0!"},{"$error":"#DIV/0!"},{"$error":"#DIV/0!"},{"$error":"#DIV/0!"},{"$error":"#DIV/0!"},{"$error":"#DIV/0!"},{"$error":"#DIV/0!"},{"$error":"#DIV/0!"},{"$error":"#DIV/0!"}]
[null,null,null,null,null,null,null,null,null,null,null,null,null,null,null,null,null,null,null,null,null,null,null,null,null,null,null,null,0,{"$f":"AVERAGE(#REF!)","v":{"$error":"#REF!"}},{"$error":"#DIV/0!"},{"$error":"#DIV/0!"},{"$error":"#DIV/0!"},{"$error":"#DIV/0!"},{"$error":"#DIV/0!"},{"$error":"#DIV/0!"},{"$error":"#DIV/0!"},{"$error":"#DIV/0!"},{"$error":"#DIV/0!"}]
[null,null,null,null,null,null,null,null,null,null,null,null,null,null,null,null,null,null,null,null,null,null,null,null,null,null,null,null,0,{"$f":"AVERAGE(#REF!)","v":{"$error":"#REF!"}},{"$error":"#DIV/0!"},{"$error":"#DIV/0!"},{"$error":"#DIV/0!"},{"$error":"#DIV/0!"},{"$error":"#DIV/0!"},{"$error":"#DIV/0!"},{"$error":"#DIV/0!"},{"$error":"#DIV/0!"},{"$error":"#DIV/0!"}]
[null,null,null,null,null,null,null,null,null,null,null,null,null,null,null,null,null,null,null,null,null,null,null,null,null,null,null,null,0,{"$f":"AVERAGE(#REF!)","v":{"$error":"#REF!"}},{"$error":"#DIV/0!"},{"$error":"#DIV/0!"},{"$error":"#DIV/0!"},{"$error":"#DIV/0!"},{"$error":"#DIV/0!"},{"$error":"#DIV/0!"},{"$error":"#DIV/0!"},{"$error":"#DIV/0!"},{"$error":"#DIV/0!"}]
[null,null,null,null,null,null,null,null,null,null,null,null,null,null,null,null,null,null,null,null,null,null,null,null,null,null,null,null,0,{"$f":"AVERAGE(#REF!)","v":{"$error":"#REF!"}},{"$error":"#DIV/0!"},{"$error":"#DIV/0!"},{"$error":"#DIV/0!"},{"$error":"#DIV/0!"},{"$error":"#DIV/0!"},{"$error":"#DIV/0!"},{"$error":"#DIV/0!"},{"$error":"#DIV/0!"},{"$error":"#DIV/0!"}]
[null,null,null,null,null,null,null,null,null,null,null,null,null,null,null,null,null,null,null,null,null,null,null,null,null,null,null,null,0,{"$f":"AVERAGE(#REF!)","v":{"$error":"#REF!"}},{"$error":"#DIV/0!"},{"$error":"#DIV/0!"},{"$error":"#DIV/0!"},{"$error":"#DIV/0!"},{"$error":"#DIV/0!"},{"$error":"#DIV/0!"},{"$error":"#DIV/0!"},{"$error":"#DIV/0!"},{"$error":"#DIV/0!"}]
[null,null,null,null,null,null,null,null,null,null,null,null,null,null,null,null,null,null,null,null,null,null,null,null,null,null,null,null,0,{"$f":"AVERAGE(#REF!)","v":{"$error":"#REF!"}},{"$error":"#DIV/0!"},{"$error":"#DIV/0!"},{"$error":"#DIV/0!"},{"$error":"#DIV/0!"},{"$error":"#DIV/0!"},{"$error":"#DIV/0!"},{"$error":"#DIV/0!"},{"$error":"#DIV/0!"},{"$error":"#DIV/0!"}]
[null,null,null,null,null,null,null,null,null,null,null,null,null,null,null,null,null,null,null,null,null,null,null,null,null,null,null,null,0,{"$f":"AVERAGE(#REF!)","v":{"$error":"#REF!"}},{"$error":"#DIV/0!"},{"$error":"#DIV/0!"},{"$error":"#DIV/0!"},{"$error":"#DIV/0!"},{"$error":"#DIV/0!"},{"$error":"#DIV/0!"},{"$error":"#DIV/0!"},{"$error":"#DIV/0!"},{"$error":"#DIV/0!"}]
[null,null,null,null,null,null,null,null,null,null,null,null,null,null,null,null,null,null,null,null,null,null,null,null,null,null,null,null,0,{"$f":"AVERAGE(#REF!)","v":{"$error":"#REF!"}},{"$error":"#DIV/0!"},{"$error":"#DIV/0!"},{"$error":"#DIV/0!"},{"$error":"#DIV/0!"},{"$error":"#DIV/0!"},{"$error":"#DIV/0!"},{"$error":"#DIV/0!"},{"$error":"#DIV/0!"},{"$error":"#DIV/0!"}]
[null,null,null,null,null,null,null,null,null,null,null,null,null,null,null,null,null,null,null,null,null,null,null,null,null,null,null,null,0,{"$f":"AVERAGE(#REF!)","v":{"$error":"#REF!"}},{"$error":"#DIV/0!"},{"$error":"#DIV/0!"},{"$error":"#DIV/0!"},{"$error":"#DIV/0!"},{"$error":"#DIV/0!"},{"$error":"#DIV/0!"},{"$error":"#DIV/0!"},{"$error":"#DIV/0!"},{"$error":"#DIV/0!"}]
[null,null,null,null,null,null,null,null,null,null,null,null,null,null,null,null,null,null,null,null,null,null,null,null,null,null,null,null,{"$f":"(1609.34/3600)*Delta_Speed","v":0},{"$f":"AVERAGE(#REF!)","v":{"$error":"#REF!"}},{"$error":"#DIV/0!"},{"$error":"#DIV/0!"},{"$error":"#DIV/0!"},{"$error":"#DIV/0!"},{"$error":"#DIV/0!"},{"$error":"#DIV/0!"},{"$error":"#DIV/0!"},{"$error":"#DIV/0!"},{"$error":"#DIV/0!"}]
[null,null,null,null,null,null,null,null,null,null,null,null,null,null,null,null,null,null,null,null,null,null,null,null,null,null,null,null,0,{"$f":"AVERAGE(#REF!)","v":{"$error":"#REF!"}},{"$error":"#DIV/0!"},{"$error":"#DIV/0!"},{"$error":"#DIV/0!"},{"$error":"#DIV/0!"},{"$error":"#DIV/0!"},{"$error":"#DIV/0!"},{"$error":"#DIV/0!"},{"$error":"#DIV/0!"},{"$error":"#DIV/0!"}]
[null,null,null,null,null,null,null,null,null,null,null,null,null,null,null,null,null,null,null,null,null,null,null,null,null,null,null,null,0,{"$f":"AVERAGE(#REF!)","v":{"$error":"#REF!"}},{"$error":"#DIV/0!"},{"$error":"#DIV/0!"},{"$error":"#DIV/0!"},{"$error":"#DIV/0!"},{"$error":"#DIV/0!"},{"$error":"#DIV/0!"},{"$error":"#DIV/0!"},{"$error":"#DIV/0!"},{"$error":"#DIV/0!"}]
[null,null,null,null,null,null,null,null,null,null,null,null,null,null,null,null,null,null,null,null,null,null,null,null,null,null,null,null,0,{"$f":"AVERAGE(#REF!)","v":{"$error":"#REF!"}},{"$error":"#DIV/0!"},{"$error":"#DIV/0!"},{"$error":"#DIV/0!"},{"$error":"#DIV/0!"},{"$error":"#DIV/0!"},{"$error":"#DIV/0!"},{"$error":"#DIV/0!"},{"$error":"#DIV/0!"},{"$error":"#DIV/0!"}]
[null,null,null,null,null,null,null,null,null,null,null,null,null,null,null,null,null,null,null,null,null,null,null,null,null,null,null,null,0,{"$f":"AVERAGE(#REF!)","v":{"$error":"#REF!"}},{"$f":"AVERAGE(Q35906:Q35910)","v":{"$error":"#DIV/0!"}},{"$f":"AVERAGE(R35906:R35910)","v":{"$error":"#DIV/0!"}},{"$f":"AVERAGE(S35906:S35910)","v":{"$error":"#DIV/0!"}},{"$f":"AVERAGE(T35906:T35910)","v":{"$error":"#DIV/0!"}},{"$f":"AVERAGE(U35906:U35910)","v":{"$error":"#DIV/0!"}},{"$f":"AVERAGE(V35906:V35910)","v":{"$error":"#DIV/0!"}},{"$f":"AVERAGE(W35906:W35910)","v":{"$error":"#DIV/0!"}},{"$f":"AVERAGE(X35906:X35910)","v":{"$error":"#DIV/0!"}},{"$f":"AVERAGE(Y35906:Y35910)","v":{"$error":"#DIV/0!"}}]
[null,null,null,null,null,null,null,null,null,null,null,null,null,null,null,null,null,null,null,null,null,null,null,null,null,null,null,null,0,{"$f":"AVERAGE(#REF!)","v":{"$error":"#REF!"}},{"$error":"#DIV/0!"},{"$error":"#DIV/0!"},{"$error":"#DIV/0!"},{"$error":"#DIV/0!"},{"$error":"#DIV/0!"},{"$error":"#DIV/0!"},{"$error":"#DIV/0!"},{"$error":"#DIV/0!"},{"$error":"#DIV/0!"}]
[null,null,null,null,null,null,null,null,null,null,null,null,null,null,null,null,null,null,null,null,null,null,null,null,null,null,null,null,0,{"$f":"AVERAGE(#REF!)","v":{"$error":"#REF!"}},{"$error":"#DIV/0!"},{"$error":"#DIV/0!"},{"$error":"#DIV/0!"},{"$error":"#DIV/0!"},{"$error":"#DIV/0!"},{"$error":"#DIV/0!"},{"$error":"#DIV/0!"},{"$error":"#DIV/0!"},{"$error":"#DIV/0!"}]
[null,null,null,null,null,null,null,null,null,null,null,null,null,null,null,null,null,null,null,null,null,null,null,null,null,null,null,null,0,{"$f":"AVERAGE(#REF!)","v":{"$error":"#REF!"}},{"$error":"#DIV/0!"},{"$error":"#DIV/0!"},{"$error":"#DIV/0!"},{"$error":"#DIV/0!"},{"$error":"#DIV/0!"},{"$error":"#DIV/0!"},{"$error":"#DIV/0!"},{"$error":"#DIV/0!"},{"$error":"#DIV/0!"}]
[null,null,null,null,null,null,null,null,null,null,null,null,null,null,null,null,null,null,null,null,null,null,null,null,null,null,null,null,0,{"$f":"AVERAGE(#REF!)","v":{"$error":"#REF!"}},{"$error":"#DIV/0!"},{"$error":"#DIV/0!"},{"$error":"#DIV/0!"},{"$error":"#DIV/0!"},{"$error":"#DIV/0!"},{"$error":"#DIV/0!"},{"$error":"#DIV/0!"},{"$error":"#DIV/0!"},{"$error":"#DIV/0!"}]
[null,null,null,null,null,null,null,null,null,null,null,null,null,null,null,null,null,null,null,null,null,null,null,null,null,null,null,null,0,{"$f":"AVERAGE(#REF!)","v":{"$error":"#REF!"}},{"$error":"#DIV/0!"},{"$error":"#DIV/0!"},{"$error":"#DIV/0!"},{"$error":"#DIV/0!"},{"$error":"#DIV/0!"},{"$error":"#DIV/0!"},{"$error":"#DIV/0!"},{"$error":"#DIV/0!"},{"$error":"#DIV/0!"}]
[null,null,null,null,null,null,null,null,null,null,null,null,null,null,null,null,null,null,null,null,null,null,null,null,null,null,null,null,0,{"$f":"AVERAGE(#REF!)","v":{"$error":"#REF!"}},{"$error":"#DIV/0!"},{"$error":"#DIV/0!"},{"$error":"#DIV/0!"},{"$error":"#DIV/0!"},{"$error":"#DIV/0!"},{"$error":"#DIV/0!"},{"$error":"#DIV/0!"},{"$error":"#DIV/0!"},{"$error":"#DIV/0!"}]
[null,null,null,null,null,null,null,null,null,null,null,null,null,null,null,null,null,null,null,null,null,null,null,null,null,null,null,null,0,{"$f":"AVERAGE(#REF!)","v":{"$error":"#REF!"}},{"$error":"#DIV/0!"},{"$error":"#DIV/0!"},{"$error":"#DIV/0!"},{"$error":"#DIV/0!"},{"$error":"#DIV/0!"},{"$error":"#DIV/0!"},{"$error":"#DIV/0!"},{"$error":"#DIV/0!"},{"$error":"#DIV/0!"}]
[null,null,null,null,null,null,null,null,null,null,null,null,null,null,null,null,null,null,null,null,null,null,null,null,null,null,null,null,0,{"$f":"AVERAGE(#REF!)","v":{"$error":"#REF!"}},{"$error":"#DIV/0!"},{"$error":"#DIV/0!"},{"$error":"#DIV/0!"},{"$error":"#DIV/0!"},{"$error":"#DIV/0!"},{"$error":"#DIV/0!"},{"$error":"#DIV/0!"},{"$error":"#DIV/0!"},{"$error":"#DIV/0!"}]
[null,null,null,null,null,null,null,null,null,null,null,null,null,null,null,null,null,null,null,null,null,null,null,null,null,null,null,null,0,{"$f":"AVERAGE(#REF!)","v":{"$error":"#REF!"}},{"$error":"#DIV/0!"},{"$error":"#DIV/0!"},{"$error":"#DIV/0!"},{"$error":"#DIV/0!"},{"$error":"#DIV/0!"},{"$error":"#DIV/0!"},{"$error":"#DIV/0!"},{"$error":"#DIV/0!"},{"$error":"#DIV/0!"}]
[null,null,null,null,null,null,null,null,null,null,null,null,null,null,null,null,null,null,null,null,null,null,null,null,null,null,null,null,0,{"$f":"AVERAGE(#REF!)","v":{"$error":"#REF!"}},{"$error":"#DIV/0!"},{"$error":"#DIV/0!"},{"$error":"#DIV/0!"},{"$error":"#DIV/0!"},{"$error":"#DIV/0!"},{"$error":"#DIV/0!"},{"$error":"#DIV/0!"},{"$error":"#DIV/0!"},{"$error":"#DIV/0!"}]
[null,null,null,null,null,null,null,null,null,null,null,null,null,null,null,null,null,null,null,null,null,null,null,null,null,null,null,null,0,{"$f":"AVERAGE(#REF!)","v":{"$error":"#REF!"}},{"$error":"#DIV/0!"},{"$error":"#DIV/0!"},{"$error":"#DIV/0!"},{"$error":"#DIV/0!"},{"$error":"#DIV/0!"},{"$error":"#DIV/0!"},{"$error":"#DIV/0!"},{"$error":"#DIV/0!"},{"$error":"#DIV/0!"}]
[null,null,null,null,null,null,null,null,null,null,null,null,null,null,null,null,null,null,null,null,null,null,null,null,null,null,null,null,0,{"$f":"AVERAGE(#REF!)","v":{"$error":"#REF!"}},{"$error":"#DIV/0!"},{"$error":"#DIV/0!"},{"$error":"#DIV/0!"},{"$error":"#DIV/0!"},{"$error":"#DIV/0!"},{"$error":"#DIV/0!"},{"$error":"#DIV/0!"},{"$error":"#DIV/0!"},{"$error":"#DIV/0!"}]
[null,null,null,null,null,null,null,null,null,null,null,null,null,null,null,null,null,null,null,null,null,null,null,null,null,null,null,null,0,{"$f":"AVERAGE(#REF!)","v":{"$error":"#REF!"}},{"$error":"#DIV/0!"},{"$error":"#DIV/0!"},{"$error":"#DIV/0!"},{"$error":"#DIV/0!"},{"$error":"#DIV/0!"},{"$error":"#DIV/0!"},{"$error":"#DIV/0!"},{"$error":"#DIV/0!"},{"$error":"#DIV/0!"}]
[null,null,null,null,null,null,null,null,null,null,null,null,null,null,null,null,null,null,null,null,null,null,null,null,null,null,null,null,0,{"$f":"AVERAGE(#REF!)","v":{"$error":"#REF!"}},{"$error":"#DIV/0!"},{"$error":"#DIV/0!"},{"$error":"#DIV/0!"},{"$error":"#DIV/0!"},{"$error":"#DIV/0!"},{"$error":"#DIV/0!"},{"$error":"#DIV/0!"},{"$error":"#DIV/0!"},{"$error":"#DIV/0!"}]
[null,null,null,null,null,null,null,null,null,null,null,null,null,null,null,null,null,null,null,null,null,null,null,null,null,null,null,null,0,{"$f":"AVERAGE(#REF!)","v":{"$error":"#REF!"}},{"$error":"#DIV/0!"},{"$error":"#DIV/0!"},{"$error":"#DIV/0!"},{"$error":"#DIV/0!"},{"$error":"#DIV/0!"},{"$error":"#DIV/0!"},{"$error":"#DIV/0!"},{"$error":"#DIV/0!"},{"$error":"#DIV/0!"}]
[null,null,null,null,null,null,null,null,null,null,null,null,null,null,null,null,null,null,null,null,null,null,null,null,null,null,null,null,0,{"$f":"AVERAGE(#REF!)","v":{"$error":"#REF!"}},{"$error":"#DIV/0!"},{"$error":"#DIV/0!"},{"$error":"#DIV/0!"},{"$error":"#DIV/0!"},{"$error":"#DIV/0!"},{"$error":"#DIV/0!"},{"$error":"#DIV/0!"},{"$error":"#DIV/0!"},{"$error":"#DIV/0!"}]
[null,null,null,null,null,null,null,null,null,null,null,null,null,null,null,null,null,null,null,null,null,null,null,null,null,null,null,null,0,{"$f":"AVERAGE(#REF!)","v":{"$error":"#REF!"}},{"$error":"#DIV/0!"},{"$error":"#DIV/0!"},{"$error":"#DIV/0!"},{"$error":"#DIV/0!"},{"$error":"#DIV/0!"},{"$error":"#DIV/0!"},{"$error":"#DIV/0!"},{"$error":"#DIV/0!"},{"$error":"#DIV/0!"}]
[null,null,null,null,null,null,null,null,null,null,null,null,null,null,null,null,null,null,null,null,null,null,null,null,null,null,null,null,0,{"$f":"AVERAGE(#REF!)","v":{"$error":"#REF!"}},{"$error":"#DIV/0!"},{"$error":"#DIV/0!"},{"$error":"#DIV/0!"},{"$error":"#DIV/0!"},{"$error":"#DIV/0!"},{"$error":"#DIV/0!"},{"$error":"#DIV/0!"},{"$error":"#DIV/0!"},{"$error":"#DIV/0!"}]
[null,null,null,null,null,null,null,null,null,null,null,null,null,null,null,null,null,null,null,null,null,null,null,null,null,null,null,null,0,{"$f":"AVERAGE(#REF!)","v":{"$error":"#REF!"}},{"$error":"#DIV/0!"},{"$error":"#DIV/0!"},{"$error":"#DIV/0!"},{"$error":"#DIV/0!"},{"$error":"#DIV/0!"},{"$error":"#DIV/0!"},{"$error":"#DIV/0!"},{"$error":"#DIV/0!"},{"$error":"#DIV/0!"}]
[null,null,null,null,null,null,null,null,null,null,null,null,null,null,null,null,null,null,null,null,null,null,null,null,null,null,null,null,0,{"$f":"AVERAGE(#REF!)","v":{"$error":"#REF!"}},{"$error":"#DIV/0!"},{"$error":"#DIV/0!"},{"$error":"#DIV/0!"},{"$error":"#DIV/0!"},{"$error":"#DIV/0!"},{"$error":"#DIV/0!"},{"$error":"#DIV/0!"},{"$error":"#DIV/0!"},{"$error":"#DIV/0!"}]
[null,null,null,null,null,null,null,null,null,null,null,null,null,null,null,null,null,null,null,null,null,null,null,null,null,null,null,null,0,{"$f":"AVERAGE(#REF!)","v":{"$error":"#REF!"}},{"$error":"#DIV/0!"},{"$error":"#DIV/0!"},{"$error":"#DIV/0!"},{"$error":"#DIV/0!"},{"$error":"#DIV/0!"},{"$error":"#DIV/0!"},{"$error":"#DIV/0!"},{"$error":"#DIV/0!"},{"$error":"#DIV/0!"}]
[null,null,null,null,null,null,null,null,null,null,null,null,null,null,null,null,null,null,null,null,null,null,null,null,null,null,null,null,0,{"$f":"AVERAGE(#REF!)","v":{"$error":"#REF!"}},{"$error":"#DIV/0!"},{"$error":"#DIV/0!"},{"$error":"#DIV/0!"},{"$error":"#DIV/0!"},{"$error":"#DIV/0!"},{"$error":"#DIV/0!"},{"$error":"#DIV/0!"},{"$error":"#DIV/0!"},{"$error":"#DIV/0!"}]
[null,null,null,null,null,null,null,null,null,null,null,null,null,null,null,null,null,null,null,null,null,null,null,null,null,null,null,null,0,{"$f":"AVERAGE(#REF!)","v":{"$error":"#REF!"}},{"$error":"#DIV/0!"},{"$error":"#DIV/0!"},{"$error":"#DIV/0!"},{"$error":"#DIV/0!"},{"$error":"#DIV/0!"},{"$error":"#DIV/0!"},{"$error":"#DIV/0!"},{"$error":"#DIV/0!"},{"$error":"#DIV/0!"}]
[null,null,null,null,null,null,null,null,null,null,null,null,null,null,null,null,null,null,null,null,null,null,null,null,null,null,null,null,0,{"$f":"AVERAGE(#REF!)","v":{"$error":"#REF!"}},{"$error":"#DIV/0!"},{"$error":"#DIV/0!"},{"$error":"#DIV/0!"},{"$error":"#DIV/0!"},{"$error":"#DIV/0!"},{"$error":"#DIV/0!"},{"$error":"#DIV/0!"},{"$error":"#DIV/0!"},{"$error":"#DIV/0!"}]
[null,null,null,null,null,null,null,null,null,null,null,null,null,null,null,null,null,null,null,null,null,null,null,null,null,null,null,null,0,{"$f":"AVERAGE(#REF!)","v":{"$error":"#REF!"}},{"$error":"#DIV/0!"},{"$error":"#DIV/0!"},{"$error":"#DIV/0!"},{"$error":"#DIV/0!"},{"$error":"#DIV/0!"},{"$error":"#DIV/0!"},{"$error":"#DIV/0!"},{"$error":"#DIV/0!"},{"$error":"#DIV/0!"}]
[null,null,null,null,null,null,null,null,null,null,null,null,null,null,null,null,null,null,null,null,null,null,null,null,null,null,null,null,0,{"$f":"AVERAGE(#REF!)","v":{"$error":"#REF!"}},{"$error":"#DIV/0!"},{"$error":"#DIV/0!"},{"$error":"#DIV/0!"},{"$error":"#DIV/0!"},{"$error":"#DIV/0!"},{"$error":"#DIV/0!"},{"$error":"#DIV/0!"},{"$error":"#DIV/0!"},{"$error":"#DIV/0!"}]
[null,null,null,null,null,null,null,null,null,null,null,null,null,null,null,null,null,null,null,null,null,null,null,null,null,null,null,null,0,{"$f":"AVERAGE(#REF!)","v":{"$error":"#REF!"}},{"$error":"#DIV/0!"},{"$error":"#DIV/0!"},{"$error":"#DIV/0!"},{"$error":"#DIV/0!"},{"$error":"#DIV/0!"},{"$error":"#DIV/0!"},{"$error":"#DIV/0!"},{"$error":"#DIV/0!"},{"$error":"#DIV/0!"}]
[null,null,null,null,null,null,null,null,null,null,null,null,null,null,null,null,null,null,null,null,null,null,null,null,null,null,null,null,0,{"$f":"AVERAGE(#REF!)","v":{"$error":"#REF!"}},{"$error":"#DIV/0!"},{"$error":"#DIV/0!"},{"$error":"#DIV/0!"},{"$error":"#DIV/0!"},{"$error":"#DIV/0!"},{"$error":"#DIV/0!"},{"$error":"#DIV/0!"},{"$error":"#DIV/0!"},{"$error":"#DIV/0!"}]
[null,null,null,null,null,null,null,null,null,null,null,null,null,null,null,null,null,null,null,null,null,null,null,null,null,null,null,null,0,{"$f":"AVERAGE(#REF!)","v":{"$error":"#REF!"}},{"$error":"#DIV/0!"},{"$error":"#DIV/0!"},{"$error":"#DIV/0!"},{"$error":"#DIV/0!"},{"$error":"#DIV/0!"},{"$error":"#DIV/0!"},{"$error":"#DIV/0!"},{"$error":"#DIV/0!"},{"$error":"#DIV/0!"}]
[null,null,null,null,null,null,null,null,null,null,null,null,null,null,null,null,null,null,null,null,null,null,null,null,null,null,null,null,0,{"$f":"AVERAGE(#REF!)","v":{"$error":"#REF!"}},{"$error":"#DIV/0!"},{"$error":"#DIV/0!"},{"$error":"#DIV/0!"},{"$error":"#DIV/0!"},{"$error":"#DIV/0!"},{"$error":"#DIV/0!"},{"$error":"#DIV/0!"},{"$error":"#DIV/0!"},{"$error":"#DIV/0!"}]
[null,null,null,null,null,null,null,null,null,null,null,null,null,null,null,null,null,null,null,null,null,null,null,null,null,null,null,null,0,{"$f":"AVERAGE(#REF!)","v":{"$error":"#REF!"}},{"$error":"#DIV/0!"},{"$error":"#DIV/0!"},{"$error":"#DIV/0!"},{"$error":"#DIV/0!"},{"$error":"#DIV/0!"},{"$error":"#DIV/0!"},{"$error":"#DIV/0!"},{"$error":"#DIV/0!"},{"$error":"#DIV/0!"}]
[null,null,null,null,null,null,null,null,null,null,null,null,null,null,null,null,null,null,null,null,null,null,null,null,null,null,null,null,0,{"$f":"AVERAGE(#REF!)","v":{"$error":"#REF!"}},{"$error":"#DIV/0!"},{"$error":"#DIV/0!"},{"$error":"#DIV/0!"},{"$error":"#DIV/0!"},{"$error":"#DIV/0!"},{"$error":"#DIV/0!"},{"$error":"#DIV/0!"},{"$error":"#DIV/0!"},{"$error":"#DIV/0!"}]
[null,null,null,null,null,null,null,null,null,null,null,null,null,null,null,null,null,null,null,null,null,null,null,null,null,null,null,null,0,{"$f":"AVERAGE(#REF!)","v":{"$error":"#REF!"}},{"$error":"#DIV/0!"},{"$error":"#DIV/0!"},{"$error":"#DIV/0!"},{"$error":"#DIV/0!"},{"$error":"#DIV/0!"},{"$error":"#DIV/0!"},{"$error":"#DIV/0!"},{"$error":"#DIV/0!"},{"$error":"#DIV/0!"}]
[null,null,null,null,null,null,null,null,null,null,null,null,null,null,null,null,null,null,null,null,null,null,null,null,null,null,null,null,0,{"$f":"AVERAGE(#REF!)","v":{"$error":"#REF!"}},{"$error":"#DIV/0!"},{"$error":"#DIV/0!"},{"$error":"#DIV/0!"},{"$error":"#DIV/0!"},{"$error":"#DIV/0!"},{"$error":"#DIV/0!"},{"$error":"#DIV/0!"},{"$error":"#DIV/0!"},{"$error":"#DIV/0!"}]
[null,null,null,null,null,null,null,null,null,null,null,null,null,null,null,null,null,null,null,null,null,null,null,null,null,null,null,null,0,{"$f":"AVERAGE(#REF!)","v":{"$error":"#REF!"}},{"$error":"#DIV/0!"},{"$error":"#DIV/0!"},{"$error":"#DIV/0!"},{"$error":"#DIV/0!"},{"$error":"#DIV/0!"},{"$error":"#DIV/0!"},{"$error":"#DIV/0!"},{"$error":"#DIV/0!"},{"$error":"#DIV/0!"}]
[null,null,null,null,null,null,null,null,null,null,null,null,null,null,null,null,null,null,null,null,null,null,null,null,null,null,null,null,0,{"$f":"AVERAGE(#REF!)","v":{"$error":"#REF!"}},{"$error":"#DIV/0!"},{"$error":"#DIV/0!"},{"$error":"#DIV/0!"},{"$error":"#DIV/0!"},{"$error":"#DIV/0!"},{"$error":"#DIV/0!"},{"$error":"#DIV/0!"},{"$error":"#DIV/0!"},{"$error":"#DIV/0!"}]
[null,null,null,null,null,null,null,null,null,null,null,null,null,null,null,null,null,null,null,null,null,null,null,null,null,null,null,null,0,{"$f":"AVERAGE(#REF!)","v":{"$error":"#REF!"}},{"$error":"#DIV/0!"},{"$error":"#DIV/0!"},{"$error":"#DIV/0!"},{"$error":"#DIV/0!"},{"$error":"#DIV/0!"},{"$error":"#DIV/0!"},{"$error":"#DIV/0!"},{"$error":"#DIV/0!"},{"$error":"#DIV/0!"}]
[null,null,null,null,null,null,null,null,null,null,null,null,null,null,null,null,null,null,null,null,null,null,null,null,null,null,null,null,0,{"$f":"AVERAGE(#REF!)","v":{"$error":"#REF!"}},{"$error":"#DIV/0!"},{"$error":"#DIV/0!"},{"$error":"#DIV/0!"},{"$error":"#DIV/0!"},{"$error":"#DIV/0!"},{"$error":"#DIV/0!"},{"$error":"#DIV/0!"},{"$error":"#DIV/0!"},{"$error":"#DIV/0!"}]
[null,null,null,null,null,null,null,null,null,null,null,null,null,null,null,null,null,null,null,null,null,null,null,null,null,null,null,null,0,{"$f":"AVERAGE(#REF!)","v":{"$error":"#REF!"}},{"$error":"#DIV/0!"},{"$error":"#DIV/0!"},{"$error":"#DIV/0!"},{"$error":"#DIV/0!"},{"$error":"#DIV/0!"},{"$error":"#DIV/0!"},{"$error":"#DIV/0!"},{"$error":"#DIV/0!"},{"$error":"#DIV/0!"}]
[null,null,null,null,null,null,null,null,null,null,null,null,null,null,null,null,null,null,null,null,null,null,null,null,null,null,null,null,0,{"$f":"AVERAGE(#REF!)","v":{"$error":"#REF!"}},{"$error":"#DIV/0!"},{"$error":"#DIV/0!"},{"$error":"#DIV/0!"},{"$error":"#DIV/0!"},{"$error":"#DIV/0!"},{"$error":"#DIV/0!"},{"$error":"#DIV/0!"},{"$error":"#DIV/0!"},{"$error":"#DIV/0!"}]
[null,null,null,null,null,null,null,null,null,null,null,null,null,null,null,null,null,null,null,null,null,null,null,null,null,null,null,null,0,{"$f":"AVERAGE(#REF!)","v":{"$error":"#REF!"}},{"$error":"#DIV/0!"},{"$error":"#DIV/0!"},{"$error":"#DIV/0!"},{"$error":"#DIV/0!"},{"$error":"#DIV/0!"},{"$error":"#DIV/0!"},{"$error":"#DIV/0!"},{"$error":"#DIV/0!"},{"$error":"#DIV/0!"}]
[null,null,null,null,null,null,null,null,null,null,null,null,null,null,null,null,null,null,null,null,null,null,null,null,null,null,null,null,0,{"$f":"AVERAGE(#REF!)","v":{"$error":"#REF!"}},{"$error":"#DIV/0!"},{"$error":"#DIV/0!"},{"$error":"#DIV/0!"},{"$error":"#DIV/0!"},{"$error":"#DIV/0!"},{"$error":"#DIV/0!"},{"$error":"#DIV/0!"},{"$error":"#DIV/0!"},{"$error":"#DIV/0!"}]
[null,null,null,null,null,null,null,null,null,null,null,null,null,null,null,null,null,null,null,null,null,null,null,null,null,null,null,null,0,{"$f":"AVERAGE(#REF!)","v":{"$error":"#REF!"}},{"$error":"#DIV/0!"},{"$error":"#DIV/0!"},{"$error":"#DIV/0!"},{"$error":"#DIV/0!"},{"$error":"#DIV/0!"},{"$error":"#DIV/0!"},{"$error":"#DIV/0!"},{"$error":"#DIV/0!"},{"$error":"#DIV/0!"}]
[null,null,null,null,null,null,null,null,null,null,null,null,null,null,null,null,null,null,null,null,null,null,null,null,null,null,null,null,0,{"$f":"AVERAGE(#REF!)","v":{"$error":"#REF!"}},{"$error":"#DIV/0!"},{"$error":"#DIV/0!"},{"$error":"#DIV/0!"},{"$error":"#DIV/0!"},{"$error":"#DIV/0!"},{"$error":"#DIV/0!"},{"$error":"#DIV/0!"},{"$error":"#DIV/0!"},{"$error":"#DIV/0!"}]
[null,null,null,null,null,null,null,null,null,null,null,null,null,null,null,null,null,null,null,null,null,null,null,null,null,null,null,null,0,{"$f":"AVERAGE(#REF!)","v":{"$error":"#REF!"}},{"$error":"#DIV/0!"},{"$error":"#DIV/0!"},{"$error":"#DIV/0!"},{"$error":"#DIV/0!"},{"$error":"#DIV/0!"},{"$error":"#DIV/0!"},{"$error":"#DIV/0!"},{"$error":"#DIV/0!"},{"$error":"#DIV/0!"}]
[null,null,null,null,null,null,null,null,null,null,null,null,null,null,null,null,null,null,null,null,null,null,null,null,null,null,null,null,0,{"$f":"AVERAGE(#REF!)","v":{"$error":"#REF!"}},{"$error":"#DIV/0!"},{"$error":"#DIV/0!"},{"$error":"#DIV/0!"},{"$error":"#DIV/0!"},{"$error":"#DIV/0!"},{"$error":"#DIV/0!"},{"$error":"#DIV/0!"},{"$error":"#DIV/0!"},{"$error":"#DIV/0!"}]
[null,null,null,null,null,null,null,null,null,null,null,null,null,null,null,null,null,null,null,null,null,null,null,null,null,null,null,null,0,{"$f":"AVERAGE(#REF!)","v":{"$error":"#REF!"}},{"$error":"#DIV/0!"},{"$error":"#DIV/0!"},{"$error":"#DIV/0!"},{"$error":"#DIV/0!"},{"$error":"#DIV/0!"},{"$error":"#DIV/0!"},{"$error":"#DIV/0!"},{"$error":"#DIV/0!"},{"$error":"#DIV/0!"}]
[null,null,null,null,null,null,null,null,null,null,null,null,null,null,null,null,null,null,null,null,null,null,null,null,null,null,null,null,0,{"$f":"AVERAGE(#REF!)","v":{"$error":"#REF!"}},{"$error":"#DIV/0!"},{"$error":"#DIV/0!"},{"$error":"#DIV/0!"},{"$error":"#DIV/0!"},{"$error":"#DIV/0!"},{"$error":"#DIV/0!"},{"$error":"#DIV/0!"},{"$error":"#DIV/0!"},{"$error":"#DIV/0!"}]
[null,null,null,null,null,null,null,null,null,null,null,null,null,null,null,null,null,null,null,null,null,null,null,null,null,null,null,null,0,{"$f":"AVERAGE(#REF!)","v":{"$error":"#REF!"}},{"$error":"#DIV/0!"},{"$error":"#DIV/0!"},{"$error":"#DIV/0!"},{"$error":"#DIV/0!"},{"$error":"#DIV/0!"},{"$error":"#DIV/0!"},{"$error":"#DIV/0!"},{"$error":"#DIV/0!"},{"$error":"#DIV/0!"}]
[null,null,null,null,null,null,null,null,null,null,null,null,null,null,null,null,null,null,null,null,null,null,null,null,null,null,null,null,0,{"$f":"AVERAGE(#REF!)","v":{"$error":"#REF!"}},{"$error":"#DIV/0!"},{"$error":"#DIV/0!"},{"$error":"#DIV/0!"},{"$error":"#DIV/0!"},{"$error":"#DIV/0!"},{"$error":"#DIV/0!"},{"$error":"#DIV/0!"},{"$error":"#DIV/0!"},{"$error":"#DIV/0!"}]
[null,null,null,null,null,null,null,null,null,null,null,null,null,null,null,null,null,null,null,null,null,null,null,null,null,null,null,null,0,{"$f":"AVERAGE(#REF!)","v":{"$error":"#REF!"}},{"$error":"#DIV/0!"},{"$error":"#DIV/0!"},{"$error":"#DIV/0!"},{"$error":"#DIV/0!"},{"$error":"#DIV/0!"},{"$error":"#DIV/0!"},{"$error":"#DIV/0!"},{"$error":"#DIV/0!"},{"$error":"#DIV/0!"}]
[null,null,null,null,null,null,null,null,null,null,null,null,null,null,null,null,null,null,null,null,null,null,null,null,null,null,null,null,0,{"$f":"AVERAGE(#REF!)","v":{"$error":"#REF!"}},{"$error":"#DIV/0!"},{"$error":"#DIV/0!"},{"$error":"#DIV/0!"},{"$error":"#DIV/0!"},{"$error":"#DIV/0!"},{"$error":"#DIV/0!"},{"$error":"#DIV/0!"},{"$error":"#DIV/0!"},{"$error":"#DIV/0!"}]
[null,null,null,null,null,null,null,null,null,null,null,null,null,null,null,null,null,null,null,null,null,null,null,null,null,null,null,null,0,{"$f":"AVERAGE(#REF!)","v":{"$error":"#REF!"}},{"$error":"#DIV/0!"},{"$error":"#DIV/0!"},{"$error":"#DIV/0!"},{"$error":"#DIV/0!"},{"$error":"#DIV/0!"},{"$error":"#DIV/0!"},{"$error":"#DIV/0!"},{"$error":"#DIV/0!"},{"$error":"#DIV/0!"}]
[null,null,null,null,null,null,null,null,null,null,null,null,null,null,null,null,null,null,null,null,null,null,null,null,null,null,null,null,0,{"$f":"AVERAGE(#REF!)","v":{"$error":"#REF!"}},{"$error":"#DIV/0!"},{"$error":"#DIV/0!"},{"$error":"#DIV/0!"},{"$error":"#DIV/0!"},{"$error":"#DIV/0!"},{"$error":"#DIV/0!"},{"$error":"#DIV/0!"},{"$error":"#DIV/0!"},{"$error":"#DIV/0!"}]
[null,null,null,null,null,null,null,null,null,null,null,null,null,null,null,null,null,null,null,null,null,null,null,null,null,null,null,null,0,{"$f":"AVERAGE(#REF!)","v":{"$error":"#REF!"}},{"$error":"#DIV/0!"},{"$error":"#DIV/0!"},{"$error":"#DIV/0!"},{"$error":"#DIV/0!"},{"$error":"#DIV/0!"},{"$error":"#DIV/0!"},{"$error":"#DIV/0!"},{"$error":"#DIV/0!"},{"$error":"#DIV/0!"}]
[null,null,null,null,null,null,null,null,null,null,null,null,null,null,null,null,null,null,null,null,null,null,null,null,null,null,null,null,0,{"$f":"AVERAGE(#REF!)","v":{"$error":"#REF!"}},{"$error":"#DIV/0!"},{"$error":"#DIV/0!"},{"$error":"#DIV/0!"},{"$error":"#DIV/0!"},{"$error":"#DIV/0!"},{"$error":"#DIV/0!"},{"$error":"#DIV/0!"},{"$error":"#DIV/0!"},{"$error":"#DIV/0!"}]
[null,null,null,null,null,null,null,null,null,null,null,null,null,null,null,null,null,null,null,null,null,null,null,null,null,null,null,null,0,{"$f":"AVERAGE(#REF!)","v":{"$error":"#REF!"}},{"$error":"#DIV/0!"},{"$error":"#DIV/0!"},{"$error":"#DIV/0!"},{"$error":"#DIV/0!"},{"$error":"#DIV/0!"},{"$error":"#DIV/0!"},{"$error":"#DIV/0!"},{"$error":"#DIV/0!"},{"$error":"#DIV/0!"}]
[null,null,null,null,null,null,null,null,null,null,null,null,null,null,null,null,null,null,null,null,null,null,null,null,null,null,null,null,0,{"$f":"AVERAGE(#REF!)","v":{"$error":"#REF!"}},{"$error":"#DIV/0!"},{"$error":"#DIV/0!"},{"$error":"#DIV/0!"},{"$error":"#DIV/0!"},{"$error":"#DIV/0!"},{"$error":"#DIV/0!"},{"$error":"#DIV/0!"},{"$error":"#DIV/0!"},{"$error":"#DIV/0!"}]
[null,null,null,null,null,null,null,null,null,null,null,null,null,null,null,null,null,null,null,null,null,null,null,null,null,null,null,null,0,{"$f":"AVERAGE(#REF!)","v":{"$error":"#REF!"}},{"$error":"#DIV/0!"},{"$error":"#DIV/0!"},{"$error":"#DIV/0!"},{"$error":"#DIV/0!"},{"$error":"#DIV/0!"},{"$error":"#DIV/0!"},{"$error":"#DIV/0!"},{"$error":"#DIV/0!"},{"$error":"#DIV/0!"}]
[null,null,null,null,null,null,null,null,null,null,null,null,null,null,null,null,null,null,null,null,null,null,null,null,null,null,null,null,{"$f":"(1609.34/3600)*Delta_Speed","v":0},{"$f":"AVERAGE(#REF!)","v":{"$error":"#REF!"}},{"$error":"#DIV/0!"},{"$error":"#DIV/0!"},{"$error":"#DIV/0!"},{"$error":"#DIV/0!"},{"$error":"#DIV/0!"},{"$error":"#DIV/0!"},{"$error":"#DIV/0!"},{"$error":"#DIV/0!"},{"$error":"#DIV/0!"}]
[null,null,null,null,null,null,null,null,null,null,null,null,null,null,null,null,null,null,null,null,null,null,null,null,null,null,null,null,0,{"$f":"AVERAGE(#REF!)","v":{"$error":"#REF!"}},{"$error":"#DIV/0!"},{"$error":"#DIV/0!"},{"$error":"#DIV/0!"},{"$error":"#DIV/0!"},{"$error":"#DIV/0!"},{"$error":"#DIV/0!"},{"$error":"#DIV/0!"},{"$error":"#DIV/0!"},{"$error":"#DIV/0!"}]
[null,null,null,null,null,null,null,null,null,null,null,null,null,null,null,null,null,null,null,null,null,null,null,null,null,null,null,null,0,{"$f":"AVERAGE(#REF!)","v":{"$error":"#REF!"}},{"$error":"#DIV/0!"},{"$error":"#DIV/0!"},{"$error":"#DIV/0!"},{"$error":"#DIV/0!"},{"$error":"#DIV/0!"},{"$error":"#DIV/0!"},{"$error":"#DIV/0!"},{"$error":"#DIV/0!"},{"$error":"#DIV/0!"}]
[null,null,null,null,null,null,null,null,null,null,null,null,null,null,null,null,null,null,null,null,null,null,null,null,null,null,null,null,0,{"$f":"AVERAGE(#REF!)","v":{"$error":"#REF!"}},{"$error":"#DIV/0!"},{"$error":"#DIV/0!"},{"$error":"#DIV/0!"},{"$error":"#DIV/0!"},{"$error":"#DIV/0!"},{"$error":"#DIV/0!"},{"$error":"#DIV/0!"},{"$error":"#DIV/0!"},{"$error":"#DIV/0!"}]
[null,null,null,null,null,null,null,null,null,null,null,null,null,null,null,null,null,null,null,null,null,null,null,null,null,null,null,null,0,{"$f":"AVERAGE(#REF!)","v":{"$error":"#REF!"}},{"$f":"AVERAGE(Q35970:Q35974)","v":{"$error":"#DIV/0!"}},{"$f":"AVERAGE(R35970:R35974)","v":{"$error":"#DIV/0!"}},{"$f":"AVERAGE(S35970:S35974)","v":{"$error":"#DIV/0!"}},{"$f":"AVERAGE(T35970:T35974)","v":{"$error":"#DIV/0!"}},{"$f":"AVERAGE(U35970:U35974)","v":{"$error":"#DIV/0!"}},{"$f":"AVERAGE(V35970:V35974)","v":{"$error":"#DIV/0!"}},{"$f":"AVERAGE(W35970:W35974)","v":{"$error":"#DIV/0!"}},{"$f":"AVERAGE(X35970:X35974)","v":{"$error":"#DIV/0!"}},{"$f":"AVERAGE(Y35970:Y35974)","v":{"$error":"#DIV/0!"}}]
[null,null,null,null,null,null,null,null,null,null,null,null,null,null,null,null,null,null,null,null,null,null,null,null,null,null,null,null,0,{"$f":"AVERAGE(#REF!)","v":{"$error":"#REF!"}},{"$error":"#DIV/0!"},{"$error":"#DIV/0!"},{"$error":"#DIV/0!"},{"$error":"#DIV/0!"},{"$error":"#DIV/0!"},{"$error":"#DIV/0!"},{"$error":"#DIV/0!"},{"$error":"#DIV/0!"},{"$error":"#DIV/0!"}]
[null,null,null,null,null,null,null,null,null,null,null,null,null,null,null,null,null,null,null,null,null,null,null,null,null,null,null,null,0,{"$f":"AVERAGE(#REF!)","v":{"$error":"#REF!"}},{"$error":"#DIV/0!"},{"$error":"#DIV/0!"},{"$error":"#DIV/0!"},{"$error":"#DIV/0!"},{"$error":"#DIV/0!"},{"$error":"#DIV/0!"},{"$error":"#DIV/0!"},{"$error":"#DIV/0!"},{"$error":"#DIV/0!"}]
[null,null,null,null,null,null,null,null,null,null,null,null,null,null,null,null,null,null,null,null,null,null,null,null,null,null,null,null,0,{"$f":"AVERAGE(#REF!)","v":{"$error":"#REF!"}},{"$error":"#DIV/0!"},{"$error":"#DIV/0!"},{"$error":"#DIV/0!"},{"$error":"#DIV/0!"},{"$error":"#DIV/0!"},{"$error":"#DIV/0!"},{"$error":"#DIV/0!"},{"$error":"#DIV/0!"},{"$error":"#DIV/0!"}]
[null,null,null,null,null,null,null,null,null,null,null,null,null,null,null,null,null,null,null,null,null,null,null,null,null,null,null,null,0,{"$f":"AVERAGE(#REF!)","v":{"$error":"#REF!"}},{"$error":"#DIV/0!"},{"$error":"#DIV/0!"},{"$error":"#DIV/0!"},{"$error":"#DIV/0!"},{"$error":"#DIV/0!"},{"$error":"#DIV/0!"},{"$error":"#DIV/0!"},{"$error":"#DIV/0!"},{"$error":"#DIV/0!"}]
[null,null,null,null,null,null,null,null,null,null,null,null,null,null,null,null,null,null,null,null,null,null,null,null,null,null,null,null,0,{"$f":"AVERAGE(#REF!)","v":{"$error":"#REF!"}},{"$error":"#DIV/0!"},{"$error":"#DIV/0!"},{"$error":"#DIV/0!"},{"$error":"#DIV/0!"},{"$error":"#DIV/0!"},{"$error":"#DIV/0!"},{"$error":"#DIV/0!"},{"$error":"#DIV/0!"},{"$error":"#DIV/0!"}]
[null,null,null,null,null,null,null,null,null,null,null,null,null,null,null,null,null,null,null,null,null,null,null,null,null,null,null,null,0,{"$f":"AVERAGE(#REF!)","v":{"$error":"#REF!"}},{"$error":"#DIV/0!"},{"$error":"#DIV/0!"},{"$error":"#DIV/0!"},{"$error":"#DIV/0!"},{"$error":"#DIV/0!"},{"$error":"#DIV/0!"},{"$error":"#DIV/0!"},{"$error":"#DIV/0!"},{"$error":"#DIV/0!"}]
[null,null,null,null,null,null,null,null,null,null,null,null,null,null,null,null,null,null,null,null,null,null,null,null,null,null,null,null,0,{"$f":"AVERAGE(#REF!)","v":{"$error":"#REF!"}},{"$error":"#DIV/0!"},{"$error":"#DIV/0!"},{"$error":"#DIV/0!"},{"$error":"#DIV/0!"},{"$error":"#DIV/0!"},{"$error":"#DIV/0!"},{"$error":"#DIV/0!"},{"$error":"#DIV/0!"},{"$error":"#DIV/0!"}]
[null,null,null,null,null,null,null,null,null,null,null,null,null,null,null,null,null,null,null,null,null,null,null,null,null,null,null,null,0,{"$f":"AVERAGE(#REF!)","v":{"$error":"#REF!"}},{"$error":"#DIV/0!"},{"$error":"#DIV/0!"},{"$error":"#DIV/0!"},{"$error":"#DIV/0!"},{"$error":"#DIV/0!"},{"$error":"#DIV/0!"},{"$error":"#DIV/0!"},{"$error":"#DIV/0!"},{"$error":"#DIV/0!"}]
[null,null,null,null,null,null,null,null,null,null,null,null,null,null,null,null,null,null,null,null,null,null,null,null,null,null,null,null,0,{"$f":"AVERAGE(#REF!)","v":{"$error":"#REF!"}},{"$error":"#DIV/0!"},{"$error":"#DIV/0!"},{"$error":"#DIV/0!"},{"$error":"#DIV/0!"},{"$error":"#DIV/0!"},{"$error":"#DIV/0!"},{"$error":"#DIV/0!"},{"$error":"#DIV/0!"},{"$error":"#DIV/0!"}]
[null,null,null,null,null,null,null,null,null,null,null,null,null,null,null,null,null,null,null,null,null,null,null,null,null,null,null,null,0,{"$f":"AVERAGE(#REF!)","v":{"$error":"#REF!"}},{"$error":"#DIV/0!"},{"$error":"#DIV/0!"},{"$error":"#DIV/0!"},{"$error":"#DIV/0!"},{"$error":"#DIV/0!"},{"$error":"#DIV/0!"},{"$error":"#DIV/0!"},{"$error":"#DIV/0!"},{"$error":"#DIV/0!"}]
[null,null,null,null,null,null,null,null,null,null,null,null,null,null,null,null,null,null,null,null,null,null,null,null,null,null,null,null,0,{"$f":"AVERAGE(#REF!)","v":{"$error":"#REF!"}},{"$error":"#DIV/0!"},{"$error":"#DIV/0!"},{"$error":"#DIV/0!"},{"$error":"#DIV/0!"},{"$error":"#DIV/0!"},{"$error":"#DIV/0!"},{"$error":"#DIV/0!"},{"$error":"#DIV/0!"},{"$error":"#DIV/0!"}]
[null,null,null,null,null,null,null,null,null,null,null,null,null,null,null,null,null,null,null,null,null,null,null,null,null,null,null,null,0,{"$f":"AVERAGE(#REF!)","v":{"$error":"#REF!"}},{"$error":"#DIV/0!"},{"$error":"#DIV/0!"},{"$error":"#DIV/0!"},{"$error":"#DIV/0!"},{"$error":"#DIV/0!"},{"$error":"#DIV/0!"},{"$error":"#DIV/0!"},{"$error":"#DIV/0!"},{"$error":"#DIV/0!"}]
[null,null,null,null,null,null,null,null,null,null,null,null,null,null,null,null,null,null,null,null,null,null,null,null,null,null,null,null,0,{"$f":"AVERAGE(#REF!)","v":{"$error":"#REF!"}},{"$error":"#DIV/0!"},{"$error":"#DIV/0!"},{"$error":"#DIV/0!"},{"$error":"#DIV/0!"},{"$error":"#DIV/0!"},{"$error":"#DIV/0!"},{"$error":"#DIV/0!"},{"$error":"#DIV/0!"},{"$error":"#DIV/0!"}]
[null,null,null,null,null,null,null,null,null,null,null,null,null,null,null,null,null,null,null,null,null,null,null,null,null,null,null,null,0,{"$f":"AVERAGE(#REF!)","v":{"$error":"#REF!"}},{"$error":"#DIV/0!"},{"$error":"#DIV/0!"},{"$error":"#DIV/0!"},{"$error":"#DIV/0!"},{"$error":"#DIV/0!"},{"$error":"#DIV/0!"},{"$error":"#DIV/0!"},{"$error":"#DIV/0!"},{"$error":"#DIV/0!"}]
[null,null,null,null,null,null,null,null,null,null,null,null,null,null,null,null,null,null,null,null,null,null,null,null,null,null,null,null,0,{"$f":"AVERAGE(#REF!)","v":{"$error":"#REF!"}},{"$error":"#DIV/0!"},{"$error":"#DIV/0!"},{"$error":"#DIV/0!"},{"$error":"#DIV/0!"},{"$error":"#DIV/0!"},{"$error":"#DIV/0!"},{"$error":"#DIV/0!"},{"$error":"#DIV/0!"},{"$error":"#DIV/0!"}]
[null,null,null,null,null,null,null,null,null,null,null,null,null,null,null,null,null,null,null,null,null,null,null,null,null,null,null,null,0,{"$f":"AVERAGE(#REF!)","v":{"$error":"#REF!"}},{"$error":"#DIV/0!"},{"$error":"#DIV/0!"},{"$error":"#DIV/0!"},{"$error":"#DIV/0!"},{"$error":"#DIV/0!"},{"$error":"#DIV/0!"},{"$error":"#DIV/0!"},{"$error":"#DIV/0!"},{"$error":"#DIV/0!"}]
[null,null,null,null,null,null,null,null,null,null,null,null,null,null,null,null,null,null,null,null,null,null,null,null,null,null,null,null,0,{"$f":"AVERAGE(#REF!)","v":{"$error":"#REF!"}},{"$error":"#DIV/0!"},{"$error":"#DIV/0!"},{"$error":"#DIV/0!"},{"$error":"#DIV/0!"},{"$error":"#DIV/0!"},{"$error":"#DIV/0!"},{"$error":"#DIV/0!"},{"$error":"#DIV/0!"},{"$error":"#DIV/0!"}]
[null,null,null,null,null,null,null,null,null,null,null,null,null,null,null,null,null,null,null,null,null,null,null,null,null,null,null,null,0,{"$f":"AVERAGE(#REF!)","v":{"$error":"#REF!"}},{"$error":"#DIV/0!"},{"$error":"#DIV/0!"},{"$error":"#DIV/0!"},{"$error":"#DIV/0!"},{"$error":"#DIV/0!"},{"$error":"#DIV/0!"},{"$error":"#DIV/0!"},{"$error":"#DIV/0!"},{"$error":"#DIV/0!"}]
[null,null,null,null,null,null,null,null,null,null,null,null,null,null,null,null,null,null,null,null,null,null,null,null,null,null,null,null,0,{"$f":"AVERAGE(#REF!)","v":{"$error":"#REF!"}},{"$error":"#DIV/0!"},{"$error":"#DIV/0!"},{"$error":"#DIV/0!"},{"$error":"#DIV/0!"},{"$error":"#DIV/0!"},{"$error":"#DIV/0!"},{"$error":"#DIV/0!"},{"$error":"#DIV/0!"},{"$error":"#DIV/0!"}]
[null,null,null,null,null,null,null,null,null,null,null,null,null,null,null,null,null,null,null,null,null,null,null,null,null,null,null,null,0,{"$f":"AVERAGE(#REF!)","v":{"$error":"#REF!"}},{"$error":"#DIV/0!"},{"$error":"#DIV/0!"},{"$error":"#DIV/0!"},{"$error":"#DIV/0!"},{"$error":"#DIV/0!"},{"$error":"#DIV/0!"},{"$error":"#DIV/0!"},{"$error":"#DIV/0!"},{"$error":"#DIV/0!"}]
[null,null,null,null,null,null,null,null,null,null,null,null,null,null,null,null,null,null,null,null,null,null,null,null,null,null,null,null,0,{"$f":"AVERAGE(#REF!)","v":{"$error":"#REF!"}},{"$error":"#DIV/0!"},{"$error":"#DIV/0!"},{"$error":"#DIV/0!"},{"$error":"#DIV/0!"},{"$error":"#DIV/0!"},{"$error":"#DIV/0!"},{"$error":"#DIV/0!"},{"$error":"#DIV/0!"},{"$error":"#DIV/0!"}]
[null,null,null,null,null,null,null,null,null,null,null,null,null,null,null,null,null,null,null,null,null,null,null,null,null,null,null,null,0,{"$f":"AVERAGE(#REF!)","v":{"$error":"#REF!"}},{"$error":"#DIV/0!"},{"$error":"#DIV/0!"},{"$error":"#DIV/0!"},{"$error":"#DIV/0!"},{"$error":"#DIV/0!"},{"$error":"#DIV/0!"},{"$error":"#DIV/0!"},{"$error":"#DIV/0!"},{"$error":"#DIV/0!"}]
[null,null,null,null,null,null,null,null,null,null,null,null,null,null,null,null,null,null,null,null,null,null,null,null,null,null,null,null,0,{"$f":"AVERAGE(#REF!)","v":{"$error":"#REF!"}},{"$error":"#DIV/0!"},{"$error":"#DIV/0!"},{"$error":"#DIV/0!"},{"$error":"#DIV/0!"},{"$error":"#DIV/0!"},{"$error":"#DIV/0!"},{"$error":"#DIV/0!"},{"$error":"#DIV/0!"},{"$error":"#DIV/0!"}]
[null,null,null,null,null,null,null,null,null,null,null,null,null,null,null,null,null,null,null,null,null,null,null,null,null,null,null,null,0,{"$f":"AVERAGE(#REF!)","v":{"$error":"#REF!"}},{"$error":"#DIV/0!"},{"$error":"#DIV/0!"},{"$error":"#DIV/0!"},{"$error":"#DIV/0!"},{"$error":"#DIV/0!"},{"$error":"#DIV/0!"},{"$error":"#DIV/0!"},{"$error":"#DIV/0!"},{"$error":"#DIV/0!"}]
[null,null,null,null,null,null,null,null,null,null,null,null,null,null,null,null,null,null,null,null,null,null,null,null,null,null,null,null,0,{"$f":"AVERAGE(#REF!)","v":{"$error":"#REF!"}},{"$error":"#DIV/0!"},{"$error":"#DIV/0!"},{"$error":"#DIV/0!"},{"$error":"#DIV/0!"},{"$error":"#DIV/0!"},{"$error":"#DIV/0!"},{"$error":"#DIV/0!"},{"$error":"#DIV/0!"},{"$error":"#DIV/0!"}]
[null,null,null,null,null,null,null,null,null,null,null,null,null,null,null,null,null,null,null,null,null,null,null,null,null,null,null,null,0,{"$f":"AVERAGE(#REF!)","v":{"$error":"#REF!"}},{"$error":"#DIV/0!"},{"$error":"#DIV/0!"},{"$error":"#DIV/0!"},{"$error":"#DIV/0!"},{"$error":"#DIV/0!"},{"$error":"#DIV/0!"},{"$error":"#DIV/0!"},{"$error":"#DIV/0!"},{"$error":"#DIV/0!"}]
[null,null,null,null,null,null,null,null,null,null,null,null,null,null,null,null,null,null,null,null,null,null,null,null,null,null,null,null,0,{"$f":"AVERAGE(#REF!)","v":{"$error":"#REF!"}},{"$error":"#DIV/0!"},{"$error":"#DIV/0!"},{"$error":"#DIV/0!"},{"$error":"#DIV/0!"},{"$error":"#DIV/0!"},{"$error":"#DIV/0!"},{"$error":"#DIV/0!"},{"$error":"#DIV/0!"},{"$error":"#DIV/0!"}]